Workbook

Sheet Uputstvo
B2: OKRUŽNI PRIVREDNI SUDOVI
B4: Kompletni materijali u vezi procesa izvještavanja i ocjenjivanja rada u sudovima za 2023. godinu dostupni su na linku:
B5: https://vstv.pravosudje.ba/vstvfo/B/141/article/123401
B6: Tabele za popunjavanje podataka o radu sudova nije moguće mijenjati, niti dodavati nove redove ili kolone.
B7: Tabele se isključivo popunjavaju predviđenim redoslijedom, po redoslijedu postavljenih tabela.
B10: Podatke je potrebno upisivati samo u polja osjenčena žutom bojom.
B11: U ostala polja nije moguće upisivati vrijednosti, u ovim poljima vrijednosti će biti izračunate automatski.
B12: Molimo Vas da u Tabeli I i naslovu e-maila (subject) kojim ćete poslati popunjene obrasce navedete naziv Vašeg suda.
B15: Popunjene obrasce poslati na e-mail adresu: vstvstatistika@pravosudje.ba do 01.02.2024. godine.
B17: Za sva eventualna pitanja vezano za popunjavanje obrazaca molimo Vas da kontaktirate Odjel za pravosudnu analitiku i izvještavanje, na telefon: 033 704 616 ili 033 707 584.
B20: Tabele za ocjenjivanje NPF u sudu sadrže detaljnije napomene koje je potrebno imati u vidu prilikom popunjavanja tabela.
B24: Pored napomena datih uz tabele, potrebno je imati u vidu i slijedeće:
... B38: TABELA I – PROTOK PREDMETA U SUDU KOJI NISU EVIDENTIRANI U CMS-u Napomena za prikazivanje podataka o tzv. komunalnim predmetima: Prema pojašnjenju ove kategorije predmeta, koja je VSTV pružilo u dopisu broj VSTV-08-0027-10012007 od 10.01.2007.godine, pod komunalnim predmetima se smatraju svi predmeti u kojima je povjerilac komunalno preduzeće, a odnose se na neplaćene komunalne usluge. Prema tome, u ovu kategoriju predmeta spadaju predmeti koji se odnose na naplatu potraživanja nastalih na osnovu isporuke vode, toplotne energije, odvoza smeća, električne energije, telefonskih usluga, održavanje zajedničkih prostorija, RTV takse i slično. TABELA IV – OSTALI PODACI Molimo Vas da u tabeli IV date odgovor na pitanje o broju predmeta koji nisu zavedeni kroz sudski upisnik i koji nisu dodijeljeni određenom sudiji (ukoliko imate takvih predmeta), navodeći podatke o vrsti i broju predmeta. TABELA V– PREGLED STAROSTI NERIJEŠENIH PREDMETA SA 31.12.2018. god. Molimo Vas da u u Tabeli V razvrstate neriješene predmete registracije poslovnih subjekata, zaključno sa 31.12.2018. godine, prema godini iniciranja pred prvostepenim sudom. TABELA VI – ODLUKE USTAVNOG SUDA BIH U tabeli VI potrebno je prikazati samo podatke o odlukama Ustavnog suda BiH u kojima je izrekom obuhvaćena odluka Vašeg suda, odnosno postupak koji je u toku pred Vašim sudom (kada je riječ o apelacijama sa navodima da postoji kršenje prava na suđenje u razumnom roku). Posebna napomena: Traženi podaci se odnose na odluke iz apelacione nadležnosti Ustavnog suda BiH. Tabela VIa – Odluke kojima se ne usvaja apelacija: potrebno je prikazati podatke o odlukama Ustavnog suda BiH kojima je utvrđeno da nije osnovana apelacija izjavljena u odnosu na odluke Vašeg suda. Molimo da unesete podatake u kolone I-III prema njihovim nazivima. Podaci se automatski preračunavaju u koloni IV. Tabela VIb – Odluke kojima apelacija usvaja: “Pravni osnov” - Odluke kojima se usvaja apelacija potrebno je razvrstati prema izrekama odluka Ustavnog suda BiH kojima su utvrđene povrede Ustava BiH, Evropske konvencije o ljudskim pravima (u tabeli: EK) i njenih protokola (u tabeli:P). Svi pomenuti dokumenti i klasifikacija povreda su dostupni na zvaničnoj web stranici Ustavnog suda BiH (http://www.ccbh.ba/bos/p_stream.php?kat=83). Kolone I - IV “Broj odluka kojim se usvaja apelacija” – Potrebno je razvrstati broj odluka Ustavnog suda kojima se izjavljena apelacija usvaja u odnosu na odluku Vašeg suda, prema odgovarajućim kategorijama, u zavisnosti od izreke odluke Ustavnog suda BiH. Preostale odluke Ustavnog suda, koje ne spadaju u navedene tri kategorije, potrebno je upisati u rubriku “Broj ostalih odluka kojima se usvajaju apelacije” (npr. odluka kojom se usvaja apelacija i konstatuje povreda prava na pravično suđenje, zbog prekoračenja razumnog roka za donošenje odluke, nakon što je sudski postupak završen, a kojom se ne nalaže sudu da okonča predmet bez odlaganja, odnosno ne ukida ili ne preinačuje odluka suda). Ukoliko su izrekom odluke Ustavnog suda BiH ustanovljene dvije ili više povreda ustavom zagarantovanih prava i sloboda, molimo Vas da svaku od povreda evidentirate posebno u tabeli VIb. Molimo Vas da i djelimično usvojene apelacije prikažete u odgovarajućim kolonama tabele VIb. Tabela VIc – Predmeti u kojima se nalaže sudu da okonča predmet bez odlaganja zbog kršenja prava na donošenje odluke u razumnom roku U tabeli VIc potrebno je prikazati predmete u kojima je Ustavni sud BiH naložio sudu da okonča predmet bez odlaganja zbog kršenja prava na donošenje odluke u razumnom roku. Molimo Vas da u ovu tabelu unesete samo podatke o predmetima u kojima je Vašem sudu naloženo da okonča predmet bez odlaganja. U skladu sa obrazloženjem odluke Ustavnog suda BiH, potrebno je da naznačite u kojoj fazi postupka je Vaš sud rješavao predmet za koji je Ustavni sud utvrdio da je Vaš sud u najvećoj mjeri doprinio odugovlačenju postupka. Tabela VId - Predmeti u kojima je utvrđeno kršenje prava na donošenje odluke u razumnom roku Takođe, potrebno je da popunite i tabelu VId koja se odnosi na ukupan broj predmeta, u kojima je usvojena apelacija u odnosu na Vaš sud i određena naknada nematerijalne štete zbog kršenja prava na donošenje odluke u razumnom roku, kao i ukupan iznos naknade koji je utvrdio Ustavni sud BiH.

Sheet Tabela I
A1: Okružni privredni sud: | F1: 2023
A2: Izvještajni period: | C2: 1.1.2023.-31.12.2023.
A3: Ostvarena kolektivna norma za sud u 2023. godini: | E3: =+'Tabela II'!P79
A4: Kvalitet rada suda: | C4: ='Tabela III'!J23
A5: Tabela I - Protok predmeta u sudu koji nisu evidentirani u sistemu CMS (pogledati NAPOMENU 1)
A6: Vrsta predmeta | B6: Broj neriješenih predmeta na početku izvještajnog perioda | C6: Broj primljenih predmeta | D6: Ukupan broj svih predmeta u radu | E6: Broj riješenih predmeta | F6: Broj neriješenih predmeta na kraju izvještajnog perioda
B7: I | C7: II | D7: III=I+II | E7: IV | F7: V=III-IV
A8: Predmeti za naplatu komunalnih usluga
A9: Ps | D9: =IF((B9+C9)=0," ",(B9+C9)) | F9: =IF((B9+C9-E9)=0," ",(B9+C9-E9))
A10: Mals | D10: =IF((B10+C10)=0," ",(B10+C10)) | F10: =IF((B10+C10-E10)=0," ",(B10+C10-E10))
A11: Ip | D11: =IF((B11+C11)=0," ",(B11+C11)) | F11: =IF((B11+C11-E11)=0," ",(B11+C11-E11))
A12: Ukupno | B12: =SUM(B9:B11) -> 0 | C12: =SUM(C9:C11) -> 0 | D12: =SUM(D9:D11) -> 0 | E12: =SUM(E9:E11) -> 0 | F12: =SUM(F9:F11) -> 0
A13: Registracija poslovnih subjekata
A14: Reg | D14: =IF((B14+C14)=0," ",(B14+C14)) | F14: =IF((B14+C14-E14)=0," ",(B14+C14-E14))
A15: RegZ | D15: =IF((B15+C15)=0," ",(B15+C15)) | F15: =IF((B15+C15-E15)=0," ",(B15+C15-E15))
A16: Ostalo | D16: =IF((B16+C16)=0," ",(B16+C16)) | F16: =IF((B16+C16-E16)=0," ",(B16+C16-E16))
A17: Ukupno | B17: =SUM(B14:B16) -> 0 | C17: =SUM(C14:C16) -> 0 | D17: =SUM(D14:D16) -> 0 | E17: =SUM(E14:E16) -> 0 | F17: =SUM(F14:F16) -> 0
A19: Medijacija | D19: =IF((B19+C19)=0," ",(B19+C19)) | F19: =IF((B19+C19-E19)=0," ",(B19+C19-E19))
A21: UKUPNO | B21: =SUM(B9:B11,B14:B16,B19) -> 0 | C21: =SUM(C9:C11,C14:C16,C19) -> 0 | D21: =SUM(D9:D11,D14:D16,D19) -> 0 | E21: =SUM(E9:E11,E14:E16,E19) -> 0 | F21: =SUM(F9:F11,F14:F16,F19) -> 0
A23: Napomena 1: Molimo Vas da obratite pažnju da podaci koji se iskazuju u Tabeli I - Protok predmeta u sudu koji nisu evidentirani u CMS Kolona I – Broj neriješenih predmeta na početku izvještajnog perioda trebaju biti jednaki podacima o broju neriješenih predmeta na kraju izvještajnog perioda koje ste iskazali u Tabeli za izvještavanje o radu suda za 2022. godinu ( Tabela I - Protok predmeta u sudu koji nisu evidentirani u CMS Kolona V – Broj neriješenih predmeta na kraju izvještajnog perioda).
A24: Pomoći radi, na linku iz sheet-a "Uputstvo" nalazi se tabela "4. Pomoćna tabela: Ukupan broj neriješenih predmeta VAN CMS-a na kraju 2022. godine" sa podacima o ukupnom broju neriješenih predmeta koji nisu evidentirani u CMS-u na kraju 2022. godine, koje ste VSTV-u BiH dostavili putem Tabele za izvještavanje o radu suda za 2022. godinu (Tabela I - Protok predmeta u sudu koji nisu evidentirani u CMS Kolona V – Broj neriješenih predmeta na kraju izvještajnog perioda).

Sheet tbl1Protok
A1: for_key | B1: godina | C1: idReferata | D1: BrNerPocGod | E1: BrPrimTokGod | F1: BrRijTokGod
A2: ='Tabela I'!$F$2 -> 0 | B2: ='Tabela I'!$F$1 -> 2023 | C2: 148 | D2: ='Tabela I'!B9 -> 0 | E2: ='Tabela I'!C9 -> 0 | F2: ='Tabela I'!E9 -> 0
A3: ='Tabela I'!$F$2 -> 0 | B3: ='Tabela I'!$F$1 -> 2023 | C3: 128 | D3: ='Tabela I'!B10 -> 0 | E3: ='Tabela I'!C10 -> 0 | F3: ='Tabela I'!E10 -> 0
A4: ='Tabela I'!$F$2 -> 0 | B4: ='Tabela I'!$F$1 -> 2023 | C4: 131 | D4: ='Tabela I'!B11 -> 0 | E4: ='Tabela I'!C11 -> 0 | F4: ='Tabela I'!E11 -> 0
A5: ='Tabela I'!$F$2 -> 0 | B5: ='Tabela I'!$F$1 -> 2023 | C5: 26 | D5: ='Tabela I'!B14 -> 0 | E5: ='Tabela I'!C14 -> 0 | F5: ='Tabela I'!E14 -> 0
A6: ='Tabela I'!$F$2 -> 0 | B6: ='Tabela I'!$F$1 -> 2023 | C6: 104 | D6: ='Tabela I'!B15 -> 0 | E6: ='Tabela I'!C15 -> 0 | F6: ='Tabela I'!E15 -> 0
A7: ='Tabela I'!$F$2 -> 0 | B7: ='Tabela I'!$F$1 -> 2023 | C7: 123 | D7: ='Tabela I'!B16 -> 0 | E7: ='Tabela I'!C16 -> 0 | F7: ='Tabela I'!E16 -> 0
A8: ='Tabela I'!$F$2 -> 0 | B8: ='Tabela I'!$F$1 -> 2023 | C8: 65 | D8: ='Tabela I'!B19 -> 0 | E8: ='Tabela I'!C19 -> 0 | F8: ='Tabela I'!E19 -> 0

Sheet Tabela II
A1: ='Tabela I'!A1 -> Okružni privredni sud: | D1: ='Tabela I'!C1 -> 0
A2: Izvještajni period: | C2: 1.1.2023.-31.12.2023.
A3: Tabela IIa – Ostvarena orijentaciona norma - Elektronski obrazac za obračun ostvarene orijentacione norme (pogledati NAPOMENU 4)
A5: Redni broj | B5: Ime i prezime - evidentirani podatak se automatski prenosi u Tabelu IIIa | C5: Ocjenjen u sudu | D5: Naziv odjela | E5: Pravosudna funkcija | G5: Procenat orijentacijske norme koju je nosilac pravosudne funkcije dužan ostvariti - Ukoliko procenat orijenatcijske norme nije predviđen u padajućem meniju pogledati NAPOMENU 3 | H5: Period obavljanja pravosudne funkcije u instituciji koja popunjava tabelu Ia | J5: Ukupan broj dana za obračun norme - pogledati NAPOMENU 2 | K5: Broj dana opravdanog odsustva iz člana 13. Kriterija za ocjenjivanje rada (pogledati NAPOMENU 9) | L5: Ostvarena orijentaciona norma iz CMS-a | M5: Ostvarena orijentaciona norma na predmetima van CMS-a - pogledati NAPOMENU 6 | N5: Procenat ostvarene orijentacione norme prema članu 9. Pravilnika o orijentacijskim mjerilima - pogledati NAPOMENU 7 | O5: Procenat ostvarene propisane godišnje orijentacijske norme u 2023. godini | P5: Ukupno ostvarena orijentacijska norma u 2023. godini | Q5: Nedovoljan broj predmeta u radu - pogledati NAPOMENU 5 | V5: Broj ostvarenih bodova | W5: Sudija | X5: Stručni saradnik | Y5: Predsjednik odjela | Z5: Predsjednik sudskog vijeća vrhovnog suda entiteta
H6: Datum od | I6: Datum do | Q6: broj predmeta u radu | R6: broj riješenih predmeta | S6: broj neriješenih predmeta sa zakonskim i procesnim smetnjama | T6: broj neriješenih predmeta bez zakonskih i procesnih smetnji | U6: procenat riješenih predmeta
A7: I | B7: II | C7: III | D7: IV | E7: V | G7: VI | H7: VII | I7: VIII | J7: IX | K7: X | L7: XI | M7: XII | N7: XIII | O7: XIV | P7: XV | Q7: XVI | R7: XVII | S7: XVIII | T7: XIX | U7: XX | V7: XXI | W7: 1 | X7: 0.9 | Y7: 0.8 | Z7: 0.5 | AA7: 0.25 | AB7: Ne treba raditi na predm.
A8: 1 | E8: Predsjednik suda | J8: 260 | O8: =IF(G8="","",IF(G8="Ne treba raditi na predm.",1+SUM(L8:N8),(SUM(L8:N8)/G8))) | P8: =IF(K8>0,IF(G8="Ne treba raditi na predm.",O8,O8*(J8/(J8-K8))),O8) | U8: =IF(Q8="","",R8/(Q8-S8)) | V8: =IF(P8="","",IF(C8="Ne","",IF(G8="Ne treba raditi na predm.","",IF(P8>1,20,IF(U8="",IF(P8>0.9,18,IF(P8>0.8,16,IF(P8>0.7,12,IF(P8>0.6,8,IF(P8>0.5,4,0))))),IF(U8>0.94,20,IF(U8>0.9,18,IF(U8>0.8,16,IF(U8>0.7,12,IF(U8>0.6,8,IF(U8>0.5,4,0))))))))))) | W8: 0.7 | X8: 0.5 | Y8: 0.4 | Z8: 0.3 | AA8: Ne treba raditi na predm.
E9: Predsjednik suda | J9: 260 | O9: =IF(G9="","",IF(G9="Ne treba raditi na predm.",1+SUM(L9:N9),(SUM(L9:N9)/G9))) | P9: =IF(K9>0,IF(G9="Ne treba raditi na predm.",O9,O9*(J9/(J9-K9))),O9) | U9: =IF(Q9="","",R9/(Q9-S9)) | V9: =IF(P9="","",IF(C8="Ne","",IF(G9="Ne treba raditi na predm.","",IF(P9>1,20,IF(U9="",IF(P9>0.9,18,IF(P9>0.8,16,IF(P9>0.7,12,IF(P9>0.6,8,IF(P9>0.5,4,0))))),IF(U9>0.94,20,IF(U9>0.9,18,IF(U9>0.8,16,IF(U9>0.7,12,IF(U9>0.6,8,IF(U9>0.5,4,0)))))))))))
A10: 2 | F10: =IF(E10="Sudija",1,IF(E10="Stručni saradnik",1,"")) | J10: 260 | O10: =IF(G10="","",IF(G10="Ne treba raditi na predm.",1+SUM(L10:N10),(SUM(L10:N10)/G10))) | P10: =IF(K10>0,IF(G10="Ne treba raditi na predm.",O10,O10*(J10/(J10-K10))),O10) | U10: =IF(Q10="","",R10/(Q10-S10)) | V10: =IF(P10="","",IF(C10="Ne","",IF(G10="Ne treba raditi na predm.","",IF(P10>1,40,IF(U10="",IF(P10>0.9,35,IF(P10>0.8,30,IF(P10>0.7,20,IF(P10>0.6,15,IF(P10>0.5,10,0))))),IF(U10>0.94,40,IF(U10>0.9,35,IF(U10>0.8,30,IF(U10>0.7,20,IF(U10>0.6,15,IF(U10>0.5,10,0))))))))))) | W10: Da | X10: Ne
A11: 3 | F11: =IF(E11="Sudija",1,IF(E11="Stručni saradnik",1,"")) | J11: 260 | O11: =IF(G11="","",IF(G11="Ne treba raditi na predm.",1+SUM(L11:N11),(SUM(L11:N11)/G11))) | P11: =IF(K11>0,IF(G11="Ne treba raditi na predm.",O11,O11*(J11/(J11-K11))),O11) | U11: =IF(Q11="","",R11/(Q11-S11)) | V11: =IF(P11="","",IF(C11="Ne","",IF(G11="Ne treba raditi na predm.","",IF(P11>1,40,IF(U11="",IF(P11>0.9,35,IF(P11>0.8,30,IF(P11>0.7,20,IF(P11>0.6,15,IF(P11>0.5,10,0))))),IF(U11>0.94,40,IF(U11>0.9,35,IF(U11>0.8,30,IF(U11>0.7,20,IF(U11>0.6,15,IF(U11>0.5,10,0)))))))))))
A12: 4 | F12: =IF(E12="Sudija",1,IF(E12="Stručni saradnik",1,"")) | J12: 260 | O12: =IF(G12="","",IF(G12="Ne treba raditi na predm.",1+SUM(L12:N12),(SUM(L12:N12)/G12))) | P12: =IF(K12>0,IF(G12="Ne treba raditi na predm.",O12,O12*(J12/(J12-K12))),O12) | U12: =IF(Q12="","",R12/(Q12-S12)) | V12: =IF(P12="","",IF(C12="Ne","",IF(G12="Ne treba raditi na predm.","",IF(P12>1,40,IF(U12="",IF(P12>0.9,35,IF(P12>0.8,30,IF(P12>0.7,20,IF(P12>0.6,15,IF(P12>0.5,10,0))))),IF(U12>0.94,40,IF(U12>0.9,35,IF(U12>0.8,30,IF(U12>0.7,20,IF(U12>0.6,15,IF(U12>0.5,10,0)))))))))))
A13: 5 | F13: =IF(E13="Sudija",1,IF(E13="Stručni saradnik",1,"")) | J13: 260 | O13: =IF(G13="","",IF(G13="Ne treba raditi na predm.",1+SUM(L13:N13),(SUM(L13:N13)/G13))) | P13: =IF(K13>0,IF(G13="Ne treba raditi na predm.",O13,O13*(J13/(J13-K13))),O13) | U13: =IF(Q13="","",R13/(Q13-S13)) | V13: =IF(P13="","",IF(C13="Ne","",IF(G13="Ne treba raditi na predm.","",IF(P13>1,40,IF(U13="",IF(P13>0.9,35,IF(P13>0.8,30,IF(P13>0.7,20,IF(P13>0.6,15,IF(P13>0.5,10,0))))),IF(U13>0.94,40,IF(U13>0.9,35,IF(U13>0.8,30,IF(U13>0.7,20,IF(U13>0.6,15,IF(U13>0.5,10,0)))))))))))
A14: 6 | F14: =IF(E14="Sudija",1,IF(E14="Stručni saradnik",1,"")) | J14: 260 | O14: =IF(G14="","",IF(G14="Ne treba raditi na predm.",1+SUM(L14:N14),(SUM(L14:N14)/G14))) | P14: =IF(K14>0,IF(G14="Ne treba raditi na predm.",O14,O14*(J14/(J14-K14))),O14) | U14: =IF(Q14="","",R14/(Q14-S14)) | V14: =IF(P14="","",IF(C14="Ne","",IF(G14="Ne treba raditi na predm.","",IF(P14>1,40,IF(U14="",IF(P14>0.9,35,IF(P14>0.8,30,IF(P14>0.7,20,IF(P14>0.6,15,IF(P14>0.5,10,0))))),IF(U14>0.94,40,IF(U14>0.9,35,IF(U14>0.8,30,IF(U14>0.7,20,IF(U14>0.6,15,IF(U14>0.5,10,0)))))))))))
A15: 7 | F15: =IF(E15="Sudija",1,IF(E15="Stručni saradnik",1,"")) | J15: 260 | O15: =IF(G15="","",IF(G15="Ne treba raditi na predm.",1+SUM(L15:N15),(SUM(L15:N15)/G15))) | P15: =IF(K15>0,IF(G15="Ne treba raditi na predm.",O15,O15*(J15/(J15-K15))),O15) | U15: =IF(Q15="","",R15/(Q15-S15)) | V15: =IF(P15="","",IF(C15="Ne","",IF(G15="Ne treba raditi na predm.","",IF(P15>1,40,IF(U15="",IF(P15>0.9,35,IF(P15>0.8,30,IF(P15>0.7,20,IF(P15>0.6,15,IF(P15>0.5,10,0))))),IF(U15>0.94,40,IF(U15>0.9,35,IF(U15>0.8,30,IF(U15>0.7,20,IF(U15>0.6,15,IF(U15>0.5,10,0)))))))))))
A16: 8 | F16: =IF(E16="Sudija",1,IF(E16="Stručni saradnik",1,"")) | J16: 260 | O16: =IF(G16="","",IF(G16="Ne treba raditi na predm.",1+SUM(L16:N16),(SUM(L16:N16)/G16))) | P16: =IF(K16>0,IF(G16="Ne treba raditi na predm.",O16,O16*(J16/(J16-K16))),O16) | U16: =IF(Q16="","",R16/(Q16-S16)) | V16: =IF(P16="","",IF(C16="Ne","",IF(G16="Ne treba raditi na predm.","",IF(P16>1,40,IF(U16="",IF(P16>0.9,35,IF(P16>0.8,30,IF(P16>0.7,20,IF(P16>0.6,15,IF(P16>0.5,10,0))))),IF(U16>0.94,40,IF(U16>0.9,35,IF(U16>0.8,30,IF(U16>0.7,20,IF(U16>0.6,15,IF(U16>0.5,10,0)))))))))))
A17: 9 | F17: =IF(E17="Sudija",1,IF(E17="Stručni saradnik",1,"")) | J17: 260 | O17: =IF(G17="","",IF(G17="Ne treba raditi na predm.",1+SUM(L17:N17),(SUM(L17:N17)/G17))) | P17: =IF(K17>0,IF(G17="Ne treba raditi na predm.",O17,O17*(J17/(J17-K17))),O17) | U17: =IF(Q17="","",R17/(Q17-S17)) | V17: =IF(P17="","",IF(C17="Ne","",IF(G17="Ne treba raditi na predm.","",IF(P17>1,40,IF(U17="",IF(P17>0.9,35,IF(P17>0.8,30,IF(P17>0.7,20,IF(P17>0.6,15,IF(P17>0.5,10,0))))),IF(U17>0.94,40,IF(U17>0.9,35,IF(U17>0.8,30,IF(U17>0.7,20,IF(U17>0.6,15,IF(U17>0.5,10,0)))))))))))
A18: 10 | F18: =IF(E18="Sudija",1,IF(E18="Stručni saradnik",1,"")) | J18: 260 | O18: =IF(G18="","",IF(G18="Ne treba raditi na predm.",1+SUM(L18:N18),(SUM(L18:N18)/G18))) | P18: =IF(K18>0,IF(G18="Ne treba raditi na predm.",O18,O18*(J18/(J18-K18))),O18) | U18: =IF(Q18="","",R18/(Q18-S18)) | V18: =IF(P18="","",IF(C18="Ne","",IF(G18="Ne treba raditi na predm.","",IF(P18>1,40,IF(U18="",IF(P18>0.9,35,IF(P18>0.8,30,IF(P18>0.7,20,IF(P18>0.6,15,IF(P18>0.5,10,0))))),IF(U18>0.94,40,IF(U18>0.9,35,IF(U18>0.8,30,IF(U18>0.7,20,IF(U18>0.6,15,IF(U18>0.5,10,0)))))))))))
A19: 11 | F19: =IF(E19="Sudija",1,IF(E19="Stručni saradnik",1,"")) | J19: 260 | O19: =IF(G19="","",IF(G19="Ne treba raditi na predm.",1+SUM(L19:N19),(SUM(L19:N19)/G19))) | P19: =IF(K19>0,IF(G19="Ne treba raditi na predm.",O19,O19*(J19/(J19-K19))),O19) | U19: =IF(Q19="","",R19/(Q19-S19)) | V19: =IF(P19="","",IF(C19="Ne","",IF(G19="Ne treba raditi na predm.","",IF(P19>1,40,IF(U19="",IF(P19>0.9,35,IF(P19>0.8,30,IF(P19>0.7,20,IF(P19>0.6,15,IF(P19>0.5,10,0))))),IF(U19>0.94,40,IF(U19>0.9,35,IF(U19>0.8,30,IF(U19>0.7,20,IF(U19>0.6,15,IF(U19>0.5,10,0)))))))))))
A20: 12 | F20: =IF(E20="Sudija",1,IF(E20="Stručni saradnik",1,"")) | J20: 260 | O20: =IF(G20="","",IF(G20="Ne treba raditi na predm.",1+SUM(L20:N20),(SUM(L20:N20)/G20))) | P20: =IF(K20>0,IF(G20="Ne treba raditi na predm.",O20,O20*(J20/(J20-K20))),O20) | U20: =IF(Q20="","",R20/(Q20-S20)) | V20: =IF(P20="","",IF(C20="Ne","",IF(G20="Ne treba raditi na predm.","",IF(P20>1,40,IF(U20="",IF(P20>0.9,35,IF(P20>0.8,30,IF(P20>0.7,20,IF(P20>0.6,15,IF(P20>0.5,10,0))))),IF(U20>0.94,40,IF(U20>0.9,35,IF(U20>0.8,30,IF(U20>0.7,20,IF(U20>0.6,15,IF(U20>0.5,10,0)))))))))))
A21: 13 | F21: =IF(E21="Sudija",1,IF(E21="Stručni saradnik",1,"")) | J21: 260 | O21: =IF(G21="","",IF(G21="Ne treba raditi na predm.",1+SUM(L21:N21),(SUM(L21:N21)/G21))) | P21: =IF(K21>0,IF(G21="Ne treba raditi na predm.",O21,O21*(J21/(J21-K21))),O21) | U21: =IF(Q21="","",R21/(Q21-S21)) | V21: =IF(P21="","",IF(C21="Ne","",IF(G21="Ne treba raditi na predm.","",IF(P21>1,40,IF(U21="",IF(P21>0.9,35,IF(P21>0.8,30,IF(P21>0.7,20,IF(P21>0.6,15,IF(P21>0.5,10,0))))),IF(U21>0.94,40,IF(U21>0.9,35,IF(U21>0.8,30,IF(U21>0.7,20,IF(U21>0.6,15,IF(U21>0.5,10,0)))))))))))
A22: 14 | F22: =IF(E22="Sudija",1,IF(E22="Stručni saradnik",1,"")) | J22: 260 | O22: =IF(G22="","",IF(G22="Ne treba raditi na predm.",1+SUM(L22:N22),(SUM(L22:N22)/G22))) | P22: =IF(K22>0,IF(G22="Ne treba raditi na predm.",O22,O22*(J22/(J22-K22))),O22) | U22: =IF(Q22="","",R22/(Q22-S22)) | V22: =IF(P22="","",IF(C22="Ne","",IF(G22="Ne treba raditi na predm.","",IF(P22>1,40,IF(U22="",IF(P22>0.9,35,IF(P22>0.8,30,IF(P22>0.7,20,IF(P22>0.6,15,IF(P22>0.5,10,0))))),IF(U22>0.94,40,IF(U22>0.9,35,IF(U22>0.8,30,IF(U22>0.7,20,IF(U22>0.6,15,IF(U22>0.5,10,0)))))))))))
... A73: 65 | F73: =IF(E73="Sudija",1,IF(E73="Stručni saradnik",1,"")) | J73: 260 | O73: =IF(G73="","",IF(G73="Ne treba raditi na predm.",1+SUM(L73:N73),(SUM(L73:N73)/G73))) | P73: =IF(K73>0,IF(G73="Ne treba raditi na predm.",O73,O73*(J73/(J73-K73))),O73) | U73: =IF(Q73="","",R73/(Q73-S73)) | V73: =IF(P73="","",IF(C73="Ne","",IF(G73="Ne treba raditi na predm.","",IF(P73>1,40,IF(U73="",IF(P73>0.9,35,IF(P73>0.8,30,IF(P73>0.7,20,IF(P73>0.6,15,IF(P73>0.5,10,0))))),IF(U73>0.94,40,IF(U73>0.9,35,IF(U73>0.8,30,IF(U73>0.7,20,IF(U73>0.6,15,IF(U73>0.5,10,0)))))))))))
F74: =IF(E74="Sudija",1,IF(E74="Stručni saradnik",1,"")) | J74: 260 | O74: =IF(G74="","",IF(G74="Ne treba raditi na predm.",1+SUM(L74:N74),(SUM(L74:N74)/G74))) | P74: =IF(K74>0,IF(G74="Ne treba raditi na predm.",O74,O74*(J74/(J74-K74))),O74) | U74: =IF(Q74="","",R74/(Q74-S74)) | V74: =IF(P74="","",IF(C74="Ne","",IF(G74="Ne treba raditi na predm.","",IF(P74>1,40,IF(U74="",IF(P74>0.9,35,IF(P74>0.8,30,IF(P74>0.7,20,IF(P74>0.6,15,IF(P74>0.5,10,0))))),IF(U74>0.94,40,IF(U74>0.9,35,IF(U74>0.8,30,IF(U74>0.7,20,IF(U74>0.6,15,IF(U74>0.5,10,0)))))))))))
F75: =IF(E75="Sudija",1,IF(E75="Stručni saradnik",1,"")) | J75: 260 | O75: =IF(G75="","",IF(G75="Ne treba raditi na predm.",1+SUM(L75:N75),(SUM(L75:N75)/G75))) | P75: =IF(K75>0,IF(G75="Ne treba raditi na predm.",O75,O75*(J75/(J75-K75))),O75) | U75: =IF(Q75="","",R75/(Q75-S75)) | V75: =IF(P75="","",IF(C75="Ne","",IF(G75="Ne treba raditi na predm.","",IF(P75>1,40,IF(U75="",IF(P75>0.9,35,IF(P75>0.8,30,IF(P75>0.7,20,IF(P75>0.6,15,IF(P75>0.5,10,0))))),IF(U75>0.94,40,IF(U75>0.9,35,IF(U75>0.8,30,IF(U75>0.7,20,IF(U75>0.6,15,IF(U75>0.5,10,0)))))))))))
F76: =IF(E76="Sudija",1,IF(E76="Stručni saradnik",1,"")) | J76: 260 | O76: =IF(G76="","",IF(G76="Ne treba raditi na predm.",1+SUM(L76:N76),(SUM(L76:N76)/G76))) | P76: =IF(K76>0,IF(G76="Ne treba raditi na predm.",O76,O76*(J76/(J76-K76))),O76) | U76: =IF(Q76="","",R76/(Q76-S76)) | V76: =IF(P76="","",IF(C76="Ne","",IF(G76="Ne treba raditi na predm.","",IF(P76>1,40,IF(U76="",IF(P76>0.9,35,IF(P76>0.8,30,IF(P76>0.7,20,IF(P76>0.6,15,IF(P76>0.5,10,0))))),IF(U76>0.94,40,IF(U76>0.9,35,IF(U76>0.8,30,IF(U76>0.7,20,IF(U76>0.6,15,IF(U76>0.5,10,0)))))))))))
F77: =IF(E77="Sudija",1,IF(E77="Stručni saradnik",1,"")) | J77: 260 | O77: =IF(G77="","",IF(G77="Ne treba raditi na predm.",1+SUM(L77:N77),(SUM(L77:N77)/G77))) | P77: =IF(K77>0,IF(G77="Ne treba raditi na predm.",O77,O77*(J77/(J77-K77))),O77) | U77: =IF(Q77="","",R77/(Q77-S77)) | V77: =IF(P77="","",IF(C77="Ne","",IF(G77="Ne treba raditi na predm.","",IF(P77>1,40,IF(U77="",IF(P77>0.9,35,IF(P77>0.8,30,IF(P77>0.7,20,IF(P77>0.6,15,IF(P77>0.5,10,0))))),IF(U77>0.94,40,IF(U77>0.9,35,IF(U77>0.8,30,IF(U77>0.7,20,IF(U77>0.6,15,IF(U77>0.5,10,0)))))))))))
F78: =IF(E78="Sudija",1,IF(E78="Stručni saradnik",1,"")) | J78: 260 | O78: =IF(G78="","",IF(G78="Ne treba raditi na predm.",1+SUM(L78:N78),(SUM(L78:N78)/G78))) | P78: =IF(K78>0,IF(G78="Ne treba raditi na predm.",O78,O78*(J78/(J78-K78))),O78) | U78: =IF(Q78="","",R78/(Q78-S78)) | V78: =IF(P78="","",IF(C78="Ne","",IF(G78="Ne treba raditi na predm.","",IF(P78>1,40,IF(U78="",IF(P78>0.9,35,IF(P78>0.8,30,IF(P78>0.7,20,IF(P78>0.6,15,IF(P78>0.5,10,0))))),IF(U78>0.94,40,IF(U78>0.9,35,IF(U78>0.8,30,IF(U78>0.7,20,IF(U78>0.6,15,IF(U78>0.5,10,0)))))))))))
O79: KOLEKTIVNA NORMA SUDA | P79: =IF(P8="",IF(P9="","",AVERAGEIF(P8:P78,">0,2")),AVERAGEIF(P8:P78,">0,2")) | Q79: =SUM(Q8:Q78) -> 0 | R79: =SUM(R8:R78) -> 0 | S79: =SUM(S8:S78) -> 0 | T79: =SUM(T8:T78) -> 0 | U79: =IF(Q79=0,"",R79/(Q79-S79))
O80: BODOVANJE ZA OSTVARENU KOLEKTIVNU NORMU SUDA U SKLADU SA ČLANOM 22. KRITERIJA ZA OCJENJIVANJE RADA PREDSJEDNIKA SUDOVA | P80: =IF(P79="","",IF(P79>1,20,IF(P79>0.9,18,IF(P79>0.8,16,IF(P79>0.7,12,IF(P79>0.6,8,IF(P79>0.5,4,0)))))))
B82: Obrazloženje norme NPF-a unesene u plava polja
B83: Primjer - Sudija 1 | C83: 8 mjeseci sudija, 4 mjeseca šef odjela (90% norme sudije) | G83: 0.97
Q90: Nedovoljan broj predmeta u radu
A91: NAPOMENA 1: U Tabelu IIa se unose podaci o ostvarenoj orijentacijskoj normi za sve nosioce pravosudnih funkcija, uključujući i one kod kojih je ukupno ostvarenje norme ispod 20%: novoimenovane sudije/stručni saradnici, sudije/stručni saradnici koji su imenovani u drugu instituciju, kao i sudije/stručni saradnici koji su prestali sa radom zbog: penzionisanja, podnošenja ostavke, smrti, gubitka radne sposobnosti, razrješenja od dužnosti, privremenog ili trajnog udaljenja od vršenja dužnosti itd. (član 14. Kriterija za ocjenjivanje rada predsjednika sudova u Bosni i Hercegovini). Ostvarena kolektivna norma suda automatski će se obračunati i predsjedniku suda će se dodijeliti odgovarajući broj bodova u skladu sa članom 22. Kriterija za ocjenjivanje rada predsjednika sudova u Bosni i Hercegovini. Ukoliko sud nije imao dovoljan broj predmeta u radu za ostvarenje orijentacijske norme, potrebno je manuelno unijeti ukupan broj predmeta koji su bili u radu u sudu kao i ukupan broj riješenih predmeta u sudu u periodu izvještavanja, kao i podatke o broju neriješenih predmeta sa zakonskim i procesnim smetnjama i broju neriješenih predmeta bez zakonskih i procesnih smetnji. Procenat riješenih predmeta automatski će se obračunati, te predsjedniku suda dodijeliti odgovarajući broj bodova u skladu sa članom 23. Kriterija za ocjenjivanje rada predsjednika sudova u Bosni i Hercegovini. | Q91: broj predmeta u radu | R91: broj riješenih predmeta | S91: broj neriješenih predmeta sa zakonskim i procesnim smetnjama | T91: broj neriješenih predmeta bez zakonskih i procesnih smetnji | U91: procenat riješenih predmeta
U92: =IF(Q92="","",R92/(Q92-S92))
T93: BODOVANJE ZA BROJ RIJEŠENIH PREDMETA U SUDU U SKLADU SA ČLANOM 23. KRITERIJA ZA OCJENJIVANJE RADA PREDSJEDNIKA SUDOVA | U93: =IF(U92="","",IF(U92>0.94,20,IF(U92>0.9,18,IF(U92>0.8,16,IF(U92>0.7,12,IF(U92>0.6,8,IF(U92>0.5,4,0)))))))
A96: Tabela IIb -Obračun norme za proces ocjenjivanja za nosioce pravosudne funkcije koji su u toku godine prešli iz jednog suda u drugi sud - Obračun prema Instrukciji dio: II POSEBNI SLUČAJEVI OCJENJIVANJA 3) a) (pogledati NAPOMENU 4)
A97: Ime i prezime predsjednika suda | O97: Ukupna ostvarena orijentacijska norma koja se unosi u Obrazac za ocjenjivanje = | P97: =P98+P99 -> 0
A98: Sud 1 | E98: Predsjednik suda | O98: =IF(G98="",0,IF(G98="Ne treba raditi na predm.",1+SUM(L98:N98),(SUM(L98:N98)/G98))) -> 0 | P98: =IF(K98>0,O98*(J98/(J98-K98)),O98) -> 0 | U98: =IF(Q98="","",(R98+R99)/(Q98+Q99-S98-S99)) | V98: =IF(P98="","",IF(C98="Ne","",IF(G98="Ne treba raditi na predm.","",IF((P98+P99)>1,20,IF(U98="",IF((P98+P99)>0.9,18,IF((P98+P99)>0.8,16,IF((P98+P99)>0.7,12,IF((P98+P99)>0.6,8,IF((P98+P99)>0.5,4,0))))),IF((U98+U99)>0.94,20,IF((U98+U99)>0.9,18,IF((U98+U99)>0.8,16,IF((U98+U99)>0.7,12,IF((U98+U99)>0.6,8,IF((U98+U99)>0.5,4,0))))))))))) -> 0
A99: Sud 2 | F99: =IF(E99="Sudija",1,IF(E99="Stručni saradnik",1,"")) | O99: =IF(G99="",0,IF(G99="Ne treba raditi na predm.",1+SUM(L99:N99),(SUM(L99:N99)/G99))) -> 0 | P99: =IF(K99>0,O99*(J99/(J99-K99)),O99) -> 0 | V99: =IF(P99="","",IF(C99="Ne","",IF(G99="Ne treba raditi na predm.","",IF((P98+P99)>1,40,IF(U99="",IF((P98+P99)>0.9,35,IF((P98+P99)>0.8,30,IF((P98+P99)>0.7,20,IF((P98+P99)>0.6,15,IF((P98+P99)>0.5,10,0))))),IF((U98+U99)>0.94,40,IF((U98+U99)>0.9,35,IF((U98+U99)>0.8,30,IF((U98+U99)>0.7,20,IF((U98+U99)>0.6,15,IF((U98+U99)>0.5,10,0))))))))))) -> 0
A100: Ime i prezime nosioca pravosudne funkcije | O100: Ukupna ostvarena orijentacijska norma koja se unosi u Obrazac za ocjenjivanje = | P100: =P101+P102 -> 0
A101: Sud 1 | F101: =IF(E101="Sudija",1,IF(E101="Stručni saradnik",1,"")) | O101: =IF(G101="",0,IF(G101="Ne treba raditi na predm.",1+SUM(L101:N101),(SUM(L101:N101)/G101))) -> 0 | P101: =IF(K101>0,O101*(J101/(J101-K101)),O101) -> 0 | U101: =IF(Q101="","",(R101+R102)/(Q101+Q102-S101-S102)) | V101: =IF(P101="","",IF(C101="Ne","",IF(G101="Ne treba raditi na predm.","",IF((P101+P102)>1,40,IF(U101="",IF((P101+P102)>0.9,35,IF((P101+P102)>0.8,30,IF((P101+P102)>0.7,20,IF((P101+P102)>0.6,15,IF((P101+P102)>0.5,10,0))))),IF((U101+U102)>0.94,40,IF((U101+U102)>0.9,35,IF((U101+U102)>0.8,30,IF((U101+U102)>0.7,20,IF((U101+U102)>0.6,15,IF((U101+U102)>0.5,10,0))))))))))) -> 0
A102: Sud 2 | F102: =IF(E102="Sudija",1,IF(E102="Stručni saradnik",1,"")) | O102: =IF(G102="",0,IF(G102="Ne treba raditi na predm.",1+SUM(L102:N102),(SUM(L102:N102)/G102))) -> 0 | P102: =IF(K102>0,O102*(J102/(J102-K102)),O102) -> 0 | V102: =IF(P102="","",IF(C102="Ne","",IF(G102="Ne treba raditi na predm.","",IF((P101+P102)>1,40,IF(U102="",IF((P101+P102)>0.9,35,IF((P101+P102)>0.8,30,IF((P101+P102)>0.7,20,IF((P101+P102)>0.6,15,IF((P101+P102)>0.5,10,0))))),IF((U101+U102)>0.94,40,IF((U101+U102)>0.9,35,IF((U101+U102)>0.8,30,IF((U101+U102)>0.7,20,IF((U101+U102)>0.6,15,IF((U101+U102)>0.5,10,0))))))))))) -> 0
A103: Ime i prezime nosioca pravosudne funkcije | O103: Ukupna ostvarena orijentacijska norma koja se unosi u Obrazac za ocjenjivanje = | P103: =P104+P105 -> 0
A104: Sud 1 | F104: =IF(E104="Sudija",1,IF(E104="Stručni saradnik",1,"")) | O104: =IF(G104="",0,IF(G104="Ne treba raditi na predm.",1+SUM(L104:N104),(SUM(L104:N104)/G104))) -> 0 | P104: =IF(K104>0,O104*(J104/(J104-K104)),O104) -> 0 | U104: =IF(Q104="","",(R104+R105)/(Q104+Q105-S104-S105)) | V104: =IF(P104="","",IF(C104="Ne","",IF(G104="Ne treba raditi na predm.","",IF((P104+P105)>1,40,IF(U104="",IF((P104+P105)>0.9,35,IF((P104+P105)>0.8,30,IF((P104+P105)>0.7,20,IF((P104+P105)>0.6,15,IF((P104+P105)>0.5,10,0))))),IF((U104+U105)>0.94,40,IF((U104+U105)>0.9,35,IF((U104+U105)>0.8,30,IF((U104+U105)>0.7,20,IF((U104+U105)>0.6,15,IF((U104+U105)>0.5,10,0))))))))))) -> 0
A105: Sud 2 | F105: =IF(E105="Sudija",1,IF(E105="Stručni saradnik",1,"")) | O105: =IF(G105="",0,IF(G105="Ne treba raditi na predm.",1+SUM(L105:N105),(SUM(L105:N105)/G105))) -> 0 | P105: =IF(K105>0,O105*(J105/(J105-K105)),O105) -> 0 | V105: =IF(P105="","",IF(C105="Ne","",IF(G105="Ne treba raditi na predm.","",IF((P104+P105)>1,40,IF(U105="",IF((P104+P105)>0.9,35,IF((P104+P105)>0.8,30,IF((P104+P105)>0.7,20,IF((P104+P105)>0.6,15,IF((P104+P105)>0.5,10,0))))),IF((U104+U105)>0.94,40,IF((U104+U105)>0.9,35,IF((U104+U105)>0.8,30,IF((U104+U105)>0.7,20,IF((U104+U105)>0.6,15,IF((U104+U105)>0.5,10,0))))))))))) -> 0
A106: Ime i prezime nosioca pravosudne funkcije | O106: Ukupna ostvarena orijentacijska norma koja se unosi u Obrazac za ocjenjivanje = | P106: =P107+P108 -> 0
A107: Sud 1 | F107: =IF(E107="Sudija",1,IF(E107="Stručni saradnik",1,"")) | O107: =IF(G107="",0,IF(G107="Ne treba raditi na predm.",1+SUM(L107:N107),(SUM(L107:N107)/G107))) -> 0 | P107: =IF(K107>0,O107*(J107/(J107-K107)),O107) -> 0 | U107: =IF(Q107="","",(R107+R108)/(Q107+Q108-S107-S108)) | V107: =IF(P107="","",IF(C107="Ne","",IF(G107="Ne treba raditi na predm.","",IF((P107+P108)>1,40,IF(U107="",IF((P107+P108)>0.9,35,IF((P107+P108)>0.8,30,IF((P107+P108)>0.7,20,IF((P107+P108)>0.6,15,IF((P107+P108)>0.5,10,0))))),IF((U107+U108)>0.94,40,IF((U107+U108)>0.9,35,IF((U107+U108)>0.8,30,IF((U107+U108)>0.7,20,IF((U107+U108)>0.6,15,IF((U107+U108)>0.5,10,0))))))))))) -> 0
A108: Sud 2 | F108: =IF(E108="Sudija",1,IF(E108="Stručni saradnik",1,"")) | O108: =IF(G108="",0,IF(G108="Ne treba raditi na predm.",1+SUM(L108:N108),(SUM(L108:N108)/G108))) -> 0 | P108: =IF(K108>0,O108*(J108/(J108-K108)),O108) -> 0 | V108: =IF(P108="","",IF(C108="Ne","",IF(G108="Ne treba raditi na predm.","",IF((P107+P108)>1,40,IF(U108="",IF((P107+P108)>0.9,35,IF((P107+P108)>0.8,30,IF((P107+P108)>0.7,20,IF((P107+P108)>0.6,15,IF((P107+P108)>0.5,10,0))))),IF((U107+U108)>0.94,40,IF((U107+U108)>0.9,35,IF((U107+U108)>0.8,30,IF((U107+U108)>0.7,20,IF((U107+U108)>0.6,15,IF((U107+U108)>0.5,10,0))))))))))) -> 0
A109: Ime i prezime nosioca pravosudne funkcije | O109: Ukupna ostvarena orijentacijska norma koja se unosi u Obrazac za ocjenjivanje = | P109: =P110+P111 -> 0
A110: Sud 1 | F110: =IF(E110="Sudija",1,IF(E110="Stručni saradnik",1,"")) | O110: =IF(G110="",0,IF(G110="Ne treba raditi na predm.",1+SUM(L110:N110),(SUM(L110:N110)/G110))) -> 0 | P110: =IF(K110>0,O110*(J110/(J110-K110)),O110) -> 0 | U110: =IF(Q110="","",(R110+R111)/(Q110+Q111-S110-S111)) | V110: =IF(P110="","",IF(C110="Ne","",IF(G110="Ne treba raditi na predm.","",IF((P110+P111)>1,40,IF(U110="",IF((P110+P111)>0.9,35,IF((P110+P111)>0.8,30,IF((P110+P111)>0.7,20,IF((P110+P111)>0.6,15,IF((P110+P111)>0.5,10,0))))),IF((U110+U111)>0.94,40,IF((U110+U111)>0.9,35,IF((U110+U111)>0.8,30,IF((U110+U111)>0.7,20,IF((U110+U111)>0.6,15,IF((U110+U111)>0.5,10,0))))))))))) -> 0
A111: Sud 2 | F111: =IF(E111="Sudija",1,IF(E111="Stručni saradnik",1,"")) | O111: =IF(G111="",0,IF(G111="Ne treba raditi na predm.",1+SUM(L111:N111),(SUM(L111:N111)/G111))) -> 0 | P111: =IF(K111>0,O111*(J111/(J111-K111)),O111) -> 0 | V111: =IF(P111="","",IF(C111="Ne","",IF(G111="Ne treba raditi na predm.","",IF((P110+P111)>1,40,IF(U111="",IF((P110+P111)>0.9,35,IF((P110+P111)>0.8,30,IF((P110+P111)>0.7,20,IF((P110+P111)>0.6,15,IF((P110+P111)>0.5,10,0))))),IF((U110+U111)>0.94,40,IF((U110+U111)>0.9,35,IF((U110+U111)>0.8,30,IF((U110+U111)>0.7,20,IF((U110+U111)>0.6,15,IF((U110+U111)>0.5,10,0))))))))))) -> 0
A112: Ime i prezime nosioca pravosudne funkcije | O112: Ukupna ostvarena orijentacijska norma koja se unosi u Obrazac za ocjenjivanje = | P112: =P113+P114 -> 0
A113: Sud 1 | F113: =IF(E113="Sudija",1,IF(E113="Stručni saradnik",1,"")) | O113: =IF(G113="",0,IF(G113="Ne treba raditi na predm.",1+SUM(L113:N113),(SUM(L113:N113)/G113))) -> 0 | P113: =IF(K113>0,O113*(J113/(J113-K113)),O113) -> 0 | U113: =IF(Q113="","",(R113+R114)/(Q113+Q114-S113-S114)) | V113: =IF(P113="","",IF(C113="Ne","",IF(G113="Ne treba raditi na predm.","",IF((P113+P114)>1,40,IF(U113="",IF((P113+P114)>0.9,35,IF((P113+P114)>0.8,30,IF((P113+P114)>0.7,20,IF((P113+P114)>0.6,15,IF((P113+P114)>0.5,10,0))))),IF((U113+U114)>0.94,40,IF((U113+U114)>0.9,35,IF((U113+U114)>0.8,30,IF((U113+U114)>0.7,20,IF((U113+U114)>0.6,15,IF((U113+U114)>0.5,10,0))))))))))) -> 0
A114: Sud 2 | F114: =IF(E114="Sudija",1,IF(E114="Stručni saradnik",1,"")) | O114: =IF(G114="",0,IF(G114="Ne treba raditi na predm.",1+SUM(L114:N114),(SUM(L114:N114)/G114))) -> 0 | P114: =IF(K114>0,O114*(J114/(J114-K114)),O114) -> 0 | V114: =IF(P114="","",IF(C114="Ne","",IF(G114="Ne treba raditi na predm.","",IF((P113+P114)>1,40,IF(U114="",IF((P113+P114)>0.9,35,IF((P113+P114)>0.8,30,IF((P113+P114)>0.7,20,IF((P113+P114)>0.6,15,IF((P113+P114)>0.5,10,0))))),IF((U113+U114)>0.94,40,IF((U113+U114)>0.9,35,IF((U113+U114)>0.8,30,IF((U113+U114)>0.7,20,IF((U113+U114)>0.6,15,IF((U113+U114)>0.5,10,0))))))))))) -> 0
A115: Ime i prezime nosioca pravosudne funkcije | O115: Ukupna ostvarena orijentacijska norma koja se unosi u Obrazac za ocjenjivanje = | P115: =P116+P117 -> 0
A116: Sud 1 | F116: =IF(E116="Sudija",1,IF(E116="Stručni saradnik",1,"")) | O116: =IF(G116="",0,IF(G116="Ne treba raditi na predm.",1+SUM(L116:N116),(SUM(L116:N116)/G116))) -> 0 | P116: =IF(K116>0,O116*(J116/(J116-K116)),O116) -> 0 | U116: =IF(Q116="","",(R116+R117)/(Q116+Q117-S116-S117)) | V116: =IF(P116="","",IF(C116="Ne","",IF(G116="Ne treba raditi na predm.","",IF((P116+P117)>1,40,IF(U116="",IF((P116+P117)>0.9,35,IF((P116+P117)>0.8,30,IF((P116+P117)>0.7,20,IF((P116+P117)>0.6,15,IF((P116+P117)>0.5,10,0))))),IF((U116+U117)>0.94,40,IF((U116+U117)>0.9,35,IF((U116+U117)>0.8,30,IF((U116+U117)>0.7,20,IF((U116+U117)>0.6,15,IF((U116+U117)>0.5,10,0))))))))))) -> 0
A117: Sud 2 | F117: =IF(E117="Sudija",1,IF(E117="Stručni saradnik",1,"")) | O117: =IF(G117="",0,IF(G117="Ne treba raditi na predm.",1+SUM(L117:N117),(SUM(L117:N117)/G117))) -> 0 | P117: =IF(K117>0,O117*(J117/(J117-K117)),O117) -> 0 | V117: =IF(P117="","",IF(C117="Ne","",IF(G117="Ne treba raditi na predm.","",IF((P116+P117)>1,40,IF(U117="",IF((P116+P117)>0.9,35,IF((P116+P117)>0.8,30,IF((P116+P117)>0.7,20,IF((P116+P117)>0.6,15,IF((P116+P117)>0.5,10,0))))),IF((U116+U117)>0.94,40,IF((U116+U117)>0.9,35,IF((U116+U117)>0.8,30,IF((U116+U117)>0.7,20,IF((U116+U117)>0.6,15,IF((U116+U117)>0.5,10,0))))))))))) -> 0
A118: Ime i prezime nosioca pravosudne funkcije | O118: Ukupna ostvarena orijentacijska norma koja se unosi u Obrazac za ocjenjivanje = | P118: =P119+P120 -> 0
A119: Sud 1 | F119: =IF(E119="Sudija",1,IF(E119="Stručni saradnik",1,"")) | O119: =IF(G119="",0,IF(G119="Ne treba raditi na predm.",1+SUM(L119:N119),(SUM(L119:N119)/G119))) -> 0 | P119: =IF(K119>0,O119*(J119/(J119-K119)),O119) -> 0 | U119: =IF(Q119="","",(R119+R120)/(Q119+Q120-S119-S120)) | V119: =IF(P119="","",IF(C119="Ne","",IF(G119="Ne treba raditi na predm.","",IF((P119+P120)>1,40,IF(U119="",IF((P119+P120)>0.9,35,IF((P119+P120)>0.8,30,IF((P119+P120)>0.7,20,IF((P119+P120)>0.6,15,IF((P119+P120)>0.5,10,0))))),IF((U119+U120)>0.94,40,IF((U119+U120)>0.9,35,IF((U119+U120)>0.8,30,IF((U119+U120)>0.7,20,IF((U119+U120)>0.6,15,IF((U119+U120)>0.5,10,0))))))))))) -> 0
A120: Sud 2 | F120: =IF(E120="Sudija",1,IF(E120="Stručni saradnik",1,"")) | O120: =IF(G120="",0,IF(G120="Ne treba raditi na predm.",1+SUM(L120:N120),(SUM(L120:N120)/G120))) -> 0 | P120: =IF(K120>0,O120*(J120/(J120-K120)),O120) -> 0 | V120: =IF(P120="","",IF(C120="Ne","",IF(G120="Ne treba raditi na predm.","",IF((P119+P120)>1,40,IF(U120="",IF((P119+P120)>0.9,35,IF((P119+P120)>0.8,30,IF((P119+P120)>0.7,20,IF((P119+P120)>0.6,15,IF((P119+P120)>0.5,10,0))))),IF((U119+U120)>0.94,40,IF((U119+U120)>0.9,35,IF((U119+U120)>0.8,30,IF((U119+U120)>0.7,20,IF((U119+U120)>0.6,15,IF((U119+U120)>0.5,10,0))))))))))) -> 0
A121: Ime i prezime nosioca pravosudne funkcije | O121: Ukupna ostvarena orijentacijska norma koja se unosi u Obrazac za ocjenjivanje = | P121: =P122+P123 -> 0
A122: Sud 1 | F122: =IF(E122="Sudija",1,IF(E122="Stručni saradnik",1,"")) | O122: =IF(G122="",0,IF(G122="Ne treba raditi na predm.",1+SUM(L122:N122),(SUM(L122:N122)/G122))) -> 0 | P122: =IF(K122>0,O122*(J122/(J122-K122)),O122) -> 0 | U122: =IF(Q122="","",(R122+R123)/(Q122+Q123-S122-S123)) | V122: =IF(P122="","",IF(C122="Ne","",IF(G122="Ne treba raditi na predm.","",IF((P122+P123)>1,40,IF(U122="",IF((P122+P123)>0.9,35,IF((P122+P123)>0.8,30,IF((P122+P123)>0.7,20,IF((P122+P123)>0.6,15,IF((P122+P123)>0.5,10,0))))),IF((U122+U123)>0.94,40,IF((U122+U123)>0.9,35,IF((U122+U123)>0.8,30,IF((U122+U123)>0.7,20,IF((U122+U123)>0.6,15,IF((U122+U123)>0.5,10,0))))))))))) -> 0
A123: Sud 2 | F123: =IF(E123="Sudija",1,IF(E123="Stručni saradnik",1,"")) | O123: =IF(G123="",0,IF(G123="Ne treba raditi na predm.",1+SUM(L123:N123),(SUM(L123:N123)/G123))) -> 0 | P123: =IF(K123>0,O123*(J123/(J123-K123)),O123) -> 0 | V123: =IF(P123="","",IF(C123="Ne","",IF(G123="Ne treba raditi na predm.","",IF((P122+P123)>1,40,IF(U123="",IF((P122+P123)>0.9,35,IF((P122+P123)>0.8,30,IF((P122+P123)>0.7,20,IF((P122+P123)>0.6,15,IF((P122+P123)>0.5,10,0))))),IF((U122+U123)>0.94,40,IF((U122+U123)>0.9,35,IF((U122+U123)>0.8,30,IF((U122+U123)>0.7,20,IF((U122+U123)>0.6,15,IF((U122+U123)>0.5,10,0))))))))))) -> 0
A124: Ime i prezime nosioca pravosudne funkcije | O124: Ukupna ostvarena orijentacijska norma koja se unosi u Obrazac za ocjenjivanje = | P124: =P125+P126 -> 0
A125: Sud 1 | F125: =IF(E125="Sudija",1,IF(E125="Stručni saradnik",1,"")) | O125: =IF(G125="",0,IF(G125="Ne treba raditi na predm.",1+SUM(L125:N125),(SUM(L125:N125)/G125))) -> 0 | P125: =IF(K125>0,O125*(J125/(J125-K125)),O125) -> 0 | U125: =IF(Q125="","",(R125+R126)/(Q125+Q126-S125-S126)) | V125: =IF(P125="","",IF(C125="Ne","",IF(G125="Ne treba raditi na predm.","",IF((P125+P126)>1,40,IF(U125="",IF((P125+P126)>0.9,35,IF((P125+P126)>0.8,30,IF((P125+P126)>0.7,20,IF((P125+P126)>0.6,15,IF((P125+P126)>0.5,10,0))))),IF((U125+U126)>0.94,40,IF((U125+U126)>0.9,35,IF((U125+U126)>0.8,30,IF((U125+U126)>0.7,20,IF((U125+U126)>0.6,15,IF((U125+U126)>0.5,10,0))))))))))) -> 0
A126: Sud 2 | F126: =IF(E126="Sudija",1,IF(E126="Stručni saradnik",1,"")) | O126: =IF(G126="",0,IF(G126="Ne treba raditi na predm.",1+SUM(L126:N126),(SUM(L126:N126)/G126))) -> 0 | P126: =IF(K126>0,O126*(J126/(J126-K126)),O126) -> 0 | V126: =IF(P126="","",IF(C126="Ne","",IF(G126="Ne treba raditi na predm.","",IF((P125+P126)>1,40,IF(U126="",IF((P125+P126)>0.9,35,IF((P125+P126)>0.8,30,IF((P125+P126)>0.7,20,IF((P125+P126)>0.6,15,IF((P125+P126)>0.5,10,0))))),IF((U125+U126)>0.94,40,IF((U125+U126)>0.9,35,IF((U125+U126)>0.8,30,IF((U125+U126)>0.7,20,IF((U125+U126)>0.6,15,IF((U125+U126)>0.5,10,0))))))))))) -> 0
B129: NAPOMENA 2: Kolona IX (Ukupan broj dana za obračun norme) je popunjena (260) i odnosi se na NPF-e koji su radili cijelu godinu u jednoj instituciji. Ukoliko NPF nije obavljao funkciju u pravosudnoj instituciji tokom cijele godine (Novoimenovani NPF ili NPF koji je u toku godine prestao obavljati pravosudnu funkciju) vrši se preračun broja radnih dana. Npr. Sudija počeo sa radom 1.4.2023. Ukupan broj dana za obračun norme = (365 – 31 – 28 – 31) / 7 * 5 = 196
B131: NAPOMENA 3: Ukoliko je nosilac pravosudne funkcije dužan ostvariti procenat orijentacijske norme koji nije ponuđen u padajućem meniju u poljima iz kolone VI, podaci o ostvarenoj orijentacijskoj normi takvog nosioca pravosudne funkcije se unose u dio obrasca u kojem su polja kolone VI označena plavom bojom. Ostvaren orijentaciona norma se obračunava u skladu sa tačkom II 1). Instrukcije za obračun individualne i kolektivne orijentacione norme u sudovima, primjena člana 15. stav 4. Pravilnika o orijentacionim mjerilima za rad sudija i stručnih saradnika u sudovima u BiH.
B133: NAPOMENA 4: U Tabelu IIa se unose podaci za sve nosioce pravosudne funkcije koji su u toku godine obavljali funkciju u sudu. Ukoliko je nosilac pravosudne funkcije u toku godine prvi put imenovan u sud, ili je obavljao funkciju u dva suda (bez obzira na nivo suda), ili je napustio pravosuđe u Tabelu IIa se unose podaci koje je nosilac pravosudne funkcije ostvario u sudu koji popunjava Tabelu IIa, a podaci o ostvarenoj normi se obračunavaju u skladu Instrukcijom za obračun individualne i kolektivne orijentacione norme u sudovima (II dio - tačka 3a - za obračun kolektivne norme). Tabelu IIb popunjava sud koji provodi postupak ocjenjivanja rezultata rada nosioca pravosudne funkcije koji je tokom godine obavljao funkciju u dva suda (bez obzira na nivo suda). Podaci o ostvarenoj normi se obračunavaju u skladu sa Instrukcijom za obračun individualne i kolektivne orijentacione norme u sudovima (II dio – tačka 2 i tačka 3a - za proces ocjenjivanja). U obrazac za ocjenjivanje rada unosi se podatak o broju ostvarenih bodova iz Tabele IIb.
B136: NAPOMENA 5: Posebno obratiti pažnju na dio Uputstva uz ovu tabelu koji propisuje način prikazivanja podataka o ostvarenoj orijentacionoj normi i broju riješenih predmeta u okolnostima kada nosilac pravosudne funkcije nije imao dovoljan broj predmeta u radu za ostvarenje propisane godišnje norme, kao i na odgovarajuće odredbe Uputstva za primjenu Kriterija za ocjenjivanje rada predsjednika sudova u Bosni i Hercegovini i Kriterija za ocjenjivanje rada sudija u Bosni i Hercegovini. Podatak o broju neriješenih predmeta sa/bez zakonskih i procensih smetnji se preuzima iz POMOĆNE TABELE - OBRAZLOŽENJE ZA PREDMETE KOJE NIJE MOGAO RIJEŠITI SUDIJA OCIJENJEN U OKOLNOSTIMA NEDOVOLJNOG BROJA PREDMETA.
B138: NAPOMENA 6: Podatak o ostvarenoj orijentacionoj normi na predmetima van CMS-a se preuzima iz POMOĆNE TABELE ZA OBRAČUN NORME OSTVARENE NA PREDMETIMA VAN CMS-a.
B140: NAPOMENA 7: Podatak o Procentu ostvarene orijentacijske norme prema čl 9. Pravilnika o orijentacijskim mjerilima se preuzima iz POMOĆNE TABELE ZA VEĆE VREDNOVANJE PREDMETA.
B142: NAPOMENA 8: Pomoćne tabele navedene u NAPOMENAMA 6 i 7 kao i ostale materijale u vezi postupka ocjenjivanja rada NPF za 2023. godinu možete preuzeti putem linka:
B143: https://vstv.pravosudje.ba/vstvfo/B/141/article/123401
B144: NAPOMENA 9: Podatak o broju dana opravdanog odsustva iz člana 13. Kriterija za ocjenjivanje rada obavezno preuzeti iz pomoćne tabele.

Sheet tbl II
A1: Godina | B1: Sud | C1: ImePrezime | D1: Ocjenjen | E1: Odjel | F1: Funkcija | G1: NormaPravilnik | H1: DatumOd | I1: DatumDo | J1: BroDanaZa Normu | K1: Odsustvo | L1: NormaCMS | M1: NormaVanCMS | N1: VeceVrenovanje | O1: OstvarenaNorma | P1: PreracunataNorma | Q1: BrPredURadu | R1: BrRijPred | S1: BrNerijPredSaZakProcSmet | T1: BrNerijPredBezZakProcSmet | U1: ProcRijePred | V1: BrOStBod
A2: ='Tabela I'!$F$1 -> 2023 | B2: ='Tabela I'!$F$2 -> 0 | C2: ='Tabela II'!B8 -> 0 | D2: ='Tabela II'!C8 -> 0 | E2: ='Tabela II'!D8 -> 0 | F2: ='Tabela II'!E8 -> Predsjednik suda | G2: ='Tabela II'!G8 -> 0 | H2: ='Tabela II'!H8 -> 0 | I2: ='Tabela II'!I8 -> 0 | J2: ='Tabela II'!J8 -> 260 | K2: ='Tabela II'!K8 -> 0 | L2: ='Tabela II'!L8 -> 0 | M2: ='Tabela II'!M8 -> 0 | N2: ='Tabela II'!N8 -> 0 | ... V2: ='Tabela II'!V8
A3: ='Tabela I'!$F$1 -> 2023 | B3: ='Tabela I'!$F$2 -> 0 | C3: =C2 -> 0 | D3: =D2 -> 0 | E3: =E2 -> 0 | F3: =F2 -> Predsjednik suda | G3: ='Tabela II'!G9 -> 0 | H3: ='Tabela II'!H9 -> 0 | I3: ='Tabela II'!I9 -> 0 | J3: ='Tabela II'!J9 -> 260 | K3: ='Tabela II'!K9 -> 0 | L3: ='Tabela II'!L9 -> 0 | M3: ='Tabela II'!M9 -> 0 | N3: ='Tabela II'!N9 -> 0 | ... V3: ='Tabela II'!V9
A4: ='Tabela I'!$F$1 -> 2023 | B4: ='Tabela I'!$F$2 -> 0 | C4: ='Tabela II'!B10 -> 0 | D4: ='Tabela II'!C10 -> 0 | E4: ='Tabela II'!D10 -> 0 | F4: ='Tabela II'!E10 -> 0 | G4: ='Tabela II'!G10 -> 0 | H4: ='Tabela II'!H10 -> 0 | I4: ='Tabela II'!I10 -> 0 | J4: ='Tabela II'!J10 -> 260 | K4: ='Tabela II'!K10 -> 0 | L4: ='Tabela II'!L10 -> 0 | M4: ='Tabela II'!M10 -> 0 | N4: ='Tabela II'!N10 -> 0 | ... V4: ='Tabela II'!V10
A5: ='Tabela I'!$F$1 -> 2023 | B5: ='Tabela I'!$F$2 -> 0 | C5: ='Tabela II'!B11 -> 0 | D5: ='Tabela II'!C11 -> 0 | E5: ='Tabela II'!D11 -> 0 | F5: ='Tabela II'!E11 -> 0 | G5: ='Tabela II'!G11 -> 0 | H5: ='Tabela II'!H11 -> 0 | I5: ='Tabela II'!I11 -> 0 | J5: ='Tabela II'!J11 -> 260 | K5: ='Tabela II'!K11 -> 0 | L5: ='Tabela II'!L11 -> 0 | M5: ='Tabela II'!M11 -> 0 | N5: ='Tabela II'!N11 -> 0 | ... V5: ='Tabela II'!V11
A6: ='Tabela I'!$F$1 -> 2023 | B6: ='Tabela I'!$F$2 -> 0 | C6: ='Tabela II'!B12 -> 0 | D6: ='Tabela II'!C12 -> 0 | E6: ='Tabela II'!D12 -> 0 | F6: ='Tabela II'!E12 -> 0 | G6: ='Tabela II'!G12 -> 0 | H6: ='Tabela II'!H12 -> 0 | I6: ='Tabela II'!I12 -> 0 | J6: ='Tabela II'!J12 -> 260 | K6: ='Tabela II'!K12 -> 0 | L6: ='Tabela II'!L12 -> 0 | M6: ='Tabela II'!M12 -> 0 | N6: ='Tabela II'!N12 -> 0 | ... V6: ='Tabela II'!V12
A7: ='Tabela I'!$F$1 -> 2023 | B7: ='Tabela I'!$F$2 -> 0 | C7: ='Tabela II'!B13 -> 0 | D7: ='Tabela II'!C13 -> 0 | E7: ='Tabela II'!D13 -> 0 | F7: ='Tabela II'!E13 -> 0 | G7: ='Tabela II'!G13 -> 0 | H7: ='Tabela II'!H13 -> 0 | I7: ='Tabela II'!I13 -> 0 | J7: ='Tabela II'!J13 -> 260 | K7: ='Tabela II'!K13 -> 0 | L7: ='Tabela II'!L13 -> 0 | M7: ='Tabela II'!M13 -> 0 | N7: ='Tabela II'!N13 -> 0 | ... V7: ='Tabela II'!V13
A8: ='Tabela I'!$F$1 -> 2023 | B8: ='Tabela I'!$F$2 -> 0 | C8: ='Tabela II'!B14 -> 0 | D8: ='Tabela II'!C14 -> 0 | E8: ='Tabela II'!D14 -> 0 | F8: ='Tabela II'!E14 -> 0 | G8: ='Tabela II'!G14 -> 0 | H8: ='Tabela II'!H14 -> 0 | I8: ='Tabela II'!I14 -> 0 | J8: ='Tabela II'!J14 -> 260 | K8: ='Tabela II'!K14 -> 0 | L8: ='Tabela II'!L14 -> 0 | M8: ='Tabela II'!M14 -> 0 | N8: ='Tabela II'!N14 -> 0 | ... V8: ='Tabela II'!V14
A9: ='Tabela I'!$F$1 -> 2023 | B9: ='Tabela I'!$F$2 -> 0 | C9: ='Tabela II'!B15 -> 0 | D9: ='Tabela II'!C15 -> 0 | E9: ='Tabela II'!D15 -> 0 | F9: ='Tabela II'!E15 -> 0 | G9: ='Tabela II'!G15 -> 0 | H9: ='Tabela II'!H15 -> 0 | I9: ='Tabela II'!I15 -> 0 | J9: ='Tabela II'!J15 -> 260 | K9: ='Tabela II'!K15 -> 0 | L9: ='Tabela II'!L15 -> 0 | M9: ='Tabela II'!M15 -> 0 | N9: ='Tabela II'!N15 -> 0 | ... V9: ='Tabela II'!V15
A10: ='Tabela I'!$F$1 -> 2023 | B10: ='Tabela I'!$F$2 -> 0 | C10: ='Tabela II'!B16 -> 0 | D10: ='Tabela II'!C16 -> 0 | E10: ='Tabela II'!D16 -> 0 | F10: ='Tabela II'!E16 -> 0 | G10: ='Tabela II'!G16 -> 0 | H10: ='Tabela II'!H16 -> 0 | I10: ='Tabela II'!I16 -> 0 | J10: ='Tabela II'!J16 -> 260 | K10: ='Tabela II'!K16 -> 0 | L10: ='Tabela II'!L16 -> 0 | M10: ='Tabela II'!M16 -> 0 | N10: ='Tabela II'!N16 -> 0 | ... V10: ='Tabela II'!V16
A11: ='Tabela I'!$F$1 -> 2023 | B11: ='Tabela I'!$F$2 -> 0 | C11: ='Tabela II'!B17 -> 0 | D11: ='Tabela II'!C17 -> 0 | E11: ='Tabela II'!D17 -> 0 | F11: ='Tabela II'!E17 -> 0 | G11: ='Tabela II'!G17 -> 0 | H11: ='Tabela II'!H17 -> 0 | I11: ='Tabela II'!I17 -> 0 | J11: ='Tabela II'!J17 -> 260 | K11: ='Tabela II'!K17 -> 0 | L11: ='Tabela II'!L17 -> 0 | M11: ='Tabela II'!M17 -> 0 | N11: ='Tabela II'!N17 -> 0 | ... V11: ='Tabela II'!V17
A12: ='Tabela I'!$F$1 -> 2023 | B12: ='Tabela I'!$F$2 -> 0 | C12: ='Tabela II'!B18 -> 0 | D12: ='Tabela II'!C18 -> 0 | E12: ='Tabela II'!D18 -> 0 | F12: ='Tabela II'!E18 -> 0 | G12: ='Tabela II'!G18 -> 0 | H12: ='Tabela II'!H18 -> 0 | I12: ='Tabela II'!I18 -> 0 | J12: ='Tabela II'!J18 -> 260 | K12: ='Tabela II'!K18 -> 0 | L12: ='Tabela II'!L18 -> 0 | M12: ='Tabela II'!M18 -> 0 | N12: ='Tabela II'!N18 -> 0 | ... V12: ='Tabela II'!V18
A13: ='Tabela I'!$F$1 -> 2023 | B13: ='Tabela I'!$F$2 -> 0 | C13: ='Tabela II'!B19 -> 0 | D13: ='Tabela II'!C19 -> 0 | E13: ='Tabela II'!D19 -> 0 | F13: ='Tabela II'!E19 -> 0 | G13: ='Tabela II'!G19 -> 0 | H13: ='Tabela II'!H19 -> 0 | I13: ='Tabela II'!I19 -> 0 | J13: ='Tabela II'!J19 -> 260 | K13: ='Tabela II'!K19 -> 0 | L13: ='Tabela II'!L19 -> 0 | M13: ='Tabela II'!M19 -> 0 | N13: ='Tabela II'!N19 -> 0 | ... V13: ='Tabela II'!V19
A14: ='Tabela I'!$F$1 -> 2023 | B14: ='Tabela I'!$F$2 -> 0 | C14: ='Tabela II'!B20 -> 0 | D14: ='Tabela II'!C20 -> 0 | E14: ='Tabela II'!D20 -> 0 | F14: ='Tabela II'!E20 -> 0 | G14: ='Tabela II'!G20 -> 0 | H14: ='Tabela II'!H20 -> 0 | I14: ='Tabela II'!I20 -> 0 | J14: ='Tabela II'!J20 -> 260 | K14: ='Tabela II'!K20 -> 0 | L14: ='Tabela II'!L20 -> 0 | M14: ='Tabela II'!M20 -> 0 | N14: ='Tabela II'!N20 -> 0 | ... V14: ='Tabela II'!V20
A15: ='Tabela I'!$F$1 -> 2023 | B15: ='Tabela I'!$F$2 -> 0 | C15: ='Tabela II'!B21 -> 0 | D15: ='Tabela II'!C21 -> 0 | E15: ='Tabela II'!D21 -> 0 | F15: ='Tabela II'!E21 -> 0 | G15: ='Tabela II'!G21 -> 0 | H15: ='Tabela II'!H21 -> 0 | I15: ='Tabela II'!I21 -> 0 | J15: ='Tabela II'!J21 -> 260 | K15: ='Tabela II'!K21 -> 0 | L15: ='Tabela II'!L21 -> 0 | M15: ='Tabela II'!M21 -> 0 | N15: ='Tabela II'!N21 -> 0 | ... V15: ='Tabela II'!V21
... A72: ='Tabela I'!$F$1 -> 2023 | B72: ='Tabela I'!$F$2 -> 0 | C72: ='Tabela II'!B78 -> 0 | D72: ='Tabela II'!C78 -> 0 | E72: ='Tabela II'!D78 -> 0 | F72: ='Tabela II'!E78 -> 0 | G72: ='Tabela II'!G78 -> 0 | H72: ='Tabela II'!H78 -> 0 | I72: ='Tabela II'!I78 -> 0 | J72: ='Tabela II'!J78 -> 260 | K72: ='Tabela II'!K78 -> 0 | L72: ='Tabela II'!L78 -> 0 | M72: ='Tabela II'!M78 -> 0 | N72: ='Tabela II'!N78 -> 0 | ... V72: ='Tabela II'!V78
A74: Godina | B74: Sud | C74: ImePrezime | D74: Ocjenjen | E74: Odjel | F74: Funkcija | G74: NormaPravilnik | H74: DatumOd | I74: DatumDo | J74: BroDanaZa Normu | K74: Odsustvo | L74: NormaCMS | M74: NormaVanCMS | N74: VeceVrenovanje | O74: OstvarenaNorma | P74: PreracunataNorma | Q74: BrPredURadu | R74: BrRijPred | S74: BrNerijPredSaZakProcSmet | T74: BrNerijPredBezZakProcSmet | U74: ProcRijePred | V74: BrOStBod | W74: Sud
A75: ='Tabela I'!$F$1 -> 2023 | B75: ='Tabela I'!$F$2 -> 0 | C75: ='Tabela II'!D97 -> 0 | D75: ='Tabela II'!C98 -> 0 | E75: ='Tabela II'!D98 -> 0 | F75: ='Tabela II'!E98 -> Predsjednik suda | G75: ='Tabela II'!G98 -> 0 | H75: ='Tabela II'!H98 -> 0 | I75: ='Tabela II'!I98 -> 0 | J75: ='Tabela II'!J98 -> 0 | K75: ='Tabela II'!K98 -> 0 | L75: ='Tabela II'!L98 -> 0 | M75: ='Tabela II'!M98 -> 0 | N75: ='Tabela II'!N98 -> 0 | ... V75: ='Tabela II'!V98 -> 0 | W75: ='Tabela II'!A98 -> Sud 1
A76: ='Tabela I'!$F$1 -> 2023 | B76: ='Tabela I'!$F$2 -> 0 | C76: =C75 -> 0 | D76: ='Tabela II'!C99 -> 0 | E76: ='Tabela II'!D99 -> 0 | F76: ='Tabela II'!E99 -> 0 | G76: ='Tabela II'!G99 -> 0 | H76: ='Tabela II'!H99 -> 0 | I76: ='Tabela II'!I99 -> 0 | J76: ='Tabela II'!J99 -> 0 | K76: ='Tabela II'!K99 -> 0 | L76: ='Tabela II'!L99 -> 0 | M76: ='Tabela II'!M99 -> 0 | N76: ='Tabela II'!N99 -> 0 | ... V76: ='Tabela II'!V99 -> 0 | W76: ='Tabela II'!A99 -> Sud 2
A77: ='Tabela I'!$F$1 -> 2023 | B77: ='Tabela I'!$F$2 -> 0 | C77: ='Tabela II'!D100 -> 0 | D77: ='Tabela II'!C101 -> 0 | E77: ='Tabela II'!D101 -> 0 | F77: ='Tabela II'!E101 -> 0 | G77: ='Tabela II'!G101 -> 0 | H77: ='Tabela II'!H101 -> 0 | I77: ='Tabela II'!I101 -> 0 | J77: ='Tabela II'!J101 -> 0 | K77: ='Tabela II'!K101 -> 0 | L77: ='Tabela II'!L101 -> 0 | M77: ='Tabela II'!M101 -> 0 | N77: ='Tabela II'!N101 -> 0 | ... V77: ='Tabela II'!V101 -> 0 | W77: ='Tabela II'!A101 -> Sud 1
A78: ='Tabela I'!$F$1 -> 2023 | B78: ='Tabela I'!$F$2 -> 0 | C78: =C77 -> 0 | D78: ='Tabela II'!C102 -> 0 | E78: ='Tabela II'!D102 -> 0 | F78: ='Tabela II'!E102 -> 0 | G78: ='Tabela II'!G102 -> 0 | H78: ='Tabela II'!H102 -> 0 | I78: ='Tabela II'!I102 -> 0 | J78: ='Tabela II'!J102 -> 0 | K78: ='Tabela II'!K102 -> 0 | L78: ='Tabela II'!L102 -> 0 | M78: ='Tabela II'!M102 -> 0 | N78: ='Tabela II'!N102 -> 0 | ... V78: ='Tabela II'!V102 -> 0 | W78: ='Tabela II'!A102 -> Sud 2
A79: ='Tabela I'!$F$1 -> 2023 | B79: ='Tabela I'!$F$2 -> 0 | C79: ='Tabela II'!D103 -> 0 | D79: ='Tabela II'!C104 -> 0 | E79: ='Tabela II'!D104 -> 0 | F79: ='Tabela II'!E104 -> 0 | G79: ='Tabela II'!G104 -> 0 | H79: ='Tabela II'!H104 -> 0 | I79: ='Tabela II'!I104 -> 0 | J79: ='Tabela II'!J104 -> 0 | K79: ='Tabela II'!K104 -> 0 | L79: ='Tabela II'!L104 -> 0 | M79: ='Tabela II'!M104 -> 0 | N79: ='Tabela II'!N104 -> 0 | ... V79: ='Tabela II'!V104 -> 0 | W79: ='Tabela II'!A104 -> Sud 1
A80: ='Tabela I'!$F$1 -> 2023 | B80: ='Tabela I'!$F$2 -> 0 | C80: =C79 -> 0 | D80: ='Tabela II'!C105 -> 0 | E80: ='Tabela II'!D105 -> 0 | F80: ='Tabela II'!E105 -> 0 | G80: ='Tabela II'!G105 -> 0 | H80: ='Tabela II'!H105 -> 0 | I80: ='Tabela II'!I105 -> 0 | J80: ='Tabela II'!J105 -> 0 | K80: ='Tabela II'!K105 -> 0 | L80: ='Tabela II'!L105 -> 0 | M80: ='Tabela II'!M105 -> 0 | N80: ='Tabela II'!N105 -> 0 | ... V80: ='Tabela II'!V105 -> 0 | W80: ='Tabela II'!A105 -> Sud 2
A81: ='Tabela I'!$F$1 -> 2023 | B81: ='Tabela I'!$F$2 -> 0 | C81: ='Tabela II'!D106 -> 0 | D81: ='Tabela II'!C107 -> 0 | E81: ='Tabela II'!D107 -> 0 | F81: ='Tabela II'!E107 -> 0 | G81: ='Tabela II'!G107 -> 0 | H81: ='Tabela II'!H107 -> 0 | I81: ='Tabela II'!I107 -> 0 | J81: ='Tabela II'!J107 -> 0 | K81: ='Tabela II'!K107 -> 0 | L81: ='Tabela II'!L107 -> 0 | M81: ='Tabela II'!M107 -> 0 | N81: ='Tabela II'!N107 -> 0 | ... V81: ='Tabela II'!V107 -> 0 | W81: ='Tabela II'!A107 -> Sud 1
A82: ='Tabela I'!$F$1 -> 2023 | B82: ='Tabela I'!$F$2 -> 0 | C82: =C81 -> 0 | D82: ='Tabela II'!C108 -> 0 | E82: ='Tabela II'!D108 -> 0 | F82: ='Tabela II'!E108 -> 0 | G82: ='Tabela II'!G108 -> 0 | H82: ='Tabela II'!H108 -> 0 | I82: ='Tabela II'!I108 -> 0 | J82: ='Tabela II'!J108 -> 0 | K82: ='Tabela II'!K108 -> 0 | L82: ='Tabela II'!L108 -> 0 | M82: ='Tabela II'!M108 -> 0 | N82: ='Tabela II'!N108 -> 0 | ... V82: ='Tabela II'!V108 -> 0 | W82: ='Tabela II'!A108 -> Sud 2
A83: ='Tabela I'!$F$1 -> 2023 | B83: ='Tabela I'!$F$2 -> 0 | C83: ='Tabela II'!D109 -> 0 | D83: ='Tabela II'!C110 -> 0 | E83: ='Tabela II'!D110 -> 0 | F83: ='Tabela II'!E110 -> 0 | G83: ='Tabela II'!G110 -> 0 | H83: ='Tabela II'!H110 -> 0 | I83: ='Tabela II'!I110 -> 0 | J83: ='Tabela II'!J110 -> 0 | K83: ='Tabela II'!K110 -> 0 | L83: ='Tabela II'!L110 -> 0 | M83: ='Tabela II'!M110 -> 0 | N83: ='Tabela II'!N110 -> 0 | ... V83: ='Tabela II'!V110 -> 0 | W83: ='Tabela II'!A110 -> Sud 1
A84: ='Tabela I'!$F$1 -> 2023 | B84: ='Tabela I'!$F$2 -> 0 | C84: =C83 -> 0 | D84: ='Tabela II'!C111 -> 0 | E84: ='Tabela II'!D111 -> 0 | F84: ='Tabela II'!E111 -> 0 | G84: ='Tabela II'!G111 -> 0 | H84: ='Tabela II'!H111 -> 0 | I84: ='Tabela II'!I111 -> 0 | J84: ='Tabela II'!J111 -> 0 | K84: ='Tabela II'!K111 -> 0 | L84: ='Tabela II'!L111 -> 0 | M84: ='Tabela II'!M111 -> 0 | N84: ='Tabela II'!N111 -> 0 | ... V84: ='Tabela II'!V111 -> 0 | W84: ='Tabela II'!A111 -> Sud 2
A85: ='Tabela I'!$F$1 -> 2023 | B85: ='Tabela I'!$F$2 -> 0 | C85: ='Tabela II'!D112 -> 0 | D85: ='Tabela II'!C113 -> 0 | E85: ='Tabela II'!D113 -> 0 | F85: ='Tabela II'!E113 -> 0 | G85: ='Tabela II'!G113 -> 0 | H85: ='Tabela II'!H113 -> 0 | I85: ='Tabela II'!I113 -> 0 | J85: ='Tabela II'!J113 -> 0 | K85: ='Tabela II'!K113 -> 0 | L85: ='Tabela II'!L113 -> 0 | M85: ='Tabela II'!M113 -> 0 | N85: ='Tabela II'!N113 -> 0 | ... V85: ='Tabela II'!V113 -> 0 | W85: ='Tabela II'!A113 -> Sud 1
A86: ='Tabela I'!$F$1 -> 2023 | B86: ='Tabela I'!$F$2 -> 0 | C86: =C85 -> 0 | D86: ='Tabela II'!C114 -> 0 | E86: ='Tabela II'!D114 -> 0 | F86: ='Tabela II'!E114 -> 0 | G86: ='Tabela II'!G114 -> 0 | H86: ='Tabela II'!H114 -> 0 | I86: ='Tabela II'!I114 -> 0 | J86: ='Tabela II'!J114 -> 0 | K86: ='Tabela II'!K114 -> 0 | L86: ='Tabela II'!L114 -> 0 | M86: ='Tabela II'!M114 -> 0 | N86: ='Tabela II'!N114 -> 0 | ... V86: ='Tabela II'!V114 -> 0 | W86: ='Tabela II'!A114 -> Sud 2
A87: ='Tabela I'!$F$1 -> 2023 | B87: ='Tabela I'!$F$2 -> 0 | C87: ='Tabela II'!D115 -> 0 | D87: ='Tabela II'!C116 -> 0 | E87: ='Tabela II'!D116 -> 0 | F87: ='Tabela II'!E116 -> 0 | G87: ='Tabela II'!G116 -> 0 | H87: ='Tabela II'!H116 -> 0 | I87: ='Tabela II'!I116 -> 0 | J87: ='Tabela II'!J116 -> 0 | K87: ='Tabela II'!K116 -> 0 | L87: ='Tabela II'!L116 -> 0 | M87: ='Tabela II'!M116 -> 0 | N87: ='Tabela II'!N116 -> 0 | ... V87: ='Tabela II'!V116 -> 0 | W87: ='Tabela II'!A116 -> Sud 1
A88: ='Tabela I'!$F$1 -> 2023 | B88: ='Tabela I'!$F$2 -> 0 | C88: =C87 -> 0 | D88: ='Tabela II'!C117 -> 0 | E88: ='Tabela II'!D117 -> 0 | F88: ='Tabela II'!E117 -> 0 | G88: ='Tabela II'!G117 -> 0 | H88: ='Tabela II'!H117 -> 0 | I88: ='Tabela II'!I117 -> 0 | J88: ='Tabela II'!J117 -> 0 | K88: ='Tabela II'!K117 -> 0 | L88: ='Tabela II'!L117 -> 0 | M88: ='Tabela II'!M117 -> 0 | N88: ='Tabela II'!N117 -> 0 | ... V88: ='Tabela II'!V117 -> 0 | W88: ='Tabela II'!A117 -> Sud 2
A89: ='Tabela I'!$F$1 -> 2023 | B89: ='Tabela I'!$F$2 -> 0 | C89: ='Tabela II'!D118 -> 0 | D89: ='Tabela II'!C119 -> 0 | E89: ='Tabela II'!D119 -> 0 | F89: ='Tabela II'!E119 -> 0 | G89: ='Tabela II'!G119 -> 0 | H89: ='Tabela II'!H119 -> 0 | I89: ='Tabela II'!I119 -> 0 | J89: ='Tabela II'!J119 -> 0 | K89: ='Tabela II'!K119 -> 0 | L89: ='Tabela II'!L119 -> 0 | M89: ='Tabela II'!M119 -> 0 | N89: ='Tabela II'!N119 -> 0 | ... V89: ='Tabela II'!V119 -> 0 | W89: ='Tabela II'!A119 -> Sud 1
A90: ='Tabela I'!$F$1 -> 2023 | B90: ='Tabela I'!$F$2 -> 0 | C90: =C89 -> 0 | D90: ='Tabela II'!C120 -> 0 | E90: ='Tabela II'!D120 -> 0 | F90: ='Tabela II'!E120 -> 0 | G90: ='Tabela II'!G120 -> 0 | H90: ='Tabela II'!H120 -> 0 | I90: ='Tabela II'!I120 -> 0 | J90: ='Tabela II'!J120 -> 0 | K90: ='Tabela II'!K120 -> 0 | L90: ='Tabela II'!L120 -> 0 | M90: ='Tabela II'!M120 -> 0 | N90: ='Tabela II'!N120 -> 0 | ... V90: ='Tabela II'!V120 -> 0 | W90: ='Tabela II'!A120 -> Sud 2
A91: ='Tabela I'!$F$1 -> 2023 | B91: ='Tabela I'!$F$2 -> 0 | C91: ='Tabela II'!D121 -> 0 | D91: ='Tabela II'!C122 -> 0 | E91: ='Tabela II'!D122 -> 0 | F91: ='Tabela II'!E122 -> 0 | G91: ='Tabela II'!G122 -> 0 | H91: ='Tabela II'!H122 -> 0 | I91: ='Tabela II'!I122 -> 0 | J91: ='Tabela II'!J122 -> 0 | K91: ='Tabela II'!K122 -> 0 | L91: ='Tabela II'!L122 -> 0 | M91: ='Tabela II'!M122 -> 0 | N91: ='Tabela II'!N122 -> 0 | ... V91: ='Tabela II'!V122 -> 0 | W91: ='Tabela II'!A122 -> Sud 1
A92: ='Tabela I'!$F$1 -> 2023 | B92: ='Tabela I'!$F$2 -> 0 | C92: =C91 -> 0 | D92: ='Tabela II'!C123 -> 0 | E92: ='Tabela II'!D123 -> 0 | F92: ='Tabela II'!E123 -> 0 | G92: ='Tabela II'!G123 -> 0 | H92: ='Tabela II'!H123 -> 0 | I92: ='Tabela II'!I123 -> 0 | J92: ='Tabela II'!J123 -> 0 | K92: ='Tabela II'!K123 -> 0 | L92: ='Tabela II'!L123 -> 0 | M92: ='Tabela II'!M123 -> 0 | N92: ='Tabela II'!N123 -> 0 | ... V92: ='Tabela II'!V123 -> 0 | W92: ='Tabela II'!A123 -> Sud 2
A93: ='Tabela I'!$F$1 -> 2023 | B93: ='Tabela I'!$F$2 -> 0 | C93: ='Tabela II'!D124 -> 0 | D93: ='Tabela II'!C125 -> 0 | E93: ='Tabela II'!D125 -> 0 | F93: ='Tabela II'!E125 -> 0 | G93: ='Tabela II'!G125 -> 0 | H93: ='Tabela II'!H125 -> 0 | I93: ='Tabela II'!I125 -> 0 | J93: ='Tabela II'!J125 -> 0 | K93: ='Tabela II'!K125 -> 0 | L93: ='Tabela II'!L125 -> 0 | M93: ='Tabela II'!M125 -> 0 | N93: ='Tabela II'!N125 -> 0 | ... V93: ='Tabela II'!V125 -> 0 | W93: ='Tabela II'!A125 -> Sud 1
A94: ='Tabela I'!$F$1 -> 2023 | B94: ='Tabela I'!$F$2 -> 0 | C94: =C93 -> 0 | D94: ='Tabela II'!C126 -> 0 | E94: ='Tabela II'!D126 -> 0 | F94: ='Tabela II'!E126 -> 0 | G94: ='Tabela II'!G126 -> 0 | H94: ='Tabela II'!H126 -> 0 | I94: ='Tabela II'!I126 -> 0 | J94: ='Tabela II'!J126 -> 0 | K94: ='Tabela II'!K126 -> 0 | L94: ='Tabela II'!L126 -> 0 | M94: ='Tabela II'!M126 -> 0 | N94: ='Tabela II'!N126 -> 0 | ... V94: ='Tabela II'!V126 -> 0 | W94: ='Tabela II'!A126 -> Sud 2

Sheet Tabela III
A1: Okružni privredni sud: | B1: ='Tabela I'!C1 -> 0
A2: Izvještajni period: | B2: ='Tabela I'!C2 -> 1.1.2023.-31.12.2023.
A3: Tabela III - Kvalitet sudskih odluka po vrstama predmeta
A4: Vrsta predmeta | B4: Broj donesenih odluka na koje se može izjaviti pravni lijek | C4: Ukupan broj ožalbenih odluka | D4: Broj odbačenih pravnih lijekova | E4: Broj potvrđenih odluka | F4: Broj preinačenih odluka | G4: Broj preinačenih odluka donijetih nakon održane glavne rasprave ili pretresa pred drugostepenim sudom | H4: Broj ukinutih odluka | I4: Broj djelimično ukinutih odluka | J4: Kvalitet sudskih odluka | K4: Broj presuda koje su ukinute i predmet vraćen na ponovno suđenje
E5: Odbijen pravni lijek
B6: I | C6: II=IV+V+VI+ VII+VIII) | D6: III | E6: IV | F6: V | G6: VI | H6: VII | I6: VIII | J6: IX1 | K6: X
A7: Privredni referat
A8: Ps | C8: =E8+F8+G8+H8+I8 -> 0 | J8: =IF(C8=0,"",IF(B8=0,1,0.75*((C8-H8-I8/2)/C8)+0.25*((B8-G8-H8-I8/2)/B8)))
A9: Mals | C9: =E9+F9+G9+H9+I9 -> 0 | J9: =IF(C9=0,"",IF(B9=0,1,0.75*((C9-H9-I9/2)/C9)+0.25*((B9-G9-H9-I9/2)/B9)))
A10: L | C10: =E10+F10+G10+H10+I10 -> 0 | J10: =IF(C10=0,"",IF(B10=0,1,0.75*((C10-H10-I10/2)/C10)+0.25*((B10-G10-H10-I10/2)/B10)))
A11: Ls | C11: =E11+F11+G11+H11+I11 -> 0 | J11: =IF(C11=0,"",IF(B11=0,1,0.75*((C11-H11-I11/2)/C11)+0.25*((B11-G11-H11-I11/2)/B11)))
A12: St | C12: =E12+F12+G12+H12+I12 -> 0 | J12: =IF(C12=0,"",IF(B12=0,1,0.75*((C12-H12-I12/2)/C12)+0.25*((B12-G12-H12-I12/2)/B12)))
A13: Ostalo* | C13: =E13+F13+G13+H13+I13 -> 0 | J13: =IF(C13=0,"",IF(B13=0,1,0.75*((C13-H13-I13/2)/C13)+0.25*((B13-G13-H13-I13/2)/B13)))
A14: Izvršni referat
A15: Ip | C15: =E15+F15+G15+H15+I15 -> 0 | J15: =IF(C15=0,"",IF(B15=0,1,0.75*((C15-H15-I15/2)/C15)+0.25*((B15-G15-H15-I15/2)/B15)))
A16: Ostalo* | C16: =E16+F16+G16+H16+I16 -> 0 | J16: =IF(C16=0,"",IF(B16=0,1,0.75*((C16-H16-I16/2)/C16)+0.25*((B16-G16-H16-I16/2)/B16)))
A17: Vanparnični referat
A18: V | C18: =E18+F18+G18+H18+I18 -> 0 | J18: =IF(C18=0,"",IF(B18=0,1,0.75*((C18-H18-I18/2)/C18)+0.25*((B18-G18-H18-I18/2)/B18)))
A19: Ostalo* | C19: =E19+F19+G19+H19+I19 -> 0 | J19: =IF(C19=0,"",IF(B19=0,1,0.75*((C19-H19-I19/2)/C19)+0.25*((B19-G19-H19-I19/2)/B19)))
A21: Registracija poslovnih subjekata | C21: =E21+F21+G21+H21+I21 -> 0 | J21: =IF(C21=0,"",IF(B21=0,1,0.75*((C21-H21-I21/2)/C21)+0.25*((B21-G21-H21-I21/2)/B21)))
A23: Ukupno | B23: =SUM(B8:B13)+SUM(B15:B16)+SUM(B18:B19)+B21 -> 0 | C23: =SUM(C8:C13)+SUM(C15:C16)+SUM(C18:C19)+C21 -> 0 | D23: =SUM(D8:D13)+SUM(D15:D16)+SUM(D18:D19)+D21 -> 0 | E23: =SUM(E8:E13)+SUM(E15:E16)+SUM(E18:E19)+E21 -> 0 | F23: =SUM(F8:F13)+SUM(F15:F16)+SUM(F18:F19)+F21 -> 0 | G23: =SUM(G8:G13)+SUM(G15:G16)+SUM(G18:G19)+G21 -> 0 | H23: =SUM(H8:H13)+SUM(H15:H16)+SUM(H18:H19)+H21 -> 0 | I23: =SUM(I8:I13)+SUM(I15:I16)+SUM(I18:I19)+I21 -> 0 | J23: =IF(C23=0,"",IF(B23=0,1,0.75*((C23-H23-I23/2)/C23)+0.25*((B23-G23-H23-I23/2)/B23))) | K23: =SUM(K8:K13)+SUM(K15:K16)+SUM(K18:K19)+K21 -> 0
A25: Ukupno 2022.* | C25: Obrazloženje:
A26: * Unesite podatak o Ukupnom broju donesenih odluka na koje se može izjaviti pravni lijek iz izvještaja koji ste dostavili za 2022. godinu. Ukoliko je razlika u Ukupnom broju donesenih odluka na koje se može izjaviti pravni lijek u periodu 2022/2023 veća od 20% aktiviraće se kontrolnik i potrebno je da obrazložite uzroke za nastanak te razlike.
A33: 1 Kvalitet rada sudskih odluka se automatski obračunava u skladu sa članom 17. Kriterija za ocjenjivanje rada sudija u BiH. Slijedi tekst za pojašnjenje formule za obračun kvaliteta sudskih odluka: (75% * (Ukupan broj ožalbenih odluka - Broj ukinutih odluka - Broj djelimično ukinutih odluka/2) / Ukupan broj ožalbenih odluka) + (25% * (Broj donesenih odluka na koje se može izjaviti pravni lijek - Broj preinačenih odluka donijetih nakon održane glavne raspave ili pretresa pred drugostepenim sudom - Broj ukinutih odluka - Broj djelimično ukinutih odluka/2) / Broj donesenih odluka na koje se može izjaviti pravni lijek).
A35: NAPOMENA: U Tabelu III se unose podaci o kvalitetu odluka za sve nosilace pravosudne funkcije koji su u toku godine obavljali funkciju u sudu, bez obzira na period obavljanja funkcije u sudu. U Tabelu se unose podaci za sve nosioce pravosudne funkcije: koji su obavljali funkciju u sudu cijelu godinu, koji su imenovani u sud u toku godine, koji su prešli u drugi sud u toku godine (bez obzira na nivo suda), kao i podaci za nosioce pravosudne funkcije koji su prestali obavljati funkciju u sudu zbog odlaska u penziju u 2023. godini ili iz drugih razloga (ostavke, razrješenja), a u 2023. godini su donosili odluke na koje se može izjaviti pravni lijek, i/ili sud je nakon prestanka obavljanja funkcije zaprimio žalbene odluke od strane višeg suda po izjavljenom pravnom lijeku na odluke bivšeg nosioca pravosudne funckije. Na taj način se pravilno obračunava kolektivni kvalitet odluka u sudu.
A41: NAPOMENA: U broj donesenih odluka na koje se može izjaviti pravni lijek (Kolona I) i broj ukinutih odluka (Kolona VII) prilikom računanja procenta ukinutih odluka iz člana 17. stav (1) tačka a) i b) Kriterija za ocjenjivanje rada sudija u BiH neće se uzimati u obračun odluke koje su ukinute u sadržajno nebitnom dijelu odnosno ako je odluka ukinuta ili se smatra ukinutom zbog toga što je instancioni sud nakon donošenja ispitivane odluke izmijenio sudsku praksu, u skladu s stavom (3) navedenog člana Kriterija.

Sheet Tabela IIIa
A1: =+'Tabela I'!A1 -> Okružni privredni sud: | D1: =+'Tabela I'!C1 -> 0
A2: Izvještajni period: | D2: =+'Tabela I'!C2 -> 1.1.2023.-31.12.2023.
A3: Tabela IIIa - Kvalitet sudskih odluka po nosiocima pravosudnih funkcija - Elektronski obrazac za obračun kvaliteta odluka (pogledati NAPOMENU 2 i 3)
A5: Redni broj | B5: Ime i prezime - podatak je automatski prenesen iz Tabele IIa - OBAVEZNO ZADRŽATI REDOSLIJED NPF-a iz Tabele IIa | C5: Pravosudna funkcija | D5: Ocijenjen / Nije ocijenjen u sudu | E5: Ukupan broj donesenih odluka na koje se može izjaviti pravni lijek | F5: Ukupan broj ožalbenih odluka | G5: Broj odbačenih pravnih lijekova*** | H5: Broj potvrđenih odluka | I5: Broj preinačenih odluka | J5: Broj preinačenih odluka donijetih nakon održane glavne rasprave ili pretresa pred drugostepenim sudom | K5: Broj ukinutih odluka | L5: Broj djelimično ukinutih odluka | M5: Kvalitet sudskih odluka prema članu 17. stav 1. tačka a) | N5: Broj ostvarenih bodova za kvalitet prema članu 17. stav 1. tačka a) | O5: Kvalitet sudskih odluka prema članu 17. stav 1. tačka b) | P5: Broj ostvarenih bodova za kvalitet prema članu 17. stav 1. tačka b) | Q5: UKUPAN broj ostvarenih bodova za kvalitet sudskih odluka
H6: Odbijen pravni lijek
A7: I | B7: II | C7: III | D7: IV | E7: V | F7: VI | G7: VII | H7: VIII | I7: IX | J7: X | K7: XI | L7: XII | M7: XIII | N7: XIV | O7: XV | P7: XVI | Q7: XVII
A9: 1 | B9: =IF('Tabela II'!B8="","",'Tabela II'!B8) | C9: Predsjednik suda * | F9: =SUM(H9:L9) -> 0 | M9: =IF(D9="","",IF(D9="Nije ocijenjen ili Ne treba raditi na predmetima","",IF(D9="Ocijenjen",IF(F9<10,"Član 20. stav 7. Kriterija",(K9+(L9/2))/(F9))))) | N9: =IF(D9="","",IF(D9="Nije ocijenjen ili Ne treba raditi na predmetima","",IF(D9="Ocijenjen",IF(M9="Član 20. stav 7. Kriterija","",IF(M9>0.4,0,IF(M9>0.3,4,IF(M9>0.2,8,IF(M9>0.1,12,IF(M9<=0.1,15,))))))))) | O9: =IF(D9="","",IF(D9="Nije ocijenjen ili Ne treba raditi na predmetima","",IF(D9="Ocijenjen",IF(E9=0,"",((K9+J9+(L9/2))/(E9)))))) | P9: =IF(D9="","",IF(D9="Nije ocijenjen ili Ne treba raditi na predmetima","",IF(D9="Ocijenjen",IF(O9>0.2,0,IF(O9>0.15,1,IF(O9>0.1,2,IF(O9>0.06,3,IF(O9>0.03,4,IF(O9<=0.03,5,))))))))) | Q9: =IF(D9="","",IF(D9="Nije ocijenjen ili Ne treba raditi na predmetima","",IF(D9="Ocijenjen",IF(M9="Član 20. stav 7. Kriterija",P9,N9+P9)))) | U9: Ocijenjen
A10: 2 | B10: =IF('Tabela II'!B10="","",'Tabela II'!B10) | F10: =SUM(H10:L10) -> 0 | M10: =IF(D10="","",IF(D10="Nije ocijenjen","",IF(D10="Ocijenjen",IF(F10<10,"Član 17. stav 7. Kriterija",(K10+(L10/2))/(F10))))) | N10: =IF(D10="","",IF(D10="Nije ocijenjen","",IF(D10="Ocijenjen",IF(M10="Član 17. stav 7. Kriterija","",IF(M10>0.4,0,IF(M10>0.3,8,IF(M10>0.2,16,IF(M10>0.1,24,IF(M10<=0.1,30,))))))))) | O10: =IF(D10="","",IF(D10="Nije ocijenjen","",IF(D10="Ocijenjen",IF(E10=0,"",((K10+J10+(L10/2))/(E10)))))) | P10: =IF(D10="","",IF(D10="Nije ocijenjen","",IF(D10="Ocijenjen",IF(O10>0.2,0,IF(O10>0.15,2,IF(O10>0.1,4,IF(O10>0.06,6,IF(O10>0.03,8,IF(O10<=0.03,10,))))))))) | Q10: =IF(D10="","",IF(D10="Nije ocijenjen","",IF(D10="Ocijenjen",IF(M10="Član 17. stav 7. Kriterija",P10,N10+P10)))) | S10: Sudija | U10: Nije ocijenjen
A11: 3 | B11: =IF('Tabela II'!B11="","",'Tabela II'!B11) | F11: =SUM(H11:L11) -> 0 | M11: =IF(D11="","",IF(D11="Nije ocijenjen","",IF(D11="Ocijenjen",IF(F11<10,"Član 17. stav 7. Kriterija",(K11+(L11/2))/(F11))))) | N11: =IF(D11="","",IF(D11="Nije ocijenjen","",IF(D11="Ocijenjen",IF(M11="Član 17. stav 7. Kriterija","",IF(M11>0.4,0,IF(M11>0.3,8,IF(M11>0.2,16,IF(M11>0.1,24,IF(M11<=0.1,30,))))))))) | O11: =IF(D11="","",IF(D11="Nije ocijenjen","",IF(D11="Ocijenjen",IF(E11=0,"",((K11+J11+(L11/2))/(E11)))))) | P11: =IF(D11="","",IF(D11="Nije ocijenjen","",IF(D11="Ocijenjen",IF(O11>0.2,0,IF(O11>0.15,2,IF(O11>0.1,4,IF(O11>0.06,6,IF(O11>0.03,8,IF(O11<=0.03,10,))))))))) | Q11: =IF(D11="","",IF(D11="Nije ocijenjen","",IF(D11="Ocijenjen",IF(M11="Član 17. stav 7. Kriterija",P11,N11+P11)))) | S11: Stručni saradnik
A12: 4 | B12: =IF('Tabela II'!B12="","",'Tabela II'!B12) | F12: =SUM(H12:L12) -> 0 | M12: =IF(D12="","",IF(D12="Nije ocijenjen","",IF(D12="Ocijenjen",IF(F12<10,"Član 17. stav 7. Kriterija",(K12+(L12/2))/(F12))))) | N12: =IF(D12="","",IF(D12="Nije ocijenjen","",IF(D12="Ocijenjen",IF(M12="Član 17. stav 7. Kriterija","",IF(M12>0.4,0,IF(M12>0.3,8,IF(M12>0.2,16,IF(M12>0.1,24,IF(M12<=0.1,30,))))))))) | O12: =IF(D12="","",IF(D12="Nije ocijenjen","",IF(D12="Ocijenjen",IF(E12=0,"",((K12+J12+(L12/2))/(E12)))))) | P12: =IF(D12="","",IF(D12="Nije ocijenjen","",IF(D12="Ocijenjen",IF(O12>0.2,0,IF(O12>0.15,2,IF(O12>0.1,4,IF(O12>0.06,6,IF(O12>0.03,8,IF(O12<=0.03,10,))))))))) | Q12: =IF(D12="","",IF(D12="Nije ocijenjen","",IF(D12="Ocijenjen",IF(M12="Član 17. stav 7. Kriterija",P12,N12+P12)))) | S12: Predsjednik odjela
A13: 5 | B13: =IF('Tabela II'!B13="","",'Tabela II'!B13) | F13: =SUM(H13:L13) -> 0 | M13: =IF(D13="","",IF(D13="Nije ocijenjen","",IF(D13="Ocijenjen",IF(F13<10,"Član 17. stav 7. Kriterija",(K13+(L13/2))/(F13))))) | N13: =IF(D13="","",IF(D13="Nije ocijenjen","",IF(D13="Ocijenjen",IF(M13="Član 17. stav 7. Kriterija","",IF(M13>0.4,0,IF(M13>0.3,8,IF(M13>0.2,16,IF(M13>0.1,24,IF(M13<=0.1,30,))))))))) | O13: =IF(D13="","",IF(D13="Nije ocijenjen","",IF(D13="Ocijenjen",IF(E13=0,"",((K13+J13+(L13/2))/(E13)))))) | P13: =IF(D13="","",IF(D13="Nije ocijenjen","",IF(D13="Ocijenjen",IF(O13>0.2,0,IF(O13>0.15,2,IF(O13>0.1,4,IF(O13>0.06,6,IF(O13>0.03,8,IF(O13<=0.03,10,))))))))) | Q13: =IF(D13="","",IF(D13="Nije ocijenjen","",IF(D13="Ocijenjen",IF(M13="Član 17. stav 7. Kriterija",P13,N13+P13)))) | S13: Predsjednik sudskog vijeća vrhovnog suda entiteta
A14: 6 | B14: =IF('Tabela II'!B14="","",'Tabela II'!B14) | F14: =SUM(H14:L14) -> 0 | M14: =IF(D14="","",IF(D14="Nije ocijenjen","",IF(D14="Ocijenjen",IF(F14<10,"Član 17. stav 7. Kriterija",(K14+(L14/2))/(F14))))) | N14: =IF(D14="","",IF(D14="Nije ocijenjen","",IF(D14="Ocijenjen",IF(M14="Član 17. stav 7. Kriterija","",IF(M14>0.4,0,IF(M14>0.3,8,IF(M14>0.2,16,IF(M14>0.1,24,IF(M14<=0.1,30,))))))))) | O14: =IF(D14="","",IF(D14="Nije ocijenjen","",IF(D14="Ocijenjen",IF(E14=0,"",((K14+J14+(L14/2))/(E14)))))) | P14: =IF(D14="","",IF(D14="Nije ocijenjen","",IF(D14="Ocijenjen",IF(O14>0.2,0,IF(O14>0.15,2,IF(O14>0.1,4,IF(O14>0.06,6,IF(O14>0.03,8,IF(O14<=0.03,10,))))))))) | Q14: =IF(D14="","",IF(D14="Nije ocijenjen","",IF(D14="Ocijenjen",IF(M14="Član 17. stav 7. Kriterija",P14,N14+P14))))
A15: 7 | B15: =IF('Tabela II'!B15="","",'Tabela II'!B15) | F15: =SUM(H15:L15) -> 0 | M15: =IF(D15="","",IF(D15="Nije ocijenjen","",IF(D15="Ocijenjen",IF(F15<10,"Član 17. stav 7. Kriterija",(K15+(L15/2))/(F15))))) | N15: =IF(D15="","",IF(D15="Nije ocijenjen","",IF(D15="Ocijenjen",IF(M15="Član 17. stav 7. Kriterija","",IF(M15>0.4,0,IF(M15>0.3,8,IF(M15>0.2,16,IF(M15>0.1,24,IF(M15<=0.1,30,))))))))) | O15: =IF(D15="","",IF(D15="Nije ocijenjen","",IF(D15="Ocijenjen",IF(E15=0,"",((K15+J15+(L15/2))/(E15)))))) | P15: =IF(D15="","",IF(D15="Nije ocijenjen","",IF(D15="Ocijenjen",IF(O15>0.2,0,IF(O15>0.15,2,IF(O15>0.1,4,IF(O15>0.06,6,IF(O15>0.03,8,IF(O15<=0.03,10,))))))))) | Q15: =IF(D15="","",IF(D15="Nije ocijenjen","",IF(D15="Ocijenjen",IF(M15="Član 17. stav 7. Kriterija",P15,N15+P15))))
A16: 8 | B16: =IF('Tabela II'!B16="","",'Tabela II'!B16) | F16: =SUM(H16:L16) -> 0 | M16: =IF(D16="","",IF(D16="Nije ocijenjen","",IF(D16="Ocijenjen",IF(F16<10,"Član 17. stav 7. Kriterija",(K16+(L16/2))/(F16))))) | N16: =IF(D16="","",IF(D16="Nije ocijenjen","",IF(D16="Ocijenjen",IF(M16="Član 17. stav 7. Kriterija","",IF(M16>0.4,0,IF(M16>0.3,8,IF(M16>0.2,16,IF(M16>0.1,24,IF(M16<=0.1,30,))))))))) | O16: =IF(D16="","",IF(D16="Nije ocijenjen","",IF(D16="Ocijenjen",IF(E16=0,"",((K16+J16+(L16/2))/(E16)))))) | P16: =IF(D16="","",IF(D16="Nije ocijenjen","",IF(D16="Ocijenjen",IF(O16>0.2,0,IF(O16>0.15,2,IF(O16>0.1,4,IF(O16>0.06,6,IF(O16>0.03,8,IF(O16<=0.03,10,))))))))) | Q16: =IF(D16="","",IF(D16="Nije ocijenjen","",IF(D16="Ocijenjen",IF(M16="Član 17. stav 7. Kriterija",P16,N16+P16)))) | U16: Ocijenjen
A17: 9 | B17: =IF('Tabela II'!B17="","",'Tabela II'!B17) | F17: =SUM(H17:L17) -> 0 | M17: =IF(D17="","",IF(D17="Nije ocijenjen","",IF(D17="Ocijenjen",IF(F17<10,"Član 17. stav 7. Kriterija",(K17+(L17/2))/(F17))))) | N17: =IF(D17="","",IF(D17="Nije ocijenjen","",IF(D17="Ocijenjen",IF(M17="Član 17. stav 7. Kriterija","",IF(M17>0.4,0,IF(M17>0.3,8,IF(M17>0.2,16,IF(M17>0.1,24,IF(M17<=0.1,30,))))))))) | O17: =IF(D17="","",IF(D17="Nije ocijenjen","",IF(D17="Ocijenjen",IF(E17=0,"",((K17+J17+(L17/2))/(E17)))))) | P17: =IF(D17="","",IF(D17="Nije ocijenjen","",IF(D17="Ocijenjen",IF(O17>0.2,0,IF(O17>0.15,2,IF(O17>0.1,4,IF(O17>0.06,6,IF(O17>0.03,8,IF(O17<=0.03,10,))))))))) | Q17: =IF(D17="","",IF(D17="Nije ocijenjen","",IF(D17="Ocijenjen",IF(M17="Član 17. stav 7. Kriterija",P17,N17+P17)))) | U17: Nije ocijenjen ili Ne treba raditi na predmetima
A18: 10 | B18: =IF('Tabela II'!B18="","",'Tabela II'!B18) | F18: =SUM(H18:L18) -> 0 | M18: =IF(D18="","",IF(D18="Nije ocijenjen","",IF(D18="Ocijenjen",IF(F18<10,"Član 17. stav 7. Kriterija",(K18+(L18/2))/(F18))))) | N18: =IF(D18="","",IF(D18="Nije ocijenjen","",IF(D18="Ocijenjen",IF(M18="Član 17. stav 7. Kriterija","",IF(M18>0.4,0,IF(M18>0.3,8,IF(M18>0.2,16,IF(M18>0.1,24,IF(M18<=0.1,30,))))))))) | O18: =IF(D18="","",IF(D18="Nije ocijenjen","",IF(D18="Ocijenjen",IF(E18=0,"",((K18+J18+(L18/2))/(E18)))))) | P18: =IF(D18="","",IF(D18="Nije ocijenjen","",IF(D18="Ocijenjen",IF(O18>0.2,0,IF(O18>0.15,2,IF(O18>0.1,4,IF(O18>0.06,6,IF(O18>0.03,8,IF(O18<=0.03,10,))))))))) | Q18: =IF(D18="","",IF(D18="Nije ocijenjen","",IF(D18="Ocijenjen",IF(M18="Član 17. stav 7. Kriterija",P18,N18+P18))))
A19: 11 | B19: =IF('Tabela II'!B19="","",'Tabela II'!B19) | F19: =SUM(H19:L19) -> 0 | M19: =IF(D19="","",IF(D19="Nije ocijenjen","",IF(D19="Ocijenjen",IF(F19<10,"Član 17. stav 7. Kriterija",(K19+(L19/2))/(F19))))) | N19: =IF(D19="","",IF(D19="Nije ocijenjen","",IF(D19="Ocijenjen",IF(M19="Član 17. stav 7. Kriterija","",IF(M19>0.4,0,IF(M19>0.3,8,IF(M19>0.2,16,IF(M19>0.1,24,IF(M19<=0.1,30,))))))))) | O19: =IF(D19="","",IF(D19="Nije ocijenjen","",IF(D19="Ocijenjen",IF(E19=0,"",((K19+J19+(L19/2))/(E19)))))) | P19: =IF(D19="","",IF(D19="Nije ocijenjen","",IF(D19="Ocijenjen",IF(O19>0.2,0,IF(O19>0.15,2,IF(O19>0.1,4,IF(O19>0.06,6,IF(O19>0.03,8,IF(O19<=0.03,10,))))))))) | Q19: =IF(D19="","",IF(D19="Nije ocijenjen","",IF(D19="Ocijenjen",IF(M19="Član 17. stav 7. Kriterija",P19,N19+P19))))
A20: 12 | B20: =IF('Tabela II'!B20="","",'Tabela II'!B20) | F20: =SUM(H20:L20) -> 0 | M20: =IF(D20="","",IF(D20="Nije ocijenjen","",IF(D20="Ocijenjen",IF(F20<10,"Član 17. stav 7. Kriterija",(K20+(L20/2))/(F20))))) | N20: =IF(D20="","",IF(D20="Nije ocijenjen","",IF(D20="Ocijenjen",IF(M20="Član 17. stav 7. Kriterija","",IF(M20>0.4,0,IF(M20>0.3,8,IF(M20>0.2,16,IF(M20>0.1,24,IF(M20<=0.1,30,))))))))) | O20: =IF(D20="","",IF(D20="Nije ocijenjen","",IF(D20="Ocijenjen",IF(E20=0,"",((K20+J20+(L20/2))/(E20)))))) | P20: =IF(D20="","",IF(D20="Nije ocijenjen","",IF(D20="Ocijenjen",IF(O20>0.2,0,IF(O20>0.15,2,IF(O20>0.1,4,IF(O20>0.06,6,IF(O20>0.03,8,IF(O20<=0.03,10,))))))))) | Q20: =IF(D20="","",IF(D20="Nije ocijenjen","",IF(D20="Ocijenjen",IF(M20="Član 17. stav 7. Kriterija",P20,N20+P20))))
A21: 13 | B21: =IF('Tabela II'!B21="","",'Tabela II'!B21) | F21: =SUM(H21:L21) -> 0 | M21: =IF(D21="","",IF(D21="Nije ocijenjen","",IF(D21="Ocijenjen",IF(F21<10,"Član 17. stav 7. Kriterija",(K21+(L21/2))/(F21))))) | N21: =IF(D21="","",IF(D21="Nije ocijenjen","",IF(D21="Ocijenjen",IF(M21="Član 17. stav 7. Kriterija","",IF(M21>0.4,0,IF(M21>0.3,8,IF(M21>0.2,16,IF(M21>0.1,24,IF(M21<=0.1,30,))))))))) | O21: =IF(D21="","",IF(D21="Nije ocijenjen","",IF(D21="Ocijenjen",IF(E21=0,"",((K21+J21+(L21/2))/(E21)))))) | P21: =IF(D21="","",IF(D21="Nije ocijenjen","",IF(D21="Ocijenjen",IF(O21>0.2,0,IF(O21>0.15,2,IF(O21>0.1,4,IF(O21>0.06,6,IF(O21>0.03,8,IF(O21<=0.03,10,))))))))) | Q21: =IF(D21="","",IF(D21="Nije ocijenjen","",IF(D21="Ocijenjen",IF(M21="Član 17. stav 7. Kriterija",P21,N21+P21))))
A22: 14 | B22: =IF('Tabela II'!B22="","",'Tabela II'!B22) | F22: =SUM(H22:L22) -> 0 | M22: =IF(D22="","",IF(D22="Nije ocijenjen","",IF(D22="Ocijenjen",IF(F22<10,"Član 17. stav 7. Kriterija",(K22+(L22/2))/(F22))))) | N22: =IF(D22="","",IF(D22="Nije ocijenjen","",IF(D22="Ocijenjen",IF(M22="Član 17. stav 7. Kriterija","",IF(M22>0.4,0,IF(M22>0.3,8,IF(M22>0.2,16,IF(M22>0.1,24,IF(M22<=0.1,30,))))))))) | O22: =IF(D22="","",IF(D22="Nije ocijenjen","",IF(D22="Ocijenjen",IF(E22=0,"",((K22+J22+(L22/2))/(E22)))))) | P22: =IF(D22="","",IF(D22="Nije ocijenjen","",IF(D22="Ocijenjen",IF(O22>0.2,0,IF(O22>0.15,2,IF(O22>0.1,4,IF(O22>0.06,6,IF(O22>0.03,8,IF(O22<=0.03,10,))))))))) | Q22: =IF(D22="","",IF(D22="Nije ocijenjen","",IF(D22="Ocijenjen",IF(M22="Član 17. stav 7. Kriterija",P22,N22+P22))))
A23: 15 | B23: =IF('Tabela II'!B23="","",'Tabela II'!B23) | F23: =SUM(H23:L23) -> 0 | M23: =IF(D23="","",IF(D23="Nije ocijenjen","",IF(D23="Ocijenjen",IF(F23<10,"Član 17. stav 7. Kriterija",(K23+(L23/2))/(F23))))) | N23: =IF(D23="","",IF(D23="Nije ocijenjen","",IF(D23="Ocijenjen",IF(M23="Član 17. stav 7. Kriterija","",IF(M23>0.4,0,IF(M23>0.3,8,IF(M23>0.2,16,IF(M23>0.1,24,IF(M23<=0.1,30,))))))))) | O23: =IF(D23="","",IF(D23="Nije ocijenjen","",IF(D23="Ocijenjen",IF(E23=0,"",((K23+J23+(L23/2))/(E23)))))) | P23: =IF(D23="","",IF(D23="Nije ocijenjen","",IF(D23="Ocijenjen",IF(O23>0.2,0,IF(O23>0.15,2,IF(O23>0.1,4,IF(O23>0.06,6,IF(O23>0.03,8,IF(O23<=0.03,10,))))))))) | Q23: =IF(D23="","",IF(D23="Nije ocijenjen","",IF(D23="Ocijenjen",IF(M23="Član 17. stav 7. Kriterija",P23,N23+P23))))
A24: 16 | B24: =IF('Tabela II'!B24="","",'Tabela II'!B24) | F24: =SUM(H24:L24) -> 0 | M24: =IF(D24="","",IF(D24="Nije ocijenjen","",IF(D24="Ocijenjen",IF(F24<10,"Član 17. stav 7. Kriterija",(K24+(L24/2))/(F24))))) | N24: =IF(D24="","",IF(D24="Nije ocijenjen","",IF(D24="Ocijenjen",IF(M24="Član 17. stav 7. Kriterija","",IF(M24>0.4,0,IF(M24>0.3,8,IF(M24>0.2,16,IF(M24>0.1,24,IF(M24<=0.1,30,))))))))) | O24: =IF(D24="","",IF(D24="Nije ocijenjen","",IF(D24="Ocijenjen",IF(E24=0,"",((K24+J24+(L24/2))/(E24)))))) | P24: =IF(D24="","",IF(D24="Nije ocijenjen","",IF(D24="Ocijenjen",IF(O24>0.2,0,IF(O24>0.15,2,IF(O24>0.1,4,IF(O24>0.06,6,IF(O24>0.03,8,IF(O24<=0.03,10,))))))))) | Q24: =IF(D24="","",IF(D24="Nije ocijenjen","",IF(D24="Ocijenjen",IF(M24="Član 17. stav 7. Kriterija",P24,N24+P24))))
A25: 17 | B25: =IF('Tabela II'!B25="","",'Tabela II'!B25) | F25: =SUM(H25:L25) -> 0 | M25: =IF(D25="","",IF(D25="Nije ocijenjen","",IF(D25="Ocijenjen",IF(F25<10,"Član 17. stav 7. Kriterija",(K25+(L25/2))/(F25))))) | N25: =IF(D25="","",IF(D25="Nije ocijenjen","",IF(D25="Ocijenjen",IF(M25="Član 17. stav 7. Kriterija","",IF(M25>0.4,0,IF(M25>0.3,8,IF(M25>0.2,16,IF(M25>0.1,24,IF(M25<=0.1,30,))))))))) | O25: =IF(D25="","",IF(D25="Nije ocijenjen","",IF(D25="Ocijenjen",IF(E25=0,"",((K25+J25+(L25/2))/(E25)))))) | P25: =IF(D25="","",IF(D25="Nije ocijenjen","",IF(D25="Ocijenjen",IF(O25>0.2,0,IF(O25>0.15,2,IF(O25>0.1,4,IF(O25>0.06,6,IF(O25>0.03,8,IF(O25<=0.03,10,))))))))) | Q25: =IF(D25="","",IF(D25="Nije ocijenjen","",IF(D25="Ocijenjen",IF(M25="Član 17. stav 7. Kriterija",P25,N25+P25))))
A26: 18 | B26: =IF('Tabela II'!B26="","",'Tabela II'!B26) | F26: =SUM(H26:L26) -> 0 | M26: =IF(D26="","",IF(D26="Nije ocijenjen","",IF(D26="Ocijenjen",IF(F26<10,"Član 17. stav 7. Kriterija",(K26+(L26/2))/(F26))))) | N26: =IF(D26="","",IF(D26="Nije ocijenjen","",IF(D26="Ocijenjen",IF(M26="Član 17. stav 7. Kriterija","",IF(M26>0.4,0,IF(M26>0.3,8,IF(M26>0.2,16,IF(M26>0.1,24,IF(M26<=0.1,30,))))))))) | O26: =IF(D26="","",IF(D26="Nije ocijenjen","",IF(D26="Ocijenjen",IF(E26=0,"",((K26+J26+(L26/2))/(E26)))))) | P26: =IF(D26="","",IF(D26="Nije ocijenjen","",IF(D26="Ocijenjen",IF(O26>0.2,0,IF(O26>0.15,2,IF(O26>0.1,4,IF(O26>0.06,6,IF(O26>0.03,8,IF(O26<=0.03,10,))))))))) | Q26: =IF(D26="","",IF(D26="Nije ocijenjen","",IF(D26="Ocijenjen",IF(M26="Član 17. stav 7. Kriterija",P26,N26+P26))))
A27: 19 | B27: =IF('Tabela II'!B27="","",'Tabela II'!B27) | F27: =SUM(H27:L27) -> 0 | M27: =IF(D27="","",IF(D27="Nije ocijenjen","",IF(D27="Ocijenjen",IF(F27<10,"Član 17. stav 7. Kriterija",(K27+(L27/2))/(F27))))) | N27: =IF(D27="","",IF(D27="Nije ocijenjen","",IF(D27="Ocijenjen",IF(M27="Član 17. stav 7. Kriterija","",IF(M27>0.4,0,IF(M27>0.3,8,IF(M27>0.2,16,IF(M27>0.1,24,IF(M27<=0.1,30,))))))))) | O27: =IF(D27="","",IF(D27="Nije ocijenjen","",IF(D27="Ocijenjen",IF(E27=0,"",((K27+J27+(L27/2))/(E27)))))) | P27: =IF(D27="","",IF(D27="Nije ocijenjen","",IF(D27="Ocijenjen",IF(O27>0.2,0,IF(O27>0.15,2,IF(O27>0.1,4,IF(O27>0.06,6,IF(O27>0.03,8,IF(O27<=0.03,10,))))))))) | Q27: =IF(D27="","",IF(D27="Nije ocijenjen","",IF(D27="Ocijenjen",IF(M27="Član 17. stav 7. Kriterija",P27,N27+P27))))
A28: 20 | B28: =IF('Tabela II'!B28="","",'Tabela II'!B28) | F28: =SUM(H28:L28) -> 0 | M28: =IF(D28="","",IF(D28="Nije ocijenjen","",IF(D28="Ocijenjen",IF(F28<10,"Član 17. stav 7. Kriterija",(K28+(L28/2))/(F28))))) | N28: =IF(D28="","",IF(D28="Nije ocijenjen","",IF(D28="Ocijenjen",IF(M28="Član 17. stav 7. Kriterija","",IF(M28>0.4,0,IF(M28>0.3,8,IF(M28>0.2,16,IF(M28>0.1,24,IF(M28<=0.1,30,))))))))) | O28: =IF(D28="","",IF(D28="Nije ocijenjen","",IF(D28="Ocijenjen",IF(E28=0,"",((K28+J28+(L28/2))/(E28)))))) | P28: =IF(D28="","",IF(D28="Nije ocijenjen","",IF(D28="Ocijenjen",IF(O28>0.2,0,IF(O28>0.15,2,IF(O28>0.1,4,IF(O28>0.06,6,IF(O28>0.03,8,IF(O28<=0.03,10,))))))))) | Q28: =IF(D28="","",IF(D28="Nije ocijenjen","",IF(D28="Ocijenjen",IF(M28="Član 17. stav 7. Kriterija",P28,N28+P28))))
A29: 21 | B29: =IF('Tabela II'!B29="","",'Tabela II'!B29) | F29: =SUM(H29:L29) -> 0 | M29: =IF(D29="","",IF(D29="Nije ocijenjen","",IF(D29="Ocijenjen",IF(F29<10,"Član 17. stav 7. Kriterija",(K29+(L29/2))/(F29))))) | N29: =IF(D29="","",IF(D29="Nije ocijenjen","",IF(D29="Ocijenjen",IF(M29="Član 17. stav 7. Kriterija","",IF(M29>0.4,0,IF(M29>0.3,8,IF(M29>0.2,16,IF(M29>0.1,24,IF(M29<=0.1,30,))))))))) | O29: =IF(D29="","",IF(D29="Nije ocijenjen","",IF(D29="Ocijenjen",IF(E29=0,"",((K29+J29+(L29/2))/(E29)))))) | P29: =IF(D29="","",IF(D29="Nije ocijenjen","",IF(D29="Ocijenjen",IF(O29>0.2,0,IF(O29>0.15,2,IF(O29>0.1,4,IF(O29>0.06,6,IF(O29>0.03,8,IF(O29<=0.03,10,))))))))) | Q29: =IF(D29="","",IF(D29="Nije ocijenjen","",IF(D29="Ocijenjen",IF(M29="Član 17. stav 7. Kriterija",P29,N29+P29))))
... A68: 60 | B68: =IF('Tabela II'!B68="","",'Tabela II'!B68) | F68: =SUM(H68:L68) -> 0 | M68: =IF(D68="","",IF(D68="Nije ocijenjen","",IF(D68="Ocijenjen",IF(F68<10,"Član 17. stav 7. Kriterija",(K68+(L68/2))/(F68))))) | N68: =IF(D68="","",IF(D68="Nije ocijenjen","",IF(D68="Ocijenjen",IF(M68="Član 17. stav 7. Kriterija","",IF(M68>0.4,0,IF(M68>0.3,8,IF(M68>0.2,16,IF(M68>0.1,24,IF(M68<=0.1,30,))))))))) | O68: =IF(D68="","",IF(D68="Nije ocijenjen","",IF(D68="Ocijenjen",IF(E68=0,"",((K68+J68+(L68/2))/(E68)))))) | P68: =IF(D68="","",IF(D68="Nije ocijenjen","",IF(D68="Ocijenjen",IF(O68>0.2,0,IF(O68>0.15,2,IF(O68>0.1,4,IF(O68>0.06,6,IF(O68>0.03,8,IF(O68<=0.03,10,))))))))) | Q68: =IF(D68="","",IF(D68="Nije ocijenjen","",IF(D68="Ocijenjen",IF(M68="Član 17. stav 7. Kriterija",P68,N68+P68))))
A69: 61 | F69: =SUM(H69:L69) -> 0 | M69: =IF(D69="","",IF(D69="Nije ocijenjen","",IF(D69="Ocijenjen",IF(F69<10,"Član 17. stav 7. Kriterija",(K69+(L69/2))/(F69))))) | N69: =IF(D69="","",IF(D69="Nije ocijenjen","",IF(D69="Ocijenjen",IF(M69="Član 17. stav 7. Kriterija","",IF(M69>0.4,0,IF(M69>0.3,8,IF(M69>0.2,16,IF(M69>0.1,24,IF(M69<=0.1,30,))))))))) | O69: =IF(D69="","",IF(D69="Nije ocijenjen","",IF(D69="Ocijenjen",IF(E69=0,"",((K69+J69+(L69/2))/(E69)))))) | P69: =IF(D69="","",IF(D69="Nije ocijenjen","",IF(D69="Ocijenjen",IF(O69>0.2,0,IF(O69>0.15,2,IF(O69>0.1,4,IF(O69>0.06,6,IF(O69>0.03,8,IF(O69<=0.03,10,))))))))) | Q69: =IF(D69="","",IF(D69="Nije ocijenjen","",IF(D69="Ocijenjen",IF(M69="Član 17. stav 7. Kriterija",P69,N69+P69))))
A70: 62 | F70: =SUM(H70:L70) -> 0 | M70: =IF(D70="","",IF(D70="Nije ocijenjen","",IF(D70="Ocijenjen",IF(F70<10,"Član 17. stav 7. Kriterija",(K70+(L70/2))/(F70))))) | N70: =IF(D70="","",IF(D70="Nije ocijenjen","",IF(D70="Ocijenjen",IF(M70="Član 17. stav 7. Kriterija","",IF(M70>0.4,0,IF(M70>0.3,8,IF(M70>0.2,16,IF(M70>0.1,24,IF(M70<=0.1,30,))))))))) | O70: =IF(D70="","",IF(D70="Nije ocijenjen","",IF(D70="Ocijenjen",IF(E70=0,"",((K70+J70+(L70/2))/(E70)))))) | P70: =IF(D70="","",IF(D70="Nije ocijenjen","",IF(D70="Ocijenjen",IF(O70>0.2,0,IF(O70>0.15,2,IF(O70>0.1,4,IF(O70>0.06,6,IF(O70>0.03,8,IF(O70<=0.03,10,))))))))) | Q70: =IF(D70="","",IF(D70="Nije ocijenjen","",IF(D70="Ocijenjen",IF(M70="Član 17. stav 7. Kriterija",P70,N70+P70))))
A71: 63 | F71: =SUM(H71:L71) -> 0 | M71: =IF(D71="","",IF(D71="Nije ocijenjen","",IF(D71="Ocijenjen",IF(F71<10,"Član 17. stav 7. Kriterija",(K71+(L71/2))/(F71))))) | N71: =IF(D71="","",IF(D71="Nije ocijenjen","",IF(D71="Ocijenjen",IF(M71="Član 17. stav 7. Kriterija","",IF(M71>0.4,0,IF(M71>0.3,8,IF(M71>0.2,16,IF(M71>0.1,24,IF(M71<=0.1,30,))))))))) | O71: =IF(D71="","",IF(D71="Nije ocijenjen","",IF(D71="Ocijenjen",IF(E71=0,"",((K71+J71+(L71/2))/(E71)))))) | P71: =IF(D71="","",IF(D71="Nije ocijenjen","",IF(D71="Ocijenjen",IF(O71>0.2,0,IF(O71>0.15,2,IF(O71>0.1,4,IF(O71>0.06,6,IF(O71>0.03,8,IF(O71<=0.03,10,))))))))) | Q71: =IF(D71="","",IF(D71="Nije ocijenjen","",IF(D71="Ocijenjen",IF(M71="Član 17. stav 7. Kriterija",P71,N71+P71))))
A72: 64 | F72: =SUM(H72:L72) -> 0 | M72: =IF(D72="","",IF(D72="Nije ocijenjen","",IF(D72="Ocijenjen",IF(F72<10,"Član 17. stav 7. Kriterija",(K72+(L72/2))/(F72))))) | N72: =IF(D72="","",IF(D72="Nije ocijenjen","",IF(D72="Ocijenjen",IF(M72="Član 17. stav 7. Kriterija","",IF(M72>0.4,0,IF(M72>0.3,8,IF(M72>0.2,16,IF(M72>0.1,24,IF(M72<=0.1,30,))))))))) | O72: =IF(D72="","",IF(D72="Nije ocijenjen","",IF(D72="Ocijenjen",IF(E72=0,"",((K72+J72+(L72/2))/(E72)))))) | P72: =IF(D72="","",IF(D72="Nije ocijenjen","",IF(D72="Ocijenjen",IF(O72>0.2,0,IF(O72>0.15,2,IF(O72>0.1,4,IF(O72>0.06,6,IF(O72>0.03,8,IF(O72<=0.03,10,))))))))) | Q72: =IF(D72="","",IF(D72="Nije ocijenjen","",IF(D72="Ocijenjen",IF(M72="Član 17. stav 7. Kriterija",P72,N72+P72))))
A73: 65 | F73: =SUM(H73:L73) -> 0 | M73: =IF(D73="","",IF(D73="Nije ocijenjen","",IF(D73="Ocijenjen",IF(F73<10,"Član 17. stav 7. Kriterija",(K73+(L73/2))/(F73))))) | N73: =IF(D73="","",IF(D73="Nije ocijenjen","",IF(D73="Ocijenjen",IF(M73="Član 17. stav 7. Kriterija","",IF(M73>0.4,0,IF(M73>0.3,8,IF(M73>0.2,16,IF(M73>0.1,24,IF(M73<=0.1,30,))))))))) | O73: =IF(D73="","",IF(D73="Nije ocijenjen","",IF(D73="Ocijenjen",IF(E73=0,"",((K73+J73+(L73/2))/(E73)))))) | P73: =IF(D73="","",IF(D73="Nije ocijenjen","",IF(D73="Ocijenjen",IF(O73>0.2,0,IF(O73>0.15,2,IF(O73>0.1,4,IF(O73>0.06,6,IF(O73>0.03,8,IF(O73<=0.03,10,))))))))) | Q73: =IF(D73="","",IF(D73="Nije ocijenjen","",IF(D73="Ocijenjen",IF(M73="Član 17. stav 7. Kriterija",P73,N73+P73))))
A75: KVALITET SUDSKIH ODLUKA ** | E75: =SUM(E9:E73) -> 0 | F75: =SUM(F9:F73) -> 0 | G75: =SUM(G9:G73) -> 0 | H75: =SUM(H9:H73) -> 0 | I75: =SUM(I9:I73) -> 0 | J75: =SUM(J9:J73) -> 0 | K75: =SUM(K9:K73) -> 0 | L75: =SUM(L9:L73) -> 0 | M75: =IF(F75=0,"",0.75*((F75-K75-(L75/2))/F75)+0.25*((E75-J75-K75-(L75/2))/E75))
A78: Tabela IIIb - Obračun individualnog kvaliteta odluka za proces ocjenjivanja nosilaca pravosudnih funkcija koji su u periodu ocjenjivanja radili u dva suda (pogledati NAPOMENU 2)
A80: Upisati naziv Suda 1
A81: 1 | B81: Ime i prezime | C81: Predsjednik suda | F81: =SUM(H81:L81) -> 0
A82: Upisati naziv Suda 2
A83: =+A81 -> 1 | B83: =+B81 -> Ime i prezime | F83: =SUM(H83:L83) -> 0
A84: Individualni kvalitet NPF-a koji je radio u dva suda u toku perioda ocjenjivanja
A85: =+A81 -> 1 | B85: =+B81 -> Ime i prezime | C85: Predsjednik suda | E85: =+E81+E83 -> 0 | F85: =SUM(H85:L85) -> 0 | G85: =+G81+G83 -> 0 | H85: =+H81+H83 -> 0 | I85: =+I81+I83 -> 0 | J85: =+J81+J83 -> 0 | K85: =+K81+K83 -> 0 | L85: =+L81+L83 -> 0 | M85: =IF(D85="","",IF(D85="Nije ocijenjen ili Ne treba raditi na predmetima","",IF(D85="Ocijenjen",IF(F85<10,"Član 20. stav 7. Kriterija",(K85+(L85/2))/(F85))))) | N85: =IF(D85="","",IF(D85="Nije ocijenjen ili Ne treba raditi na predmetima","",IF(D85="Ocijenjen",IF(M85="Član 20. stav 7. Kriterija","",IF(M85>0.4,0,IF(M85>0.3,4,IF(M85>0.2,8,IF(M85>0.1,12,IF(M85<=0.1,15,))))))))) | O85: =IF(D85="","",IF(D85="Nije ocijenjen ili Ne treba raditi na predmetima","",IF(D85="Ocijenjen",IF(E85=0,"",((K85+J85+(L85/2))/(E85)))))) | P85: =IF(D85="","",IF(D85="Nije ocijenjen ili Ne treba raditi na predmetima","",IF(D85="Ocijenjen",IF(O85>0.2,0,IF(O85>0.15,1,IF(O85>0.1,2,IF(O85>0.06,3,IF(O85>0.03,4,IF(O85<=0.03,5,))))))))) | Q85: =IF(D85="","",IF(D85="Nije ocijenjen ili Ne treba raditi na predmetima","",IF(D85="Ocijenjen",IF(M85="Član 20. stav 7. Kriterija",P85,N85+P85))))
A87: Upisati naziv Suda 1
A88: 2 | B88: Ime i prezime | F88: =SUM(H88:L88) -> 0
A89: Upisati naziv Suda 2
A90: =+A88 -> 2 | B90: =+B88 -> Ime i prezime | F90: =SUM(H90:L90) -> 0
A91: Individualni kvalitet NPF-a koji je radio u dva suda u toku perioda ocjenjivanja
A92: =+A88 -> 2 | B92: =+B88 -> Ime i prezime | E92: =+E88+E90 -> 0 | F92: =SUM(H92:L92) -> 0 | G92: =+G88+G90 -> 0 | H92: =+H88+H90 -> 0 | I92: =+I88+I90 -> 0 | J92: =+J88+J90 -> 0 | K92: =+K88+K90 -> 0 | L92: =+L88+L90 -> 0 | M92: =IF(D92="","",IF(D92="Nije ocijenjen","",IF(D92="Ocijenjen",IF(F92<10,"Član 17. stav 7. Kriterija",(K92+(L92/2))/(F92))))) | N92: =IF(D92="","",IF(D92="Nije ocijenjen","",IF(D92="Ocijenjen",IF(M92="Član 17. stav 7. Kriterija","",IF(M92>0.4,0,IF(M92>0.3,8,IF(M92>0.2,16,IF(M92>0.1,24,IF(M92<=0.1,30,))))))))) | O92: =IF(D92="","",IF(D92="Nije ocijenjen","",IF(D92="Ocijenjen",IF(E92=0,"",((K92+J92+(L92/2))/(E92)))))) | P92: =IF(D92="","",IF(D92="Nije ocijenjen","",IF(D92="Ocijenjen",IF(O92>0.2,0,IF(O92>0.15,2,IF(O92>0.1,4,IF(O92>0.06,6,IF(O92>0.03,8,IF(O92<=0.03,10,))))))))) | Q92: =IF(D92="","",IF(D92="Nije ocijenjen","",IF(D92="Ocijenjen",IF(M92="Član 17. stav 7. Kriterija",P92,N92+P92))))
A94: Upisati naziv Suda 1
A95: 3 | B95: Ime i prezime | F95: =SUM(H95:L95) -> 0
A96: Upisati naziv Suda 2
A97: =+A95 -> 3 | B97: =+B95 -> Ime i prezime | F97: =SUM(H97:L97) -> 0
A98: Individualni kvalitet NPF-a koji je radio u dva suda u toku perioda ocjenjivanja
A99: =+A95 -> 3 | B99: =+B95 -> Ime i prezime | E99: =+E95+E97 -> 0 | F99: =SUM(H99:L99) -> 0 | G99: =+G95+G97 -> 0 | H99: =+H95+H97 -> 0 | I99: =+I95+I97 -> 0 | J99: =+J95+J97 -> 0 | K99: =+K95+K97 -> 0 | L99: =+L95+L97 -> 0 | M99: =IF(D99="","",IF(D99="Nije ocijenjen","",IF(D99="Ocijenjen",IF(F99<10,"Član 17. stav 7. Kriterija",(K99+(L99/2))/(F99))))) | N99: =IF(D99="","",IF(D99="Nije ocijenjen","",IF(D99="Ocijenjen",IF(M99="Član 17. stav 7. Kriterija","",IF(M99>0.4,0,IF(M99>0.3,8,IF(M99>0.2,16,IF(M99>0.1,24,IF(M99<=0.1,30,))))))))) | O99: =IF(D99="","",IF(D99="Nije ocijenjen","",IF(D99="Ocijenjen",IF(E99=0,"",((K99+J99+(L99/2))/(E99)))))) | P99: =IF(D99="","",IF(D99="Nije ocijenjen","",IF(D99="Ocijenjen",IF(O99>0.2,0,IF(O99>0.15,2,IF(O99>0.1,4,IF(O99>0.06,6,IF(O99>0.03,8,IF(O99<=0.03,10,))))))))) | Q99: =IF(D99="","",IF(D99="Nije ocijenjen","",IF(D99="Ocijenjen",IF(M99="Član 17. stav 7. Kriterija",P99,N99+P99))))
A101: Upisati naziv Suda 1
A102: 4 | B102: Ime i prezime | F102: =SUM(H102:L102) -> 0
A103: Upisati naziv Suda 2
A104: =+A102 -> 4 | B104: =+B102 -> Ime i prezime | F104: =SUM(H104:L104) -> 0
A105: Individualni kvalitet NPF-a koji je radio u dva suda u toku perioda ocjenjivanja
A106: =+A102 -> 4 | B106: =+B102 -> Ime i prezime | E106: =+E102+E104 -> 0 | F106: =SUM(H106:L106) -> 0 | G106: =+G102+G104 -> 0 | H106: =+H102+H104 -> 0 | I106: =+I102+I104 -> 0 | J106: =+J102+J104 -> 0 | K106: =+K102+K104 -> 0 | L106: =+L102+L104 -> 0 | M106: =IF(D106="","",IF(D106="Nije ocijenjen","",IF(D106="Ocijenjen",IF(F106<10,"Član 17. stav 7. Kriterija",(K106+(L106/2))/(F106))))) | N106: =IF(D106="","",IF(D106="Nije ocijenjen","",IF(D106="Ocijenjen",IF(M106="Član 17. stav 7. Kriterija","",IF(M106>0.4,0,IF(M106>0.3,8,IF(M106>0.2,16,IF(M106>0.1,24,IF(M106<=0.1,30,))))))))) | O106: =IF(D106="","",IF(D106="Nije ocijenjen","",IF(D106="Ocijenjen",IF(E106=0,"",((K106+J106+(L106/2))/(E106)))))) | P106: =IF(D106="","",IF(D106="Nije ocijenjen","",IF(D106="Ocijenjen",IF(O106>0.2,0,IF(O106>0.15,2,IF(O106>0.1,4,IF(O106>0.06,6,IF(O106>0.03,8,IF(O106<=0.03,10,))))))))) | Q106: =IF(D106="","",IF(D106="Nije ocijenjen","",IF(D106="Ocijenjen",IF(M106="Član 17. stav 7. Kriterija",P106,N106+P106))))
A108: Upisati naziv Suda 1
A109: 5 | B109: Ime i prezime | F109: =SUM(H109:L109) -> 0
A110: Upisati naziv Suda 2
A111: =+A109 -> 5 | B111: =+B109 -> Ime i prezime | F111: =SUM(H111:L111) -> 0
A112: Individualni kvalitet NPF-a koji je radio u dva suda u toku perioda ocjenjivanja
A113: =+A109 -> 5 | B113: =+B109 -> Ime i prezime | E113: =+E109+E111 -> 0 | F113: =SUM(H113:L113) -> 0 | G113: =+G109+G111 -> 0 | H113: =+H109+H111 -> 0 | I113: =+I109+I111 -> 0 | J113: =+J109+J111 -> 0 | K113: =+K109+K111 -> 0 | L113: =+L109+L111 -> 0 | M113: =IF(D113="","",IF(D113="Nije ocijenjen","",IF(D113="Ocijenjen",IF(F113<10,"Član 17. stav 7. Kriterija",(K113+(L113/2))/(F113))))) | N113: =IF(D113="","",IF(D113="Nije ocijenjen","",IF(D113="Ocijenjen",IF(M113="Član 17. stav 7. Kriterija","",IF(M113>0.4,0,IF(M113>0.3,8,IF(M113>0.2,16,IF(M113>0.1,24,IF(M113<=0.1,30,))))))))) | O113: =IF(D113="","",IF(D113="Nije ocijenjen","",IF(D113="Ocijenjen",IF(E113=0,"",((K113+J113+(L113/2))/(E113)))))) | P113: =IF(D113="","",IF(D113="Nije ocijenjen","",IF(D113="Ocijenjen",IF(O113>0.2,0,IF(O113>0.15,2,IF(O113>0.1,4,IF(O113>0.06,6,IF(O113>0.03,8,IF(O113<=0.03,10,))))))))) | Q113: =IF(D113="","",IF(D113="Nije ocijenjen","",IF(D113="Ocijenjen",IF(M113="Član 17. stav 7. Kriterija",P113,N113+P113))))
A115: Upisati naziv Suda 1
A116: 6 | B116: Ime i prezime | F116: =SUM(H116:L116) -> 0
A117: Upisati naziv Suda 2
A118: =+A116 -> 6 | B118: =+B116 -> Ime i prezime | F118: =SUM(H118:L118) -> 0
A119: Individualni kvalitet NPF-a koji je radio u dva suda u toku perioda ocjenjivanja
A120: =+A116 -> 6 | B120: =+B116 -> Ime i prezime | E120: =+E116+E118 -> 0 | F120: =SUM(H120:L120) -> 0 | G120: =+G116+G118 -> 0 | H120: =+H116+H118 -> 0 | I120: =+I116+I118 -> 0 | J120: =+J116+J118 -> 0 | K120: =+K116+K118 -> 0 | L120: =+L116+L118 -> 0 | M120: =IF(D120="","",IF(D120="Nije ocijenjen","",IF(D120="Ocijenjen",IF(F120<10,"Član 17. stav 7. Kriterija",(K120+(L120/2))/(F120))))) | N120: =IF(D120="","",IF(D120="Nije ocijenjen","",IF(D120="Ocijenjen",IF(M120="Član 17. stav 7. Kriterija","",IF(M120>0.4,0,IF(M120>0.3,8,IF(M120>0.2,16,IF(M120>0.1,24,IF(M120<=0.1,30,))))))))) | O120: =IF(D120="","",IF(D120="Nije ocijenjen","",IF(D120="Ocijenjen",IF(E120=0,"",((K120+J120+(L120/2))/(E120)))))) | P120: =IF(D120="","",IF(D120="Nije ocijenjen","",IF(D120="Ocijenjen",IF(O120>0.2,0,IF(O120>0.15,2,IF(O120>0.1,4,IF(O120>0.06,6,IF(O120>0.03,8,IF(O120<=0.03,10,))))))))) | Q120: =IF(D120="","",IF(D120="Nije ocijenjen","",IF(D120="Ocijenjen",IF(M120="Član 17. stav 7. Kriterija",P120,N120+P120))))
A122: Upisati naziv Suda 1
A123: 7 | B123: Ime i prezime | F123: =SUM(H123:L123) -> 0
A124: Upisati naziv Suda 2
A125: =+A123 -> 7 | B125: =+B123 -> Ime i prezime | F125: =SUM(H125:L125) -> 0
A126: Individualni kvalitet NPF-a koji je radio u dva suda u toku perioda ocjenjivanja
A127: =+A123 -> 7 | B127: =+B123 -> Ime i prezime | E127: =+E123+E125 -> 0 | F127: =SUM(H127:L127) -> 0 | G127: =+G123+G125 -> 0 | H127: =+H123+H125 -> 0 | I127: =+I123+I125 -> 0 | J127: =+J123+J125 -> 0 | K127: =+K123+K125 -> 0 | L127: =+L123+L125 -> 0 | M127: =IF(D127="","",IF(D127="Nije ocijenjen","",IF(D127="Ocijenjen",IF(F127<10,"Član 17. stav 7. Kriterija",(K127+(L127/2))/(F127))))) | N127: =IF(D127="","",IF(D127="Nije ocijenjen","",IF(D127="Ocijenjen",IF(M127="Član 17. stav 7. Kriterija","",IF(M127>0.4,0,IF(M127>0.3,8,IF(M127>0.2,16,IF(M127>0.1,24,IF(M127<=0.1,30,))))))))) | O127: =IF(D127="","",IF(D127="Nije ocijenjen","",IF(D127="Ocijenjen",IF(E127=0,"",((K127+J127+(L127/2))/(E127)))))) | P127: =IF(D127="","",IF(D127="Nije ocijenjen","",IF(D127="Ocijenjen",IF(O127>0.2,0,IF(O127>0.15,2,IF(O127>0.1,4,IF(O127>0.06,6,IF(O127>0.03,8,IF(O127<=0.03,10,))))))))) | Q127: =IF(D127="","",IF(D127="Nije ocijenjen","",IF(D127="Ocijenjen",IF(M127="Član 17. stav 7. Kriterija",P127,N127+P127))))
A129: Upisati naziv Suda 1
A130: 8 | B130: Ime i prezime | F130: =SUM(H130:L130) -> 0
A131: Upisati naziv Suda 2
A132: =+A130 -> 8 | B132: =+B130 -> Ime i prezime | F132: =SUM(H132:L132) -> 0
A133: Individualni kvalitet NPF-a koji je radio u dva suda u toku perioda ocjenjivanja
A134: =+A130 -> 8 | B134: =+B130 -> Ime i prezime | E134: =+E130+E132 -> 0 | F134: =SUM(H134:L134) -> 0 | G134: =+G130+G132 -> 0 | H134: =+H130+H132 -> 0 | I134: =+I130+I132 -> 0 | J134: =+J130+J132 -> 0 | K134: =+K130+K132 -> 0 | L134: =+L130+L132 -> 0 | M134: =IF(D134="","",IF(D134="Nije ocijenjen","",IF(D134="Ocijenjen",IF(F134<10,"Član 17. stav 7. Kriterija",(K134+(L134/2))/(F134))))) | N134: =IF(D134="","",IF(D134="Nije ocijenjen","",IF(D134="Ocijenjen",IF(M134="Član 17. stav 7. Kriterija","",IF(M134>0.4,0,IF(M134>0.3,8,IF(M134>0.2,16,IF(M134>0.1,24,IF(M134<=0.1,30,))))))))) | O134: =IF(D134="","",IF(D134="Nije ocijenjen","",IF(D134="Ocijenjen",IF(E134=0,"",((K134+J134+(L134/2))/(E134)))))) | P134: =IF(D134="","",IF(D134="Nije ocijenjen","",IF(D134="Ocijenjen",IF(O134>0.2,0,IF(O134>0.15,2,IF(O134>0.1,4,IF(O134>0.06,6,IF(O134>0.03,8,IF(O134<=0.03,10,))))))))) | Q134: =IF(D134="","",IF(D134="Nije ocijenjen","",IF(D134="Ocijenjen",IF(M134="Član 17. stav 7. Kriterija",P134,N134+P134))))
A136: Upisati naziv Suda 1
A137: 9 | B137: Ime i prezime | F137: =SUM(H137:L137) -> 0
A138: Upisati naziv Suda 2
A139: =+A137 -> 9 | B139: =+B137 -> Ime i prezime | F139: =SUM(H139:L139) -> 0
A140: Individualni kvalitet NPF-a koji je radio u dva suda u toku perioda ocjenjivanja
A141: =+A137 -> 9 | B141: =+B137 -> Ime i prezime | E141: =+E137+E139 -> 0 | F141: =SUM(H141:L141) -> 0 | G141: =+G137+G139 -> 0 | H141: =+H137+H139 -> 0 | I141: =+I137+I139 -> 0 | J141: =+J137+J139 -> 0 | K141: =+K137+K139 -> 0 | L141: =+L137+L139 -> 0 | M141: =IF(D141="","",IF(D141="Nije ocijenjen","",IF(D141="Ocijenjen",IF(F141<10,"Član 17. stav 7. Kriterija",(K141+(L141/2))/(F141))))) | N141: =IF(D141="","",IF(D141="Nije ocijenjen","",IF(D141="Ocijenjen",IF(M141="Član 17. stav 7. Kriterija","",IF(M141>0.4,0,IF(M141>0.3,8,IF(M141>0.2,16,IF(M141>0.1,24,IF(M141<=0.1,30,))))))))) | O141: =IF(D141="","",IF(D141="Nije ocijenjen","",IF(D141="Ocijenjen",IF(E141=0,"",((K141+J141+(L141/2))/(E141)))))) | P141: =IF(D141="","",IF(D141="Nije ocijenjen","",IF(D141="Ocijenjen",IF(O141>0.2,0,IF(O141>0.15,2,IF(O141>0.1,4,IF(O141>0.06,6,IF(O141>0.03,8,IF(O141<=0.03,10,))))))))) | Q141: =IF(D141="","",IF(D141="Nije ocijenjen","",IF(D141="Ocijenjen",IF(M141="Član 17. stav 7. Kriterija",P141,N141+P141))))
A143: Upisati naziv Suda 1
A144: 10 | B144: Ime i prezime | F144: =SUM(H144:L144) -> 0
A145: Upisati naziv Suda 2
A146: =+A144 -> 10 | B146: =+B144 -> Ime i prezime | F146: =SUM(H146:L146) -> 0
A147: Individualni kvalitet NPF-a koji je radio u dva suda u toku perioda ocjenjivanja
A148: =+A144 -> 10 | B148: =+B144 -> Ime i prezime | E148: =+E144+E146 -> 0 | F148: =SUM(H148:L148) -> 0 | G148: =+G144+G146 -> 0 | H148: =+H144+H146 -> 0 | I148: =+I144+I146 -> 0 | J148: =+J144+J146 -> 0 | K148: =+K144+K146 -> 0 | L148: =+L144+L146 -> 0 | M148: =IF(D148="","",IF(D148="Nije ocijenjen","",IF(D148="Ocijenjen",IF(F148<10,"Član 17. stav 7. Kriterija",(K148+(L148/2))/(F148))))) | N148: =IF(D148="","",IF(D148="Nije ocijenjen","",IF(D148="Ocijenjen",IF(M148="Član 17. stav 7. Kriterija","",IF(M148>0.4,0,IF(M148>0.3,8,IF(M148>0.2,16,IF(M148>0.1,24,IF(M148<=0.1,30,))))))))) | O148: =IF(D148="","",IF(D148="Nije ocijenjen","",IF(D148="Ocijenjen",IF(E148=0,"",((K148+J148+(L148/2))/(E148)))))) | P148: =IF(D148="","",IF(D148="Nije ocijenjen","",IF(D148="Ocijenjen",IF(O148>0.2,0,IF(O148>0.15,2,IF(O148>0.1,4,IF(O148>0.06,6,IF(O148>0.03,8,IF(O148<=0.03,10,))))))))) | Q148: =IF(D148="","",IF(D148="Nije ocijenjen","",IF(D148="Ocijenjen",IF(M148="Član 17. stav 7. Kriterija",P148,N148+P148))))
A151: * Ukoliko predsjednik suda nije obavezan neposredno raditi na predmetima, u skladu sa članom 14. Pravilnika o orijentacionim mjerilima za rad sudija i stručnih saradnika u sudovima u BiH, podaci za predsjednika suda se unose u tabelu radi obračuna kolektivnog kvaliteta odluka suda.
A153: ** Kvalitet rada sudskih odluka se automatski obračunava u skladu sa članom 17. Kriterija za ocjenjivanje rada sudija u BiH. Slijedi tekst za pojašnjenje formule za obračun kvaliteta sudskih odluka: (75% * (Ukupan broj ožalbenih odluka - Broj ukinutih odluka - Broj djelimično ukinutih odluka/2) / Ukupan broj ožalbenih odluka) + (25% * (Broj donesenih odluka na koje se može izjaviti pravni lijek - Broj preinačenih odluka donijetih nakon održane glavne raspave ili pretresa pred drugostepenim sudom - Broj ukinutih odluka - Broj djelimično ukinutih odluka/2) / Broj donesenih odluka na koje se može izjaviti pravni lijek).
A157: *** Statistički podaci o broju odbačenih pravnih lijekova prikupljaju se isključivo u svrhu statističkog izvještavanja o radu sudova.
A159: NAPOMENA 1: Kvalitet odluka predsjednika suda i sudija u Tabeli IIIa i IIIb automatski se obračunava u skladu sa odredbama člana 17. Kriterija za ocjenjivanje rada sudija u Bosni i Hercegovini i člana 20. Kriterija za ocjenjivanje rada predsjednika sudova u Bosni i Hercegovini.
A161: NAPOMENA 2: U Tabelu IIIa se unose podaci o kvalitetu odluka za sve nosioce pravosudne funkcije koji su u toku godine obavljali funkciju u sudu. Ukoliko je nosilac pravosudne funkcije u toku godine prvi put imenovan u sud, ili je obavljao funkciju u dva suda (bez obzira na nivo suda), ili je napustio pravosuđe u Tabelu IIIa se unose podaci koje je nosilac pravosudne funkcije ostvario u sudu koji popunjava Tabelu IIIa. Tabelu IIIb popunjava sud koje provodi postupak ocjenjivanja rezultata rada nosioca pravosudne funkcije koji je tokom godine obavljao funkciju u dva suda (bez obzira na nivo suda). Podaci o ostvarenom individualnom kvalitetu odluka nosilaca pravosudne funkcije se unose pojedinačno za svaki sud u kojem je nosilac pravosudne funkcije obavljao funkciju. U obrazac za ocjenjivanje rada unosi se podatak o procentu ostvarenog kvaliteta odluka i broju ostvarenih bodova iz Tabele IIIb.
...

Sheet tblIIIa
A1: Sud | B1: Godina | C1: ImePrezime | D1: Funkcija | E1: Ocij/NijeOcij | F1: UkBrDonOdlnsmiPrLijek | G1: UkBrOzOdl | H1: BrOdbPravLijekova | I1: BrPotOdl | J1: BrPreinOdl | K1: BrPreOdlNakOdGlRas/PretPredDrugSud | L1: BrUkOdl | M1: BrDjelUkOdl | N1: KvaSudOdlČl16/1/a | O1: BrOstBodZaKvalČl16/1/a | P1: KvalSudOdlČl16/1/b | Q1: BrOstBodZaKvalČl16/1/b | R1: UkBrOstBodZaKval | S1: KvalSudOdlČl16/1/b
A2: =+'Tabela I'!$F$2 -> 0 | B2: =+'Tabela I'!$F$1 -> 2023 | C2: =+'Tabela IIIa'!B9 | D2: =+'Tabela IIIa'!C9 -> Predsjednik suda * | E2: =+'Tabela IIIa'!D9 -> 0 | F2: =+'Tabela IIIa'!E9 -> 0 | G2: =+'Tabela IIIa'!F9 -> 0 | H2: =+'Tabela IIIa'!G9 -> 0 | I2: =+'Tabela IIIa'!H9 -> 0 | J2: =+'Tabela IIIa'!I9 -> 0 | ... R2: =+'Tabela IIIa'!Q9 | V2: Ocijenjen
A3: =+'Tabela I'!$F$2 -> 0 | B3: =+'Tabela I'!$F$1 -> 2023 | C3: =+'Tabela IIIa'!B10 | D3: =+'Tabela IIIa'!C10 -> 0 | E3: =+'Tabela IIIa'!D10 -> 0 | F3: =+'Tabela IIIa'!E10 -> 0 | G3: =+'Tabela IIIa'!F10 -> 0 | H3: =+'Tabela IIIa'!G10 -> 0 | I3: =+'Tabela IIIa'!H10 -> 0 | J3: =+'Tabela IIIa'!I10 -> 0 | ... R3: =+'Tabela IIIa'!Q10 | T3: Sudija | V3: Nije ocijenjen
A4: =+'Tabela I'!$F$2 -> 0 | B4: =+'Tabela I'!$F$1 -> 2023 | C4: =+'Tabela IIIa'!B11 | D4: =+'Tabela IIIa'!C11 -> 0 | E4: =+'Tabela IIIa'!D11 -> 0 | F4: =+'Tabela IIIa'!E11 -> 0 | G4: =+'Tabela IIIa'!F11 -> 0 | H4: =+'Tabela IIIa'!G11 -> 0 | I4: =+'Tabela IIIa'!H11 -> 0 | J4: =+'Tabela IIIa'!I11 -> 0 | ... R4: =+'Tabela IIIa'!Q11 | T4: Stručni saradnik
A5: =+'Tabela I'!$F$2 -> 0 | B5: =+'Tabela I'!$F$1 -> 2023 | C5: =+'Tabela IIIa'!B12 | D5: =+'Tabela IIIa'!C12 -> 0 | E5: =+'Tabela IIIa'!D12 -> 0 | F5: =+'Tabela IIIa'!E12 -> 0 | G5: =+'Tabela IIIa'!F12 -> 0 | H5: =+'Tabela IIIa'!G12 -> 0 | I5: =+'Tabela IIIa'!H12 -> 0 | J5: =+'Tabela IIIa'!I12 -> 0 | ... R5: =+'Tabela IIIa'!Q12
A6: =+'Tabela I'!$F$2 -> 0 | B6: =+'Tabela I'!$F$1 -> 2023 | C6: =+'Tabela IIIa'!B13 | D6: =+'Tabela IIIa'!C13 -> 0 | E6: =+'Tabela IIIa'!D13 -> 0 | F6: =+'Tabela IIIa'!E13 -> 0 | G6: =+'Tabela IIIa'!F13 -> 0 | H6: =+'Tabela IIIa'!G13 -> 0 | I6: =+'Tabela IIIa'!H13 -> 0 | J6: =+'Tabela IIIa'!I13 -> 0 | ... R6: =+'Tabela IIIa'!Q13
A7: =+'Tabela I'!$F$2 -> 0 | B7: =+'Tabela I'!$F$1 -> 2023 | C7: =+'Tabela IIIa'!B14 | D7: =+'Tabela IIIa'!C14 -> 0 | E7: =+'Tabela IIIa'!D14 -> 0 | F7: =+'Tabela IIIa'!E14 -> 0 | G7: =+'Tabela IIIa'!F14 -> 0 | H7: =+'Tabela IIIa'!G14 -> 0 | I7: =+'Tabela IIIa'!H14 -> 0 | J7: =+'Tabela IIIa'!I14 -> 0 | ... R7: =+'Tabela IIIa'!Q14
A8: =+'Tabela I'!$F$2 -> 0 | B8: =+'Tabela I'!$F$1 -> 2023 | C8: =+'Tabela IIIa'!B15 | D8: =+'Tabela IIIa'!C15 -> 0 | E8: =+'Tabela IIIa'!D15 -> 0 | F8: =+'Tabela IIIa'!E15 -> 0 | G8: =+'Tabela IIIa'!F15 -> 0 | H8: =+'Tabela IIIa'!G15 -> 0 | I8: =+'Tabela IIIa'!H15 -> 0 | J8: =+'Tabela IIIa'!I15 -> 0 | ... R8: =+'Tabela IIIa'!Q15
A9: =+'Tabela I'!$F$2 -> 0 | B9: =+'Tabela I'!$F$1 -> 2023 | C9: =+'Tabela IIIa'!B16 | D9: =+'Tabela IIIa'!C16 -> 0 | E9: =+'Tabela IIIa'!D16 -> 0 | F9: =+'Tabela IIIa'!E16 -> 0 | G9: =+'Tabela IIIa'!F16 -> 0 | H9: =+'Tabela IIIa'!G16 -> 0 | I9: =+'Tabela IIIa'!H16 -> 0 | J9: =+'Tabela IIIa'!I16 -> 0 | ... R9: =+'Tabela IIIa'!Q16
A10: =+'Tabela I'!$F$2 -> 0 | B10: =+'Tabela I'!$F$1 -> 2023 | C10: =+'Tabela IIIa'!B17 | D10: =+'Tabela IIIa'!C17 -> 0 | E10: =+'Tabela IIIa'!D17 -> 0 | F10: =+'Tabela IIIa'!E17 -> 0 | G10: =+'Tabela IIIa'!F17 -> 0 | H10: =+'Tabela IIIa'!G17 -> 0 | I10: =+'Tabela IIIa'!H17 -> 0 | J10: =+'Tabela IIIa'!I17 -> 0 | ... R10: =+'Tabela IIIa'!Q17
A11: =+'Tabela I'!$F$2 -> 0 | B11: =+'Tabela I'!$F$1 -> 2023 | C11: =+'Tabela IIIa'!B18 | D11: =+'Tabela IIIa'!C18 -> 0 | E11: =+'Tabela IIIa'!D18 -> 0 | F11: =+'Tabela IIIa'!E18 -> 0 | G11: =+'Tabela IIIa'!F18 -> 0 | H11: =+'Tabela IIIa'!G18 -> 0 | I11: =+'Tabela IIIa'!H18 -> 0 | J11: =+'Tabela IIIa'!I18 -> 0 | ... R11: =+'Tabela IIIa'!Q18
A12: =+'Tabela I'!$F$2 -> 0 | B12: =+'Tabela I'!$F$1 -> 2023 | C12: =+'Tabela IIIa'!B19 | D12: =+'Tabela IIIa'!C19 -> 0 | E12: =+'Tabela IIIa'!D19 -> 0 | F12: =+'Tabela IIIa'!E19 -> 0 | G12: =+'Tabela IIIa'!F19 -> 0 | H12: =+'Tabela IIIa'!G19 -> 0 | I12: =+'Tabela IIIa'!H19 -> 0 | J12: =+'Tabela IIIa'!I19 -> 0 | ... R12: =+'Tabela IIIa'!Q19
A13: =+'Tabela I'!$F$2 -> 0 | B13: =+'Tabela I'!$F$1 -> 2023 | C13: =+'Tabela IIIa'!B20 | D13: =+'Tabela IIIa'!C20 -> 0 | E13: =+'Tabela IIIa'!D20 -> 0 | F13: =+'Tabela IIIa'!E20 -> 0 | G13: =+'Tabela IIIa'!F20 -> 0 | H13: =+'Tabela IIIa'!G20 -> 0 | I13: =+'Tabela IIIa'!H20 -> 0 | J13: =+'Tabela IIIa'!I20 -> 0 | ... R13: =+'Tabela IIIa'!Q20
A14: =+'Tabela I'!$F$2 -> 0 | B14: =+'Tabela I'!$F$1 -> 2023 | C14: =+'Tabela IIIa'!B21 | D14: =+'Tabela IIIa'!C21 -> 0 | E14: =+'Tabela IIIa'!D21 -> 0 | F14: =+'Tabela IIIa'!E21 -> 0 | G14: =+'Tabela IIIa'!F21 -> 0 | H14: =+'Tabela IIIa'!G21 -> 0 | I14: =+'Tabela IIIa'!H21 -> 0 | J14: =+'Tabela IIIa'!I21 -> 0 | ... R14: =+'Tabela IIIa'!Q21
A15: =+'Tabela I'!$F$2 -> 0 | B15: =+'Tabela I'!$F$1 -> 2023 | C15: =+'Tabela IIIa'!B22 | D15: =+'Tabela IIIa'!C22 -> 0 | E15: =+'Tabela IIIa'!D22 -> 0 | F15: =+'Tabela IIIa'!E22 -> 0 | G15: =+'Tabela IIIa'!F22 -> 0 | H15: =+'Tabela IIIa'!G22 -> 0 | I15: =+'Tabela IIIa'!H22 -> 0 | J15: =+'Tabela IIIa'!I22 -> 0 | ... R15: =+'Tabela IIIa'!Q22
A16: =+'Tabela I'!$F$2 -> 0 | B16: =+'Tabela I'!$F$1 -> 2023 | C16: =+'Tabela IIIa'!B23 | D16: =+'Tabela IIIa'!C23 -> 0 | E16: =+'Tabela IIIa'!D23 -> 0 | F16: =+'Tabela IIIa'!E23 -> 0 | G16: =+'Tabela IIIa'!F23 -> 0 | H16: =+'Tabela IIIa'!G23 -> 0 | I16: =+'Tabela IIIa'!H23 -> 0 | J16: =+'Tabela IIIa'!I23 -> 0 | ... R16: =+'Tabela IIIa'!Q23
... A66: =+'Tabela I'!$F$2 -> 0 | B66: =+'Tabela I'!$F$1 -> 2023 | C66: =+'Tabela IIIa'!B73 -> 0 | D66: =+'Tabela IIIa'!C73 -> 0 | E66: =+'Tabela IIIa'!D73 -> 0 | F66: =+'Tabela IIIa'!E73 -> 0 | G66: =+'Tabela IIIa'!F73 -> 0 | H66: =+'Tabela IIIa'!G73 -> 0 | I66: =+'Tabela IIIa'!H73 -> 0 | J66: =+'Tabela IIIa'!I73 -> 0 | ... R66: =+'Tabela IIIa'!Q73
A69: Tabela IIIb
A71: =+'Tabela I'!$F$2 -> 0 | B71: =+'Tabela I'!$F$1 -> 2023 | C71: =+'Tabela IIIa'!B85 -> Ime i prezime | D71: =+'Tabela IIIa'!C85 -> Predsjednik suda | E71: =+'Tabela IIIa'!D85 -> 0 | F71: =+'Tabela IIIa'!E85 -> 0 | G71: =+'Tabela IIIa'!F85 -> 0 | H71: =+'Tabela IIIa'!G85 -> 0 | I71: =+'Tabela IIIa'!H85 -> 0 | J71: =+'Tabela IIIa'!I85 -> 0 | ... R71: =+'Tabela IIIa'!Q85
A72: =+'Tabela I'!$F$2 -> 0 | B72: =+'Tabela I'!$F$1 -> 2023 | C72: =+'Tabela IIIa'!B92 -> Ime i prezime | D72: =+'Tabela IIIa'!C92 -> 0 | E72: =+'Tabela IIIa'!D92 -> 0 | F72: =+'Tabela IIIa'!E92 -> 0 | G72: =+'Tabela IIIa'!F92 -> 0 | H72: =+'Tabela IIIa'!G92 -> 0 | I72: =+'Tabela IIIa'!H92 -> 0 | J72: =+'Tabela IIIa'!I92 -> 0 | ... R72: =+'Tabela IIIa'!Q92
A73: =+'Tabela I'!$F$2 -> 0 | B73: =+'Tabela I'!$F$1 -> 2023 | C73: =+'Tabela IIIa'!B99 -> Ime i prezime | D73: =+'Tabela IIIa'!C99 -> 0 | E73: =+'Tabela IIIa'!D99 -> 0 | F73: =+'Tabela IIIa'!E99 -> 0 | G73: =+'Tabela IIIa'!F99 -> 0 | H73: =+'Tabela IIIa'!G99 -> 0 | I73: =+'Tabela IIIa'!H99 -> 0 | J73: =+'Tabela IIIa'!I99 -> 0 | ... R73: =+'Tabela IIIa'!Q99
A74: =+'Tabela I'!$F$2 -> 0 | B74: =+'Tabela I'!$F$1 -> 2023 | C74: =+'Tabela IIIa'!B106 -> Ime i prezime | D74: =+'Tabela IIIa'!C106 -> 0 | E74: =+'Tabela IIIa'!D106 -> 0 | F74: =+'Tabela IIIa'!E106 -> 0 | G74: =+'Tabela IIIa'!F106 -> 0 | H74: =+'Tabela IIIa'!G106 -> 0 | I74: =+'Tabela IIIa'!H106 -> 0 | J74: =+'Tabela IIIa'!I106 -> 0 | ... R74: =+'Tabela IIIa'!Q106
A75: =+'Tabela I'!$F$2 -> 0 | B75: =+'Tabela I'!$F$1 -> 2023 | C75: =+'Tabela IIIa'!B113 -> Ime i prezime | D75: =+'Tabela IIIa'!C113 -> 0 | E75: =+'Tabela IIIa'!D113 -> 0 | F75: =+'Tabela IIIa'!E113 -> 0 | G75: =+'Tabela IIIa'!F113 -> 0 | H75: =+'Tabela IIIa'!G113 -> 0 | I75: =+'Tabela IIIa'!H113 -> 0 | J75: =+'Tabela IIIa'!I113 -> 0 | ... R75: =+'Tabela IIIa'!Q113
A76: =+'Tabela I'!$F$2 -> 0 | B76: =+'Tabela I'!$F$1 -> 2023 | C76: =+'Tabela IIIa'!B120 -> Ime i prezime | D76: =+'Tabela IIIa'!C120 -> 0 | E76: =+'Tabela IIIa'!D120 -> 0 | F76: =+'Tabela IIIa'!E120 -> 0 | G76: =+'Tabela IIIa'!F120 -> 0 | H76: =+'Tabela IIIa'!G120 -> 0 | I76: =+'Tabela IIIa'!H120 -> 0 | J76: =+'Tabela IIIa'!I120 -> 0 | ... R76: =+'Tabela IIIa'!Q120
A77: =+'Tabela I'!$F$2 -> 0 | B77: =+'Tabela I'!$F$1 -> 2023 | C77: =+'Tabela IIIa'!B127 -> Ime i prezime | D77: =+'Tabela IIIa'!C127 -> 0 | E77: =+'Tabela IIIa'!D127 -> 0 | F77: =+'Tabela IIIa'!E127 -> 0 | G77: =+'Tabela IIIa'!F127 -> 0 | H77: =+'Tabela IIIa'!G127 -> 0 | I77: =+'Tabela IIIa'!H127 -> 0 | J77: =+'Tabela IIIa'!I127 -> 0 | ... R77: =+'Tabela IIIa'!Q127
A78: =+'Tabela I'!$F$2 -> 0 | B78: =+'Tabela I'!$F$1 -> 2023 | C78: =+'Tabela IIIa'!B134 -> Ime i prezime | D78: =+'Tabela IIIa'!C134 -> 0 | E78: =+'Tabela IIIa'!D134 -> 0 | F78: =+'Tabela IIIa'!E134 -> 0 | G78: =+'Tabela IIIa'!F134 -> 0 | H78: =+'Tabela IIIa'!G134 -> 0 | I78: =+'Tabela IIIa'!H134 -> 0 | J78: =+'Tabela IIIa'!I134 -> 0 | ... R78: =+'Tabela IIIa'!Q134
A79: =+'Tabela I'!$F$2 -> 0 | B79: =+'Tabela I'!$F$1 -> 2023 | C79: =+'Tabela IIIa'!B141 -> Ime i prezime | D79: =+'Tabela IIIa'!C141 -> 0 | E79: =+'Tabela IIIa'!D141 -> 0 | F79: =+'Tabela IIIa'!E141 -> 0 | G79: =+'Tabela IIIa'!F141 -> 0 | H79: =+'Tabela IIIa'!G141 -> 0 | I79: =+'Tabela IIIa'!H141 -> 0 | J79: =+'Tabela IIIa'!I141 -> 0 | ... R79: =+'Tabela IIIa'!Q141
A80: =+'Tabela I'!$F$2 -> 0 | B80: =+'Tabela I'!$F$1 -> 2023 | C80: =+'Tabela IIIa'!B148 -> Ime i prezime | D80: =+'Tabela IIIa'!C148 -> 0 | E80: =+'Tabela IIIa'!D148 -> 0 | F80: =+'Tabela IIIa'!E148 -> 0 | G80: =+'Tabela IIIa'!F148 -> 0 | H80: =+'Tabela IIIa'!G148 -> 0 | I80: =+'Tabela IIIa'!H148 -> 0 | J80: =+'Tabela IIIa'!I148 -> 0 | ... W80: =+'Tabela IIIa'!V148 -> 0

Sheet Tabela IV
A1: Okružni privredni sud: | B1: ='Tabela I'!C1 -> 0
A2: Izvještajni period: | B2: ='Tabela I'!C2 -> 1.1.2023.-31.12.2023.
A3: Tabela IV - Ostali podaci
A5: Godina prijema predmeta | B5: Vrsta predmeta | C5: Broj nezavedenih predmeta | D5: Obrazloženje
A7: I | B7: II | C7: III | D7: IV
A27: U Tabelu IV potrebno je da unesete podatke o broju zaprimljenih predmeta koji nisu zavedeni kroz sudski upisnik (ukoliko imate takvih predmeta), navodeći podatke o godini prijema, vrsti i broju predmeta sa obrazloženjem razloga zbog kojih predmeti nisu zavedeni u sudski upisnik.

Sheet Tabela V
A1: Okružni privredni sud: | F1: ='Tabela I'!C1 -> 0
A2: Izvještajni period: | E2: ='Tabela I'!C2 -> 1.1.2023.-31.12.2023.
A3: Tabela V- Pregled starosti neriješenih predmeta sa 31.12.2023. godine
A5: Godina iniciranja predmeta pred prvostepenim sudom | B5: Broj neriješenih predmeta za naplatu komunalnih usluga | E5: Broj neriješenih predmeta na referatu registracija poslovnih subjekata
B6: Ps | C6: Mals | D6: Ip | E6: Reg | F6: RegZ | G6: Ostalo
B7: I | C7: II | D7: IV | E7: I | F7: II | G7: III
A9: 2023
A10: 2022
A11: 2021
A12: 2020
A13: 2019
A14: 2018
A15: 2017
A16: 2016
A17: 2015
A18: 2014
A19: 2013
A20: 2012
... A52: 1980
A53: Stariji od 1980
A54: UKUPNO | B54: =SUM(B8:B53) -> 0 | C54: =SUM(C8:C53) -> 0 | D54: =SUM(D8:D53) -> 0 | E54: =SUM(E9:E53) -> 0 | F54: =SUM(F9:F53) -> 0 | G54: =SUM(G9:G53) -> 0
A55: SVEUKUPNO | B55: =SUM(B54:D54) -> 0 | E55: =SUM(E54:G54) -> 0
B56: =+'Tabela I'!F12 -> 0 | E56: ='Tabela I'!F17 -> 0

Sheet Tabela VI
A1: Okružni privredni sud: | B1: ='Tabela I'!C1 -> 0
A2: Izvještajni period: | B2: ='Tabela I'!C2 -> 1.1.2023.-31.12.2023.
A3: Tabela VI - Odluke Ustavnog suda BiH
A4: Tabela VIa - Odluke kojima se ne usvaja apelacija
A5: Broj odluka kojima se odbacuje apelacija | B5: Broj odluka kojima se obustavlja postupak pred Ustavnim sudom BiH | C5: Broj odluka kojima se odbija apelacija | D5: Ukupno
A6: I | B6: II | C6: III | D6: IV=I+II+III
D7: =IF(SUM(A7:C7)=0," ",SUM(A7:C7))
A8: Tabela VIb - Odluke kojima se usvaja apelacija
A9: Pravni osnov | B9: Broj odluka kojima se usvaja apelacija | E9: Ukupno
B10: Broj odluka kojima se preinačuju odluke suda | C10: Broj odluka kojima se ukidaju odluke suda | D10: Broj ostalih odluka kojima se usvaja apelacija
B11: I | C11: II | D11: III | E11: IV=I+II+III
A12: Čl. 13. EK (pravo na djelotvorni pravni lijek) | E12: =IF(SUM(B12:D12)=0," ",SUM(B12:D12))
A13: Čl. 3. P7 (naknada za pogrešnu presudu) | E13: =IF(SUM(B13:D13)=0," ",SUM(B13:D13))
A14: Čl. 6. EK i II/3.e) Ustava BiH (pravo na pravično suđenje) | E14: =IF(SUM(B14:D14)=0," ",SUM(B14:D14))
A15: Čl. 5.EK i II/3d Ustava (pravo na ličnu slobodu) | E15: =IF(SUM(B15:D15)=0," ",SUM(B15:D15))
A16: Čl. 1. P.1. i II/3.k) Ustava BiH (pravo na imovinu) | E16: =IF(SUM(B16:D16)=0," ",SUM(B16:D16))
A17: Čl. 1. P.7. (Proceduralne zaštite u vezi sa protjerivanjem stranaca) | E17: =IF(SUM(B17:D17)=0," ",SUM(B17:D17))
A18: Ostalo | E18: =IF(SUM(B18:D18)=0," ",SUM(B18:D18))
A19: Tabela VIc – Predmeti u kojima se nalaže sudu da okonča predmet bez odlaganja zbog kršenja prava na donošenje odluke u razumnom roku
A20: Pravni osnov | B20: Broj odluka kojima se nalaže sudu da okonča predmet bez odlaganja zbog kršenja prava na donošenje odluke u razumnom roku jer je Ustavni sud BiH zaključio da je odugovlačenju postupka najviše doprinio
B21: prvostepeni sud | C21: drugostepeni sud | D21: sud koji rješava predmet po uloženom vanrednom pravnom lijeku | E21: Ostalo | F21: Ukupno
B22: I | C22: II | D22: III | E22: IV | F22: V=I+II+III+IV
A23: Čl. 6 EK i II/3.e) Ustava BiH (pravo na pravično suđenje) | F23: =IF(SUM(B23:E23)=0," ",SUM(B23:E23))
A24: Tabela VId - Predmeti u kojima je utvrđeno kršenje prava na donošenje odluke u razumnom roku
A25: Broj predmeta u kojima je određena naknada nematerijalne štete zbog kršenja prava na donošenje odluke u razumnom roku
A26: Ukupan iznos određene naknade
A28: * U Tabelu VId unose se podaci o predmetima u kojima je usvojena apelacija u odnosu na odluke Vašeg suda i određena naknada nematerijalne štete zbog kršenja prava na donošenje odluke u razumnom roku, kao i ukupan iznos naknade koji je utvrdio Ustavni sud BiH.

Sheet tbl2_kvalitet_rada
A1: for_key | B1: godina | C1: lista_referata | D1: DonesOdluke | E1: OdbPrLijek | F1: PotvOdluke | G1: PreinOdluke | H1: PreinOdlukeNakonRasp | I1: UkinOdluke | J1: DjelimUkin
A2: ='Tabela I'!$F$2 -> 0 | B2: ='Tabela I'!$F$1 -> 2023 | C2: 5 | D2: ='Tabela III'!B8 -> 0 | E2: ='Tabela III'!D8 -> 0 | F2: ='Tabela III'!E8 -> 0 | G2: ='Tabela III'!F8 -> 0 | H2: ='Tabela III'!G8 -> 0 | I2: ='Tabela III'!H8 -> 0 | J2: ='Tabela III'!I8 -> 0
A3: ='Tabela I'!$F$2 -> 0 | B3: ='Tabela I'!$F$1 -> 2023 | C3: 6 | D3: ='Tabela III'!B9 -> 0 | E3: ='Tabela III'!D9 -> 0 | F3: ='Tabela III'!E9 -> 0 | G3: ='Tabela III'!F9 -> 0 | H3: ='Tabela III'!G9 -> 0 | I3: ='Tabela III'!H9 -> 0 | J3: ='Tabela III'!I9 -> 0
A4: ='Tabela I'!$F$2 -> 0 | B4: ='Tabela I'!$F$1 -> 2023 | C4: 7 | D4: ='Tabela III'!B10 -> 0 | E4: ='Tabela III'!D10 -> 0 | F4: ='Tabela III'!E10 -> 0 | G4: ='Tabela III'!F10 -> 0 | H4: ='Tabela III'!G10 -> 0 | I4: ='Tabela III'!H10 -> 0 | J4: ='Tabela III'!I10 -> 0
A5: ='Tabela I'!$F$2 -> 0 | B5: ='Tabela I'!$F$1 -> 2023 | C5: 97 | D5: ='Tabela III'!B11 -> 0 | E5: ='Tabela III'!D11 -> 0 | F5: ='Tabela III'!E11 -> 0 | G5: ='Tabela III'!F11 -> 0 | H5: ='Tabela III'!G11 -> 0 | I5: ='Tabela III'!H11 -> 0 | J5: ='Tabela III'!I11 -> 0
A6: ='Tabela I'!$F$2 -> 0 | B6: ='Tabela I'!$F$1 -> 2023 | C6: 8 | D6: ='Tabela III'!B12 -> 0 | E6: ='Tabela III'!D12 -> 0 | F6: ='Tabela III'!E12 -> 0 | G6: ='Tabela III'!F12 -> 0 | H6: ='Tabela III'!G12 -> 0 | I6: ='Tabela III'!H12 -> 0 | J6: ='Tabela III'!I12 -> 0 | K6: VIII=(I-V-IV-VII/2)/I | M6: IX
A7: ='Tabela I'!$F$2 -> 0 | B7: ='Tabela I'!$F$1 -> 2023 | C7: 10 | D7: ='Tabela III'!B13 -> 0 | E7: ='Tabela III'!D13 -> 0 | F7: ='Tabela III'!E13 -> 0 | G7: ='Tabela III'!F13 -> 0 | H7: ='Tabela III'!G13 -> 0 | I7: ='Tabela III'!H13 -> 0 | J7: ='Tabela III'!I13 -> 0
A8: ='Tabela I'!$F$2 -> 0 | B8: ='Tabela I'!$F$1 -> 2023 | C8: 21 | D8: ='Tabela III'!B15 -> 0 | E8: ='Tabela III'!D15 -> 0 | F8: ='Tabela III'!E15 -> 0 | G8: ='Tabela III'!F15 -> 0 | H8: ='Tabela III'!G15 -> 0 | I8: ='Tabela III'!H15 -> 0 | J8: ='Tabela III'!I15 -> 0
A9: ='Tabela I'!$F$2 -> 0 | B9: ='Tabela I'!$F$1 -> 2023 | C9: 22 | D9: ='Tabela III'!B16 -> 0 | E9: ='Tabela III'!D16 -> 0 | F9: ='Tabela III'!E16 -> 0 | G9: ='Tabela III'!F16 -> 0 | H9: ='Tabela III'!G16 -> 0 | I9: ='Tabela III'!H16 -> 0 | J9: ='Tabela III'!I16 -> 0
A10: ='Tabela I'!$F$2 -> 0 | B10: ='Tabela I'!$F$1 -> 2023 | C10: 23 | D10: ='Tabela III'!B18 -> 0 | E10: ='Tabela III'!D18 -> 0 | F10: ='Tabela III'!E18 -> 0 | G10: ='Tabela III'!F18 -> 0 | H10: ='Tabela III'!G18 -> 0 | I10: ='Tabela III'!H18 -> 0 | J10: ='Tabela III'!I18 -> 0
A11: ='Tabela I'!$F$2 -> 0 | B11: ='Tabela I'!$F$1 -> 2023 | C11: 25 | D11: ='Tabela III'!B19 -> 0 | E11: ='Tabela III'!D19 -> 0 | F11: ='Tabela III'!E19 -> 0 | G11: ='Tabela III'!F19 -> 0 | H11: ='Tabela III'!G19 -> 0 | I11: ='Tabela III'!H19 -> 0 | J11: ='Tabela III'!I19 -> 0
A12: ='Tabela I'!$F$2 -> 0 | B12: ='Tabela I'!$F$1 -> 2023 | C12: 26 | D12: ='Tabela III'!B21 -> 0 | E12: ='Tabela III'!D21 -> 0 | F12: ='Tabela III'!E21 -> 0 | G12: ='Tabela III'!F21 -> 0 | H12: ='Tabela III'!G21 -> 0 | I12: ='Tabela III'!H21 -> 0 | J12: ='Tabela III'!I21 -> 0
D13: =SUM(D2:D12) -> 0 | E13: =SUM(E2:E12) -> 0 | F13: =SUM(F2:F12) -> 0 | G13: =SUM(G2:G12) -> 0 | H13: =SUM(H2:H12) -> 0 | I13: =SUM(I2:I12) -> 0 | J13: =SUM(J2:J12) -> 0

Sheet tbl10_ust_sud
A1: for_key | B1: godina | C1: BrOdbacApel | D1: BrObustPost | E1: BrOdbijApel
A2: ='Tabela I'!$F$2 -> 0 | B2: ='Tabela I'!$F$1 -> 2023 | C2: ='Tabela VI'!A7 -> 0 | D2: ='Tabela VI'!B7 -> 0 | E2: ='Tabela VI'!C7 -> 0
A5: for_key | B5: godina | C5: Pravni osnov | D5: BrPreinOdl | E5: BrUkidOdl | F5: BrUsvApel
A6: ='Tabela I'!$F$2 -> 0 | B6: ='Tabela I'!$F$1 -> 2023 | C6: 1 | D6: ='Tabela VI'!B12 -> 0 | E6: ='Tabela VI'!C12 -> 0 | F6: ='Tabela VI'!D12 -> 0
A7: ='Tabela I'!$F$2 -> 0 | B7: ='Tabela I'!$F$1 -> 2023 | C7: 2 | D7: ='Tabela VI'!B13 -> 0 | E7: ='Tabela VI'!C13 -> 0 | F7: ='Tabela VI'!D13 -> 0
A8: ='Tabela I'!$F$2 -> 0 | B8: ='Tabela I'!$F$1 -> 2023 | C8: 3 | D8: ='Tabela VI'!B14 -> 0 | E8: ='Tabela VI'!C14 -> 0 | F8: ='Tabela VI'!D14 -> 0
A9: ='Tabela I'!$F$2 -> 0 | B9: ='Tabela I'!$F$1 -> 2023 | C9: 4 | D9: ='Tabela VI'!B15 -> 0 | E9: ='Tabela VI'!C15 -> 0 | F9: ='Tabela VI'!D15 -> 0
A10: ='Tabela I'!$F$2 -> 0 | B10: ='Tabela I'!$F$1 -> 2023 | C10: 5 | D10: ='Tabela VI'!B16 -> 0 | E10: ='Tabela VI'!C16 -> 0 | F10: ='Tabela VI'!D16 -> 0
A11: ='Tabela I'!$F$2 -> 0 | B11: ='Tabela I'!$F$1 -> 2023 | C11: 6 | D11: ='Tabela VI'!B17 -> 0 | E11: ='Tabela VI'!C17 -> 0 | F11: ='Tabela VI'!D17 -> 0
A12: ='Tabela I'!$F$2 -> 0 | B12: ='Tabela I'!$F$1 -> 2023 | C12: 7 | D12: ='Tabela VI'!B18 -> 0 | E12: ='Tabela VI'!C18 -> 0 | F12: ='Tabela VI'!D18 -> 0
A15: for_key | B15: godina | C15: Pravni osnov | D15: PrvostSud | E15: DrugostSud | F15: SudPoUlPrLij | G15: Ostalo
A16: ='Tabela I'!$F$2 -> 0 | B16: ='Tabela I'!$F$1 -> 2023 | C16: 3 | D16: ='Tabela VI'!B23 -> 0 | E16: ='Tabela VI'!C23 -> 0 | F16: ='Tabela VI'!D23 -> 0 | G16: ='Tabela VI'!E23 -> 0
A19: for_key | B19: godina | C19: BrNaknNematStete | D19: UkIznosNaknade
A20: ='Tabela I'!$F$2 -> 0 | B20: ='Tabela I'!$F$1 -> 2023 | C20: ='Tabela VI'!B25 -> 0 | D20: ='Tabela VI'!B26 -> 0

Sheet tbl9InicAkt
A1: for_key | B1: godina | C1: idReferata | D1: Zalba | E1: 2023 | F1: 2022 | G1: 2021 | H1: 2020 | I1: 2019 | J1: 2018 | K1: 2017 | L1: 2016 | M1: 2015 | N1: 2014 | O1: 2013 | P1: 2012 | Q1: 2011 | R1: 2010 | S1: 2009 | T1: 2008 | U1: 2007 | V1: 2006 | W1: 2005 | X1: 2004 | Y1: 2003 | Z1: 2002 | AA1: 2001 | AB1: 2000 | AC1: 1999 | AD1: 1998 | AE1: 1997 | AF1: 1996 | AG1: 1995 | AH1: 1994 | AI1: 1993 | AJ1: 1992 | AK1: 1991 | AL1: 1990 | AM1: 1989 | AN1: 1988 | AO1: 1987 | AP1: 1986 | AQ1: 1985 | AR1: 1984 | AS1: 1983 | AT1: 1982 | AU1: 1981 | AV1: 1980 | AW1: Stariji od 1980
A2: ='Tabela I'!$F$2 -> 0 | B2: ='Tabela I'!$F$1 -> 2023 | C2: 26 | D2: 0 | E2: ='Tabela V'!$E$9 -> 0 | F2: ='Tabela V'!$E$10 -> 0 | G2: ='Tabela V'!$E$11 -> 0 | H2: ='Tabela V'!$E$12 -> 0 | I2: ='Tabela V'!$E$13 -> 0 | J2: ='Tabela V'!$E$14 -> 0 | K2: ='Tabela V'!$E$15 -> 0 | L2: ='Tabela V'!$E$16 -> 0 | M2: ='Tabela V'!$E$17 -> 0 | N2: ='Tabela V'!$E$18 -> 0 | O2: ='Tabela V'!$E$19 -> 0 | P2: ='Tabela V'!$E$20 -> 0 | Q2: ='Tabela V'!$E$21 -> 0 | R2: ='Tabela V'!$E$22 -> 0 | S2: ='Tabela V'!$E$23 -> 0 | T2: ='Tabela V'!$E$24 -> 0 | U2: ='Tabela V'!$E$25 -> 0 | V2: ='Tabela V'!$E$26 -> 0 | W2: ='Tabela V'!$E$27 -> 0 | X2: ='Tabela V'!$E$28 -> 0 | Y2: ='Tabela V'!$E$29 -> 0 | Z2: ='Tabela V'!$E$30 -> 0 | AA2: ='Tabela V'!$E$31 -> 0 | AB2: ='Tabela V'!$E$32 -> 0 | AC2: ='Tabela V'!$E$33 -> 0 | AD2: ='Tabela V'!$E$34 -> 0 | AE2: ='Tabela V'!$E$35 -> 0 | AF2: ='Tabela V'!$E$36 -> 0 | AG2: ='Tabela V'!$E$37 -> 0 | AH2: ='Tabela V'!$E$38 -> 0 | AI2: ='Tabela V'!$E$39 -> 0 | AJ2: ='Tabela V'!$E$40 -> 0 | AK2: ='Tabela V'!$E$41 -> 0 | AL2: ='Tabela V'!$E$42 -> 0 | AM2: ='Tabela V'!$E$43 -> 0 | AN2: ='Tabela V'!$E$44 -> 0 | AO2: ='Tabela V'!$E$45 -> 0 | AP2: ='Tabela V'!$E$46 -> 0 | AQ2: ='Tabela V'!$E$47 -> 0 | AR2: ='Tabela V'!$E$48 -> 0 | AS2: ='Tabela V'!$E$49 -> 0 | AT2: ='Tabela V'!$E$50 -> 0 | AU2: ='Tabela V'!$E$51 -> 0 | AV2: ='Tabela V'!$E$52 -> 0 | AW2: ='Tabela V'!$E$53 -> 0
A3: ='Tabela I'!$F$2 -> 0 | B3: ='Tabela I'!$F$1 -> 2023 | C3: 104 | D3: 0 | E3: ='Tabela V'!$F$9 -> 0 | F3: ='Tabela V'!$F$10 -> 0 | G3: ='Tabela V'!$F$11 -> 0 | H3: ='Tabela V'!$F$12 -> 0 | I3: ='Tabela V'!$F$13 -> 0 | J3: ='Tabela V'!$F$14 -> 0 | K3: ='Tabela V'!$F$15 -> 0 | L3: ='Tabela V'!$F$16 -> 0 | M3: ='Tabela V'!$F$17 -> 0 | N3: ='Tabela V'!$F$18 -> 0 | O3: ='Tabela V'!$F$19 -> 0 | P3: ='Tabela V'!$F$20 -> 0 | Q3: ='Tabela V'!$F$21 -> 0 | R3: ='Tabela V'!$F$22 -> 0 | S3: ='Tabela V'!$F$23 -> 0 | T3: ='Tabela V'!$F$24 -> 0 | U3: ='Tabela V'!$F$25 -> 0 | V3: ='Tabela V'!$F$26 -> 0 | W3: ='Tabela V'!$F$27 -> 0 | X3: ='Tabela V'!$F$28 -> 0 | Y3: ='Tabela V'!$F$29 -> 0 | Z3: ='Tabela V'!$F$30 -> 0 | AA3: ='Tabela V'!$F$31 -> 0 | AB3: ='Tabela V'!$F$32 -> 0 | AC3: ='Tabela V'!$F$33 -> 0 | AD3: ='Tabela V'!$F$34 -> 0 | AE3: ='Tabela V'!$F$35 -> 0 | AF3: ='Tabela V'!$F$36 -> 0 | AG3: ='Tabela V'!$F$37 -> 0 | AH3: ='Tabela V'!$F$38 -> 0 | AI3: ='Tabela V'!$F$39 -> 0 | AJ3: ='Tabela V'!$F$40 -> 0 | AK3: ='Tabela V'!$F$41 -> 0 | AL3: ='Tabela V'!$F$42 -> 0 | AM3: ='Tabela V'!$F$43 -> 0 | AN3: ='Tabela V'!$F$44 -> 0 | AO3: ='Tabela V'!$F$45 -> 0 | AP3: ='Tabela V'!$F$46 -> 0 | AQ3: ='Tabela V'!$F$47 -> 0 | AR3: ='Tabela V'!$F$48 -> 0 | AS3: ='Tabela V'!$F$49 -> 0 | AT3: ='Tabela V'!$F$50 -> 0 | AU3: ='Tabela V'!$F$51 -> 0 | AV3: ='Tabela V'!$F$52 -> 0 | AW3: ='Tabela V'!$F$53 -> 0
A4: ='Tabela I'!$F$2 -> 0 | B4: ='Tabela I'!$F$1 -> 2023 | C4: 123 | D4: 0 | E4: ='Tabela V'!$G$9 -> 0 | F4: ='Tabela V'!$G$10 -> 0 | G4: ='Tabela V'!$G$11 -> 0 | H4: ='Tabela V'!$G$12 -> 0 | I4: ='Tabela V'!$G$13 -> 0 | J4: ='Tabela V'!$G$14 -> 0 | K4: ='Tabela V'!$G$15 -> 0 | L4: ='Tabela V'!$G$16 -> 0 | M4: ='Tabela V'!$G$17 -> 0 | N4: ='Tabela V'!$G$18 -> 0 | O4: ='Tabela V'!$G$19 -> 0 | P4: ='Tabela V'!$G$20 -> 0 | Q4: ='Tabela V'!$G$21 -> 0 | R4: ='Tabela V'!$G$22 -> 0 | S4: ='Tabela V'!$G$23 -> 0 | T4: ='Tabela V'!$G$24 -> 0 | U4: ='Tabela V'!$G$25 -> 0 | V4: ='Tabela V'!$G$26 -> 0 | W4: ='Tabela V'!$G$27 -> 0 | X4: ='Tabela V'!$G$28 -> 0 | Y4: ='Tabela V'!$G$29 -> 0 | Z4: ='Tabela V'!$G$30 -> 0 | AA4: ='Tabela V'!$G$31 -> 0 | AB4: ='Tabela V'!$G$32 -> 0 | AC4: ='Tabela V'!$G$33 -> 0 | AD4: ='Tabela V'!$G$34 -> 0 | AE4: ='Tabela V'!$G$35 -> 0 | AF4: ='Tabela V'!$G$36 -> 0 | AG4: ='Tabela V'!$G$37 -> 0 | AH4: ='Tabela V'!$G$38 -> 0 | AI4: ='Tabela V'!$G$39 -> 0 | AJ4: ='Tabela V'!$G$40 -> 0 | AK4: ='Tabela V'!$G$41 -> 0 | AL4: ='Tabela V'!$G$42 -> 0 | AM4: ='Tabela V'!$G$43 -> 0 | AN4: ='Tabela V'!$G$44 -> 0 | AO4: ='Tabela V'!$G$45 -> 0 | AP4: ='Tabela V'!$G$46 -> 0 | AQ4: ='Tabela V'!$G$47 -> 0 | AR4: ='Tabela V'!$G$48 -> 0 | AS4: ='Tabela V'!$G$49 -> 0 | AT4: ='Tabela V'!$G$50 -> 0 | AU4: ='Tabela V'!$G$51 -> 0 | AV4: ='Tabela V'!$G$52 -> 0 | AW4: ='Tabela V'!$G$53 -> 0
A5: ='Tabela I'!$F$2 -> 0 | B5: ='Tabela I'!$F$1 -> 2023 | C5: 148 | D5: 0 | E5: =+'Tabela V'!$B$9 -> 0 | F5: =+'Tabela V'!$B$10 -> 0 | G5: ='Tabela V'!$B$11 -> 0 | H5: =+'Tabela V'!B12 -> 0 | I5: =+'Tabela V'!B13 -> 0 | J5: =+'Tabela V'!B14 -> 0 | K5: =+'Tabela V'!B15 -> 0 | L5: =+'Tabela V'!$B$16 -> 0 | M5: =+'Tabela V'!$B$17 -> 0 | N5: =+'Tabela V'!$B$18 -> 0 | O5: =+'Tabela V'!$B$19 -> 0 | P5: =+'Tabela V'!$B$20 -> 0 | Q5: =+'Tabela V'!$B$21 -> 0 | R5: =+'Tabela V'!$B$22 -> 0 | S5: =+'Tabela V'!$B$23 -> 0 | T5: =+'Tabela V'!$B$24 -> 0 | U5: =+'Tabela V'!$B$25 -> 0 | V5: =+'Tabela V'!$B$26 -> 0 | W5: =+'Tabela V'!$B$27 -> 0 | X5: =+'Tabela V'!$B$28 -> 0 | Y5: =+'Tabela V'!$B$29 -> 0 | Z5: =+'Tabela V'!$B$30 -> 0 | AA5: =+'Tabela V'!$B$31 -> 0 | AB5: =+'Tabela V'!$B$32 -> 0 | AC5: =+'Tabela V'!$B$33 -> 0 | AD5: =+'Tabela V'!$B$34 -> 0 | AE5: =+'Tabela V'!$B$35 -> 0 | AF5: =+'Tabela V'!$B$36 -> 0 | AG5: =+'Tabela V'!$B$37 -> 0 | AH5: =+'Tabela V'!$B$38 -> 0 | AI5: =+'Tabela V'!$B$39 -> 0 | AJ5: =+'Tabela V'!$B$40 -> 0 | AK5: =+'Tabela V'!$B$41 -> 0 | AL5: =+'Tabela V'!$B$42 -> 0 | AM5: =+'Tabela V'!$B$43 -> 0 | AN5: =+'Tabela V'!$B$44 -> 0 | AO5: =+'Tabela V'!$B$45 -> 0 | AP5: =+'Tabela V'!$B$46 -> 0 | AQ5: =+'Tabela V'!$B$47 -> 0 | AR5: =+'Tabela V'!$B$48 -> 0 | AS5: =+'Tabela V'!$B$49 -> 0 | AT5: =+'Tabela V'!$B$50 -> 0 | AU5: =+'Tabela V'!$B$51 -> 0 | AV5: =+'Tabela V'!$B$52 -> 0 | AW5: =+'Tabela V'!$B$53 -> 0
A6: ='Tabela I'!$F$2 -> 0 | B6: ='Tabela I'!$F$1 -> 2023 | C6: 128 | D6: 0 | E6: =+'Tabela V'!$C$9 -> 0 | F6: =+'Tabela V'!$C$10 -> 0 | G6: ='Tabela V'!$C$11 -> 0 | H6: =+'Tabela V'!$C$12 -> 0 | I6: =+'Tabela V'!$C$13 -> 0 | J6: =+'Tabela V'!$C$14 -> 0 | K6: =+'Tabela V'!$C$15 -> 0 | L6: =+'Tabela V'!$C$16 -> 0 | M6: =+'Tabela V'!$C$17 -> 0 | N6: =+'Tabela V'!$C$18 -> 0 | O6: =+'Tabela V'!$C$19 -> 0 | P6: =+'Tabela V'!$C$20 -> 0 | Q6: =+'Tabela V'!$C$21 -> 0 | R6: =+'Tabela V'!$C$22 -> 0 | S6: =+'Tabela V'!$C$23 -> 0 | T6: =+'Tabela V'!$C$24 -> 0 | U6: =+'Tabela V'!$C$25 -> 0 | V6: =+'Tabela V'!$C$26 -> 0 | W6: =+'Tabela V'!$C$27 -> 0 | X6: =+'Tabela V'!$C$28 -> 0 | Y6: =+'Tabela V'!$C$29 -> 0 | Z6: =+'Tabela V'!$C$30 -> 0 | AA6: =+'Tabela V'!$C$31 -> 0 | AB6: =+'Tabela V'!$C$32 -> 0 | AC6: =+'Tabela V'!$C$33 -> 0 | AD6: =+'Tabela V'!$C$34 -> 0 | AE6: =+'Tabela V'!$C$35 -> 0 | AF6: =+'Tabela V'!$C$36 -> 0 | AG6: =+'Tabela V'!$C$37 -> 0 | AH6: =+'Tabela V'!$C$38 -> 0 | AI6: =+'Tabela V'!$C$39 -> 0 | AJ6: =+'Tabela V'!$C$40 -> 0 | AK6: =+'Tabela V'!$C$41 -> 0 | AL6: =+'Tabela V'!$C$42 -> 0 | AM6: =+'Tabela V'!$C$43 -> 0 | AN6: =+'Tabela V'!$C$44 -> 0 | AO6: =+'Tabela V'!$C$45 -> 0 | AP6: =+'Tabela V'!$C$46 -> 0 | AQ6: =+'Tabela V'!$C$47 -> 0 | AR6: =+'Tabela V'!$C$48 -> 0 | AS6: =+'Tabela V'!$C$49 -> 0 | AT6: =+'Tabela V'!$C$50 -> 0 | AU6: =+'Tabela V'!$C$51 -> 0 | AV6: =+'Tabela V'!$C$52 -> 0 | AW6: =+'Tabela V'!$C$53 -> 0
A7: ='Tabela I'!$F$2 -> 0 | B7: ='Tabela I'!$F$1 -> 2023 | C7: 131 | D7: 0 | E7: =+'Tabela V'!$D$9 -> 0 | F7: =+'Tabela V'!$D$10 -> 0 | G7: ='Tabela V'!$D$11 -> 0 | H7: =+'Tabela V'!$D$12 -> 0 | I7: =+'Tabela V'!$D$13 -> 0 | J7: =+'Tabela V'!$D$14 -> 0 | K7: =+'Tabela V'!$D$15 -> 0 | L7: =+'Tabela V'!$D$16 -> 0 | M7: =+'Tabela V'!$D$17 -> 0 | N7: =+'Tabela V'!$D$18 -> 0 | O7: =+'Tabela V'!$D$19 -> 0 | P7: =+'Tabela V'!$D$20 -> 0 | Q7: =+'Tabela V'!$D$21 -> 0 | R7: =+'Tabela V'!$D$22 -> 0 | S7: =+'Tabela V'!$D$23 -> 0 | T7: =+'Tabela V'!$D$24 -> 0 | U7: =+'Tabela V'!$D$25 -> 0 | V7: =+'Tabela V'!$D$26 -> 0 | W7: =+'Tabela V'!$D$27 -> 0 | X7: =+'Tabela V'!$D$28 -> 0 | Y7: =+'Tabela V'!$D$29 -> 0 | Z7: =+'Tabela V'!$D$30 -> 0 | AA7: =+'Tabela V'!$D$31 -> 0 | AB7: =+'Tabela V'!$D$32 -> 0 | AC7: =+'Tabela V'!$D$33 -> 0 | AD7: =+'Tabela V'!$D$34 -> 0 | AE7: =+'Tabela V'!$D$35 -> 0 | AF7: =+'Tabela V'!$D$36 -> 0 | AG7: =+'Tabela V'!$D$37 -> 0 | AH7: =+'Tabela V'!$D$38 -> 0 | AI7: =+'Tabela V'!$D$39 -> 0 | AJ7: =+'Tabela V'!$D$40 -> 0 | AK7: =+'Tabela V'!$D$41 -> 0 | AL7: =+'Tabela V'!$D$42 -> 0 | AM7: =+'Tabela V'!$D$43 -> 0 | AN7: =+'Tabela V'!$D$44 -> 0 | AO7: =+'Tabela V'!$D$45 -> 0 | AP7: =+'Tabela V'!$D$46 -> 0 | AQ7: =+'Tabela V'!$D$47 -> 0 | AR7: =+'Tabela V'!$D$48 -> 0 | AS7: =+'Tabela V'!$D$49 -> 0 | AT7: =+'Tabela V'!$D$50 -> 0 | AU7: =+'Tabela V'!$D$51 -> 0 | AV7: =+'Tabela V'!$D$52 -> 0 | AW7: =+'Tabela V'!$D$53 -> 0
E8: =SUM(E2:E7) -> 0 | F8: =SUM(F2:F7) -> 0 | G8: =SUM(G2:G7) -> 0 | H8: =SUM(H2:H7) -> 0 | I8: =SUM(I2:I7) -> 0 | J8: =SUM(J2:J7) -> 0 | K8: =SUM(K2:K7) -> 0 | L8: =SUM(L2:L7) -> 0 | ... AW8: =SUM(AW2:AW7) -> 0
