Workbook

Sheet Uputstvo
B2: OKRUŽNI PRIVREDNI SUDOVI
B4: Kompletni materijali u vezi procesa izvještavanja i ocjenjivanja rada u sudovima za 2023. godinu dostupni su na linku:
B5: https://vstv.pravosudje.ba/vstvfo/B/141/article/123401
B6: Tabele za popunjavanje podataka o radu sudova nije moguće mijenjati, niti dodavati nove redove ili kolone.
B7: Tabele se isključivo popunjavaju predviđenim redoslijedom, po redoslijedu postavljenih tabela.
B10: Podatke je potrebno upisivati samo u polja osjenčena žutom bojom.
B11: U ostala polja nije moguće upisivati vrijednosti, u ovim poljima vrijednosti će biti izračunate automatski.
B12: Molimo Vas da u Tabeli I i naslovu e-maila (subject) kojim ćete poslati popunjene obrasce navedete naziv Vašeg suda.
B15: Popunjene obrasce poslati na e-mail adresu: vstvstatistika@pravosudje.ba do 01.02.2024. godine.
B17: Za sva eventualna pitanja vezano za popunjavanje obrazaca molimo Vas da kontaktirate Odjel za pravosudnu analitiku i izvještavanje, na telefon: 033 704 616 ili 033 707 584.
B20: Tabele za ocjenjivanje NPF u sudu sadrže detaljnije napomene koje je potrebno imati u vidu prilikom popunjavanja tabela.
B24: Pored napomena datih uz tabele, potrebno je imati u vidu i slijedeće:
... B38: TABELA I – PROTOK PREDMETA U SUDU KOJI NISU EVIDENTIRANI U CMS-u Napomena za prikazivanje podataka o tzv. komunalnim predmetima: Prema pojašnjenju ove kategorije predmeta, koja je VSTV pružilo u dopisu broj VSTV-08-0027-10012007 od 10.01.2007.godine, pod komunalnim predmetima se smatraju svi predmeti u kojima je povjerilac komunalno preduzeće, a odnose se na neplaćene komunalne usluge. Prema tome, u ovu kategoriju predmeta spadaju predmeti koji se odnose na naplatu potraživanja nastalih na osnovu isporuke vode, toplotne energije, odvoza smeća, električne energije, telefonskih usluga, održavanje zajedničkih prostorija, RTV takse i slično. TABELA IV – OSTALI PODACI Molimo Vas da u tabeli IV date odgovor na pitanje o broju predmeta koji nisu zavedeni kroz sudski upisnik i koji nisu dodijeljeni određenom sudiji (ukoliko imate takvih predmeta), navodeći podatke o vrsti i broju predmeta. TABELA V– PREGLED STAROSTI NERIJEŠENIH PREDMETA SA 31.12.2018. god. Molimo Vas da u u Tabeli V razvrstate neriješene predmete registracije poslovnih subjekata, zaključno sa 31.12.2018. godine, prema godini iniciranja pred prvostepenim sudom. TABELA VI – ODLUKE USTAVNOG SUDA BIH U tabeli VI potrebno je prikazati samo podatke o odlukama Ustavnog suda BiH u kojima je izrekom obuhvaćena odluka Vašeg suda, odnosno postupak koji je u toku pred Vašim sudom (kada je riječ o apelacijama sa navodima da postoji kršenje prava na suđenje u razumnom roku). Posebna napomena: Traženi podaci se odnose na odluke iz apelacione nadležnosti Ustavnog suda BiH. Tabela VIa – Odluke kojima se ne usvaja apelacija: potrebno je prikazati podatke o odlukama Ustavnog suda BiH kojima je utvrđeno da nije osnovana apelacija izjavljena u odnosu na odluke Vašeg suda. Molimo da unesete podatake u kolone I-III prema njihovim nazivima. Podaci se automatski preračunavaju u koloni IV. Tabela VIb – Odluke kojima apelacija usvaja: “Pravni osnov” - Odluke kojima se usvaja apelacija potrebno je razvrstati prema izrekama odluka Ustavnog suda BiH kojima su utvrđene povrede Ustava BiH, Evropske konvencije o ljudskim pravima (u tabeli: EK) i njenih protokola (u tabeli:P). Svi pomenuti dokumenti i klasifikacija povreda su dostupni na zvaničnoj web stranici Ustavnog suda BiH (http://www.ccbh.ba/bos/p_stream.php?kat=83). Kolone I - IV “Broj odluka kojim se usvaja apelacija” – Potrebno je razvrstati broj odluka Ustavnog suda kojima se izjavljena apelacija usvaja u odnosu na odluku Vašeg suda, prema odgovarajućim kategorijama, u zavisnosti od izreke odluke Ustavnog suda BiH. Preostale odluke Ustavnog suda, koje ne spadaju u navedene tri kategorije, potrebno je upisati u rubriku “Broj ostalih odluka kojima se usvajaju apelacije” (npr. odluka kojom se usvaja apelacija i konstatuje povreda prava na pravično suđenje, zbog prekoračenja razumnog roka za donošenje odluke, nakon što je sudski postupak završen, a kojom se ne nalaže sudu da okonča predmet bez odlaganja, odnosno ne ukida ili ne preinačuje odluka suda). Ukoliko su izrekom odluke Ustavnog suda BiH ustanovljene dvije ili više povreda ustavom zagarantovanih prava i sloboda, molimo Vas da svaku od povreda evidentirate posebno u tabeli VIb. Molimo Vas da i djelimično usvojene apelacije prikažete u odgovarajućim kolonama tabele VIb. Tabela VIc – Predmeti u kojima se nalaže sudu da okonča predmet bez odlaganja zbog kršenja prava na donošenje odluke u razumnom roku U tabeli VIc potrebno je prikazati predmete u kojima je Ustavni sud BiH naložio sudu da okonča predmet bez odlaganja zbog kršenja prava na donošenje odluke u razumnom roku. Molimo Vas da u ovu tabelu unesete samo podatke o predmetima u kojima je Vašem sudu naloženo da okonča predmet bez odlaganja. U skladu sa obrazloženjem odluke Ustavnog suda BiH, potrebno je da naznačite u kojoj fazi postupka je Vaš sud rješavao predmet za koji je Ustavni sud utvrdio da je Vaš sud u najvećoj mjeri doprinio odugovlačenju postupka. Tabela VId - Predmeti u kojima je utvrđeno kršenje prava na donošenje odluke u razumnom roku Takođe, potrebno je da popunite i tabelu VId koja se odnosi na ukupan broj predmeta, u kojima je usvojena apelacija u odnosu na Vaš sud i određena naknada nematerijalne štete zbog kršenja prava na donošenje odluke u razumnom roku, kao i ukupan iznos naknade koji je utvrdio Ustavni sud BiH.

Sheet Tabela I
A1: Okružni privredni sud: | F1: 2023
A2: Izvještajni period: | C2: 1.1.2023.-31.12.2023.
A3: Ostvarena kolektivna norma za sud u 2023. godini: | E3: =+'Tabela II'!P79
A4: Kvalitet rada suda: | C4: ='Tabela III'!J23
A5: Tabela I - Protok predmeta u sudu koji nisu evidentirani u sistemu CMS (pogledati NAPOMENU 1)
A6: Vrsta predmeta | B6: Broj neriješenih predmeta na početku izvještajnog perioda | C6: Broj primljenih predmeta | D6: Ukupan broj svih predmeta u radu | E6: Broj riješenih predmeta | F6: Broj neriješenih predmeta na kraju izvještajnog perioda
B7: I | C7: II | D7: III=I+II | E7: IV | F7: V=III-IV
A8: Predmeti za naplatu komunalnih usluga
A9: Ps | D9: =IF((B9+C9)=0," ",(B9+C9)) | F9: =IF((B9+C9-E9)=0," ",(B9+C9-E9))
A10: Mals | D10: =IF((B10+C10)=0," ",(B10+C10)) | F10: =IF((B10+C10-E10)=0," ",(B10+C10-E10))
A11: Ip | D11: =IF((B11+C11)=0," ",(B11+C11)) | F11: =IF((B11+C11-E11)=0," ",(B11+C11-E11))
A12: Ukupno | B12: =SUM(B9:B11) -> 0 | C12: =SUM(C9:C11) -> 0 | D12: =SUM(D9:D11) -> 0 | E12: =SUM(E9:E11) -> 0 | F12: =SUM(F9:F11) -> 0
A13: Registracija poslovnih subjekata
A14: Reg | D14: =IF((B14+C14)=0," ",(B14+C14)) | F14: =IF((B14+C14-E14)=0," ",(B14+C14-E14))
A15: RegZ | D15: =IF((B15+C15)=0," ",(B15+C15)) | F15: =IF((B15+C15-E15)=0," ",(B15+C15-E15))
A16: Ostalo | D16: =IF((B16+C16)=0," ",(B16+C16)) | F16: =IF((B16+C16-E16)=0," ",(B16+C16-E16))
A17: Ukupno | B17: =SUM(B14:B16) -> 0 | C17: =SUM(C14:C16) -> 0 | D17: =SUM(D14:D16) -> 0 | E17: =SUM(E14:E16) -> 0 | F17: =SUM(F14:F16) -> 0
A19: Medijacija | D19: =IF((B19+C19)=0," ",(B19+C19)) | F19: =IF((B19+C19-E19)=0," ",(B19+C19-E19))
A21: UKUPNO | B21: =SUM(B9:B11,B14:B16,B19) -> 0 | C21: =SUM(C9:C11,C14:C16,C19) -> 0 | D21: =SUM(D9:D11,D14:D16,D19) -> 0 | E21: =SUM(E9:E11,E14:E16,E19) -> 0 | F21: =SUM(F9:F11,F14:F16,F19) -> 0
A23: Napomena 1: Molimo Vas da obratite pažnju da podaci koji se iskazuju u Tabeli I - Protok predmeta u sudu koji nisu evidentirani u CMS Kolona I – Broj neriješenih predmeta na početku izvještajnog perioda trebaju biti jednaki podacima o broju neriješenih predmeta na kraju izvještajnog perioda koje ste iskazali u Tabeli za izvještavanje o radu suda za 2022. godinu ( Tabela I - Protok predmeta u sudu koji nisu evidentirani u CMS Kolona V – Broj neriješenih predmeta na kraju izvještajnog perioda).
A24: Pomoći radi, na linku iz sheet-a "Uputstvo" nalazi se tabela "4. Pomoćna tabela: Ukupan broj neriješenih predmeta VAN CMS-a na kraju 2022. godine" sa podacima o ukupnom broju neriješenih predmeta koji nisu evidentirani u CMS-u na kraju 2022. godine, koje ste VSTV-u BiH dostavili putem Tabele za izvještavanje o radu suda za 2022. godinu (Tabela I - Protok predmeta u sudu koji nisu evidentirani u CMS Kolona V – Broj neriješenih predmeta na kraju izvještajnog perioda).

Sheet tbl1Protok
A1: for_key | B1: godina | C1: idReferata | D1: BrNerPocGod | E1: BrPrimTokGod | F1: BrRijTokGod
A2: ='Tabela I'!$F$2 -> 0 | B2: ='Tabela I'!$F$1 -> 2023 | C2: 148 | D2: ='Tabela I'!B9 -> 0 | E2: ='Tabela I'!C9 -> 0 | F2: ='Tabela I'!E9 -> 0
A3: ='Tabela I'!$F$2 -> 0 | B3: ='Tabela I'!$F$1 -> 2023 | C3: 128 | D3: ='Tabela I'!B10 -> 0 | E3: ='Tabela I'!C10 -> 0 | F3: ='Tabela I'!E10 -> 0
A4: ='Tabela I'!$F$2 -> 0 | B4: ='Tabela I'!$F$1 -> 2023 | C4: 131 | D4: ='Tabela I'!B11 -> 0 | E4: ='Tabela I'!C11 -> 0 | F4: ='Tabela I'!E11 -> 0
A5: ='Tabela I'!$F$2 -> 0 | B5: ='Tabela I'!$F$1 -> 2023 | C5: 26 | D5: ='Tabela I'!B14 -> 0 | E5: ='Tabela I'!C14 -> 0 | F5: ='Tabela I'!E14 -> 0
A6: ='Tabela I'!$F$2 -> 0 | B6: ='Tabela I'!$F$1 -> 2023 | C6: 104 | D6: ='Tabela I'!B15 -> 0 | E6: ='Tabela I'!C15 -> 0 | F6: ='Tabela I'!E15 -> 0
A7: ='Tabela I'!$F$2 -> 0 | B7: ='Tabela I'!$F$1 -> 2023 | C7: 123 | D7: ='Tabela I'!B16 -> 0 | E7: ='Tabela I'!C16 -> 0 | F7: ='Tabela I'!E16 -> 0
A8: ='Tabela I'!$F$2 -> 0 | B8: ='Tabela I'!$F$1 -> 2023 | C8: 65 | D8: ='Tabela I'!B19 -> 0 | E8: ='Tabela I'!C19 -> 0 | F8: ='Tabela I'!E19 -> 0

Sheet Tabela II
A1: ='Tabela I'!A1 -> Okružni privredni sud: | D1: ='Tabela I'!C1 -> 0
A2: Izvještajni period: | C2: 1.1.2023.-31.12.2023.
A3: Tabela IIa – Ostvarena orijentaciona norma - Elektronski obrazac za obračun ostvarene orijentacione norme (pogledati NAPOMENU 4)
A5: Redni broj | B5: Ime i prezime - evidentirani podatak se automatski prenosi u Tabelu IIIa | C5: Ocjenjen u sudu | D5: Naziv odjela | E5: Pravosudna funkcija | G5: Procenat orijentacijske norme koju je nosilac pravosudne funkcije dužan ostvariti - Ukoliko procenat orijenatcijske norme nije predviđen u padajućem meniju pogledati NAPOMENU 3 | H5: Period obavljanja pravosudne funkcije u instituciji koja popunjava tabelu Ia | J5: Ukupan broj dana za obračun norme - pogledati NAPOMENU 2 | K5: Broj dana opravdanog odsustva iz člana 13. Kriterija za ocjenjivanje rada (pogledati NAPOMENU 9) | L5: Ostvarena orijentaciona norma iz CMS-a | M5: Ostvarena orijentaciona norma na predmetima van CMS-a - pogledati NAPOMENU 6 | N5: Procenat ostvarene orijentacione norme prema članu 9. Pravilnika o orijentacijskim mjerilima - pogledati NAPOMENU 7 | O5: Procenat ostvarene propisane godišnje orijentacijske norme u 2023. godini | P5: Ukupno ostvarena orijentacijska norma u 2023. godini | Q5: Nedovoljan broj predmeta u radu - pogledati NAPOMENU 5 | V5: Broj ostvarenih bodova | W5: Sudija | X5: Stručni saradnik | Y5: Predsjednik odjela | Z5: Predsjednik sudskog vijeća vrhovnog suda entiteta
H6: Datum od | I6: Datum do | Q6: broj predmeta u radu | R6: broj riješenih predmeta | S6: broj neriješenih predmeta sa zakonskim i procesnim smetnjama | T6: broj neriješenih predmeta bez zakonskih i procesnih smetnji | U6: procenat riješenih predmeta
A7: I | B7: II | C7: III | D7: IV | E7: V | G7: VI | H7: VII | I7: VIII | J7: IX | K7: X | L7: XI | M7: XII | N7: XIII | O7: XIV | P7: XV | Q7: XVI | R7: XVII | S7: XVIII | T7: XIX | U7: XX | V7: XXI | W7: 1 | X7: 0.9 | Y7: 0.8 | Z7: 0.5 | AA7: 0.25 | AB7: Ne treba raditi na predm.
A8: 1 | E8: Predsjednik suda | J8: 260 | O8: =IF(G8="","",IF(G8="Ne treba raditi na predm.",1+SUM(L8:N8),(SUM(L8:N8)/G8))) | P8: =IF(K8>0,IF(G8="Ne treba raditi na predm.",O8,O8*(J8/(J8-K8))),O8) | U8: =IF(Q8="","",R8/(Q8-S8)) | V8: =IF(P8="","",IF(C8="Ne","",IF(G8="Ne treba raditi na predm.","",IF(P8>1,20,IF(U8="",IF(P8>0.9,18,IF(P8>0.8,16,IF(P8>0.7,12,IF(P8>0.6,8,IF(P8>0.5,4,0))))),IF(U8>0.94,20,IF(U8>0.9,18,IF(U8>0.8,16,IF(U8>0.7,12,IF(U8>0.6,8,IF(U8>0.5,4,0))))))))))) | W8: 0.7 | X8: 0.5 | Y8: 0.4 | Z8: 0.3 | AA8: Ne treba raditi na predm.
E9: Predsjednik suda | J9: 260 | O9: =IF(G9="","",IF(G9="Ne treba raditi na predm.",1+SUM(L9:N9),(SUM(L9:N9)/G9))) | P9: =IF(K9>0,IF(G9="Ne treba raditi na predm.",O9,O9*(J9/(J9-K9))),O9) | U9: =IF(Q9="","",R9/(Q9-S9)) | V9: =IF(P9="","",IF(C8="Ne","",IF(G9="Ne treba raditi na predm.","",IF(P9>1,20,IF(U9="",IF(P9>0.9,18,IF(P9>0.8,16,IF(P9>0.7,12,IF(P9>0.6,8,IF(P9>0.5,4,0))))),IF(U9>0.94,20,IF(U9>0.9,18,IF(U9>0.8,16,IF(U9>0.7,12,IF(U9>0.6,8,IF(U9>0.5,4,0)))))))))))
A10: 2 | F10: =IF(E10="Sudija",1,IF(E10="Stručni saradnik",1,"")) | J10: 260 | O10: =IF(G10="","",IF(G10="Ne treba raditi na predm.",1+SUM(L10:N10),(SUM(L10:N10)/G10))) | P10: =IF(K10>0,IF(G10="Ne treba raditi na predm.",O10,O10*(J10/(J10-K10))),O10) | U10: =IF(Q10="","",R10/(Q10-S10)) | V10: =IF(P10="","",IF(C10="Ne","",IF(G10="Ne treba raditi na predm.","",IF(P10>1,40,IF(U10="",IF(P10>0.9,35,IF(P10>0.8,30,IF(P10>0.7,20,IF(P10>0.6,15,IF(P10>0.5,10,0))))),IF(U10>0.94,40,IF(U10>0.9,35,IF(U10>0.8,30,IF(U10>0.7,20,IF(U10>0.6,15,IF(U10>0.5,10,0))))))))))) | W10: Da | X10: Ne
A11: 3 | F11: =IF(E11="Sudija",1,IF(E11="Stručni saradnik",1,"")) | J11: 260 | O11: =IF(G11="","",IF(G11="Ne treba raditi na predm.",1+SUM(L11:N11),(SUM(L11:N11)/G11))) | P11: =IF(K11>0,IF(G11="Ne treba raditi na predm.",O11,O11*(J11/(J11-K11))),O11) | U11: =IF(Q11="","",R11/(Q11-S11)) | V11: =IF(P11="","",IF(C11="Ne","",IF(G11="Ne treba raditi na predm.","",IF(P11>1,40,IF(U11="",IF(P11>0.9,35,IF(P11>0.8,30,IF(P11>0.7,20,IF(P11>0.6,15,IF(P11>0.5,10,0))))),IF(U11>0.94,40,IF(U11>0.9,35,IF(U11>0.8,30,IF(U11>0.7,20,IF(U11>0.6,15,IF(U11>0.5,10,0)))))))))))
A12: 4 | F12: =IF(E12="Sudija",1,IF(E12="Stručni saradnik",1,"")) | J12: 260 | O12: =IF(G12="","",IF(G12="Ne treba raditi na predm.",1+SUM(L12:N12),(SUM(L12:N12)/G12))) | P12: =IF(K12>0,IF(G12="Ne treba raditi na predm.",O12,O12*(J12/(J12-K12))),O12) | U12: =IF(Q12="","",R12/(Q12-S12)) | V12: =IF(P12="","",IF(C12="Ne","",IF(G12="Ne treba raditi na predm.","",IF(P12>1,40,IF(U12="",IF(P12>0.9,35,IF(P12>0.8,30,IF(P12>0.7,20,IF(P12>0.6,15,IF(P12>0.5,10,0))))),IF(U12>0.94,40,IF(U12>0.9,35,IF(U12>0.8,30,IF(U12>0.7,20,IF(U12>0.6,15,IF(U12>0.5,10,0)))))))))))
A13: 5 | F13: =IF(E13="Sudija",1,IF(E13="Stručni saradnik",1,"")) | J13: 260 | O13: =IF(G13="","",IF(G13="Ne treba raditi na predm.",1+SUM(L13:N13),(SUM(L13:N13)/G13))) | P13: =IF(K13>0,IF(G13="Ne treba raditi na predm.",O13,O13*(J13/(J13-K13))),O13) | U13: =IF(Q13="","",R13/(Q13-S13)) | V13: =IF(P13="","",IF(C13="Ne","",IF(G13="Ne treba raditi na predm.","",IF(P13>1,40,IF(U13="",IF(P13>0.9,35,IF(P13>0.8,30,IF(P13>0.7,20,IF(P13>0.6,15,IF(P13>0.5,10,0))))),IF(U13>0.94,40,IF(U13>0.9,35,IF(U13>0.8,30,IF(U13>0.7,20,IF(U13>0.6,15,IF(U13>0.5,10,0)))))))))))
A14: 6 | F14: =IF(E14="Sudija",1,IF(E14="Stručni saradnik",1,"")) | J14: 260 | O14: =IF(G14="","",IF(G14="Ne treba raditi na predm.",1+SUM(L14:N14),(SUM(L14:N14)/G14))) | P14: =IF(K14>0,IF(G14="Ne treba raditi na predm.",O14,O14*(J14/(J14-K14))),O14) | U14: =IF(Q14="","",R14/(Q14-S14)) | V14: =IF(P14="","",IF(C14="Ne","",IF(G14="Ne treba raditi na predm.","",IF(P14>1,40,IF(U14="",IF(P14>0.9,35,IF(P14>0.8,30,IF(P14>0.7,20,IF(P14>0.6,15,IF(P14>0.5,10,0))))),IF(U14>0.94,40,IF(U14>0.9,35,IF(U14>0.8,30,IF(U14>0.7,20,IF(U14>0.6,15,IF(U14>0.5,10,0)))))))))))
A15: 7 | F15: =IF(E15="Sudija",1,IF(E15="Stručni saradnik",1,"")) | J15: 260 | O15: =IF(G15="","",IF(G15="Ne treba raditi na predm.",1+SUM(L15:N15),(SUM(L15:N15)/G15))) | P15: =IF(K15>0,IF(G15="Ne treba raditi na predm.",O15,O15*(J15/(J15-K15))),O15) | U15: =IF(Q15="","",R15/(Q15-S15)) | V15: =IF(P15="","",IF(C15="Ne","",IF(G15="Ne treba raditi na predm.","",IF(P15>1,40,IF(U15="",IF(P15>0.9,35,IF(P15>0.8,30,IF(P15>0.7,20,IF(P15>0.6,15,IF(P15>0.5,10,0))))),IF(U15>0.94,40,IF(U15>0.9,35,IF(U15>0.8,30,IF(U15>0.7,20,IF(U15>0.6,15,IF(U15>0.5,10,0)))))))))))
A16: 8 | F16: =IF(E16="Sudija",1,IF(E16="Stručni saradnik",1,"")) | J16: 260 | O16: =IF(G16="","",IF(G16="Ne treba raditi na predm.",1+SUM(L16:N16),(SUM(L16:N16)/G16))) | P16: =IF(K16>0,IF(G16="Ne treba raditi na predm.",O16,O16*(J16/(J16-K16))),O16) | U16: =IF(Q16="","",R16/(Q16-S16)) | V16: =IF(P16="","",IF(C16="Ne","",IF(G16="Ne treba raditi na predm.","",IF(P16>1,40,IF(U16="",IF(P16>0.9,35,IF(P16>0.8,30,IF(P16>0.7,20,IF(P16>0.6,15,IF(P16>0.5,10,0))))),IF(U16>0.94,40,IF(U16>0.9,35,IF(U16>0.8,30,IF(U16>0.7,20,IF(U16>0.6,15,IF(U16>0.5,10,0)))))))))))
A17: 9 | F17: =IF(E17="Sudija",1,IF(E17="Stručni saradnik",1,"")) | J17: 260 | O17: =IF(G17="","",IF(G17="Ne treba raditi na predm.",1+SUM(L17:N17),(SUM(L17:N17)/G17))) | P17: =IF(K17>0,IF(G17="Ne treba raditi na predm.",O17,O17*(J17/(J17-K17))),O17) | U17: =IF(Q17="","",R17/(Q17-S17)) | V17: =IF(P17="","",IF(C17="Ne","",IF(G17="Ne treba raditi na predm.","",IF(P17>1,40,IF(U17="",IF(P17>0.9,35,IF(P17>0.8,30,IF(P17>0.7,20,IF(P17>0.6,15,IF(P17>0.5,10,0))))),IF(U17>0.94,40,IF(U17>0.9,35,IF(U17>0.8,30,IF(U17>0.7,20,IF(U17>0.6,15,IF(U17>0.5,10,0)))))))))))
A18: 10 | F18: =IF(E18="Sudija",1,IF(E18="Stručni saradnik",1,"")) | J18: 260 | O18: =IF(G18="","",IF(G18="Ne treba raditi na predm.",1+SUM(L18:N18),(SUM(L18:N18)/G18))) | P18: =IF(K18>0,IF(G18="Ne treba raditi na predm.",O18,O18*(J18/(J18-K18))),O18) | U18: =IF(Q18="","",R18/(Q18-S18)) | V18: =IF(P18="","",IF(C18="Ne","",IF(G18="Ne treba raditi na predm.","",IF(P18>1,40,IF(U18="",IF(P18>0.9,35,IF(P18>0.8,30,IF(P18>0.7,20,IF(P18>0.6,15,IF(P18>0.5,10,0))))),IF(U18>0.94,40,IF(U18>0.9,35,IF(U18>0.8,30,IF(U18>0.7,20,IF(U18>0.6,15,IF(U18>0.5,10,0)))))))))))
A19: 11 | F19: =IF(E19="Sudija",1,IF(E19="Stručni saradnik",1,"")) | J19: 260 | O19: =IF(G19="","",IF(G19="Ne treba raditi na predm.",1+SUM(L19:N19),(SUM(L19:N19)/G19))) | P19: =IF(K19>0,IF(G19="Ne treba raditi na predm.",O19,O19*(J19/(J19-K19))),O19) | U19: =IF(Q19="","",R19/(Q19-S19)) | V19: =IF(P19="","",IF(C19="Ne","",IF(G19="Ne treba raditi na predm.","",IF(P19>1,40,IF(U19="",IF(P19>0.9,35,IF(P19>0.8,30,IF(P19>0.7,20,IF(P19>0.6,15,IF(P19>0.5,10,0))))),IF(U19>0.94,40,IF(U19>0.9,35,IF(U19>0.8,30,IF(U19>0.7,20,IF(U19>0.6,15,IF(U19>0.5,10,0)))))))))))
A20: 12 | F20: =IF(E20="Sudija",1,IF(E20="Stručni saradnik",1,"")) | J20: 260 | O20: =IF(G20="","",IF(G20="Ne treba raditi na predm.",1+SUM(L20:N20),(SUM(L20:N20)/G20))) | P20: =IF(K20>0,IF(G20="Ne treba raditi na predm.",O20,O20*(J20/(J20-K20))),O20) | U20: =IF(Q20="","",R20/(Q20-S20)) | V20: =IF(P20="","",IF(C20="Ne","",IF(G20="Ne treba raditi na predm.","",IF(P20>1,40,IF(U20="",IF(P20>0.9,35,IF(P20>0.8,30,IF(P20>0.7,20,IF(P20>0.6,15,IF(P20>0.5,10,0))))),IF(U20>0.94,40,IF(U20>0.9,35,IF(U20>0.8,30,IF(U20>0.7,20,IF(U20>0.6,15,IF(U20>0.5,10,0)))))))))))
A21: 13 | F21: =IF(E21="Sudija",1,IF(E21="Stručni saradnik",1,"")) | J21: 260 | O21: =IF(G21="","",IF(G21="Ne treba raditi na predm.",1+SUM(L21:N21),(SUM(L21:N21)/G21))) | P21: =IF(K21>0,IF(G21="Ne treba raditi na predm.",O21,O21*(J21/(J21-K21))),O21) | U21: =IF(Q21="","",R21/(Q21-S21)) | V21: =IF(P21="","",IF(C21="Ne","",IF(G21="Ne treba raditi na predm.","",IF(P21>1,40,IF(U21="",IF(P21>0.9,35,IF(P21>0.8,30,IF(P21>0.7,20,IF(P21>0.6,15,IF(P21>0.5,10,0))))),IF(U21>0.94,40,IF(U21>0.9,35,IF(U21>0.8,30,IF(U21>0.7,20,IF(U21>0.6,15,IF(U21>0.5,10,0)))))))))))
A22: 14 | F22: =IF(E22="Sudija",1,IF(E22="Stručni saradnik",1,"")) | J22: 260 | O22: =IF(G22="","",IF(G22="Ne treba raditi na predm.",1+SUM(L22:N22),(SUM(L22:N22)/G22))) | P22: =IF(K22>0,IF(G22="Ne treba raditi na predm.",O22,O22*(J22/(J22-K22))),O22) | U22: =IF(Q22="","",R22/(Q22-S22)) | V22: =IF(P22="","",IF(C22="Ne","",IF(G22="Ne treba raditi na predm.","",IF(P22>1,40,IF(U22="",IF(P22>0.9,35,IF(P22>0.8,30,IF(P22>0.7,20,IF(P22>0.6,15,IF(P22>0.5,10,0))))),IF(U22>0.94,40,IF(U22>0.9,35,IF(U22>0.8,30,IF(U22>0.7,20,IF(U22>0.6,15,IF(U22>0.5,10,0)))))))))))
... A73: 65 | F73: =IF(E73="Sudija",1,IF(E73="Stručni saradnik",1,"")) | J73: 260 | O73: =IF(G73="","",IF(G73="Ne treba raditi na predm.",1+SUM(L73:N73),(SUM(L73:N73)/G73))) | P73: =IF(K73>0,IF(G73="Ne treba raditi na predm.",O73,O73*(J73/(J73-K73))),O73) | U73: =IF(Q73="","",R73/(Q73-S73)) | V73: =IF(P73="","",IF(C73="Ne","",IF(G73="Ne treba raditi na predm.","",IF(P73>1,40,IF(U73="",IF(P73>0.9,35,IF(P73>0.8,30,IF(P73>0.7,20,IF(P73>0.6,15,IF(P73>0.5,10,0))))),IF(U73>0.94,40,IF(U73>0.9,35,IF(U73>0.8,30,IF(U73>0.7,20,IF(U73>0.6,15,IF(U73>0.5,10,0)))))))))))
F74: =IF(E74="Sudija",1,IF(E74="Stručni saradnik",1,"")) | J74: 260 | O74: =IF(G74="","",IF(G74="Ne treba raditi na predm.",1+SUM(L74:N74),(SUM(L74:N74)/G74))) | P74: =IF(K74>0,IF(G74="Ne treba raditi na predm.",O74,O74*(J74/(J74-K74))),O74) | U74: =IF(Q74="","",R74/(Q74-S74)) | V74: =IF(P74="","",IF(C74="Ne","",IF(G74="Ne treba raditi na predm.","",IF(P74>1,40,IF(U74="",IF(P74>0.9,35,IF(P74>0.8,30,IF(P74>0.7,20,IF(P74>0.6,15,IF(P74>0.5,10,0))))),IF(U74>0.94,40,IF(U74>0.9,35,IF(U74>0.8,30,IF(U74>0.7,20,IF(U74>0.6,15,IF(U74>0.5,10,0)))))))))))
F75: =IF(E75="Sudija",1,IF(E75="Stručni saradnik",1,"")) | J75: 260 | O75: =IF(G75="","",IF(G75="Ne treba raditi na predm.",1+SUM(L75:N75),(SUM(L75:N75)/G75))) | P75: =IF(K75>0,IF(G75="Ne treba raditi na predm.",O75,O75*(J75/(J75-K75))),O75) | U75: =IF(Q75="","",R75/(Q75-S75)) | V75: =IF(P75="","",IF(C75="Ne","",IF(G75="Ne treba raditi na predm.","",IF(P75>1,40,IF(U75="",IF(P75>0.9,35,IF(P75>0.8,30,IF(P75>0.7,20,IF(P75>0.6,15,IF(P75>0.5,10,0))))),IF(U75>0.94,40,IF(U75>0.9,35,IF(U75>0.8,30,IF(U75>0.7,20,IF(U75>0.6,15,IF(U75>0.5,10,0)))))))))))
F76: =IF(E76="Sudija",1,IF(E76="Stručni saradnik",1,"")) | J76: 260 | O76: =IF(G76="","",IF(G76="Ne treba raditi na predm.",1+SUM(L76:N76),(SUM(L76:N76)/G76))) | P76: =IF(K76>0,IF(G76="Ne treba raditi na predm.",O76,O76*(J76/(J76-K76))),O76) | U76: =IF(Q76="","",R76/(Q76-S76)) | V76: =IF(P76="","",IF(C76="Ne","",IF(G76="Ne treba raditi na predm.","",IF(P76>1,40,IF(U76="",IF(P76>0.9,35,IF(P76>0.8,30,IF(P76>0.7,20,IF(P76>0.6,15,IF(P76>0.5,10,0))))),IF(U76>0.94,40,IF(U76>0.9,35,IF(U76>0.8,30,IF(U76>0.7,20,IF(U76>0.6,15,IF(U76>0.5,10,0)))))))))))
F77: =IF(E77="Sudija",1,IF(E77="Stručni saradnik",1,"")) | J77: 260 | O77: =IF(G77="","",IF(G77="Ne treba raditi na predm.",1+SUM(L77:N77),(SUM(L77:N77)/G77))) | P77: =IF(K77>0,IF(G77="Ne treba raditi na predm.",O77,O77*(J77/(J77-K77))),O77) | U77: =IF(Q77="","",R77/(Q77-S77)) | V77: =IF(P77="","",IF(C77="Ne","",IF(G77="Ne treba raditi na predm.","",IF(P77>1,40,IF(U77="",IF(P77>0.9,35,IF(P77>0.8,30,IF(P77>0.7,20,IF(P77>0.6,15,IF(P77>0.5,10,0))))),IF(U77>0.94,40,IF(U77>0.9,35,IF(U77>0.8,30,IF(U77>0.7,20,IF(U77>0.6,15,IF(U77>0.5,10,0)))))))))))
F78: =IF(E78="Sudija",1,IF(E78="Stručni saradnik",1,"")) | J78: 260 | O78: =IF(G78="","",IF(G78="Ne treba raditi na predm.",1+SUM(L78:N78),(SUM(L78:N78)/G78))) | P78: =IF(K78>0,IF(G78="Ne treba raditi na predm.",O78,O78*(J78/(J78-K78))),O78) | U78: =IF(Q78="","",R78/(Q78-S78)) | V78: =IF(P78="","",IF(C78="Ne","",IF(G78="Ne treba raditi na predm.","",IF(P78>1,40,IF(U78="",IF(P78>0.9,35,IF(P78>0.8,30,IF(P78>0.7,20,IF(P78>0.6,15,IF(P78>0.5,10,0))))),IF(U78>0.94,40,IF(U78>0.9,35,IF(U78>0.8,30,IF(U78>0.7,20,IF(U78>0.6,15,IF(U78>0.5,10,0)))))))))))
O79: KOLEKTIVNA NORMA SUDA | P79: =IF(P8="",IF(P9="","",AVERAGEIF(P8:P78,">0,2")),AVERAGEIF(P8:P78,">0,2")) | Q79: =SUM(Q8:Q78) -> 0 | R79: =SUM(R8:R78) -> 0 | S79: =SUM(S8:S78) -> 0 | T79: =SUM(T8:T78) -> 0 | U79: =IF(Q79=0,"",R79/(Q79-S79))
O80: BODOVANJE ZA OSTVARENU KOLEKTIVNU NORMU SUDA U SKLADU SA ČLANOM 22. KRITERIJA ZA OCJENJIVANJE RADA PREDSJEDNIKA SUDOVA | P80: =IF(P79="","",IF(P79>1,20,IF(P79>0.9,18,IF(P79>0.8,16,IF(P79>0.7,12,IF(P79>0.6,8,IF(P79>0.5,4,0)))))))
B82: Obrazloženje norme NPF-a unesene u plava polja
B83: Primjer - Sudija 1 | C83: 8 mjeseci sudija, 4 mjeseca šef odjela (90% norme sudije) | G83: 0.97
Q90: Nedovoljan broj predmeta u radu
A91: NAPOMENA 1: U Tabelu IIa se unose podaci o ostvarenoj orijentacijskoj normi za sve nosioce pravosudnih funkcija, uključujući i one kod kojih je ukupno ostvarenje norme ispod 20%: novoimenovane sudije/stručni saradnici, sudije/stručni saradnici koji su imenovani u drugu instituciju, kao i sudije/stručni saradnici koji su prestali sa radom zbog: penzionisanja, podnošenja ostavke, smrti, gubitka radne sposobnosti, razrješenja od dužnosti, privremenog ili trajnog udaljenja od vršenja dužnosti itd. (član 14. Kriterija za ocjenjivanje rada predsjednika sudova u Bosni i Hercegovini). Ostvarena kolektivna norma suda automatski će se obračunati i predsjedniku suda će se dodijeliti odgovarajući broj bodova u skladu sa članom 22. Kriterija za ocjenjivanje rada predsjednika sudova u Bosni i Hercegovini. Ukoliko sud nije imao dovoljan broj predmeta u radu za ostvarenje orijentacijske norme, potrebno je manuelno unijeti ukupan broj predmeta koji su bili u radu u sudu kao i ukupan broj riješenih predmeta u sudu u periodu izvještavanja, kao i podatke o broju neriješenih predmeta sa zakonskim i procesnim smetnjama i broju neriješenih predmeta bez zakonskih i procesnih smetnji. Procenat riješenih predmeta automatski će se obračunati, te predsjedniku suda dodijeliti odgovarajući broj bodova u skladu sa članom 23. Kriterija za ocjenjivanje rada predsjednika sudova u Bosni i Hercegovini. | Q91: broj predmeta u radu | R91: broj riješenih predmeta | S91: broj neriješenih predmeta sa zakonskim i procesnim smetnjama | T91: broj neriješenih predmeta bez zakonskih i procesnih smetnji | U91: procenat riješenih predmeta
U92: =IF(Q92="","",R92/(Q92-S92))
T93: BODOVANJE ZA BROJ RIJEŠENIH PREDMETA U SUDU U SKLADU SA ČLANOM 23. KRITERIJA ZA OCJENJIVANJE RADA PREDSJEDNIKA SUDOVA | U93: =IF(U92="","",IF(U92>0.94,20,IF(U92>0.9,18,IF(U92>0.8,16,IF(U92>0.7,12,IF(U92>0.6,8,IF(U92>0.5,4,0)))))))
A96: Tabela IIb -Obračun norme za proces ocjenjivanja za nosioce pravosudne funkcije koji su u toku godine prešli iz jednog suda u drugi sud - Obračun prema Instrukciji dio: II POSEBNI SLUČAJEVI OCJENJIVANJA 3) a) (pogledati NAPOMENU 4)
A97: Ime i prezime predsjednika suda | O97: Ukupna ostvarena orijentacijska norma koja se unosi u Obrazac za ocjenjivanje = | P97: =P98+P99 -> 0
A98: Sud 1 | E98: Predsjednik suda | O98: =IF(G98="",0,IF(G98="Ne treba raditi na predm.",1+SUM(L98:N98),(SUM(L98:N98)/G98))) -> 0 | P98: =IF(K98>0,O98*(J98/(J98-K98)),O98) -> 0 | U98: =IF(Q98="","",(R98+R99)/(Q98+Q99-S98-S99)) | V98: =IF(P98="","",IF(C98="Ne","",IF(G98="Ne treba raditi na predm.","",IF((P98+P99)>1,20,IF(U98="",IF((P98+P99)>0.9,18,IF((P98+P99)>0.8,16,IF((P98+P99)>0.7,12,IF((P98+P99)>0.6,8,IF((P98+P99)>0.5,4,0))))),IF((U98+U99)>0.94,20,IF((U98+U99)>0.9,18,IF((U98+U99)>0.8,16,IF((U98+U99)>0.7,12,IF((U98+U99)>0.6,8,IF((U98+U99)>0.5,4,0))))))))))) -> 0
A99: Sud 2 | F99: =IF(E99="Sudija",1,IF(E99="Stručni saradnik",1,"")) | O99: =IF(G99="",0,IF(G99="Ne treba raditi na predm.",1+SUM(L99:N99),(SUM(L99:N99)/G99))) -> 0 | P99: =IF(K99>0,O99*(J99/(J99-K99)),O99) -> 0 | V99: =IF(P99="","",IF(C99="Ne","",IF(G99="Ne treba raditi na predm.","",IF((P98+P99)>1,40,IF(U99="",IF((P98+P99)>0.9,35,IF((P98+P99)>0.8,30,IF((P98+P99)>0.7,20,IF((P98+P99)>0.6,15,IF((P98+P99)>0.5,10,0))))),IF((U98+U99)>0.94,40,IF((U98+U99)>0.9,35,IF((U98+U99)>0.8,30,IF((U98+U99)>0.7,20,IF((U98+U99)>0.6,15,IF((U98+U99)>0.5,10,0))))))))))) -> 0
A100: Ime i prezime nosioca pravosudne funkcije | O100: Ukupna ostvarena orijentacijska norma koja se unosi u Obrazac za ocjenjivanje = | P100: =P101+P102 -> 0
...

Sheet tbl II
A1: Godina | B1: Sud | C1: ImePrezime | D1: Ocjenjen | E1: Odjel | F1: Funkcija | G1: NormaPravilnik | H1: DatumOd | I1: DatumDo | J1: BroDanaZa Normu | K1: Odsustvo | L1: NormaCMS | M1: NormaVanCMS | N1: VeceVrenovanje | O1: OstvarenaNorma | P1: PreracunataNorma | Q1: BrPredURadu | R1: BrRijPred | S1: BrNerijPredSaZakProcSmet | T1: BrNerijPredBezZakProcSmet | U1: ProcRijePred | V1: BrOStBod
A2: ='Tabela I'!$F$1 -> 2023 | B2: ='Tabela I'!$F$2 -> 0 | C2: ='Tabela II'!B8 -> 0 | D2: ='Tabela II'!C8 -> 0 | E2: ='Tabela II'!D8 -> 0 | F2: ='Tabela II'!E8 -> Predsjednik suda | G2: ='Tabela II'!G8 -> 0 | H2: ='Tabela II'!H8 -> 0 | I2: ='Tabela II'!I8 -> 0 | J2: ='Tabela II'!J8 -> 260 | K2: ='Tabela II'!K8 -> 0 | L2: ='Tabela II'!L8 -> 0 | M2: ='Tabela II'!M8 -> 0 | N2: ='Tabela II'!N8 -> 0 | ... V2: ='Tabela II'!V8
A3: ='Tabela I'!$F$1 -> 2023 | B3: ='Tabela I'!$F$2 -> 0 | C3: =C2 -> 0 | D3: =D2 -> 0 | E3: =E2 -> 0 | F3: =F2 -> Predsjednik suda | G3: ='Tabela II'!G9 -> 0 | H3: ='Tabela II'!H9 -> 0 | I3: ='Tabela II'!I9 -> 0 | J3: ='Tabela II'!J9 -> 260 | K3: ='Tabela II'!K9 -> 0 | L3: ='Tabela II'!L9 -> 0 | M3: ='Tabela II'!M9 -> 0 | N3: ='Tabela II'!N9 -> 0 | ... V3: ='Tabela II'!V9
A4: ='Tabela I'!$F$1 -> 2023 | B4: ='Tabela I'!$F$2 -> 0 | C4: ='Tabela II'!B10 -> 0 | D4: ='Tabela II'!C10 -> 0 | E4: ='Tabela II'!D10 -> 0 | F4: ='Tabela II'!E10 -> 0 | G4: ='Tabela II'!G10 -> 0 | H4: ='Tabela II'!H10 -> 0 | I4: ='Tabela II'!I10 -> 0 | J4: ='Tabela II'!J10 -> 260 | K4: ='Tabela II'!K10 -> 0 | L4: ='Tabela II'!L10 -> 0 | M4: ='Tabela II'!M10 -> 0 | N4: ='Tabela II'!N10 -> 0 | ... V4: ='Tabela II'!V10
A5: ='Tabela I'!$F$1 -> 2023 | B5: ='Tabela I'!$F$2 -> 0 | C5: ='Tabela II'!B11 -> 0 | D5: ='Tabela II'!C11 -> 0 | E5: ='Tabela II'!D11 -> 0 | F5: ='Tabela II'!E11 -> 0 | G5: ='Tabela II'!G11 -> 0 | H5: ='Tabela II'!H11 -> 0 | I5: ='Tabela II'!I11 -> 0 | J5: ='Tabela II'!J11 -> 260 | K5: ='Tabela II'!K11 -> 0 | L5: ='Tabela II'!L11 -> 0 | M5: ='Tabela II'!M11 -> 0 | N5: ='Tabela II'!N11 -> 0 | ... V5: ='Tabela II'!V11
A6: ='Tabela I'!$F$1 -> 2023 | B6: ='Tabela I'!$F$2 -> 0 | C6: ='Tabela II'!B12 -> 0 | D6: ='Tabela II'!C12 -> 0 | E6: ='Tabela II'!D12 -> 0 | F6: ='Tabela II'!E12 -> 0 | G6: ='Tabela II'!G12 -> 0 | H6: ='Tabela II'!H12 -> 0 | I6: ='Tabela II'!I12 -> 0 | J6: ='Tabela II'!J12 -> 260 | K6: ='Tabela II'!K12 -> 0 | L6: ='Tabela II'!L12 -> 0 | M6: ='Tabela II'!M12 -> 0 | N6: ='Tabela II'!N12 -> 0 | ... V6: ='Tabela II'!V12
A7: ='Tabela I'!$F$1 -> 2023 | B7: ='Tabela I'!$F$2 -> 0 | C7: ='Tabela II'!B13 -> 0 | D7: ='Tabela II'!C13 -> 0 | E7: ='Tabela II'!D13 -> 0 | F7: ='Tabela II'!E13 -> 0 | G7: ='Tabela II'!G13 -> 0 | H7: ='Tabela II'!H13 -> 0 | I7: ='Tabela II'!I13 -> 0 | J7: ='Tabela II'!J13 -> 260 | K7: ='Tabela II'!K13 -> 0 | L7: ='Tabela II'!L13 -> 0 | M7: ='Tabela II'!M13 -> 0 | N7: ='Tabela II'!N13 -> 0 | ... V7: ='Tabela II'!V13
A8: ='Tabela I'!$F$1 -> 2023 | B8: ='Tabela I'!$F$2 -> 0 | C8: ='Tabela II'!B14 -> 0 | D8: ='Tabela II'!C14 -> 0 | E8: ='Tabela II'!D14 -> 0 | F8: ='Tabela II'!E14 -> 0 | G8: ='Tabela II'!G14 -> 0 | H8: ='Tabela II'!H14 -> 0 | I8: ='Tabela II'!I14 -> 0 | J8: ='Tabela II'!J14 -> 260 | K8: ='Tabela II'!K14 -> 0 | L8: ='Tabela II'!L14 -> 0 | M8: ='Tabela II'!M14 -> 0 | N8: ='Tabela II'!N14 -> 0 | ... V8: ='Tabela II'!V14
A9: ='Tabela I'!$F$1 -> 2023 | B9: ='Tabela I'!$F$2 -> 0 | C9: ='Tabela II'!B15 -> 0 | D9: ='Tabela II'!C15 -> 0 | E9: ='Tabela II'!D15 -> 0 | F9: ='Tabela II'!E15 -> 0 | G9: ='Tabela II'!G15 -> 0 | H9: ='Tabela II'!H15 -> 0 | I9: ='Tabela II'!I15 -> 0 | J9: ='Tabela II'!J15 -> 260 | K9: ='Tabela II'!K15 -> 0 | L9: ='Tabela II'!L15 -> 0 | M9: ='Tabela II'!M15 -> 0 | N9: ='Tabela II'!N15 -> 0 | ... V9: ='Tabela II'!V15
A10: ='Tabela I'!$F$1 -> 2023 | B10: ='Tabela I'!$F$2 -> 0 | C10: ='Tabela II'!B16 -> 0 | D10: ='Tabela II'!C16 -> 0 | E10: ='Tabela II'!D16 -> 0 | F10: ='Tabela II'!E16 -> 0 | G10: ='Tabela II'!G16 -> 0 | H10: ='Tabela II'!H16 -> 0 | I10: ='Tabela II'!I16 -> 0 | J10: ='Tabela II'!J16 -> 260 | K10: ='Tabela II'!K16 -> 0 | L10: ='Tabela II'!L16 -> 0 | M10: ='Tabela II'!M16 -> 0 | N10: ='Tabela II'!N16 -> 0 | ... V10: ='Tabela II'!V16
A11: ='Tabela I'!$F$1 -> 2023 | B11: ='Tabela I'!$F$2 -> 0 | C11: ='Tabela II'!B17 -> 0 | D11: ='Tabela II'!C17 -> 0 | E11: ='Tabela II'!D17 -> 0 | F11: ='Tabela II'!E17 -> 0 | G11: ='Tabela II'!G17 -> 0 | H11: ='Tabela II'!H17 -> 0 | I11: ='Tabela II'!I17 -> 0 | J11: ='Tabela II'!J17 -> 260 | K11: ='Tabela II'!K17 -> 0 | L11: ='Tabela II'!L17 -> 0 | M11: ='Tabela II'!M17 -> 0 | N11: ='Tabela II'!N17 -> 0 | ... V11: ='Tabela II'!V17
A12: ='Tabela I'!$F$1 -> 2023 | B12: ='Tabela I'!$F$2 -> 0 | C12: ='Tabela II'!B18 -> 0 | D12: ='Tabela II'!C18 -> 0 | E12: ='Tabela II'!D18 -> 0 | F12: ='Tabela II'!E18 -> 0 | G12: ='Tabela II'!G18 -> 0 | H12: ='Tabela II'!H18 -> 0 | I12: ='Tabela II'!I18 -> 0 | J12: ='Tabela II'!J18 -> 260 | K12: ='Tabela II'!K18 -> 0 | L12: ='Tabela II'!L18 -> 0 | M12: ='Tabela II'!M18 -> 0 | N12: ='Tabela II'!N18 -> 0 | ... V12: ='Tabela II'!V18
A13: ='Tabela I'!$F$1 -> 2023 | B13: ='Tabela I'!$F$2 -> 0 | C13: ='Tabela II'!B19 -> 0 | D13: ='Tabela II'!C19 -> 0 | E13: ='Tabela II'!D19 -> 0 | F13: ='Tabela II'!E19 -> 0 | G13: ='Tabela II'!G19 -> 0 | H13: ='Tabela II'!H19 -> 0 | I13: ='Tabela II'!I19 -> 0 | J13: ='Tabela II'!J19 -> 260 | K13: ='Tabela II'!K19 -> 0 | L13: ='Tabela II'!L19 -> 0 | M13: ='Tabela II'!M19 -> 0 | N13: ='Tabela II'!N19 -> 0 | ... V13: ='Tabela II'!V19
A14: ='Tabela I'!$F$1 -> 2023 | B14: ='Tabela I'!$F$2 -> 0 | C14: ='Tabela II'!B20 -> 0 | D14: ='Tabela II'!C20 -> 0 | E14: ='Tabela II'!D20 -> 0 | F14: ='Tabela II'!E20 -> 0 | G14: ='Tabela II'!G20 -> 0 | H14: ='Tabela II'!H20 -> 0 | I14: ='Tabela II'!I20 -> 0 | J14: ='Tabela II'!J20 -> 260 | K14: ='Tabela II'!K20 -> 0 | L14: ='Tabela II'!L20 -> 0 | M14: ='Tabela II'!M20 -> 0 | N14: ='Tabela II'!N20 -> 0 | ... V14: ='Tabela II'!V20
A15: ='Tabela I'!$F$1 -> 2023 | B15: ='Tabela I'!$F$2 -> 0 | C15: ='Tabela II'!B21 -> 0 | D15: ='Tabela II'!C21 -> 0 | E15: ='Tabela II'!D21 -> 0 | F15: ='Tabela II'!E21 -> 0 | G15: ='Tabela II'!G21 -> 0 | H15: ='Tabela II'!H21 -> 0 | I15: ='Tabela II'!I21 -> 0 | J15: ='Tabela II'!J21 -> 260 | K15: ='Tabela II'!K21 -> 0 | L15: ='Tabela II'!L21 -> 0 | M15: ='Tabela II'!M21 -> 0 | N15: ='Tabela II'!N21 -> 0 | ... V15: ='Tabela II'!V21
... A72: ='Tabela I'!$F$1 -> 2023 | B72: ='Tabela I'!$F$2 -> 0 | C72: ='Tabela II'!B78 -> 0 | D72: ='Tabela II'!C78 -> 0 | E72: ='Tabela II'!D78 -> 0 | F72: ='Tabela II'!E78 -> 0 | G72: ='Tabela II'!G78 -> 0 | H72: ='Tabela II'!H78 -> 0 | I72: ='Tabela II'!I78 -> 0 | J72: ='Tabela II'!J78 -> 260 | K72: ='Tabela II'!K78 -> 0 | L72: ='Tabela II'!L78 -> 0 | M72: ='Tabela II'!M78 -> 0 | N72: ='Tabela II'!N78 -> 0 | ... V72: ='Tabela II'!V78
A74: Godina | B74: Sud | C74: ImePrezime | D74: Ocjenjen | E74: Odjel | F74: Funkcija | G74: NormaPravilnik | H74: DatumOd | I74: DatumDo | J74: BroDanaZa Normu | K74: Odsustvo | L74: NormaCMS | M74: NormaVanCMS | N74: VeceVrenovanje | O74: OstvarenaNorma | P74: PreracunataNorma | Q74: BrPredURadu | R74: BrRijPred | S74: BrNerijPredSaZakProcSmet | T74: BrNerijPredBezZakProcSmet | U74: ProcRijePred | V74: BrOStBod | W74: Sud
A75: ='Tabela I'!$F$1 -> 2023 | B75: ='Tabela I'!$F$2 -> 0 | C75: ='Tabela II'!D97 -> 0 | D75: ='Tabela II'!C98 -> 0 | E75: ='Tabela II'!D98 -> 0 | F75: ='Tabela II'!E98 -> Predsjednik suda | G75: ='Tabela II'!G98 -> 0 | H75: ='Tabela II'!H98 -> 0 | I75: ='Tabela II'!I98 -> 0 | J75: ='Tabela II'!J98 -> 0 | K75: ='Tabela II'!K98 -> 0 | L75: ='Tabela II'!L98 -> 0 | M75: ='Tabela II'!M98 -> 0 | N75: ='Tabela II'!N98 -> 0 | ... V75: ='Tabela II'!V98 -> 0 | W75: ='Tabela II'!A98 -> Sud 1
A76: ='Tabela I'!$F$1 -> 2023 | B76: ='Tabela I'!$F$2 -> 0 | C76: =C75 -> 0 | D76: ='Tabela II'!C99 -> 0 | E76: ='Tabela II'!D99 -> 0 | F76: ='Tabela II'!E99 -> 0 | G76: ='Tabela II'!G99 -> 0 | H76: ='Tabela II'!H99 -> 0 | I76: ='Tabela II'!I99 -> 0 | J76: ='Tabela II'!J99 -> 0 | K76: ='Tabela II'!K99 -> 0 | L76: ='Tabela II'!L99 -> 0 | M76: ='Tabela II'!M99 -> 0 | N76: ='Tabela II'!N99 -> 0 | ... V76: ='Tabela II'!V99 -> 0 | W76: ='Tabela II'!A99 -> Sud 2
A77: ='Tabela I'!$F$1 -> 2023 | B77: ='Tabela I'!$F$2 -> 0 | C77: ='Tabela II'!D100 -> 0 | D77: ='Tabela II'!C101 -> 0 | E77: ='Tabela II'!D101 -> 0 | F77: ='Tabela II'!E101 -> 0 | G77: ='Tabela II'!G101 -> 0 | H77: ='Tabela II'!H101 -> 0 | I77: ='Tabela II'!I101 -> 0 | J77: ='Tabela II'!J101 -> 0 | K77: ='Tabela II'!K101 -> 0 | L77: ='Tabela II'!L101 -> 0 | M77: ='Tabela II'!M101 -> 0 | N77: ='Tabela II'!N101 -> 0 | ... V77: ='Tabela II'!V101 -> 0 | W77: ='Tabela II'!A101 -> Sud 1
A78: ='Tabela I'!$F$1 -> 2023 | B78: ='Tabela I'!$F$2 -> 0 | C78: =C77 -> 0 | D78: ='Tabela II'!C102 -> 0 | E78: ='Tabela II'!D102 -> 0 | F78: ='Tabela II'!E102 -> 0 | G78: ='Tabela II'!G102 -> 0 | H78: ='Tabela II'!H102 -> 0 | I78: ='Tabela II'!I102 -> 0 | J78: ='Tabela II'!J102 -> 0 | K78: ='Tabela II'!K102 -> 0 | L78: ='Tabela II'!L102 -> 0 | M78: ='Tabela II'!M102 -> 0 | N78: ='Tabela II'!N102 -> 0 | ... V78: ='Tabela II'!V102 -> 0 | W78: ='Tabela II'!A102 -> Sud 2
A79: ='Tabela I'!$F$1 -> 2023 | B79: ='Tabela I'!$F$2 -> 0 | C79: ='Tabela II'!D103 -> 0 | D79: ='Tabela II'!C104 -> 0 | E79: ='Tabela II'!D104 -> 0 | F79: ='Tabela II'!E104 -> 0 | G79: ='Tabela II'!G104 -> 0 | H79: ='Tabela II'!H104 -> 0 | I79: ='Tabela II'!I104 -> 0 | J79: ='Tabela II'!J104 -> 0 | K79: ='Tabela II'!K104 -> 0 | L79: ='Tabela II'!L104 -> 0 | M79: ='Tabela II'!M104 -> 0 | N79: ='Tabela II'!N104 -> 0 | ... V79: ='Tabela II'!V104 -> 0 | W79: ='Tabela II'!A104 -> Sud 1
A80: ='Tabela I'!$F$1 -> 2023 | B80: ='Tabela I'!$F$2 -> 0 | C80: =C79 -> 0 | D80: ='Tabela II'!C105 -> 0 | E80: ='Tabela II'!D105 -> 0 | F80: ='Tabela II'!E105 -> 0 | G80: ='Tabela II'!G105 -> 0 | H80: ='Tabela II'!H105 -> 0 | I80: ='Tabela II'!I105 -> 0 | J80: ='Tabela II'!J105 -> 0 | K80: ='Tabela II'!K105 -> 0 | L80: ='Tabela II'!L105 -> 0 | M80: ='Tabela II'!M105 -> 0 | N80: ='Tabela II'!N105 -> 0 | ... V80: ='Tabela II'!V105 -> 0 | W80: ='Tabela II'!A105 -> Sud 2
A81: ='Tabela I'!$F$1 -> 2023 | B81: ='Tabela I'!$F$2 -> 0 | C81: ='Tabela II'!D106 -> 0 | D81: ='Tabela II'!C107 -> 0 | E81: ='Tabela II'!D107 -> 0 | F81: ='Tabela II'!E107 -> 0 | G81: ='Tabela II'!G107 -> 0 | H81: ='Tabela II'!H107 -> 0 | I81: ='Tabela II'!I107 -> 0 | J81: ='Tabela II'!J107 -> 0 | K81: ='Tabela II'!K107 -> 0 | L81: ='Tabela II'!L107 -> 0 | M81: ='Tabela II'!M107 -> 0 | N81: ='Tabela II'!N107 -> 0 | ... V81: ='Tabela II'!V107 -> 0 | W81: ='Tabela II'!A107 -> Sud 1
A82: ='Tabela I'!$F$1 -> 2023 | B82: ='Tabela I'!$F$2 -> 0 | C82: =C81 -> 0 | D82: ='Tabela II'!C108 -> 0 | E82: ='Tabela II'!D108 -> 0 | F82: ='Tabela II'!E108 -> 0 | G82: ='Tabela II'!G108 -> 0 | H82: ='Tabela II'!H108 -> 0 | I82: ='Tabela II'!I108 -> 0 | J82: ='Tabela II'!J108 -> 0 | K82: ='Tabela II'!K108 -> 0 | L82: ='Tabela II'!L108 -> 0 | M82: ='Tabela II'!M108 -> 0 | N82: ='Tabela II'!N108 -> 0 | ... V82: ='Tabela II'!V108 -> 0 | W82: ='Tabela II'!A108 -> Sud 2
A83: ='Tabela I'!$F$1 -> 2023 | B83: ='Tabela I'!$F$2 -> 0 | C83: ='Tabela II'!D109 -> 0 | D83: ='Tabela II'!C110 -> 0 | E83: ='Tabela II'!D110 -> 0 | F83: ='Tabela II'!E110 -> 0 | G83: ='Tabela II'!G110 -> 0 | H83: ='Tabela II'!H110 -> 0 | I83: ='Tabela II'!I110 -> 0 | J83: ='Tabela II'!J110 -> 0 | K83: ='Tabela II'!K110 -> 0 | L83: ='Tabela II'!L110 -> 0 | M83: ='Tabela II'!M110 -> 0 | N83: ='Tabela II'!N110 -> 0 | ... V83: ='Tabela II'!V110 -> 0 | W83: ='Tabela II'!A110 -> Sud 1
A84: ='Tabela I'!$F$1 -> 2023 | B84: ='Tabela I'!$F$2 -> 0 | C84: =C83 -> 0 | D84: ='Tabela II'!C111 -> 0 | E84: ='Tabela II'!D111 -> 0 | F84: ='Tabela II'!E111 -> 0 | G84: ='Tabela II'!G111 -> 0 | H84: ='Tabela II'!H111 -> 0 | I84: ='Tabela II'!I111 -> 0 | J84: ='Tabela II'!J111 -> 0 | K84: ='Tabela II'!K111 -> 0 | L84: ='Tabela II'!L111 -> 0 | M84: ='Tabela II'!M111 -> 0 | N84: ='Tabela II'!N111 -> 0 | ... V84: ='Tabela II'!V111 -> 0 | W84: ='Tabela II'!A111 -> Sud 2
A85: ='Tabela I'!$F$1 -> 2023 | B85: ='Tabela I'!$F$2 -> 0 | C85: ='Tabela II'!D112 -> 0 | D85: ='Tabela II'!C113 -> 0 | E85: ='Tabela II'!D113 -> 0 | F85: ='Tabela II'!E113 -> 0 | G85: ='Tabela II'!G113 -> 0 | H85: ='Tabela II'!H113 -> 0 | I85: ='Tabela II'!I113 -> 0 | J85: ='Tabela II'!J113 -> 0 | K85: ='Tabela II'!K113 -> 0 | L85: ='Tabela II'!L113 -> 0 | M85: ='Tabela II'!M113 -> 0 | N85: ='Tabela II'!N113 -> 0 | ... V85: ='Tabela II'!V113 -> 0 | W85: ='Tabela II'!A113 -> Sud 1
A86: ='Tabela I'!$F$1 -> 2023 | B86: ='Tabela I'!$F$2 -> 0 | C86: =C85 -> 0 | D86: ='Tabela II'!C114 -> 0 | E86: ='Tabela II'!D114 -> 0 | F86: ='Tabela II'!E114 -> 0 | G86: ='Tabela II'!G114 -> 0 | H86: ='Tabela II'!H114 -> 0 | I86: ='Tabela II'!I114 -> 0 | J86: ='Tabela II'!J114 -> 0 | K86: ='Tabela II'!K114 -> 0 | L86: ='Tabela II'!L114 -> 0 | M86: ='Tabela II'!M114 -> 0 | N86: ='Tabela II'!N114 -> 0 | ... V86: ='Tabela II'!V114 -> 0 | W86: ='Tabela II'!A114 -> Sud 2
A87: ='Tabela I'!$F$1 -> 2023 | B87: ='Tabela I'!$F$2 -> 0 | C87: ='Tabela II'!D115 -> 0 | D87: ='Tabela II'!C116 -> 0 | E87: ='Tabela II'!D116 -> 0 | F87: ='Tabela II'!E116 -> 0 | G87: ='Tabela II'!G116 -> 0 | H87: ='Tabela II'!H116 -> 0 | I87: ='Tabela II'!I116 -> 0 | J87: ='Tabela II'!J116 -> 0 | K87: ='Tabela II'!K116 -> 0 | L87: ='Tabela II'!L116 -> 0 | M87: ='Tabela II'!M116 -> 0 | N87: ='Tabela II'!N116 -> 0 | ... V87: ='Tabela II'!V116 -> 0 | W87: ='Tabela II'!A116 -> Sud 1
A88: ='Tabela I'!$F$1 -> 2023 | B88: ='Tabela I'!$F$2 -> 0 | C88: =C87 -> 0 | D88: ='Tabela II'!C117 -> 0 | E88: ='Tabela II'!D117 -> 0 | F88: ='Tabela II'!E117 -> 0 | G88: ='Tabela II'!G117 -> 0 | H88: ='Tabela II'!H117 -> 0 | I88: ='Tabela II'!I117 -> 0 | J88: ='Tabela II'!J117 -> 0 | K88: ='Tabela II'!K117 -> 0 | L88: ='Tabela II'!L117 -> 0 | M88: ='Tabela II'!M117 -> 0 | N88: ='Tabela II'!N117 -> 0 | ... V88: ='Tabela II'!V117 -> 0 | W88: ='Tabela II'!A117 -> Sud 2
A89: ='Tabela I'!$F$1 -> 2023 | B89: ='Tabela I'!$F$2 -> 0 | C89: ='Tabela II'!D118 -> 0 | D89: ='Tabela II'!C119 -> 0 | E89: ='Tabela II'!D119 -> 0 | F89: ='Tabela II'!E119 -> 0 | G89: ='Tabela II'!G119 -> 0 | H89: ='Tabela II'!H119 -> 0 | I89: ='Tabela II'!I119 -> 0 | J89: ='Tabela II'!J119 -> 0 | K89: ='Tabela II'!K119 -> 0 | L89: ='Tabela II'!L119 -> 0 | M89: ='Tabela II'!M119 -> 0 | N89: ='Tabela II'!N119 -> 0 | ... V89: ='Tabela II'!V119 -> 0 | W89: ='Tabela II'!A119 -> Sud 1
A90: ='Tabela I'!$F$1 -> 2023 | B90: ='Tabela I'!$F$2 -> 0 | C90: =C89 -> 0 | D90: ='Tabela II'!C120 -> 0 | E90: ='Tabela II'!D120 -> 0 | F90: ='Tabela II'!E120 -> 0 | G90: ='Tabela II'!G120 -> 0 | H90: ='Tabela II'!H120 -> 0 | I90: ='Tabela II'!I120 -> 0 | J90: ='Tabela II'!J120 -> 0 | K90: ='Tabela II'!K120 -> 0 | L90: ='Tabela II'!L120 -> 0 | M90: ='Tabela II'!M120 -> 0 | N90: ='Tabela II'!N120 -> 0 | ... V90: ='Tabela II'!V120 -> 0 | W90: ='Tabela II'!A120 -> Sud 2
A91: ='Tabela I'!$F$1 -> 2023 | B91: ='Tabela I'!$F$2 -> 0 | C91: ='Tabela II'!D121 -> 0 | D91: ='Tabela II'!C122 -> 0 | E91: ='Tabela II'!D122 -> 0 | F91: ='Tabela II'!E122 -> 0 | G91: ='Tabela II'!G122 -> 0 | H91: ='Tabela II'!H122 -> 0 | I91: ='Tabela II'!I122 -> 0 | J91: ='Tabela II'!J122 -> 0 | K91: ='Tabela II'!K122 -> 0 | L91: ='Tabela II'!L122 -> 0 | M91: ='Tabela II'!M122 -> 0 | N91: ='Tabela II'!N122 -> 0 | ... V91: ='Tabela II'!V122 -> 0 | W91: ='Tabela II'!A122 -> Sud 1
A92: ='Tabela I'!$F$1 -> 2023 | B92: ='Tabela I'!$F$2 -> 0 | C92: =C91 -> 0 | D92: ='Tabela II'!C123 -> 0 | E92: ='Tabela II'!D123 -> 0 | F92: ='Tabela II'!E123 -> 0 | G92: ='Tabela II'!G123 -> 0 | H92: ='Tabela II'!H123 -> 0 | I92: ='Tabela II'!I123 -> 0 | J92: ='Tabela II'!J123 -> 0 | K92: ='Tabela II'!K123 -> 0 | L92: ='Tabela II'!L123 -> 0 | M92: ='Tabela II'!M123 -> 0 | N92: ='Tabela II'!N123 -> 0 | ... V92: ='Tabela II'!V123 -> 0 | W92: ='Tabela II'!A123 -> Sud 2
A93: ='Tabela I'!$F$1 -> 2023 | B93: ='Tabela I'!$F$2 -> 0 | C93: ='Tabela II'!D124 -> 0 | D93: ='Tabela II'!C125 -> 0 | E93: ='Tabela II'!D125 -> 0 | F93: ='Tabela II'!E125 -> 0 | G93: ='Tabela II'!G125 -> 0 | H93: ='Tabela II'!H125 -> 0 | I93: ='Tabela II'!I125 -> 0 | J93: ='Tabela II'!J125 -> 0 | K93: ='Tabela II'!K125 -> 0 | L93: ='Tabela II'!L125 -> 0 | M93: ='Tabela II'!M125 -> 0 | N93: ='Tabela II'!N125 -> 0 | ... V93: ='Tabela II'!V125 -> 0 | W93: ='Tabela II'!A125 -> Sud 1
A94: ='Tabela I'!$F$1 -> 2023 | B94: ='Tabela I'!$F$2 -> 0 | C94: =C93 -> 0 | D94: ='Tabela II'!C126 -> 0 | E94: ='Tabela II'!D126 -> 0 | F94: ='Tabela II'!E126 -> 0 | G94: ='Tabela II'!G126 -> 0 | H94: ='Tabela II'!H126 -> 0 | I94: ='Tabela II'!I126 -> 0 | J94: ='Tabela II'!J126 -> 0 | K94: ='Tabela II'!K126 -> 0 | L94: ='Tabela II'!L126 -> 0 | M94: ='Tabela II'!M126 -> 0 | N94: ='Tabela II'!N126 -> 0 | ... V94: ='Tabela II'!V126 -> 0 | W94: ='Tabela II'!A126 -> Sud 2

Sheet Tabela III
A1: Okružni privredni sud: | B1: ='Tabela I'!C1 -> 0
A2: Izvještajni period: | B2: ='Tabela I'!C2 -> 1.1.2023.-31.12.2023.
A3: Tabela III - Kvalitet sudskih odluka po vrstama predmeta
A4: Vrsta predmeta | B4: Broj donesenih odluka na koje se može izjaviti pravni lijek | C4: Ukupan broj ožalbenih odluka | D4: Broj odbačenih pravnih lijekova | E4: Broj potvrđenih odluka | F4: Broj preinačenih odluka | G4: Broj preinačenih odluka donijetih nakon održane glavne rasprave ili pretresa pred drugostepenim sudom | H4: Broj ukinutih odluka | I4: Broj djelimično ukinutih odluka | J4: Kvalitet sudskih odluka | K4: Broj presuda koje su ukinute i predmet vraćen na ponovno suđenje
E5: Odbijen pravni lijek
B6: I | C6: II=IV+V+VI+ VII+VIII) | D6: III | E6: IV | F6: V | G6: VI | H6: VII | I6: VIII | J6: IX1 | K6: X
A7: Privredni referat
A8: Ps | C8: =E8+F8+G8+H8+I8 -> 0 | J8: =IF(C8=0,"",IF(B8=0,1,0.75*((C8-H8-I8/2)/C8)+0.25*((B8-G8-H8-I8/2)/B8)))
A9: Mals | C9: =E9+F9+G9+H9+I9 -> 0 | J9: =IF(C9=0,"",IF(B9=0,1,0.75*((C9-H9-I9/2)/C9)+0.25*((B9-G9-H9-I9/2)/B9)))
A10: L | C10: =E10+F10+G10+H10+I10 -> 0 | J10: =IF(C10=0,"",IF(B10=0,1,0.75*((C10-H10-I10/2)/C10)+0.25*((B10-G10-H10-I10/2)/B10)))
A11: Ls | C11: =E11+F11+G11+H11+I11 -> 0 | J11: =IF(C11=0,"",IF(B11=0,1,0.75*((C11-H11-I11/2)/C11)+0.25*((B11-G11-H11-I11/2)/B11)))
A12: St | C12: =E12+F12+G12+H12+I12 -> 0 | J12: =IF(C12=0,"",IF(B12=0,1,0.75*((C12-H12-I12/2)/C12)+0.25*((B12-G12-H12-I12/2)/B12)))
A13: Ostalo* | C13: =E13+F13+G13+H13+I13 -> 0 | J13: =IF(C13=0,"",IF(B13=0,1,0.75*((C13-H13-I13/2)/C13)+0.25*((B13-G13-H13-I13/2)/B13)))
A14: Izvršni referat
A15: Ip | C15: =E15+F15+G15+H15+I15 -> 0 | J15: =IF(C15=0,"",IF(B15=0,1,0.75*((C15-H15-I15/2)/C15)+0.25*((B15-G15-H15-I15/2)/B15)))
A16: Ostalo* | C16: =E16+F16+G16+H16+I16 -> 0 | J16: =IF(C16=0,"",IF(B16=0,1,0.75*((C16-H16-I16/2)/C16)+0.25*((B16-G16-H16-I16/2)/B16)))
A17: Vanparnični referat
A18: V | C18: =E18+F18+G18+H18+I18 -> 0 | J18: =IF(C18=0,"",IF(B18=0,1,0.75*((C18-H18-I18/2)/C18)+0.25*((B18-G18-H18-I18/2)/B18)))
A19: Ostalo* | C19: =E19+F19+G19+H19+I19 -> 0 | J19: =IF(C19=0,"",IF(B19=0,1,0.75*((C19-H19-I19/2)/C19)+0.25*((B19-G19-H19-I19/2)/B19)))
A21: Registracija poslovnih subjekata | C21: =E21+F21+G21+H21+I21 -> 0 | J21: =IF(C21=0,"",IF(B21=0,1,0.75*((C21-H21-I21/2)/C21)+0.25*((B21-G21-H21-I21/2)/B21)))
A23: Ukupno | B23: =SUM(B8:B13)+SUM(B15:B16)+SUM(B18:B19)+B21 -> 0 | C23: =SUM(C8:C13)+SUM(C15:C16)+SUM(C18:C19)+C21 -> 0 | D23: =SUM(D8:D13)+SUM(D15:D16)+SUM(D18:D19)+D21 -> 0 | E23: =SUM(E8:E13)+SUM(E15:E16)+SUM(E18:E19)+E21 -> 0 | F23: =SUM(F8:F13)+SUM(F15:F16)+SUM(F18:F19)+F21 -> 0 | G23: =SUM(G8:G13)+SUM(G15:G16)+SUM(G18:G19)+G21 -> 0 | H23: =SUM(H8:H13)+SUM(H15:H16)+SUM(H18:H19)+H21 -> 0 | I23: =SUM(I8:I13)+SUM(I15:I16)+SUM(I18:I19)+I21 -> 0 | J23: =IF(C23=0,"",IF(B23=0,1,0.75*((C23-H23-I23/2)/C23)+0.25*((B23-G23-H23-I23/2)/B23))) | K23: =SUM(K8:K13)+SUM(K15:K16)+SUM(K18:K19)+K21 -> 0
A25: Ukupno 2022.* | C25: Obrazloženje:
A26: * Unesite podatak o Ukupnom broju donesenih odluka na koje se može izjaviti pravni lijek iz izvještaja koji ste dostavili za 2022. godinu. Ukoliko je razlika u Ukupnom broju donesenih odluka na koje se može izjaviti pravni lijek u periodu 2022/2023 veća od 20% aktiviraće se kontrolnik i potrebno je da obrazložite uzroke za nastanak te razlike.
A33: 1 Kvalitet rada sudskih odluka se automatski obračunava u skladu sa članom 17. Kriterija za ocjenjivanje rada sudija u BiH. Slijedi tekst za pojašnjenje formule za obračun kvaliteta sudskih odluka: (75% * (Ukupan broj ožalbenih odluka - Broj ukinutih odluka - Broj djelimično ukinutih odluka/2) / Ukupan broj ožalbenih odluka) + (25% * (Broj donesenih odluka na koje se može izjaviti pravni lijek - Broj preinačenih odluka donijetih nakon održane glavne raspave ili pretresa pred drugostepenim sudom - Broj ukinutih odluka - Broj djelimično ukinutih odluka/2) / Broj donesenih odluka na koje se može izjaviti pravni lijek).
A35: NAPOMENA: U Tabelu III se unose podaci o kvalitetu odluka za sve nosilace pravosudne funkcije koji su u toku godine obavljali funkciju u sudu, bez obzira na period obavljanja funkcije u sudu. U Tabelu se unose podaci za sve nosioce pravosudne funkcije: koji su obavljali funkciju u sudu cijelu godinu, koji su imenovani u sud u toku godine, koji su prešli u drugi sud u toku godine (bez obzira na nivo suda), kao i podaci za nosioce pravosudne funkcije koji su prestali obavljati funkciju u sudu zbog odlaska u penziju u 2023. godini ili iz drugih razloga (ostavke, razrješenja), a u 2023. godini su donosili odluke na koje se može izjaviti pravni lijek, i/ili sud je nakon prestanka obavljanja funkcije zaprimio žalbene odluke od strane višeg suda po izjavljenom pravnom lijeku na odluke bivšeg nosioca pravosudne funckije. Na taj način se pravilno obračunava kolektivni kvalitet odluka u sudu.
A41: NAPOMENA: U broj donesenih odluka na koje se može izjaviti pravni lijek (Kolona I) i broj ukinutih odluka (Kolona VII) prilikom računanja procenta ukinutih odluka iz člana 17. stav (1) tačka a) i b) Kriterija za ocjenjivanje rada sudija u BiH neće se uzimati u obračun odluke koje su ukinute u sadržajno nebitnom dijelu odnosno ako je odluka ukinuta ili se smatra ukinutom zbog toga što je instancioni sud nakon donošenja ispitivane odluke izmijenio sudsku praksu, u skladu s stavom (3) navedenog člana Kriterija.

Sheet Tabela IIIa
A1: =+'Tabela I'!A1 -> Okružni privredni sud: | D1: =+'Tabela I'!C1 -> 0
A2: Izvještajni period: | D2: =+'Tabela I'!C2 -> 1.1.2023.-31.12.2023.
A3: Tabela IIIa - Kvalitet sudskih odluka po nosiocima pravosudnih funkcija - Elektronski obrazac za obračun kvaliteta odluka (pogledati NAPOMENU 2 i 3)
A5: Redni broj | B5: Ime i prezime - podatak je automatski prenesen iz Tabele IIa - OBAVEZNO ZADRŽATI REDOSLIJED NPF-a iz Tabele IIa | C5: Pravosudna funkcija | D5: Ocijenjen / Nije ocijenjen u sudu | E5: Ukupan broj donesenih odluka na koje se može izjaviti pravni lijek | F5: Ukupan broj ožalbenih odluka | G5: Broj odbačenih pravnih lijekova*** | H5: Broj potvrđenih odluka | I5: Broj preinačenih odluka | J5: Broj preinačenih odluka donijetih nakon održane glavne rasprave ili pretresa pred drugostepenim sudom | K5: Broj ukinutih odluka | L5: Broj djelimično ukinutih odluka | M5: Kvalitet sudskih odluka prema članu 17. stav 1. tačka a) | N5: Broj ostvarenih bodova za kvalitet prema članu 17. stav 1. tačka a) | O5: Kvalitet sudskih odluka prema članu 17. stav 1. tačka b) | P5: Broj ostvarenih bodova za kvalitet prema članu 17. stav 1. tačka b) | Q5: UKUPAN broj ostvarenih bodova za kvalitet sudskih odluka
H6: Odbijen pravni lijek
A7: I | B7: II | C7: III | D7: IV | E7: V | F7: VI | G7: VII | H7: VIII | I7: IX | J7: X | K7: XI | L7: XII | M7: XIII | N7: XIV | O7: XV | P7: XVI | Q7: XVII
A9: 1 | B9: =IF('Tabela II'!B8="","",'Tabela II'!B8) | C9: Predsjednik suda * | F9: =SUM(H9:L9) -> 0 | M9: =IF(D9="","",IF(D9="Nije ocijenjen ili Ne treba raditi na predmetima","",IF(D9="Ocijenjen",IF(F9<10,"Član 20. stav 7. Kriterija",(K9+(L9/2))/(F9))))) | N9: =IF(D9="","",IF(D9="Nije ocijenjen ili Ne treba raditi na predmetima","",IF(D9="Ocijenjen",IF(M9="Član 20. stav 7. Kriterija","",IF(M9>0.4,0,IF(M9>0.3,4,IF(M9>0.2,8,IF(M9>0.1,12,IF(M9<=0.1,15,))))))))) | O9: =IF(D9="","",IF(D9="Nije ocijenjen ili Ne treba raditi na predmetima","",IF(D9="Ocijenjen",IF(E9=0,"",((K9+J9+(L9/2))/(E9)))))) | P9: =IF(D9="","",IF(D9="Nije ocijenjen ili Ne treba raditi na predmetima","",IF(D9="Ocijenjen",IF(O9>0.2,0,IF(O9>0.15,1,IF(O9>0.1,2,IF(O9>0.06,3,IF(O9>0.03,4,IF(O9<=0.03,5,))))))))) | Q9: =IF(D9="","",IF(D9="Nije ocijenjen ili Ne treba raditi na predmetima","",IF(D9="Ocijenjen",IF(M9="Član 20. stav 7. Kriterija",P9,N9+P9)))) | U9: Ocijenjen
A10: 2 | B10: =IF('Tabela II'!B10="","",'Tabela II'!B10) | F10: =SUM(H10:L10) -> 0 | M10: =IF(D10="","",IF(D10="Nije ocijenjen","",IF(D10="Ocijenjen",IF(F10<10,"Član 17. stav 7. Kriterija",(K10+(L10/2))/(F10))))) | N10: =IF(D10="","",IF(D10="Nije ocijenjen","",IF(D10="Ocijenjen",IF(M10="Član 17. stav 7. Kriterija","",IF(M10>0.4,0,IF(M10>0.3,8,IF(M10>0.2,16,IF(M10>0.1,24,IF(M10<=0.1,30,))))))))) | O10: =IF(D10="","",IF(D10="Nije ocijenjen","",IF(D10="Ocijenjen",IF(E10=0,"",((K10+J10+(L10/2))/(E10)))))) | P10: =IF(D10="","",IF(D10="Nije ocijenjen","",IF(D10="Ocijenjen",IF(O10>0.2,0,IF(O10>0.15,2,IF(O10>0.1,4,IF(O10>0.06,6,IF(O10>0.03,8,IF(O10<=0.03,10,))))))))) | Q10: =IF(D10="","",IF(D10="Nije ocijenjen","",IF(D10="Ocijenjen",IF(M10="Član 17. stav 7. Kriterija",P10,N10+P10)))) | S10: Sudija | U10: Nije ocijenjen
A11: 3 | B11: =IF('Tabela II'!B11="","",'Tabela II'!B11) | F11: =SUM(H11:L11) -> 0 | M11: =IF(D11="","",IF(D11="Nije ocijenjen","",IF(D11="Ocijenjen",IF(F11<10,"Član 17. stav 7. Kriterija",(K11+(L11/2))/(F11))))) | N11: =IF(D11="","",IF(D11="Nije ocijenjen","",IF(D11="Ocijenjen",IF(M11="Član 17. stav 7. Kriterija","",IF(M11>0.4,0,IF(M11>0.3,8,IF(M11>0.2,16,IF(M11>0.1,24,IF(M11<=0.1,30,))))))))) | O11: =IF(D11="","",IF(D11="Nije ocijenjen","",IF(D11="Ocijenjen",IF(E11=0,"",((K11+J11+(L11/2))/(E11)))))) | P11: =IF(D11="","",IF(D11="Nije ocijenjen","",IF(D11="Ocijenjen",IF(O11>0.2,0,IF(O11>0.15,2,IF(O11>0.1,4,IF(O11>0.06,6,IF(O11>0.03,8,IF(O11<=0.03,10,))))))))) | Q11: =IF(D11="","",IF(D11="Nije ocijenjen","",IF(D11="Ocijenjen",IF(M11="Član 17. stav 7. Kriterija",P11,N11+P11)))) | S11: Stručni saradnik
A12: 4 | B12: =IF('Tabela II'!B12="","",'Tabela II'!B12) | F12: =SUM(H12:L12) -> 0 | M12: =IF(D12="","",IF(D12="Nije ocijenjen","",IF(D12="Ocijenjen",IF(F12<10,"Član 17. stav 7. Kriterija",(K12+(L12/2))/(F12))))) | N12: =IF(D12="","",IF(D12="Nije ocijenjen","",IF(D12="Ocijenjen",IF(M12="Član 17. stav 7. Kriterija","",IF(M12>0.4,0,IF(M12>0.3,8,IF(M12>0.2,16,IF(M12>0.1,24,IF(M12<=0.1,30,))))))))) | O12: =IF(D12="","",IF(D12="Nije ocijenjen","",IF(D12="Ocijenjen",IF(E12=0,"",((K12+J12+(L12/2))/(E12)))))) | P12: =IF(D12="","",IF(D12="Nije ocijenjen","",IF(D12="Ocijenjen",IF(O12>0.2,0,IF(O12>0.15,2,IF(O12>0.1,4,IF(O12>0.06,6,IF(O12>0.03,8,IF(O12<=0.03,10,))))))))) | Q12: =IF(D12="","",IF(D12="Nije ocijenjen","",IF(D12="Ocijenjen",IF(M12="Član 17. stav 7. Kriterija",P12,N12+P12)))) | S12: Predsjednik odjela
A13: 5 | B13: =IF('Tabela II'!B13="","",'Tabela II'!B13) | F13: =SUM(H13:L13) -> 0 | M13: =IF(D13="","",IF(D13="Nije ocijenjen","",IF(D13="Ocijenjen",IF(F13<10,"Član 17. stav 7. Kriterija",(K13+(L13/2))/(F13))))) | N13: =IF(D13="","",IF(D13="Nije ocijenjen","",IF(D13="Ocijenjen",IF(M13="Član 17. stav 7. Kriterija","",IF(M13>0.4,0,IF(M13>0.3,8,IF(M13>0.2,16,IF(M13>0.1,24,IF(M13<=0.1,30,))))))))) | O13: =IF(D13="","",IF(D13="Nije ocijenjen","",IF(D13="Ocijenjen",IF(E13=0,"",((K13+J13+(L13/2))/(E13)))))) | P13: =IF(D13="","",IF(D13="Nije ocijenjen","",IF(D13="Ocijenjen",IF(O13>0.2,0,IF(O13>0.15,2,IF(O13>0.1,4,IF(O13>0.06,6,IF(O13>0.03,8,IF(O13<=0.03,10,))))))))) | Q13: =IF(D13="","",IF(D13="Nije ocijenjen","",IF(D13="Ocijenjen",IF(M13="Član 17. stav 7. Kriterija",P13,N13+P13)))) | S13: Predsjednik sudskog vijeća vrhovnog suda entiteta
A14: 6 | B14: =IF('Tabela II'!B14="","",'Tabela II'!B14) | F14: =SUM(H14:L14) -> 0 | M14: =IF(D14="","",IF(D14="Nije ocijenjen","",IF(D14="Ocijenjen",IF(F14<10,"Član 17. stav 7. Kriterija",(K14+(L14/2))/(F14))))) | N14: =IF(D14="","",IF(D14="Nije ocijenjen","",IF(D14="Ocijenjen",IF(M14="Član 17. stav 7. Kriterija","",IF(M14>0.4,0,IF(M14>0.3,8,IF(M14>0.2,16,IF(M14>0.1,24,IF(M14<=0.1,30,))))))))) | O14: =IF(D14="","",IF(D14="Nije ocijenjen","",IF(D14="Ocijenjen",IF(E14=0,"",((K14+J14+(L14/2))/(E14)))))) | P14: =IF(D14="","",IF(D14="Nije ocijenjen","",IF(D14="Ocijenjen",IF(O14>0.2,0,IF(O14>0.15,2,IF(O14>0.1,4,IF(O14>0.06,6,IF(O14>0.03,8,IF(O14<=0.03,10,))))))))) | Q14: =IF(D14="","",IF(D14="Nije ocijenjen","",IF(D14="Ocijenjen",IF(M14="Član 17. stav 7. Kriterija",P14,N14+P14))))
A15: 7 | B15: =IF('Tabela II'!B15="","",'Tabela II'!B15) | F15: =SUM(H15:L15) -> 0 | M15: =IF(D15="","",IF(D15="Nije ocijenjen","",IF(D15="Ocijenjen",IF(F15<10,"Član 17. stav 7. Kriterija",(K15+(L15/2))/(F15))))) | N15: =IF(D15="","",IF(D15="Nije ocijenjen","",IF(D15="Ocijenjen",IF(M15="Član 17. stav 7. Kriterija","",IF(M15>0.4,0,IF(M15>0.3,8,IF(M15>0.2,16,IF(M15>0.1,24,IF(M15<=0.1,30,))))))))) | O15: =IF(D15="","",IF(D15="Nije ocijenjen","",IF(D15="Ocijenjen",IF(E15=0,"",((K15+J15+(L15/2))/(E15)))))) | P15: =IF(D15="","",IF(D15="Nije ocijenjen","",IF(D15="Ocijenjen",IF(O15>0.2,0,IF(O15>0.15,2,IF(O15>0.1,4,IF(O15>0.06,6,IF(O15>0.03,8,IF(O15<=0.03,10,))))))))) | Q15: =IF(D15="","",IF(D15="Nije ocijenjen","",IF(D15="Ocijenjen",IF(M15="Član 17. stav 7. Kriterija",P15,N15+P15))))
A16: 8 | B16: =IF('Tabela II'!B16="","",'Tabela II'!B16) | F16: =SUM(H16:L16) -> 0 | M16: =IF(D16="","",IF(D16="Nije ocijenjen","",IF(D16="Ocijenjen",IF(F16<10,"Član 17. stav 7. Kriterija",(K16+(L16/2))/(F16))))) | N16: =IF(D16="","",IF(D16="Nije ocijenjen","",IF(D16="Ocijenjen",IF(M16="Član 17. stav 7. Kriterija","",IF(M16>0.4,0,IF(M16>0.3,8,IF(M16>0.2,16,IF(M16>0.1,24,IF(M16<=0.1,30,))))))))) | O16: =IF(D16="","",IF(D16="Nije ocijenjen","",IF(D16="Ocijenjen",IF(E16=0,"",((K16+J16+(L16/2))/(E16)))))) | P16: =IF(D16="","",IF(D16="Nije ocijenjen","",IF(D16="Ocijenjen",IF(O16>0.2,0,IF(O16>0.15,2,IF(O16>0.1,4,IF(O16>0.06,6,IF(O16>0.03,8,IF(O16<=0.03,10,))))))))) | Q16: =IF(D16="","",IF(D16="Nije ocijenjen","",IF(D16="Ocijenjen",IF(M16="Član 17. stav 7. Kriterija",P16,N16+P16)))) | U16: Ocijenjen
A17: 9 | B17: =IF('Tabela II'!B17="","",'Tabela II'!B17) | F17: =SUM(H17:L17) -> 0 | M17: =IF(D17="","",IF(D17="Nije ocijenjen","",IF(D17="Ocijenjen",IF(F17<10,"Član 17. stav 7. Kriterija",(K17+(L17/2))/(F17))))) | N17: =IF(D17="","",IF(D17="Nije ocijenjen","",IF(D17="Ocijenjen",IF(M17="Član 17. stav 7. Kriterija","",IF(M17>0.4,0,IF(M17>0.3,8,IF(M17>0.2,16,IF(M17>0.1,24,IF(M17<=0.1,30,))))))))) | O17: =IF(D17="","",IF(D17="Nije ocijenjen","",IF(D17="Ocijenjen",IF(E17=0,"",((K17+J17+(L17/2))/(E17)))))) | P17: =IF(D17="","",IF(D17="Nije ocijenjen","",IF(D17="Ocijenjen",IF(O17>0.2,0,IF(O17>0.15,2,IF(O17>0.1,4,IF(O17>0.06,6,IF(O17>0.03,8,IF(O17<=0.03,10,))))))))) | Q17: =IF(D17="","",IF(D17="Nije ocijenjen","",IF(D17="Ocijenjen",IF(M17="Član 17. stav 7. Kriterija",P17,N17+P17)))) | U17: Nije ocijenjen ili Ne treba raditi na predmetima
A18: 10 | B18: =IF('Tabela II'!B18="","",'Tabela II'!B18) | F18: =SUM(H18:L18) -> 0 | M18: =IF(D18="","",IF(D18="Nije ocijenjen","",IF(D18="Ocijenjen",IF(F18<10,"Član 17. stav 7. Kriterija",(K18+(L18/2))/(F18))))) | N18: =IF(D18="","",IF(D18="Nije ocijenjen","",IF(D18="Ocijenjen",IF(M18="Član 17. stav 7. Kriterija","",IF(M18>0.4,0,IF(M18>0.3,8,IF(M18>0.2,16,IF(M18>0.1,24,IF(M18<=0.1,30,))))))))) | O18: =IF(D18="","",IF(D18="Nije ocijenjen","",IF(D18="Ocijenjen",IF(E18=0,"",((K18+J18+(L18/2))/(E18)))))) | P18: =IF(D18="","",IF(D18="Nije ocijenjen","",IF(D18="Ocijenjen",IF(O18>0.2,0,IF(O18>0.15,2,IF(O18>0.1,4,IF(O18>0.06,6,IF(O18>0.03,8,IF(O18<=0.03,10,))))))))) | Q18: =IF(D18="","",IF(D18="Nije ocijenjen","",IF(D18="Ocijenjen",IF(M18="Član 17. stav 7. Kriterija",P18,N18+P18))))
