Workbook

Sheet Uputstvo
B2: SUD BOSNE I HERCEGOVINE
B4: Kompletni materijali u vezi procesa izvještavanja i ocjenjivanja rada u sudovima za 2024. godinu dostupni su na linku:
B5: https://vstv.pravosudje.ba/vstvfo/B/141/article/134917
B6: https://vstv.pravosudje.ba/vstv/faces/vijesti.jsp?id=65385
B7: Tabele za popunjavanje podataka o radu sudova nije moguće mijenjati, niti dodavati nove redove ili kolone.
B8: Tabele se isključivo popunjavaju predviđenim redoslijedom, po redoslijedu postavljenih tabela.
B11: Podatke je potrebno upisivati samo u polja osjenčena žutom bojom.
B12: U ostala polja nije moguće upisivati vrijednosti, u ovim poljima vrijednosti će biti izračunate automatski.
B14: Popunjene tabele poslati na e-mail adresu: vstvstatistika@pravosudje.ba do 03.02.2025. godine.
B16: Za sva eventualna pitanja vezano za popunjavanje tabela molimo Vas da kontaktirate Odjel za pravosudnu analitiku i izvještavanje, na telefon: 033 704 616 ili 033 707 584.
B19: Tabele za izvještavanje o radu suda sadrže detaljnije napomene koje je potrebno imati u vidu prilikom popunjavanja tabela.
B20: Pored napomena datih uz tabele, potrebno je imati u vidu i slijedeće:
... B77: Podaci iz Tabele I i Tabele IIc koriste se za ocjenjivanje NPF-a, te podaci u Obrascima za ocjenjivanje NPF-a moraju biti identični podacima iz ovih tabela.

Sheet Tabela I
A1: Sud BiH | J1: 2024
A2: Izvještajni period: | C2: 1.1.2024.-31.12.2024. | J2: 114
A3: Ostvarena kolektivna norma za sud u 2024. godini: | E3: =P86
A4: Kvalitet rada suda: | D4: ='Tabela II'!J41
A5: Tabela Ia – Ostvarena orijentaciona norma - Elektronski obrazac za obračun ostvarene orijentacione norme (pogledati NAPOMENU 4)
A7: Redni broj | B7: Ime i prezime - evidentirani podatak se automatski prenosi u Tabelu IIc | C7: Ocjenjen u sudu | D7: Naziv odjela | E7: Pravosudna funkcija | G7: Procenat orijentacijske norme koju je nosilac pravosudne funkcije dužan ostvariti - Ukoliko procenat orijenatcijske norme nije predviđen u padajućem meniju pogledati NAPOMENU 3 | H7: Period obavljanja pravosudne funkcije u instituciji koja popunjava tabelu Ia | J7: Ukupan broj dana za obračun norme - pogledati NAPOMENU 2 | K7: Broj dana opravdanog odsustva iz člana 13. Kriterija za ocjenjivanje rada (pogledati NAPOMENU 9) | L7: Ostvarena orijentaciona norma iz CMS-a | M7: Ostvarena orijentaciona norma na predmetima van CMS-a - pogledati NAPOMENU 6 | N7: Procenat ostvarene orijentacione norme prema članu 9. Pravilnika o orijentacijskim mjerilima - pogledati NAPOMENU 7 | O7: Procenat ostvarene propisane godišnje orijentacijske norme u 2024. godini | P7: Ukupno ostvarena orijentacijska norma u 2024. godini | Q7: Nedovoljan broj predmeta u radu - pogledati NAPOMENU 5 | V7: Broj ostvarenih bodova | W7: Sudija | X7: Stručni saradnik | Y7: Predsjednik odjela | Z7: Predsjednik sudskog vijeća vrhovnog suda entiteta | AA7: Član VSTV-a
H8: Datum od | I8: Datum do | Q8: broj predmeta u radu | R8: broj riješenih predmeta | S8: broj neriješenih predmeta sa zakonskim i procesnim smetnjama | T8: broj neriješenih predmeta bez zakonskih i procesnih smetnji | U8: procenat riješenih predmeta
A9: I | B9: II | C9: III | D9: IV | E9: V | G9: VI | H9: VII | I9: VIII | J9: IX | K9: X | L9: XI | M9: XII | N9: XIII | O9: XIV | P9: XV | Q9: XVI | R9: XVII | S9: XVIII | T9: XIX | U9: XX | V9: XXI | W9: 1 | X9: 0.9 | Y9: 0.75 | Z9: 0.7 | AA9: 0.5 | AB9: 0.35 | AC9: 0.25 | AD9: Ne treba raditi na predm.
A10: 1 | E10: Predsjednik suda | J10: 262 | O10: =IF(G10="","",IF(G10="Ne treba raditi na predm.",1+SUM(L10:N10),(SUM(L10:N10)/G10))) | P10: =IF(K10>0,IF(G10="Ne treba raditi na predm.",O10,O10*(J10/(J10-K10))),O10) | U10: =IF(Q10="","",R10/(Q10-S10)) | V10: =IF(P10="","",IF(C10="Ne","",IF(G10="Ne treba raditi na predm.","",IF(P10>1,20,IF(U10="",IF(P10>0.9,18,IF(P10>0.8,16,IF(P10>0.7,12,IF(P10>0.6,8,IF(P10>0.5,4,0))))),IF(U10>0.94,20,IF(U10>0.9,18,IF(U10>0.8,16,IF(U10>0.7,12,IF(U10>0.6,8,IF(U10>0.5,4,0))))))))))) | W10: 0.7 | X10: 0.5 | Y10: 0.4 | Z10: 0.3 | AA10: Ne treba raditi na predm.
J11: 262 | O11: =IF(G11="","",IF(G11="Ne treba raditi na predm.",1+SUM(L11:N11),(SUM(L11:N11)/G11))) | P11: =IF(K11>0,IF(G11="Ne treba raditi na predm.",O11,O11*(J11/(J11-K11))),O11) | U11: =IF(Q11="","",R11/(Q11-S11)) | V11: =IF(P11="","",IF(C10="Ne","",IF(G11="Ne treba raditi na predm.","",IF(P11>1,20,IF(U11="",IF(P11>0.9,18,IF(P11>0.8,16,IF(P11>0.7,12,IF(P11>0.6,8,IF(P11>0.5,4,0))))),IF(U11>0.94,20,IF(U11>0.9,18,IF(U11>0.8,16,IF(U11>0.7,12,IF(U11>0.6,8,IF(U11>0.5,4,0)))))))))))
A12: 2 | F12: =IF(E12="Sudija",1,IF(E12="Stručni saradnik",1,IF(E12="Član VSTV-a",2,""))) | J12: 262 | O12: =IF(G12="","",IF(G12="Ne treba raditi na predm.",1+SUM(L12:N12),(SUM(L12:N12)/G12))) | P12: =IF(K12>0,IF(G12="Ne treba raditi na predm.",O12,O12*(J12/(J12-K12))),O12) | U12: =IF(Q12="","",R12/(Q12-S12)) | V12: =IF(P12="","",IF(C12="Ne","",IF(G12="Ne treba raditi na predm.","",IF(P12>1,40,IF(U12="",IF(P12>0.9,35,IF(P12>0.8,30,IF(P12>0.7,20,IF(P12>0.6,15,IF(P12>0.5,10,0))))),IF(U12>0.94,40,IF(U12>0.9,35,IF(U12>0.8,30,IF(U12>0.7,20,IF(U12>0.6,15,IF(U12>0.5,10,0))))))))))) | W12: Da | X12: Ne
A13: 3 | F13: =IF(E13="Sudija",1,IF(E13="Stručni saradnik",1,IF(E13="Član VSTV-a",2,""))) | J13: 262 | O13: =IF(G13="","",IF(G13="Ne treba raditi na predm.",1+SUM(L13:N13),(SUM(L13:N13)/G13))) | P13: =IF(K13>0,IF(G13="Ne treba raditi na predm.",O13,O13*(J13/(J13-K13))),O13) | U13: =IF(Q13="","",R13/(Q13-S13)) | V13: =IF(P13="","",IF(C13="Ne","",IF(G13="Ne treba raditi na predm.","",IF(P13>1,40,IF(U13="",IF(P13>0.9,35,IF(P13>0.8,30,IF(P13>0.7,20,IF(P13>0.6,15,IF(P13>0.5,10,0))))),IF(U13>0.94,40,IF(U13>0.9,35,IF(U13>0.8,30,IF(U13>0.7,20,IF(U13>0.6,15,IF(U13>0.5,10,0)))))))))))
A14: 4 | F14: =IF(E14="Sudija",1,IF(E14="Stručni saradnik",1,IF(E14="Član VSTV-a",2,""))) | J14: 262 | O14: =IF(G14="","",IF(G14="Ne treba raditi na predm.",1+SUM(L14:N14),(SUM(L14:N14)/G14))) | P14: =IF(K14>0,IF(G14="Ne treba raditi na predm.",O14,O14*(J14/(J14-K14))),O14) | U14: =IF(Q14="","",R14/(Q14-S14)) | V14: =IF(P14="","",IF(C14="Ne","",IF(G14="Ne treba raditi na predm.","",IF(P14>1,40,IF(U14="",IF(P14>0.9,35,IF(P14>0.8,30,IF(P14>0.7,20,IF(P14>0.6,15,IF(P14>0.5,10,0))))),IF(U14>0.94,40,IF(U14>0.9,35,IF(U14>0.8,30,IF(U14>0.7,20,IF(U14>0.6,15,IF(U14>0.5,10,0)))))))))))
A15: 5 | F15: =IF(E15="Sudija",1,IF(E15="Stručni saradnik",1,IF(E15="Član VSTV-a",2,""))) | J15: 262 | O15: =IF(G15="","",IF(G15="Ne treba raditi na predm.",1+SUM(L15:N15),(SUM(L15:N15)/G15))) | P15: =IF(K15>0,IF(G15="Ne treba raditi na predm.",O15,O15*(J15/(J15-K15))),O15) | U15: =IF(Q15="","",R15/(Q15-S15)) | V15: =IF(P15="","",IF(C15="Ne","",IF(G15="Ne treba raditi na predm.","",IF(P15>1,40,IF(U15="",IF(P15>0.9,35,IF(P15>0.8,30,IF(P15>0.7,20,IF(P15>0.6,15,IF(P15>0.5,10,0))))),IF(U15>0.94,40,IF(U15>0.9,35,IF(U15>0.8,30,IF(U15>0.7,20,IF(U15>0.6,15,IF(U15>0.5,10,0)))))))))))
A16: 6 | F16: =IF(E16="Sudija",1,IF(E16="Stručni saradnik",1,IF(E16="Član VSTV-a",2,""))) | J16: 262 | O16: =IF(G16="","",IF(G16="Ne treba raditi na predm.",1+SUM(L16:N16),(SUM(L16:N16)/G16))) | P16: =IF(K16>0,IF(G16="Ne treba raditi na predm.",O16,O16*(J16/(J16-K16))),O16) | U16: =IF(Q16="","",R16/(Q16-S16)) | V16: =IF(P16="","",IF(C16="Ne","",IF(G16="Ne treba raditi na predm.","",IF(P16>1,40,IF(U16="",IF(P16>0.9,35,IF(P16>0.8,30,IF(P16>0.7,20,IF(P16>0.6,15,IF(P16>0.5,10,0))))),IF(U16>0.94,40,IF(U16>0.9,35,IF(U16>0.8,30,IF(U16>0.7,20,IF(U16>0.6,15,IF(U16>0.5,10,0)))))))))))
A17: 7 | F17: =IF(E17="Sudija",1,IF(E17="Stručni saradnik",1,IF(E17="Član VSTV-a",2,""))) | J17: 262 | O17: =IF(G17="","",IF(G17="Ne treba raditi na predm.",1+SUM(L17:N17),(SUM(L17:N17)/G17))) | P17: =IF(K17>0,IF(G17="Ne treba raditi na predm.",O17,O17*(J17/(J17-K17))),O17) | U17: =IF(Q17="","",R17/(Q17-S17)) | V17: =IF(P17="","",IF(C17="Ne","",IF(G17="Ne treba raditi na predm.","",IF(P17>1,40,IF(U17="",IF(P17>0.9,35,IF(P17>0.8,30,IF(P17>0.7,20,IF(P17>0.6,15,IF(P17>0.5,10,0))))),IF(U17>0.94,40,IF(U17>0.9,35,IF(U17>0.8,30,IF(U17>0.7,20,IF(U17>0.6,15,IF(U17>0.5,10,0)))))))))))
A18: 8 | F18: =IF(E18="Sudija",1,IF(E18="Stručni saradnik",1,IF(E18="Član VSTV-a",2,""))) | J18: 262 | O18: =IF(G18="","",IF(G18="Ne treba raditi na predm.",1+SUM(L18:N18),(SUM(L18:N18)/G18))) | P18: =IF(K18>0,IF(G18="Ne treba raditi na predm.",O18,O18*(J18/(J18-K18))),O18) | U18: =IF(Q18="","",R18/(Q18-S18)) | V18: =IF(P18="","",IF(C18="Ne","",IF(G18="Ne treba raditi na predm.","",IF(P18>1,40,IF(U18="",IF(P18>0.9,35,IF(P18>0.8,30,IF(P18>0.7,20,IF(P18>0.6,15,IF(P18>0.5,10,0))))),IF(U18>0.94,40,IF(U18>0.9,35,IF(U18>0.8,30,IF(U18>0.7,20,IF(U18>0.6,15,IF(U18>0.5,10,0)))))))))))
A19: 9 | F19: =IF(E19="Sudija",1,IF(E19="Stručni saradnik",1,IF(E19="Član VSTV-a",2,""))) | J19: 262 | O19: =IF(G19="","",IF(G19="Ne treba raditi na predm.",1+SUM(L19:N19),(SUM(L19:N19)/G19))) | P19: =IF(K19>0,IF(G19="Ne treba raditi na predm.",O19,O19*(J19/(J19-K19))),O19) | U19: =IF(Q19="","",R19/(Q19-S19)) | V19: =IF(P19="","",IF(C19="Ne","",IF(G19="Ne treba raditi na predm.","",IF(P19>1,40,IF(U19="",IF(P19>0.9,35,IF(P19>0.8,30,IF(P19>0.7,20,IF(P19>0.6,15,IF(P19>0.5,10,0))))),IF(U19>0.94,40,IF(U19>0.9,35,IF(U19>0.8,30,IF(U19>0.7,20,IF(U19>0.6,15,IF(U19>0.5,10,0)))))))))))
A20: 10 | F20: =IF(E20="Sudija",1,IF(E20="Stručni saradnik",1,IF(E20="Član VSTV-a",2,""))) | J20: 262 | O20: =IF(G20="","",IF(G20="Ne treba raditi na predm.",1+SUM(L20:N20),(SUM(L20:N20)/G20))) | P20: =IF(K20>0,IF(G20="Ne treba raditi na predm.",O20,O20*(J20/(J20-K20))),O20) | U20: =IF(Q20="","",R20/(Q20-S20)) | V20: =IF(P20="","",IF(C20="Ne","",IF(G20="Ne treba raditi na predm.","",IF(P20>1,40,IF(U20="",IF(P20>0.9,35,IF(P20>0.8,30,IF(P20>0.7,20,IF(P20>0.6,15,IF(P20>0.5,10,0))))),IF(U20>0.94,40,IF(U20>0.9,35,IF(U20>0.8,30,IF(U20>0.7,20,IF(U20>0.6,15,IF(U20>0.5,10,0)))))))))))
A21: 11 | F21: =IF(E21="Sudija",1,IF(E21="Stručni saradnik",1,IF(E21="Član VSTV-a",2,""))) | J21: 262 | O21: =IF(G21="","",IF(G21="Ne treba raditi na predm.",1+SUM(L21:N21),(SUM(L21:N21)/G21))) | P21: =IF(K21>0,IF(G21="Ne treba raditi na predm.",O21,O21*(J21/(J21-K21))),O21) | U21: =IF(Q21="","",R21/(Q21-S21)) | V21: =IF(P21="","",IF(C21="Ne","",IF(G21="Ne treba raditi na predm.","",IF(P21>1,40,IF(U21="",IF(P21>0.9,35,IF(P21>0.8,30,IF(P21>0.7,20,IF(P21>0.6,15,IF(P21>0.5,10,0))))),IF(U21>0.94,40,IF(U21>0.9,35,IF(U21>0.8,30,IF(U21>0.7,20,IF(U21>0.6,15,IF(U21>0.5,10,0)))))))))))
A22: 12 | F22: =IF(E22="Sudija",1,IF(E22="Stručni saradnik",1,IF(E22="Član VSTV-a",2,""))) | J22: 262 | O22: =IF(G22="","",IF(G22="Ne treba raditi na predm.",1+SUM(L22:N22),(SUM(L22:N22)/G22))) | P22: =IF(K22>0,IF(G22="Ne treba raditi na predm.",O22,O22*(J22/(J22-K22))),O22) | U22: =IF(Q22="","",R22/(Q22-S22)) | V22: =IF(P22="","",IF(C22="Ne","",IF(G22="Ne treba raditi na predm.","",IF(P22>1,40,IF(U22="",IF(P22>0.9,35,IF(P22>0.8,30,IF(P22>0.7,20,IF(P22>0.6,15,IF(P22>0.5,10,0))))),IF(U22>0.94,40,IF(U22>0.9,35,IF(U22>0.8,30,IF(U22>0.7,20,IF(U22>0.6,15,IF(U22>0.5,10,0)))))))))))
A23: 13 | F23: =IF(E23="Sudija",1,IF(E23="Stručni saradnik",1,IF(E23="Član VSTV-a",2,""))) | J23: 262 | O23: =IF(G23="","",IF(G23="Ne treba raditi na predm.",1+SUM(L23:N23),(SUM(L23:N23)/G23))) | P23: =IF(K23>0,IF(G23="Ne treba raditi na predm.",O23,O23*(J23/(J23-K23))),O23) | U23: =IF(Q23="","",R23/(Q23-S23)) | V23: =IF(P23="","",IF(C23="Ne","",IF(G23="Ne treba raditi na predm.","",IF(P23>1,40,IF(U23="",IF(P23>0.9,35,IF(P23>0.8,30,IF(P23>0.7,20,IF(P23>0.6,15,IF(P23>0.5,10,0))))),IF(U23>0.94,40,IF(U23>0.9,35,IF(U23>0.8,30,IF(U23>0.7,20,IF(U23>0.6,15,IF(U23>0.5,10,0)))))))))))
A24: 14 | F24: =IF(E24="Sudija",1,IF(E24="Stručni saradnik",1,IF(E24="Član VSTV-a",2,""))) | J24: 262 | O24: =IF(G24="","",IF(G24="Ne treba raditi na predm.",1+SUM(L24:N24),(SUM(L24:N24)/G24))) | P24: =IF(K24>0,IF(G24="Ne treba raditi na predm.",O24,O24*(J24/(J24-K24))),O24) | U24: =IF(Q24="","",R24/(Q24-S24)) | V24: =IF(P24="","",IF(C24="Ne","",IF(G24="Ne treba raditi na predm.","",IF(P24>1,40,IF(U24="",IF(P24>0.9,35,IF(P24>0.8,30,IF(P24>0.7,20,IF(P24>0.6,15,IF(P24>0.5,10,0))))),IF(U24>0.94,40,IF(U24>0.9,35,IF(U24>0.8,30,IF(U24>0.7,20,IF(U24>0.6,15,IF(U24>0.5,10,0)))))))))))
... A75: 65 | F75: =IF(E75="Sudija",1,IF(E75="Stručni saradnik",1,IF(E75="Član VSTV-a",2,""))) | J75: 262 | O75: =IF(G75="","",IF(G75="Ne treba raditi na predm.",1+SUM(L75:N75),(SUM(L75:N75)/G75))) | P75: =IF(K75>0,IF(G75="Ne treba raditi na predm.",O75,O75*(J75/(J75-K75))),O75) | U75: =IF(Q75="","",R75/(Q75-S75)) | V75: =IF(P75="","",IF(C75="Ne","",IF(G75="Ne treba raditi na predm.","",IF(P75>1,40,IF(U75="",IF(P75>0.9,35,IF(P75>0.8,30,IF(P75>0.7,20,IF(P75>0.6,15,IF(P75>0.5,10,0))))),IF(U75>0.94,40,IF(U75>0.9,35,IF(U75>0.8,30,IF(U75>0.7,20,IF(U75>0.6,15,IF(U75>0.5,10,0)))))))))))
F76: =IF(E76="Sudija",1,IF(E76="Stručni saradnik",1,IF(E76="Član VSTV-a",2,""))) | J76: 262 | O76: =IF(G76="","",IF(G76="Ne treba raditi na predm.",1+SUM(L76:N76),(SUM(L76:N76)/G76))) | P76: =IF(K76>0,IF(G76="Ne treba raditi na predm.",O76,O76*(J76/(J76-K76))),O76) | U76: =IF(Q76="","",R76/(Q76-S76)) | V76: =IF(P76="","",IF(C76="Ne","",IF(G76="Ne treba raditi na predm.","",IF(P76>1,40,IF(U76="",IF(P76>0.9,35,IF(P76>0.8,30,IF(P76>0.7,20,IF(P76>0.6,15,IF(P76>0.5,10,0))))),IF(U76>0.94,40,IF(U76>0.9,35,IF(U76>0.8,30,IF(U76>0.7,20,IF(U76>0.6,15,IF(U76>0.5,10,0)))))))))))
F77: =IF(E77="Sudija",1,IF(E77="Stručni saradnik",1,IF(E77="Član VSTV-a",2,""))) | J77: 262 | O77: =IF(G77="","",IF(G77="Ne treba raditi na predm.",1+SUM(L77:N77),(SUM(L77:N77)/G77))) | P77: =IF(K77>0,IF(G77="Ne treba raditi na predm.",O77,O77*(J77/(J77-K77))),O77) | U77: =IF(Q77="","",R77/(Q77-S77)) | V77: =IF(P77="","",IF(C77="Ne","",IF(G77="Ne treba raditi na predm.","",IF(P77>1,40,IF(U77="",IF(P77>0.9,35,IF(P77>0.8,30,IF(P77>0.7,20,IF(P77>0.6,15,IF(P77>0.5,10,0))))),IF(U77>0.94,40,IF(U77>0.9,35,IF(U77>0.8,30,IF(U77>0.7,20,IF(U77>0.6,15,IF(U77>0.5,10,0)))))))))))
F78: =IF(E78="Sudija",1,IF(E78="Stručni saradnik",1,IF(E78="Član VSTV-a",2,""))) | J78: 262 | O78: =IF(G78="","",IF(G78="Ne treba raditi na predm.",1+SUM(L78:N78),(SUM(L78:N78)/G78))) | P78: =IF(K78>0,IF(G78="Ne treba raditi na predm.",O78,O78*(J78/(J78-K78))),O78) | U78: =IF(Q78="","",R78/(Q78-S78)) | V78: =IF(P78="","",IF(C78="Ne","",IF(G78="Ne treba raditi na predm.","",IF(P78>1,40,IF(U78="",IF(P78>0.9,35,IF(P78>0.8,30,IF(P78>0.7,20,IF(P78>0.6,15,IF(P78>0.5,10,0))))),IF(U78>0.94,40,IF(U78>0.9,35,IF(U78>0.8,30,IF(U78>0.7,20,IF(U78>0.6,15,IF(U78>0.5,10,0)))))))))))
F79: =IF(E79="Sudija",1,IF(E79="Stručni saradnik",1,IF(E79="Član VSTV-a",2,""))) | J79: 262 | O79: =IF(G79="","",IF(G79="Ne treba raditi na predm.",1+SUM(L79:N79),(SUM(L79:N79)/G79))) | P79: =IF(K79>0,IF(G79="Ne treba raditi na predm.",O79,O79*(J79/(J79-K79))),O79) | U79: =IF(Q79="","",R79/(Q79-S79)) | V79: =IF(P79="","",IF(C79="Ne","",IF(G79="Ne treba raditi na predm.","",IF(P79>1,40,IF(U79="",IF(P79>0.9,35,IF(P79>0.8,30,IF(P79>0.7,20,IF(P79>0.6,15,IF(P79>0.5,10,0))))),IF(U79>0.94,40,IF(U79>0.9,35,IF(U79>0.8,30,IF(U79>0.7,20,IF(U79>0.6,15,IF(U79>0.5,10,0)))))))))))
F80: =IF(E80="Sudija",1,IF(E80="Stručni saradnik",1,IF(E80="Član VSTV-a",2,""))) | J80: 262 | O80: =IF(G80="","",IF(G80="Ne treba raditi na predm.",1+SUM(L80:N80),(SUM(L80:N80)/G80))) | P80: =IF(K80>0,IF(G80="Ne treba raditi na predm.",O80,O80*(J80/(J80-K80))),O80) | U80: =IF(Q80="","",R80/(Q80-S80)) | V80: =IF(P80="","",IF(C80="Ne","",IF(G80="Ne treba raditi na predm.","",IF(P80>1,40,IF(U80="",IF(P80>0.9,35,IF(P80>0.8,30,IF(P80>0.7,20,IF(P80>0.6,15,IF(P80>0.5,10,0))))),IF(U80>0.94,40,IF(U80>0.9,35,IF(U80>0.8,30,IF(U80>0.7,20,IF(U80>0.6,15,IF(U80>0.5,10,0)))))))))))
F81: =IF(E81="Sudija",1,IF(E81="Stručni saradnik",1,IF(E81="Član VSTV-a",2,""))) | J81: 262 | O81: =IF(G81="","",IF(G81="Ne treba raditi na predm.",1+SUM(L81:N81),(SUM(L81:N81)/G81))) | P81: =IF(K81>0,IF(G81="Ne treba raditi na predm.",O81,O81*(J81/(J81-K81))),O81) | U81: =IF(Q81="","",R81/(Q81-S81)) | V81: =IF(P81="","",IF(C81="Ne","",IF(G81="Ne treba raditi na predm.","",IF(P81>1,40,IF(U81="",IF(P81>0.9,35,IF(P81>0.8,30,IF(P81>0.7,20,IF(P81>0.6,15,IF(P81>0.5,10,0))))),IF(U81>0.94,40,IF(U81>0.9,35,IF(U81>0.8,30,IF(U81>0.7,20,IF(U81>0.6,15,IF(U81>0.5,10,0)))))))))))
F82: =IF(E82="Sudija",1,IF(E82="Stručni saradnik",1,IF(E82="Član VSTV-a",2,""))) | J82: 262 | O82: =IF(G82="","",IF(G82="Ne treba raditi na predm.",1+SUM(L82:N82),(SUM(L82:N82)/G82))) | P82: =IF(K82>0,IF(G82="Ne treba raditi na predm.",O82,O82*(J82/(J82-K82))),O82) | U82: =IF(Q82="","",R82/(Q82-S82)) | V82: =IF(P82="","",IF(C82="Ne","",IF(G82="Ne treba raditi na predm.","",IF(P82>1,40,IF(U82="",IF(P82>0.9,35,IF(P82>0.8,30,IF(P82>0.7,20,IF(P82>0.6,15,IF(P82>0.5,10,0))))),IF(U82>0.94,40,IF(U82>0.9,35,IF(U82>0.8,30,IF(U82>0.7,20,IF(U82>0.6,15,IF(U82>0.5,10,0)))))))))))
F83: =IF(E83="Sudija",1,IF(E83="Stručni saradnik",1,IF(E83="Član VSTV-a",2,""))) | J83: 262 | O83: =IF(G83="","",IF(G83="Ne treba raditi na predm.",1+SUM(L83:N83),(SUM(L83:N83)/G83))) | P83: =IF(K83>0,IF(G83="Ne treba raditi na predm.",O83,O83*(J83/(J83-K83))),O83) | U83: =IF(Q83="","",R83/(Q83-S83)) | V83: =IF(P83="","",IF(C83="Ne","",IF(G83="Ne treba raditi na predm.","",IF(P83>1,40,IF(U83="",IF(P83>0.9,35,IF(P83>0.8,30,IF(P83>0.7,20,IF(P83>0.6,15,IF(P83>0.5,10,0))))),IF(U83>0.94,40,IF(U83>0.9,35,IF(U83>0.8,30,IF(U83>0.7,20,IF(U83>0.6,15,IF(U83>0.5,10,0)))))))))))
F84: =IF(E84="Sudija",1,IF(E84="Stručni saradnik",1,IF(E84="Član VSTV-a",2,""))) | J84: 262 | O84: =IF(G84="","",IF(G84="Ne treba raditi na predm.",1+SUM(L84:N84),(SUM(L84:N84)/G84))) | P84: =IF(K84>0,IF(G84="Ne treba raditi na predm.",O84,O84*(J84/(J84-K84))),O84) | U84: =IF(Q84="","",R84/(Q84-S84)) | V84: =IF(P84="","",IF(C84="Ne","",IF(G84="Ne treba raditi na predm.","",IF(P84>1,40,IF(U84="",IF(P84>0.9,35,IF(P84>0.8,30,IF(P84>0.7,20,IF(P84>0.6,15,IF(P84>0.5,10,0))))),IF(U84>0.94,40,IF(U84>0.9,35,IF(U84>0.8,30,IF(U84>0.7,20,IF(U84>0.6,15,IF(U84>0.5,10,0)))))))))))
F85: =IF(E85="Sudija",1,IF(E85="Stručni saradnik",1,IF(E85="Član VSTV-a",2,""))) | J85: 262 | O85: =IF(G85="","",IF(G85="Ne treba raditi na predm.",1+SUM(L85:N85),(SUM(L85:N85)/G85))) | P85: =IF(K85>0,IF(G85="Ne treba raditi na predm.",O85,O85*(J85/(J85-K85))),O85) | U85: =IF(Q85="","",R85/(Q85-S85)) | V85: =IF(P85="","",IF(C85="Ne","",IF(G85="Ne treba raditi na predm.","",IF(P85>1,40,IF(U85="",IF(P85>0.9,35,IF(P85>0.8,30,IF(P85>0.7,20,IF(P85>0.6,15,IF(P85>0.5,10,0))))),IF(U85>0.94,40,IF(U85>0.9,35,IF(U85>0.8,30,IF(U85>0.7,20,IF(U85>0.6,15,IF(U85>0.5,10,0)))))))))))
O86: KOLEKTIVNA NORMA SUDA | P86: =IF(P10="",IF(P11="","",AVERAGEIF(P10:P85,">0,2")),AVERAGEIF(P10:P85,">0,2")) | Q86: =SUM(Q10:Q85) -> 0 | R86: =SUM(R10:R85) -> 0 | S86: =SUM(S10:S85) -> 0 | T86: =SUM(T10:T85) -> 0 | U86: =IF(Q86=0,"",R86/(Q86-S86))
O87: BODOVANJE ZA OSTVARENU KOLEKTIVNU NORMU SUDA U SKLADU SA ČLANOM 22. KRITERIJA ZA OCJENJIVANJE RADA PREDSJEDNIKA SUDOVA | P87: =IF(P86="","",IF(P86>1,20,IF(P86>0.9,18,IF(P86>0.8,16,IF(P86>0.7,12,IF(P86>0.6,8,IF(P86>0.5,4,0)))))))
B89: Obrazloženje norme NPF-a unesene u plava polja
B90: Primjer - Sudija 1 | D90: 8 mjeseci sudija, 4 mjeseca šef odjela (90% norme sudije) | G90: 0.97
Q102: Nedovoljan broj predmeta u radu
A103: NAPOMENA 1: U Tabelu Ia se unose podaci o ostvarenoj orijentacijskoj normi za sve nosioce pravosudnih funkcija, uključujući i one kod kojih je ukupno ostvarenje norme ispod 20%: novoimenovane sudije/stručni saradnici, sudije/stručni saradnici koji su imenovani u drugu instituciju, kao i sudije/stručni saradnici koji su prestali sa radom zbog: penzionisanja, podnošenja ostavke, smrti, gubitka radne sposobnosti, razrješenja od dužnosti, privremenog ili trajnog udaljenja od vršenja dužnosti itd. (član 14. Kriterija za ocjenjivanje rada predsjednika sudova u Bosni i Hercegovini). Ostvarena kolektivna norma suda automatski će se obračunati i predsjedniku suda će se dodijeliti odgovarajući broj bodova u skladu sa članom 22. Kriterija za ocjenjivanje rada predsjednika sudova u Bosni i Hercegovini. Ukoliko sud nije imao dovoljan broj predmeta u radu za ostvarenje orijentacijske norme, potrebno je manuelno unijeti ukupan broj predmeta koji su bili u radu u sudu kao i ukupan broj riješenih predmeta u sudu u periodu izvještavanja, kao i podatke o broju neriješenih predmeta sa zakonskim i procesnim smetnjama i broju neriješenih predmeta bez zakonskih i procesnih smetnji. Procenat riješenih predmeta automatski će se obračunati, te predsjedniku suda dodijeliti odgovarajući broj bodova u skladu sa članom 23. Kriterija za ocjenjivanje rada predsjednika sudova u Bosni i Hercegovini. | Q103: broj predmeta u radu | R103: broj riješenih predmeta | S103: broj neriješenih predmeta sa zakonskim i procesnim smetnjama | T103: broj neriješenih predmeta bez zakonskih i procesnih smetnji | U103: procenat riješenih predmeta
U104: =IF(Q104="","",R104/(Q104-S104))
T105: BODOVANJE ZA BROJ RIJEŠENIH PREDMETA U SUDU U SKLADU SA ČLANOM 23. KRITERIJA ZA OCJENJIVANJE RADA PREDSJEDNIKA SUDOVA | U105: =IF(U104="","",IF(U104>0.94,20,IF(U104>0.9,18,IF(U104>0.8,16,IF(U104>0.7,12,IF(U104>0.6,8,IF(U104>0.5,4,0)))))))
A108: Tabela Ib - Obračun norme za proces ocjenjivanja za nosioce pravosudne funkcije koji su u toku godine prešli iz jednog suda u drugi sud - Obračun prema Instrukciji dio: II POSEBNI SLUČAJEVI OCJENJIVANJA 3) a) (pogledati NAPOMENU 4)
A109: Ime i prezime predsjednika suda | O109: Ukupna ostvarena orijentacijska norma = | P109: =P110+P111 -> 0
A110: Sud 1 | C110: Da | E110: Predsjednik suda | O110: =IF(G110="",0,IF(G110="Ne treba raditi na predm.",1+SUM(L110:N110),(SUM(L110:N110)/G110))) -> 0 | P110: =IF(K110>0,IF(G110="Ne treba raditi na predm.",O110,O110*(J110/(J110-K110))),O110) -> 0 | U110: =IF(Q110="","",(R110+R111)/(Q110+Q111-S110-S111)) | V110: =IF(P110="","",IF(C110="Ne","",IF(G110="Ne treba raditi na predm.","",IF((P110+P111)>1,20,IF(U110="",IF((P110+P111)>0.9,18,IF((P110+P111)>0.8,16,IF((P110+P111)>0.7,12,IF((P110+P111)>0.6,8,IF((P110+P111)>0.5,4,0))))),IF((U110+U111)>0.94,20,IF((U110+U111)>0.9,18,IF((U110+U111)>0.8,16,IF((U110+U111)>0.7,12,IF((U110+U111)>0.6,8,IF((U110+U111)>0.5,4,0))))))))))) -> 0
A111: Sud 2 | F111: =IF(E111="Sudija",1,IF(E111="Stručni saradnik",1,IF(E111="Član VSTV-a",2,""))) | O111: =IF(G111="",0,IF(G111="Ne treba raditi na predm.",1+SUM(L111:N111),(SUM(L111:N111)/G111))) -> 0 | P111: =IF(K111>0,IF(G111="Ne treba raditi na predm.",O111,O111*(J111/(J111-K111))),O111) -> 0 | V111: =IF(P111="","",IF(C111="Ne","",IF(G111="Ne treba raditi na predm.","",IF((P110+P111)>1,40,IF(U111="",IF((P110+P111)>0.9,35,IF((P110+P111)>0.8,30,IF((P110+P111)>0.7,20,IF((P110+P111)>0.6,15,IF((P110+P111)>0.5,10,0))))),IF((U110+U111)>0.94,40,IF((U110+U111)>0.9,35,IF((U110+U111)>0.8,30,IF((U110+U111)>0.7,20,IF((U110+U111)>0.6,15,IF((U110+U111)>0.5,10,0))))))))))) -> 0
A112: Ime i prezime nosioca pravosudne funkcije | O112: Ukupna ostvarena orijentacijska norma = | P112: =P113+P114 -> 0
A113: Sud 1 | F113: =IF(E113="Sudija",1,IF(E113="Stručni saradnik",1,IF(E113="Član VSTV-a",2,""))) | O113: =IF(G113="",0,IF(G113="Ne treba raditi na predm.",1+SUM(L113:N113),(SUM(L113:N113)/G113))) -> 0 | P113: =IF(K113>0,IF(G113="Ne treba raditi na predm.",O113,O113*(J113/(J113-K113))),O113) -> 0 | U113: =IF(Q113="","",(R113+R114)/(Q113+Q114-S113-S114)) | V113: =IF(P113="","",IF(C113="Ne","",IF(G113="Ne treba raditi na predm.","",IF((P113+P114)>1,40,IF(U113="",IF((P113+P114)>0.9,35,IF((P113+P114)>0.8,30,IF((P113+P114)>0.7,20,IF((P113+P114)>0.6,15,IF((P113+P114)>0.5,10,0))))),IF((U113+U114)>0.94,40,IF((U113+U114)>0.9,35,IF((U113+U114)>0.8,30,IF((U113+U114)>0.7,20,IF((U113+U114)>0.6,15,IF((U113+U114)>0.5,10,0))))))))))) -> 0
A114: Sud 2 | F114: =IF(E114="Sudija",1,IF(E114="Stručni saradnik",1,IF(E114="Član VSTV-a",2,""))) | O114: =IF(G114="",0,IF(G114="Ne treba raditi na predm.",1+SUM(L114:N114),(SUM(L114:N114)/G114))) -> 0 | P114: =IF(K114>0,IF(G114="Ne treba raditi na predm.",O114,O114*(J114/(J114-K114))),O114) -> 0 | V114: =IF(P114="","",IF(C114="Ne","",IF(G114="Ne treba raditi na predm.","",IF((P113+P114)>1,40,IF(U114="",IF((P113+P114)>0.9,35,IF((P113+P114)>0.8,30,IF((P113+P114)>0.7,20,IF((P113+P114)>0.6,15,IF((P113+P114)>0.5,10,0))))),IF((U113+U114)>0.94,40,IF((U113+U114)>0.9,35,IF((U113+U114)>0.8,30,IF((U113+U114)>0.7,20,IF((U113+U114)>0.6,15,IF((U113+U114)>0.5,10,0))))))))))) -> 0
A115: Ime i prezime nosioca pravosudne funkcije | O115: Ukupna ostvarena orijentacijska norma = | P115: =P116+P117 -> 0
A116: Sud 1 | F116: =IF(E116="Sudija",1,IF(E116="Stručni saradnik",1,IF(E116="Član VSTV-a",2,""))) | O116: =IF(G116="",0,IF(G116="Ne treba raditi na predm.",1+SUM(L116:N116),(SUM(L116:N116)/G116))) -> 0 | P116: =IF(K116>0,IF(G116="Ne treba raditi na predm.",O116,O116*(J116/(J116-K116))),O116) -> 0 | U116: =IF(Q116="","",(R116+R117)/(Q116+Q117-S116-S117)) | V116: =IF(P116="","",IF(C116="Ne","",IF(G116="Ne treba raditi na predm.","",IF((P116+P117)>1,40,IF(U116="",IF((P116+P117)>0.9,35,IF((P116+P117)>0.8,30,IF((P116+P117)>0.7,20,IF((P116+P117)>0.6,15,IF((P116+P117)>0.5,10,0))))),IF((U116+U117)>0.94,40,IF((U116+U117)>0.9,35,IF((U116+U117)>0.8,30,IF((U116+U117)>0.7,20,IF((U116+U117)>0.6,15,IF((U116+U117)>0.5,10,0))))))))))) -> 0
A117: Sud 2 | F117: =IF(E117="Sudija",1,IF(E117="Stručni saradnik",1,IF(E117="Član VSTV-a",2,""))) | O117: =IF(G117="",0,IF(G117="Ne treba raditi na predm.",1+SUM(L117:N117),(SUM(L117:N117)/G117))) -> 0 | P117: =IF(K117>0,IF(G117="Ne treba raditi na predm.",O117,O117*(J117/(J117-K117))),O117) -> 0 | V117: =IF(P117="","",IF(C117="Ne","",IF(G117="Ne treba raditi na predm.","",IF((P116+P117)>1,40,IF(U117="",IF((P116+P117)>0.9,35,IF((P116+P117)>0.8,30,IF((P116+P117)>0.7,20,IF((P116+P117)>0.6,15,IF((P116+P117)>0.5,10,0))))),IF((U116+U117)>0.94,40,IF((U116+U117)>0.9,35,IF((U116+U117)>0.8,30,IF((U116+U117)>0.7,20,IF((U116+U117)>0.6,15,IF((U116+U117)>0.5,10,0))))))))))) -> 0
A118: Ime i prezime nosioca pravosudne funkcije | O118: Ukupna ostvarena orijentacijska norma = | P118: =P119+P120 -> 0
A119: Sud 1 | F119: =IF(E119="Sudija",1,IF(E119="Stručni saradnik",1,IF(E119="Član VSTV-a",2,""))) | O119: =IF(G119="",0,IF(G119="Ne treba raditi na predm.",1+SUM(L119:N119),(SUM(L119:N119)/G119))) -> 0 | P119: =IF(K119>0,IF(G119="Ne treba raditi na predm.",O119,O119*(J119/(J119-K119))),O119) -> 0 | U119: =IF(Q119="","",(R119+R120)/(Q119+Q120-S119-S120)) | V119: =IF(P119="","",IF(C119="Ne","",IF(G119="Ne treba raditi na predm.","",IF((P119+P120)>1,40,IF(U119="",IF((P119+P120)>0.9,35,IF((P119+P120)>0.8,30,IF((P119+P120)>0.7,20,IF((P119+P120)>0.6,15,IF((P119+P120)>0.5,10,0))))),IF((U119+U120)>0.94,40,IF((U119+U120)>0.9,35,IF((U119+U120)>0.8,30,IF((U119+U120)>0.7,20,IF((U119+U120)>0.6,15,IF((U119+U120)>0.5,10,0))))))))))) -> 0
A120: Sud 2 | F120: =IF(E120="Sudija",1,IF(E120="Stručni saradnik",1,IF(E120="Član VSTV-a",2,""))) | O120: =IF(G120="",0,IF(G120="Ne treba raditi na predm.",1+SUM(L120:N120),(SUM(L120:N120)/G120))) -> 0 | P120: =IF(K120>0,IF(G120="Ne treba raditi na predm.",O120,O120*(J120/(J120-K120))),O120) -> 0 | V120: =IF(P120="","",IF(C120="Ne","",IF(G120="Ne treba raditi na predm.","",IF((P119+P120)>1,40,IF(U120="",IF((P119+P120)>0.9,35,IF((P119+P120)>0.8,30,IF((P119+P120)>0.7,20,IF((P119+P120)>0.6,15,IF((P119+P120)>0.5,10,0))))),IF((U119+U120)>0.94,40,IF((U119+U120)>0.9,35,IF((U119+U120)>0.8,30,IF((U119+U120)>0.7,20,IF((U119+U120)>0.6,15,IF((U119+U120)>0.5,10,0))))))))))) -> 0
A121: Ime i prezime nosioca pravosudne funkcije | O121: Ukupna ostvarena orijentacijska norma = | P121: =P122+P123 -> 0
A122: Sud 1 | F122: =IF(E122="Sudija",1,IF(E122="Stručni saradnik",1,IF(E122="Član VSTV-a",2,""))) | O122: =IF(G122="",0,IF(G122="Ne treba raditi na predm.",1+SUM(L122:N122),(SUM(L122:N122)/G122))) -> 0 | P122: =IF(K122>0,IF(G122="Ne treba raditi na predm.",O122,O122*(J122/(J122-K122))),O122) -> 0 | U122: =IF(Q122="","",(R122+R123)/(Q122+Q123-S122-S123)) | V122: =IF(P122="","",IF(C122="Ne","",IF(G122="Ne treba raditi na predm.","",IF((P122+P123)>1,40,IF(U122="",IF((P122+P123)>0.9,35,IF((P122+P123)>0.8,30,IF((P122+P123)>0.7,20,IF((P122+P123)>0.6,15,IF((P122+P123)>0.5,10,0))))),IF((U122+U123)>0.94,40,IF((U122+U123)>0.9,35,IF((U122+U123)>0.8,30,IF((U122+U123)>0.7,20,IF((U122+U123)>0.6,15,IF((U122+U123)>0.5,10,0))))))))))) -> 0
A123: Sud 2 | F123: =IF(E123="Sudija",1,IF(E123="Stručni saradnik",1,IF(E123="Član VSTV-a",2,""))) | O123: =IF(G123="",0,IF(G123="Ne treba raditi na predm.",1+SUM(L123:N123),(SUM(L123:N123)/G123))) -> 0 | P123: =IF(K123>0,IF(G123="Ne treba raditi na predm.",O123,O123*(J123/(J123-K123))),O123) -> 0 | V123: =IF(P123="","",IF(C123="Ne","",IF(G123="Ne treba raditi na predm.","",IF((P122+P123)>1,40,IF(U123="",IF((P122+P123)>0.9,35,IF((P122+P123)>0.8,30,IF((P122+P123)>0.7,20,IF((P122+P123)>0.6,15,IF((P122+P123)>0.5,10,0))))),IF((U122+U123)>0.94,40,IF((U122+U123)>0.9,35,IF((U122+U123)>0.8,30,IF((U122+U123)>0.7,20,IF((U122+U123)>0.6,15,IF((U122+U123)>0.5,10,0))))))))))) -> 0
A124: Ime i prezime nosioca pravosudne funkcije | O124: Ukupna ostvarena orijentacijska norma = | P124: =P125+P126 -> 0
A125: Sud 1 | F125: =IF(E125="Sudija",1,IF(E125="Stručni saradnik",1,IF(E125="Član VSTV-a",2,""))) | O125: =IF(G125="",0,IF(G125="Ne treba raditi na predm.",1+SUM(L125:N125),(SUM(L125:N125)/G125))) -> 0 | P125: =IF(K125>0,IF(G125="Ne treba raditi na predm.",O125,O125*(J125/(J125-K125))),O125) -> 0 | U125: =IF(Q125="","",(R125+R126)/(Q125+Q126-S125-S126)) | V125: =IF(P125="","",IF(C125="Ne","",IF(G125="Ne treba raditi na predm.","",IF((P125+P126)>1,40,IF(U125="",IF((P125+P126)>0.9,35,IF((P125+P126)>0.8,30,IF((P125+P126)>0.7,20,IF((P125+P126)>0.6,15,IF((P125+P126)>0.5,10,0))))),IF((U125+U126)>0.94,40,IF((U125+U126)>0.9,35,IF((U125+U126)>0.8,30,IF((U125+U126)>0.7,20,IF((U125+U126)>0.6,15,IF((U125+U126)>0.5,10,0))))))))))) -> 0
A126: Sud 2 | F126: =IF(E126="Sudija",1,IF(E126="Stručni saradnik",1,IF(E126="Član VSTV-a",2,""))) | O126: =IF(G126="",0,IF(G126="Ne treba raditi na predm.",1+SUM(L126:N126),(SUM(L126:N126)/G126))) -> 0 | P126: =IF(K126>0,IF(G126="Ne treba raditi na predm.",O126,O126*(J126/(J126-K126))),O126) -> 0 | V126: =IF(P126="","",IF(C126="Ne","",IF(G126="Ne treba raditi na predm.","",IF((P125+P126)>1,40,IF(U126="",IF((P125+P126)>0.9,35,IF((P125+P126)>0.8,30,IF((P125+P126)>0.7,20,IF((P125+P126)>0.6,15,IF((P125+P126)>0.5,10,0))))),IF((U125+U126)>0.94,40,IF((U125+U126)>0.9,35,IF((U125+U126)>0.8,30,IF((U125+U126)>0.7,20,IF((U125+U126)>0.6,15,IF((U125+U126)>0.5,10,0))))))))))) -> 0
A127: Ime i prezime nosioca pravosudne funkcije | O127: Ukupna ostvarena orijentacijska norma = | P127: =P128+P129 -> 0
A128: Sud 1 | F128: =IF(E128="Sudija",1,IF(E128="Stručni saradnik",1,IF(E128="Član VSTV-a",2,""))) | O128: =IF(G128="",0,IF(G128="Ne treba raditi na predm.",1+SUM(L128:N128),(SUM(L128:N128)/G128))) -> 0 | P128: =IF(K128>0,IF(G128="Ne treba raditi na predm.",O128,O128*(J128/(J128-K128))),O128) -> 0 | U128: =IF(Q128="","",(R128+R129)/(Q128+Q129-S128-S129)) | V128: =IF(P128="","",IF(C128="Ne","",IF(G128="Ne treba raditi na predm.","",IF((P128+P129)>1,40,IF(U128="",IF((P128+P129)>0.9,35,IF((P128+P129)>0.8,30,IF((P128+P129)>0.7,20,IF((P128+P129)>0.6,15,IF((P128+P129)>0.5,10,0))))),IF((U128+U129)>0.94,40,IF((U128+U129)>0.9,35,IF((U128+U129)>0.8,30,IF((U128+U129)>0.7,20,IF((U128+U129)>0.6,15,IF((U128+U129)>0.5,10,0))))))))))) -> 0
A129: Sud 2 | F129: =IF(E129="Sudija",1,IF(E129="Stručni saradnik",1,IF(E129="Član VSTV-a",2,""))) | O129: =IF(G129="",0,IF(G129="Ne treba raditi na predm.",1+SUM(L129:N129),(SUM(L129:N129)/G129))) -> 0 | P129: =IF(K129>0,IF(G129="Ne treba raditi na predm.",O129,O129*(J129/(J129-K129))),O129) -> 0 | V129: =IF(P129="","",IF(C129="Ne","",IF(G129="Ne treba raditi na predm.","",IF((P128+P129)>1,40,IF(U129="",IF((P128+P129)>0.9,35,IF((P128+P129)>0.8,30,IF((P128+P129)>0.7,20,IF((P128+P129)>0.6,15,IF((P128+P129)>0.5,10,0))))),IF((U128+U129)>0.94,40,IF((U128+U129)>0.9,35,IF((U128+U129)>0.8,30,IF((U128+U129)>0.7,20,IF((U128+U129)>0.6,15,IF((U128+U129)>0.5,10,0))))))))))) -> 0
A130: Ime i prezime nosioca pravosudne funkcije | O130: Ukupna ostvarena orijentacijska norma = | P130: =P131+P132 -> 0
A131: Sud 1 | F131: =IF(E131="Sudija",1,IF(E131="Stručni saradnik",1,IF(E131="Član VSTV-a",2,""))) | O131: =IF(G131="",0,IF(G131="Ne treba raditi na predm.",1+SUM(L131:N131),(SUM(L131:N131)/G131))) -> 0 | P131: =IF(K131>0,IF(G131="Ne treba raditi na predm.",O131,O131*(J131/(J131-K131))),O131) -> 0 | U131: =IF(Q131="","",(R131+R132)/(Q131+Q132-S131-S132)) | V131: =IF(P131="","",IF(C131="Ne","",IF(G131="Ne treba raditi na predm.","",IF((P131+P132)>1,40,IF(U131="",IF((P131+P132)>0.9,35,IF((P131+P132)>0.8,30,IF((P131+P132)>0.7,20,IF((P131+P132)>0.6,15,IF((P131+P132)>0.5,10,0))))),IF((U131+U132)>0.94,40,IF((U131+U132)>0.9,35,IF((U131+U132)>0.8,30,IF((U131+U132)>0.7,20,IF((U131+U132)>0.6,15,IF((U131+U132)>0.5,10,0))))))))))) -> 0
A132: Sud 2 | F132: =IF(E132="Sudija",1,IF(E132="Stručni saradnik",1,IF(E132="Član VSTV-a",2,""))) | O132: =IF(G132="",0,IF(G132="Ne treba raditi na predm.",1+SUM(L132:N132),(SUM(L132:N132)/G132))) -> 0 | P132: =IF(K132>0,IF(G132="Ne treba raditi na predm.",O132,O132*(J132/(J132-K132))),O132) -> 0 | V132: =IF(P132="","",IF(C132="Ne","",IF(G132="Ne treba raditi na predm.","",IF((P131+P132)>1,40,IF(U132="",IF((P131+P132)>0.9,35,IF((P131+P132)>0.8,30,IF((P131+P132)>0.7,20,IF((P131+P132)>0.6,15,IF((P131+P132)>0.5,10,0))))),IF((U131+U132)>0.94,40,IF((U131+U132)>0.9,35,IF((U131+U132)>0.8,30,IF((U131+U132)>0.7,20,IF((U131+U132)>0.6,15,IF((U131+U132)>0.5,10,0))))))))))) -> 0
A133: Ime i prezime nosioca pravosudne funkcije | O133: Ukupna ostvarena orijentacijska norma = | P133: =P134+P135 -> 0
A134: Sud 1 | F134: =IF(E134="Sudija",1,IF(E134="Stručni saradnik",1,IF(E134="Član VSTV-a",2,""))) | O134: =IF(G134="",0,IF(G134="Ne treba raditi na predm.",1+SUM(L134:N134),(SUM(L134:N134)/G134))) -> 0 | P134: =IF(K134>0,IF(G134="Ne treba raditi na predm.",O134,O134*(J134/(J134-K134))),O134) -> 0 | U134: =IF(Q134="","",(R134+R135)/(Q134+Q135-S134-S135)) | V134: =IF(P134="","",IF(C134="Ne","",IF(G134="Ne treba raditi na predm.","",IF((P134+P135)>1,40,IF(U134="",IF((P134+P135)>0.9,35,IF((P134+P135)>0.8,30,IF((P134+P135)>0.7,20,IF((P134+P135)>0.6,15,IF((P134+P135)>0.5,10,0))))),IF((U134+U135)>0.94,40,IF((U134+U135)>0.9,35,IF((U134+U135)>0.8,30,IF((U134+U135)>0.7,20,IF((U134+U135)>0.6,15,IF((U134+U135)>0.5,10,0))))))))))) -> 0
A135: Sud 2 | F135: =IF(E135="Sudija",1,IF(E135="Stručni saradnik",1,IF(E135="Član VSTV-a",2,""))) | O135: =IF(G135="",0,IF(G135="Ne treba raditi na predm.",1+SUM(L135:N135),(SUM(L135:N135)/G135))) -> 0 | P135: =IF(K135>0,IF(G135="Ne treba raditi na predm.",O135,O135*(J135/(J135-K135))),O135) -> 0 | V135: =IF(P135="","",IF(C135="Ne","",IF(G135="Ne treba raditi na predm.","",IF((P134+P135)>1,40,IF(U135="",IF((P134+P135)>0.9,35,IF((P134+P135)>0.8,30,IF((P134+P135)>0.7,20,IF((P134+P135)>0.6,15,IF((P134+P135)>0.5,10,0))))),IF((U134+U135)>0.94,40,IF((U134+U135)>0.9,35,IF((U134+U135)>0.8,30,IF((U134+U135)>0.7,20,IF((U134+U135)>0.6,15,IF((U134+U135)>0.5,10,0))))))))))) -> 0
A136: Ime i prezime nosioca pravosudne funkcije | O136: Ukupna ostvarena orijentacijska norma = | P136: =P137+P138 -> 0
A137: Sud 1 | F137: =IF(E137="Sudija",1,IF(E137="Stručni saradnik",1,IF(E137="Član VSTV-a",2,""))) | O137: =IF(G137="",0,IF(G137="Ne treba raditi na predm.",1+SUM(L137:N137),(SUM(L137:N137)/G137))) -> 0 | P137: =IF(K137>0,IF(G137="Ne treba raditi na predm.",O137,O137*(J137/(J137-K137))),O137) -> 0 | U137: =IF(Q137="","",(R137+R138)/(Q137+Q138-S137-S138)) | V137: =IF(P137="","",IF(C137="Ne","",IF(G137="Ne treba raditi na predm.","",IF((P137+P138)>1,40,IF(U137="",IF((P137+P138)>0.9,35,IF((P137+P138)>0.8,30,IF((P137+P138)>0.7,20,IF((P137+P138)>0.6,15,IF((P137+P138)>0.5,10,0))))),IF((U137+U138)>0.94,40,IF((U137+U138)>0.9,35,IF((U137+U138)>0.8,30,IF((U137+U138)>0.7,20,IF((U137+U138)>0.6,15,IF((U137+U138)>0.5,10,0))))))))))) -> 0
A138: Sud 2 | F138: =IF(E138="Sudija",1,IF(E138="Stručni saradnik",1,IF(E138="Član VSTV-a",2,""))) | O138: =IF(G138="",0,IF(G138="Ne treba raditi na predm.",1+SUM(L138:N138),(SUM(L138:N138)/G138))) -> 0 | P138: =IF(K138>0,IF(G138="Ne treba raditi na predm.",O138,O138*(J138/(J138-K138))),O138) -> 0 | V138: =IF(P138="","",IF(C138="Ne","",IF(G138="Ne treba raditi na predm.","",IF((P137+P138)>1,40,IF(U138="",IF((P137+P138)>0.9,35,IF((P137+P138)>0.8,30,IF((P137+P138)>0.7,20,IF((P137+P138)>0.6,15,IF((P137+P138)>0.5,10,0))))),IF((U137+U138)>0.94,40,IF((U137+U138)>0.9,35,IF((U137+U138)>0.8,30,IF((U137+U138)>0.7,20,IF((U137+U138)>0.6,15,IF((U137+U138)>0.5,10,0))))))))))) -> 0
B140: NAPOMENA 2: Kolona VIII (Ukupan broj dana za obračun norme) je popunjena (262) i odnosi se na NPF-e koji su radili cijelu godinu u jednoj instituciji. Ukoliko NPF nije obavljao funkciju u pravosudnoj instituciji tokom cijele godine (Novoimenovani NPF ili NPF koji je u toku godine prestao obavljati pravosudnu funkciju) vrši se preračun broja radnih dana. Npr. Sudija počeo sa radom 1.4.2024. Ukupan broj dana za obračun norme = (366 – 31 – 29 – 31) / 7 * 5 = 196
B142: NAPOMENA 3: Ukoliko je nosilac pravosudne funkcije dužan ostvariti procenat orijentacijske norme koji nije ponuđen u padajućem meniju u poljima iz kolone VI, podaci o ostvarenoj orijentacijskoj normi takvog nosioca pravosudne funkcije se unose u dio tabele u kojem su polja kolone VI označena plavom bojom. Ostvarena orijentaciona norma se obračunava u skladu sa tačkom II 1). Instrukcije za obračun individualne i kolektivne orijentacione norme u sudovima, primjena člana 15. stav 4. Pravilnika o orijentacionim mjerilima za rad sudija i stručnih saradnika u sudovima u BiH.
B144: NAPOMENA 4: U Tabelu Ia se unose podaci za sve nosioce pravosudne funkcije koji su u toku godine obavljali funkciju u sudu. Ukoliko je nosilac pravosudne funkcije u toku godine prvi put imenovan u sud, ili je obavljao funkciju u dva suda (bez obzira na nivo suda), ili je napustio pravosuđe u Tabelu Ia se unose podaci koje je nosilac pravosudne funkcije ostvario u sudu koji popunjava Tabelu Ia, a podaci o ostvarenoj normi se obračunavaju u skladu Instrukcijom za obračun individualne i kolektivne orijentacione norme u sudovima (II dio - tačka 3a - za obračun kolektivne norme). Tabelu Ib popunjava sud koji provodi postupak ocjenjivanja rezultata rada nosioca pravosudne funkcije koji je tokom godine obavljao funkciju u dva suda (bez obzira na nivo suda). Tabela Ib se popunjava na način da sud u prvi red za pojedinačnog sudiju (npr. red 116) unosi podake o ostvarenoj normi u sudu u kojem je sudija funkciju obavljao duži period ocjenjivanja. U drugi red (npr. red 117) se unose podaci o ostvarenoj normi u sudu u kojem je sudija funkciju obavljao kraći period ocjenjivanja. Podaci o ostvarenoj normi se obračunavaju u skladu sa Instrukcijom za obračun individualne i kolektivne orijentacione norme u sudovima (II dio – tačka 2 i tačka 3a - za proces ocjenjivanja). U obrazac za ocjenjivanje rada unosi se podatak o broju ostvarenih bodova iz Tabele Ib.
B146: NAPOMENA 5: Za nosioca pravosudne funkcije koji nije imao dovoljan broj predmeta u radu za ostvarenje norme u Tabelu I potrebno je, pored kolona II – XIII, unijeti podatke i u kolone XVI – XIX, dok će se podaci iz kolona XIV, XV i XX automatski obračunavati. U kolone XVI, XVII, XVIII i XIX potrebno je manuelno unijeti ukupan broj predmeta koji su sudiji dodijeljeni u rad kao i ukupan broj riješenih predmeta u periodu godine, kao i podatke o broju neriješenih predmeta sa zakonskim i procesnim smetnjama i broju neriješenih predmeta bez zakonskih i procesnih smetnji. U kolonu "broj neriješenih predmeta sa zakonskim i procesnim smetnjama" unose se i predmeti koji nisu mogli biti riješeni s obzirom na vrijeme zaprimanja u sud i zakonom propisane rokove za preduzimanje radnji u predmetu. Potrebno obratiti pažnju i na odgovarajuće odredbe Uputstva za primjenu Kriterija za ocjenjivanje rada predsjednika sudova u Bosni i Hercegovini i Kriterija za ocjenjivanje rada sudija u Bosni i Hercegovini. Podatak o broju neriješenih predmeta sa/bez zakonskih i procensih smetnji se preuzima iz POMOĆNE TABELE - OBRAZLOŽENJE ZA PREDMETE KOJE NIJE MOGAO RIJEŠITI SUDIJA OCIJENJEN U OKOLNOSTIMA NEDOVOLJNOG BROJA PREDMETA.
B148: NAPOMENA 6: Podatak o ostvarenoj orijentacionoj normi na predmetima van CMS-a se preuzima iz POMOĆNE TABELE ZA OBRAČUN NORME OSTVARENE NA PREDMETIMA VAN CMS-a.
B150: NAPOMENA 7: Podatak o Procentu ostvarene orijentacijske norme prema čl 9. Pravilnika o orijentacijskim mjerilima se preuzima iz POMOĆNE TABELE ZA VEĆE VREDNOVANJE PREDMETA.
B152: NAPOMENA 8: Pomoćne tabele navedene u NAPOMENAMA 4, 6 i 7 kao i ostale materijale u vezi postupka izvještavanja za 2024. godinu možete preuzeti putem linka:
B153: https://vstv.pravosudje.ba/vstvfo/B/141/article/134917
B155: NAPOMENA 9: Podatak o broju dana opravdanog odsustva iz člana 13. Kriterija za ocjenjivanje rada obavezno preuzeti iz pomoćne tabele.

Sheet tbl I
A1: Godina | B1: Sud | C1: ImePrezime | D1: Ocjenjen | E1: Odjel | F1: Funkcija | G1: NormaPravilnik | H1: DatumOd | I1: DatumDo | J1: BroDanaZa Normu | K1: Odsustvo | L1: NormaCMS | M1: NormaVanCMS | N1: VeceVrenovanje | O1: OstvarenaNorma | P1: PreracunataNorma | Q1: BrPredURadu | R1: BrRijPred | S1: BrNerijPredSaZakProcSmet | T1: BrNerijPredBezZakProcSmet | U1: ProcRijePred | V1: BrOStBod
A2: ='Tabela I'!$J$1 -> 2024 | B2: ='Tabela I'!$J$2 -> 114 | C2: ='Tabela I'!B10 -> 0 | D2: ='Tabela I'!C10 -> 0 | E2: ='Tabela I'!D10 -> 0 | F2: ='Tabela I'!E10 -> Predsjednik suda | G2: ='Tabela I'!G10 -> 0 | H2: ='Tabela I'!H10 -> 0 | I2: ='Tabela I'!I10 -> 0 | J2: ='Tabela I'!J10 -> 262 | K2: ='Tabela I'!K10 -> 0 | L2: ='Tabela I'!L10 -> 0 | M2: ='Tabela I'!M10 -> 0 | N2: ='Tabela I'!N10 -> 0 | ... V2: ='Tabela I'!V10
A3: ='Tabela I'!$J$1 -> 2024 | B3: ='Tabela I'!$J$2 -> 114 | C3: =C2 -> 0 | D3: =D2 -> 0 | E3: =E2 -> 0 | F3: =F2 -> Predsjednik suda | G3: ='Tabela I'!G11 -> 0 | H3: ='Tabela I'!H11 -> 0 | I3: ='Tabela I'!I11 -> 0 | J3: ='Tabela I'!J11 -> 262 | K3: ='Tabela I'!K11 -> 0 | L3: ='Tabela I'!L11 -> 0 | M3: ='Tabela I'!M11 -> 0 | N3: ='Tabela I'!N11 -> 0 | ... V3: ='Tabela I'!V11
A4: ='Tabela I'!$J$1 -> 2024 | B4: ='Tabela I'!$J$2 -> 114 | C4: ='Tabela I'!B12 -> 0 | D4: ='Tabela I'!C12 -> 0 | E4: ='Tabela I'!D12 -> 0 | F4: ='Tabela I'!E12 -> 0 | G4: ='Tabela I'!G12 -> 0 | H4: ='Tabela I'!H12 -> 0 | I4: ='Tabela I'!I12 -> 0 | J4: ='Tabela I'!J12 -> 262 | K4: ='Tabela I'!K12 -> 0 | L4: ='Tabela I'!L12 -> 0 | M4: ='Tabela I'!M12 -> 0 | N4: ='Tabela I'!N12 -> 0 | ... V4: ='Tabela I'!V12
A5: ='Tabela I'!$J$1 -> 2024 | B5: ='Tabela I'!$J$2 -> 114 | C5: ='Tabela I'!B13 -> 0 | D5: ='Tabela I'!C13 -> 0 | E5: ='Tabela I'!D13 -> 0 | F5: ='Tabela I'!E13 -> 0 | G5: ='Tabela I'!G13 -> 0 | H5: ='Tabela I'!H13 -> 0 | I5: ='Tabela I'!I13 -> 0 | J5: ='Tabela I'!J13 -> 262 | K5: ='Tabela I'!K13 -> 0 | L5: ='Tabela I'!L13 -> 0 | M5: ='Tabela I'!M13 -> 0 | N5: ='Tabela I'!N13 -> 0 | ... V5: ='Tabela I'!V13
A6: ='Tabela I'!$J$1 -> 2024 | B6: ='Tabela I'!$J$2 -> 114 | C6: ='Tabela I'!B14 -> 0 | D6: ='Tabela I'!C14 -> 0 | E6: ='Tabela I'!D14 -> 0 | F6: ='Tabela I'!E14 -> 0 | G6: ='Tabela I'!G14 -> 0 | H6: ='Tabela I'!H14 -> 0 | I6: ='Tabela I'!I14 -> 0 | J6: ='Tabela I'!J14 -> 262 | K6: ='Tabela I'!K14 -> 0 | L6: ='Tabela I'!L14 -> 0 | M6: ='Tabela I'!M14 -> 0 | N6: ='Tabela I'!N14 -> 0 | ... V6: ='Tabela I'!V14
A7: ='Tabela I'!$J$1 -> 2024 | B7: ='Tabela I'!$J$2 -> 114 | C7: ='Tabela I'!B15 -> 0 | D7: ='Tabela I'!C15 -> 0 | E7: ='Tabela I'!D15 -> 0 | F7: ='Tabela I'!E15 -> 0 | G7: ='Tabela I'!G15 -> 0 | H7: ='Tabela I'!H15 -> 0 | I7: ='Tabela I'!I15 -> 0 | J7: ='Tabela I'!J15 -> 262 | K7: ='Tabela I'!K15 -> 0 | L7: ='Tabela I'!L15 -> 0 | M7: ='Tabela I'!M15 -> 0 | N7: ='Tabela I'!N15 -> 0 | ... V7: ='Tabela I'!V15
A8: ='Tabela I'!$J$1 -> 2024 | B8: ='Tabela I'!$J$2 -> 114 | C8: ='Tabela I'!B16 -> 0 | D8: ='Tabela I'!C16 -> 0 | E8: ='Tabela I'!D16 -> 0 | F8: ='Tabela I'!E16 -> 0 | G8: ='Tabela I'!G16 -> 0 | H8: ='Tabela I'!H16 -> 0 | I8: ='Tabela I'!I16 -> 0 | J8: ='Tabela I'!J16 -> 262 | K8: ='Tabela I'!K16 -> 0 | L8: ='Tabela I'!L16 -> 0 | M8: ='Tabela I'!M16 -> 0 | N8: ='Tabela I'!N16 -> 0 | ... V8: ='Tabela I'!V16
A9: ='Tabela I'!$J$1 -> 2024 | B9: ='Tabela I'!$J$2 -> 114 | C9: ='Tabela I'!B17 -> 0 | D9: ='Tabela I'!C17 -> 0 | E9: ='Tabela I'!D17 -> 0 | F9: ='Tabela I'!E17 -> 0 | G9: ='Tabela I'!G17 -> 0 | H9: ='Tabela I'!H17 -> 0 | I9: ='Tabela I'!I17 -> 0 | J9: ='Tabela I'!J17 -> 262 | K9: ='Tabela I'!K17 -> 0 | L9: ='Tabela I'!L17 -> 0 | M9: ='Tabela I'!M17 -> 0 | N9: ='Tabela I'!N17 -> 0 | ... V9: ='Tabela I'!V17
A10: ='Tabela I'!$J$1 -> 2024 | B10: ='Tabela I'!$J$2 -> 114 | C10: ='Tabela I'!B18 -> 0 | D10: ='Tabela I'!C18 -> 0 | E10: ='Tabela I'!D18 -> 0 | F10: ='Tabela I'!E18 -> 0 | G10: ='Tabela I'!G18 -> 0 | H10: ='Tabela I'!H18 -> 0 | I10: ='Tabela I'!I18 -> 0 | J10: ='Tabela I'!J18 -> 262 | K10: ='Tabela I'!K18 -> 0 | L10: ='Tabela I'!L18 -> 0 | M10: ='Tabela I'!M18 -> 0 | N10: ='Tabela I'!N18 -> 0 | ... V10: ='Tabela I'!V18
A11: ='Tabela I'!$J$1 -> 2024 | B11: ='Tabela I'!$J$2 -> 114 | C11: ='Tabela I'!B19 -> 0 | D11: ='Tabela I'!C19 -> 0 | E11: ='Tabela I'!D19 -> 0 | F11: ='Tabela I'!E19 -> 0 | G11: ='Tabela I'!G19 -> 0 | H11: ='Tabela I'!H19 -> 0 | I11: ='Tabela I'!I19 -> 0 | J11: ='Tabela I'!J19 -> 262 | K11: ='Tabela I'!K19 -> 0 | L11: ='Tabela I'!L19 -> 0 | M11: ='Tabela I'!M19 -> 0 | N11: ='Tabela I'!N19 -> 0 | ... V11: ='Tabela I'!V19
A12: ='Tabela I'!$J$1 -> 2024 | B12: ='Tabela I'!$J$2 -> 114 | C12: ='Tabela I'!B20 -> 0 | D12: ='Tabela I'!C20 -> 0 | E12: ='Tabela I'!D20 -> 0 | F12: ='Tabela I'!E20 -> 0 | G12: ='Tabela I'!G20 -> 0 | H12: ='Tabela I'!H20 -> 0 | I12: ='Tabela I'!I20 -> 0 | J12: ='Tabela I'!J20 -> 262 | K12: ='Tabela I'!K20 -> 0 | L12: ='Tabela I'!L20 -> 0 | M12: ='Tabela I'!M20 -> 0 | N12: ='Tabela I'!N20 -> 0 | ... V12: ='Tabela I'!V20
A13: ='Tabela I'!$J$1 -> 2024 | B13: ='Tabela I'!$J$2 -> 114 | C13: ='Tabela I'!B21 -> 0 | D13: ='Tabela I'!C21 -> 0 | E13: ='Tabela I'!D21 -> 0 | F13: ='Tabela I'!E21 -> 0 | G13: ='Tabela I'!G21 -> 0 | H13: ='Tabela I'!H21 -> 0 | I13: ='Tabela I'!I21 -> 0 | J13: ='Tabela I'!J21 -> 262 | K13: ='Tabela I'!K21 -> 0 | L13: ='Tabela I'!L21 -> 0 | M13: ='Tabela I'!M21 -> 0 | N13: ='Tabela I'!N21 -> 0 | ... V13: ='Tabela I'!V21
A14: ='Tabela I'!$J$1 -> 2024 | B14: ='Tabela I'!$J$2 -> 114 | C14: ='Tabela I'!B22 -> 0 | D14: ='Tabela I'!C22 -> 0 | E14: ='Tabela I'!D22 -> 0 | F14: ='Tabela I'!E22 -> 0 | G14: ='Tabela I'!G22 -> 0 | H14: ='Tabela I'!H22 -> 0 | I14: ='Tabela I'!I22 -> 0 | J14: ='Tabela I'!J22 -> 262 | K14: ='Tabela I'!K22 -> 0 | L14: ='Tabela I'!L22 -> 0 | M14: ='Tabela I'!M22 -> 0 | N14: ='Tabela I'!N22 -> 0 | ... V14: ='Tabela I'!V22
A15: ='Tabela I'!$J$1 -> 2024 | B15: ='Tabela I'!$J$2 -> 114 | C15: ='Tabela I'!B23 -> 0 | D15: ='Tabela I'!C23 -> 0 | E15: ='Tabela I'!D23 -> 0 | F15: ='Tabela I'!E23 -> 0 | G15: ='Tabela I'!G23 -> 0 | H15: ='Tabela I'!H23 -> 0 | I15: ='Tabela I'!I23 -> 0 | J15: ='Tabela I'!J23 -> 262 | K15: ='Tabela I'!K23 -> 0 | L15: ='Tabela I'!L23 -> 0 | M15: ='Tabela I'!M23 -> 0 | N15: ='Tabela I'!N23 -> 0 | ... V15: ='Tabela I'!V23
... A77: ='Tabela I'!$J$1 -> 2024 | B77: ='Tabela I'!$J$2 -> 114 | C77: ='Tabela I'!B85 -> 0 | D77: ='Tabela I'!C85 -> 0 | E77: ='Tabela I'!D85 -> 0 | F77: ='Tabela I'!E85 -> 0 | G77: ='Tabela I'!G85 -> 0 | H77: ='Tabela I'!H85 -> 0 | I77: ='Tabela I'!I85 -> 0 | J77: ='Tabela I'!J85 -> 262 | K77: ='Tabela I'!K85 -> 0 | L77: ='Tabela I'!L85 -> 0 | M77: ='Tabela I'!M85 -> 0 | N77: ='Tabela I'!N85 -> 0 | ... V77: ='Tabela I'!V85
A79: Godina | B79: Sud | C79: ImePrezime | D79: Ocjenjen | E79: Odjel | F79: Funkcija | G79: NormaPravilnik | H79: DatumOd | I79: DatumDo | J79: BroDanaZa Normu | K79: Odsustvo | L79: NormaCMS | M79: NormaVanCMS | N79: VeceVrenovanje | O79: OstvarenaNorma | P79: PreracunataNorma | Q79: BrPredURadu | R79: BrRijPred | S79: BrNerijPredSaZakProcSmet | T79: BrNerijPredBezZakProcSmet | U79: ProcRijePred | V79: BrOStBod | W79: Sud
A80: ='Tabela I'!$J$1 -> 2024 | B80: ='Tabela I'!$J$2 -> 114 | C80: ='Tabela I'!D109 -> 0 | D80: ='Tabela I'!C110 -> Da | E80: ='Tabela I'!D110 -> 0 | F80: ='Tabela I'!E110 -> Predsjednik suda | G80: ='Tabela I'!G110 -> 0 | H80: ='Tabela I'!H110 -> 0 | I80: ='Tabela I'!I110 -> 0 | J80: ='Tabela I'!J110 -> 0 | K80: ='Tabela I'!K110 -> 0 | L80: ='Tabela I'!L110 -> 0 | M80: ='Tabela I'!M110 -> 0 | N80: ='Tabela I'!N110 -> 0 | ... V80: ='Tabela I'!V110 -> 0 | W80: ='Tabela I'!A110 -> Sud 1
A81: ='Tabela I'!$J$1 -> 2024 | B81: ='Tabela I'!$J$2 -> 114 | C81: ='Tabela I'!D109 -> 0 | D81: ='Tabela I'!C111 -> 0 | E81: ='Tabela I'!D111 -> 0 | F81: ='Tabela I'!E111 -> 0 | G81: ='Tabela I'!G111 -> 0 | H81: ='Tabela I'!H111 -> 0 | I81: ='Tabela I'!I111 -> 0 | J81: ='Tabela I'!J111 -> 0 | K81: ='Tabela I'!K111 -> 0 | L81: ='Tabela I'!L111 -> 0 | M81: ='Tabela I'!M111 -> 0 | N81: ='Tabela I'!N111 -> 0 | ... V81: ='Tabela I'!V111 -> 0 | W81: ='Tabela I'!A111 -> Sud 2
A82: ='Tabela I'!$J$1 -> 2024 | B82: ='Tabela I'!$J$2 -> 114 | C82: ='Tabela I'!D112 -> 0 | D82: ='Tabela I'!C113 -> 0 | E82: ='Tabela I'!D113 -> 0 | F82: ='Tabela I'!E113 -> 0 | G82: ='Tabela I'!G113 -> 0 | H82: ='Tabela I'!H113 -> 0 | I82: ='Tabela I'!I113 -> 0 | J82: ='Tabela I'!J113 -> 0 | K82: ='Tabela I'!K113 -> 0 | L82: ='Tabela I'!L113 -> 0 | M82: ='Tabela I'!M113 -> 0 | N82: ='Tabela I'!N113 -> 0 | ... V82: ='Tabela I'!V113 -> 0 | W82: ='Tabela I'!A113 -> Sud 1
A83: ='Tabela I'!$J$1 -> 2024 | B83: ='Tabela I'!$J$2 -> 114 | C83: ='Tabela I'!D112 -> 0 | D83: ='Tabela I'!C114 -> 0 | E83: ='Tabela I'!D114 -> 0 | F83: ='Tabela I'!E114 -> 0 | G83: ='Tabela I'!G114 -> 0 | H83: ='Tabela I'!H114 -> 0 | I83: ='Tabela I'!I114 -> 0 | J83: ='Tabela I'!J114 -> 0 | K83: ='Tabela I'!K114 -> 0 | L83: ='Tabela I'!L114 -> 0 | M83: ='Tabela I'!M114 -> 0 | N83: ='Tabela I'!N114 -> 0 | ... V83: ='Tabela I'!V114 -> 0 | W83: ='Tabela I'!A114 -> Sud 2
A84: ='Tabela I'!$J$1 -> 2024 | B84: ='Tabela I'!$J$2 -> 114 | C84: ='Tabela I'!D115 -> 0 | D84: ='Tabela I'!C116 -> 0 | E84: ='Tabela I'!D116 -> 0 | F84: ='Tabela I'!E116 -> 0 | G84: ='Tabela I'!G116 -> 0 | H84: ='Tabela I'!H116 -> 0 | I84: ='Tabela I'!I116 -> 0 | J84: ='Tabela I'!J116 -> 0 | K84: ='Tabela I'!K116 -> 0 | L84: ='Tabela I'!L116 -> 0 | M84: ='Tabela I'!M116 -> 0 | N84: ='Tabela I'!N116 -> 0 | ... V84: ='Tabela I'!V116 -> 0 | W84: ='Tabela I'!A116 -> Sud 1
A85: ='Tabela I'!$J$1 -> 2024 | B85: ='Tabela I'!$J$2 -> 114 | C85: ='Tabela I'!D115 -> 0 | D85: ='Tabela I'!C117 -> 0 | E85: ='Tabela I'!D117 -> 0 | F85: ='Tabela I'!E117 -> 0 | G85: ='Tabela I'!G117 -> 0 | H85: ='Tabela I'!H117 -> 0 | I85: ='Tabela I'!I117 -> 0 | J85: ='Tabela I'!J117 -> 0 | K85: ='Tabela I'!K117 -> 0 | L85: ='Tabela I'!L117 -> 0 | M85: ='Tabela I'!M117 -> 0 | N85: ='Tabela I'!N117 -> 0 | ... V85: ='Tabela I'!V117 -> 0 | W85: ='Tabela I'!A117 -> Sud 2
A86: ='Tabela I'!$J$1 -> 2024 | B86: ='Tabela I'!$J$2 -> 114 | C86: ='Tabela I'!D118 -> 0 | D86: ='Tabela I'!C119 -> 0 | E86: ='Tabela I'!D119 -> 0 | F86: ='Tabela I'!E119 -> 0 | G86: ='Tabela I'!G119 -> 0 | H86: ='Tabela I'!H119 -> 0 | I86: ='Tabela I'!I119 -> 0 | J86: ='Tabela I'!J119 -> 0 | K86: ='Tabela I'!K119 -> 0 | L86: ='Tabela I'!L119 -> 0 | M86: ='Tabela I'!M119 -> 0 | N86: ='Tabela I'!N119 -> 0 | ... V86: ='Tabela I'!V119 -> 0 | W86: ='Tabela I'!A119 -> Sud 1
A87: ='Tabela I'!$J$1 -> 2024 | B87: ='Tabela I'!$J$2 -> 114 | C87: ='Tabela I'!D118 -> 0 | D87: ='Tabela I'!C120 -> 0 | E87: ='Tabela I'!D120 -> 0 | F87: ='Tabela I'!E120 -> 0 | G87: ='Tabela I'!G120 -> 0 | H87: ='Tabela I'!H120 -> 0 | I87: ='Tabela I'!I120 -> 0 | J87: ='Tabela I'!J120 -> 0 | K87: ='Tabela I'!K120 -> 0 | L87: ='Tabela I'!L120 -> 0 | M87: ='Tabela I'!M120 -> 0 | N87: ='Tabela I'!N120 -> 0 | ... V87: ='Tabela I'!V120 -> 0 | W87: ='Tabela I'!A120 -> Sud 2
A88: ='Tabela I'!$J$1 -> 2024 | B88: ='Tabela I'!$J$2 -> 114 | C88: ='Tabela I'!D121 -> 0 | D88: ='Tabela I'!C122 -> 0 | E88: ='Tabela I'!D122 -> 0 | F88: ='Tabela I'!E122 -> 0 | G88: ='Tabela I'!G122 -> 0 | H88: ='Tabela I'!H122 -> 0 | I88: ='Tabela I'!I122 -> 0 | J88: ='Tabela I'!J122 -> 0 | K88: ='Tabela I'!K122 -> 0 | L88: ='Tabela I'!L122 -> 0 | M88: ='Tabela I'!M122 -> 0 | N88: ='Tabela I'!N122 -> 0 | ... V88: ='Tabela I'!V122 -> 0 | W88: ='Tabela I'!A122 -> Sud 1
A89: ='Tabela I'!$J$1 -> 2024 | B89: ='Tabela I'!$J$2 -> 114 | C89: ='Tabela I'!D121 -> 0 | D89: ='Tabela I'!C123 -> 0 | E89: ='Tabela I'!D123 -> 0 | F89: ='Tabela I'!E123 -> 0 | G89: ='Tabela I'!G123 -> 0 | H89: ='Tabela I'!H123 -> 0 | I89: ='Tabela I'!I123 -> 0 | J89: ='Tabela I'!J123 -> 0 | K89: ='Tabela I'!K123 -> 0 | L89: ='Tabela I'!L123 -> 0 | M89: ='Tabela I'!M123 -> 0 | N89: ='Tabela I'!N123 -> 0 | ... V89: ='Tabela I'!V123 -> 0 | W89: ='Tabela I'!A123 -> Sud 2
A90: ='Tabela I'!$J$1 -> 2024 | B90: ='Tabela I'!$J$2 -> 114 | C90: ='Tabela I'!D124 -> 0 | D90: ='Tabela I'!C125 -> 0 | E90: ='Tabela I'!D125 -> 0 | F90: ='Tabela I'!E125 -> 0 | G90: ='Tabela I'!G125 -> 0 | H90: ='Tabela I'!H125 -> 0 | I90: ='Tabela I'!I125 -> 0 | J90: ='Tabela I'!J125 -> 0 | K90: ='Tabela I'!K125 -> 0 | L90: ='Tabela I'!L125 -> 0 | M90: ='Tabela I'!M125 -> 0 | N90: ='Tabela I'!N125 -> 0 | ... V90: ='Tabela I'!V125 -> 0 | W90: ='Tabela I'!A125 -> Sud 1
A91: ='Tabela I'!$J$1 -> 2024 | B91: ='Tabela I'!$J$2 -> 114 | C91: ='Tabela I'!D124 -> 0 | D91: ='Tabela I'!C126 -> 0 | E91: ='Tabela I'!D126 -> 0 | F91: ='Tabela I'!E126 -> 0 | G91: ='Tabela I'!G126 -> 0 | H91: ='Tabela I'!H126 -> 0 | I91: ='Tabela I'!I126 -> 0 | J91: ='Tabela I'!J126 -> 0 | K91: ='Tabela I'!K126 -> 0 | L91: ='Tabela I'!L126 -> 0 | M91: ='Tabela I'!M126 -> 0 | N91: ='Tabela I'!N126 -> 0 | ... V91: ='Tabela I'!V126 -> 0 | W91: ='Tabela I'!A126 -> Sud 2
A92: ='Tabela I'!$J$1 -> 2024 | B92: ='Tabela I'!$J$2 -> 114 | C92: ='Tabela I'!D127 -> 0 | D92: ='Tabela I'!C128 -> 0 | E92: ='Tabela I'!D128 -> 0 | F92: ='Tabela I'!E128 -> 0 | G92: ='Tabela I'!G128 -> 0 | H92: ='Tabela I'!H128 -> 0 | I92: ='Tabela I'!I128 -> 0 | J92: ='Tabela I'!J128 -> 0 | K92: ='Tabela I'!K128 -> 0 | L92: ='Tabela I'!L128 -> 0 | M92: ='Tabela I'!M128 -> 0 | N92: ='Tabela I'!N128 -> 0 | ... V92: ='Tabela I'!V128 -> 0 | W92: ='Tabela I'!A128 -> Sud 1
A93: ='Tabela I'!$J$1 -> 2024 | B93: ='Tabela I'!$J$2 -> 114 | C93: ='Tabela I'!D127 -> 0 | D93: ='Tabela I'!C129 -> 0 | E93: ='Tabela I'!D129 -> 0 | F93: ='Tabela I'!E129 -> 0 | G93: ='Tabela I'!G129 -> 0 | H93: ='Tabela I'!H129 -> 0 | I93: ='Tabela I'!I129 -> 0 | J93: ='Tabela I'!J129 -> 0 | K93: ='Tabela I'!K129 -> 0 | L93: ='Tabela I'!L129 -> 0 | M93: ='Tabela I'!M129 -> 0 | N93: ='Tabela I'!N129 -> 0 | ... V93: ='Tabela I'!V129 -> 0 | W93: ='Tabela I'!A129 -> Sud 2
A94: ='Tabela I'!$J$1 -> 2024 | B94: ='Tabela I'!$J$2 -> 114 | C94: ='Tabela I'!D130 -> 0 | D94: ='Tabela I'!C131 -> 0 | E94: ='Tabela I'!D131 -> 0 | F94: ='Tabela I'!E131 -> 0 | G94: ='Tabela I'!G131 -> 0 | H94: ='Tabela I'!H131 -> 0 | I94: ='Tabela I'!I131 -> 0 | J94: ='Tabela I'!J131 -> 0 | K94: ='Tabela I'!K131 -> 0 | L94: ='Tabela I'!L131 -> 0 | M94: ='Tabela I'!M131 -> 0 | N94: ='Tabela I'!N131 -> 0 | ... V94: ='Tabela I'!V131 -> 0 | W94: ='Tabela I'!A131 -> Sud 1
A95: ='Tabela I'!$J$1 -> 2024 | B95: ='Tabela I'!$J$2 -> 114 | C95: ='Tabela I'!D130 -> 0 | D95: ='Tabela I'!C132 -> 0 | E95: ='Tabela I'!D132 -> 0 | F95: ='Tabela I'!E132 -> 0 | G95: ='Tabela I'!G132 -> 0 | H95: ='Tabela I'!H132 -> 0 | I95: ='Tabela I'!I132 -> 0 | J95: ='Tabela I'!J132 -> 0 | K95: ='Tabela I'!K132 -> 0 | L95: ='Tabela I'!L132 -> 0 | M95: ='Tabela I'!M132 -> 0 | N95: ='Tabela I'!N132 -> 0 | ... V95: ='Tabela I'!V132 -> 0 | W95: ='Tabela I'!A132 -> Sud 2
A96: ='Tabela I'!$J$1 -> 2024 | B96: ='Tabela I'!$J$2 -> 114 | C96: ='Tabela I'!D133 -> 0 | D96: ='Tabela I'!C134 -> 0 | E96: ='Tabela I'!D134 -> 0 | F96: ='Tabela I'!E134 -> 0 | G96: ='Tabela I'!G134 -> 0 | H96: ='Tabela I'!H134 -> 0 | I96: ='Tabela I'!I134 -> 0 | J96: ='Tabela I'!J134 -> 0 | K96: ='Tabela I'!K134 -> 0 | L96: ='Tabela I'!L134 -> 0 | M96: ='Tabela I'!M134 -> 0 | N96: ='Tabela I'!N134 -> 0 | ... V96: ='Tabela I'!V134 -> 0 | W96: ='Tabela I'!A134 -> Sud 1
A97: ='Tabela I'!$J$1 -> 2024 | B97: ='Tabela I'!$J$2 -> 114 | C97: ='Tabela I'!D133 -> 0 | D97: ='Tabela I'!C135 -> 0 | E97: ='Tabela I'!D135 -> 0 | F97: ='Tabela I'!E135 -> 0 | G97: ='Tabela I'!G135 -> 0 | H97: ='Tabela I'!H135 -> 0 | I97: ='Tabela I'!I135 -> 0 | J97: ='Tabela I'!J135 -> 0 | K97: ='Tabela I'!K135 -> 0 | L97: ='Tabela I'!L135 -> 0 | M97: ='Tabela I'!M135 -> 0 | N97: ='Tabela I'!N135 -> 0 | ... V97: ='Tabela I'!V135 -> 0 | W97: ='Tabela I'!A135 -> Sud 2
A98: ='Tabela I'!$J$1 -> 2024 | B98: ='Tabela I'!$J$2 -> 114 | C98: ='Tabela I'!D136 -> 0 | D98: ='Tabela I'!C137 -> 0 | E98: ='Tabela I'!D137 -> 0 | F98: ='Tabela I'!E137 -> 0 | G98: ='Tabela I'!G137 -> 0 | H98: ='Tabela I'!H137 -> 0 | I98: ='Tabela I'!I137 -> 0 | J98: ='Tabela I'!J137 -> 0 | K98: ='Tabela I'!K137 -> 0 | L98: ='Tabela I'!L137 -> 0 | M98: ='Tabela I'!M137 -> 0 | N98: ='Tabela I'!N137 -> 0 | ... V98: ='Tabela I'!V137 -> 0 | W98: ='Tabela I'!A137 -> Sud 1
A99: ='Tabela I'!$J$1 -> 2024 | B99: ='Tabela I'!$J$2 -> 114 | C99: ='Tabela I'!D136 -> 0 | D99: ='Tabela I'!C138 -> 0 | E99: ='Tabela I'!D138 -> 0 | F99: ='Tabela I'!E138 -> 0 | G99: ='Tabela I'!G138 -> 0 | H99: ='Tabela I'!H138 -> 0 | I99: ='Tabela I'!I138 -> 0 | J99: ='Tabela I'!J138 -> 0 | K99: ='Tabela I'!K138 -> 0 | L99: ='Tabela I'!L138 -> 0 | M99: ='Tabela I'!M138 -> 0 | N99: ='Tabela I'!N138 -> 0 | ... V99: ='Tabela I'!V138 -> 0 | W99: ='Tabela I'!A138 -> Sud 2

Sheet Tabela II
A1: Sud BiH
A2: Izvještajni period: | B2: 1.1.2024.-31.12.2024.
A3: Tabela IIa - Kvalitet rada suda
A4: Vrsta predmeta | B4: Broj donesenih odluka na koje se može izjaviti pravni lijek | C4: Ukupan broj ožalbenih odluka | D4: Broj odbačenih pravnih lijekova | E4: Broj potvrđenih odluka | F4: Broj preinačenih odluka | G4: Broj preinačenih odluka donijetih nakon održane glavne rasprave ili pretresa pred Apelacionim odjeljenjem | H4: Broj ukinutih odluka | I4: Broj djelimično ukinutih odluka | J4: Kvalitet sudskih odluka | K4: Broj presuda koje su ukinute i predmet je vraćen na ponovno suđenje
B6: I | C6: II=IV+V+VI+ VII+VIII) | D6: III | E6: IV | F6: V | G6: VI | H6: VII | I6: VIII | J6: IX1 | K6: X
A7: Krivični referat - odjeli I, II i III
A8: K | C8: =E8+F8+G8+H8+I8 -> 0 | J8: =IF(C8=0,"",IF(B8=0,1,0.83*((C8-H8-I8/2)/C8)+0.17*((B8-G8-H8-I8/2)/B8)))
A9: Kpp | C9: =E9+F9+G9+H9+I9 -> 0 | J9: =IF(C9=0,"",IF(B9=0,1,0.83*((C9-H9-I9/2)/C9)+0.17*((B9-G9-H9-I9/2)/B9)))
A10: Kps | C10: =E10+F10+G10+H10+I10 -> 0 | J10: =IF(C10=0,"",IF(B10=0,1,0.83*((C10-H10-I10/2)/C10)+0.17*((B10-G10-H10-I10/2)/B10)))
A11: Kri | C11: =E11+F11+G11+H11+I11 -> 0 | J11: =IF(C11=0,"",IF(B11=0,1,0.83*((C11-H11-I11/2)/C11)+0.17*((B11-G11-H11-I11/2)/B11)))
A12: Kv | C12: =E12+F12+G12+H12+I12 -> 0 | J12: =IF(C12=0,"",IF(B12=0,1,0.83*((C12-H12-I12/2)/C12)+0.17*((B12-G12-H12-I12/2)/B12)))
A13: Ex | C13: =E13+F13+G13+H13+I13 -> 0 | J13: =IF(C13=0,"",IF(B13=0,1,0.83*((C13-H13-I13/2)/C13)+0.17*((B13-G13-H13-I13/2)/B13)))
A14: Iks | C14: =E14+F14+G14+H14+I14 -> 0 | J14: =IF(C14=0,"",IF(B14=0,1,0.83*((C14-H14-I14/2)/C14)+0.17*((B14-G14-H14-I14/2)/B14)))
A15: Km | C15: =E15+F15+G15+H15+I15 -> 0 | J15: =IF(C15=0,"",IF(B15=0,1,0.83*((C15-H15-I15/2)/C15)+0.17*((B15-G15-H15-I15/2)/B15)))
A16: ZZS | C16: =E16+F16+G16+H16+I16 -> 0 | J16: =IF(C16=0,"",IF(B16=0,1,0.83*((C16-H16-I16/2)/C16)+0.17*((B16-G16-H16-I16/2)/B16)))
A17: KiP | C17: =E17+F17+G17+H17+I17 -> 0 | J17: =IF(C17=0,"",IF(B17=0,1,0.83*((C17-H17-I17/2)/C17)+0.17*((B17-G17-H17-I17/2)/B17)))
A18: KrN | C18: =E18+F18+G18+H18+I18 -> 0 | J18: =IF(C18=0,"",IF(B18=0,1,0.83*((C18-H18-I18/2)/C18)+0.17*((B18-G18-H18-I18/2)/B18)))
A19: Kp | C19: =E19+F19+G19+H19+I19 -> 0 | J19: =IF(C19=0,"",IF(B19=0,1,0.83*((C19-H19-I19/2)/C19)+0.17*((B19-G19-H19-I19/2)/B19)))
A20: Ostalo* | C20: =E20+F20+G20+H20+I20 -> 0 | J20: =IF(C20=0,"",IF(B20=0,1,0.83*((C20-H20-I20/2)/C20)+0.17*((B20-G20-H20-I20/2)/B20)))
A21: Upravni referat
A22: U | C22: =E22+F22+G22+H22+I22 -> 0 | J22: =IF(C22=0,"",IF(B22=0,1,0.83*((C22-H22-I22/2)/C22)+0.17*((B22-G22-H22-I22/2)/B22)))
A23: Ur | C23: =E23+F23+G23+H23+I23 -> 0 | J23: =IF(C23=0,"",IF(B23=0,1,0.83*((C23-H23-I23/2)/C23)+0.17*((B23-G23-H23-I23/2)/B23)))
A24: R | C24: =E24+F24+G24+H24+I24 -> 0 | J24: =IF(C24=0,"",IF(B24=0,1,0.83*((C24-H24-I24/2)/C24)+0.17*((B24-G24-H24-I24/2)/B24)))
A25: I | C25: =E25+F25+G25+H25+I25 -> 0 | J25: =IF(C25=0,"",IF(B25=0,1,0.83*((C25-H25-I25/2)/C25)+0.17*((B25-G25-H25-I25/2)/B25)))
A26: Ži | C26: =E26+F26+G26+H26+I26 -> 0 | J26: =IF(C26=0,"",IF(B26=0,1,0.83*((C26-H26-I26/2)/C26)+0.17*((B26-G26-H26-I26/2)/B26)))
A27: P | C27: =E27+F27+G27+H27+I27 -> 0 | J27: =IF(C27=0,"",IF(B27=0,1,0.83*((C27-H27-I27/2)/C27)+0.17*((B27-G27-H27-I27/2)/B27)))
A28: Ostalo* | C28: =E28+F28+G28+H28+I28 -> 0 | J28: =IF(C28=0,"",IF(B28=0,1,0.83*((C28-H28-I28/2)/C28)+0.17*((B28-G28-H28-I28/2)/B28)))
A29: Apelacioni odjel | B29: =SUM(B8:B20,B22:B28) -> 0 | C29: =SUM(C8:C20,C22:C28) -> 0 | D29: =SUM(D8:D20,D22:D28) -> 0 | E29: =SUM(E8:E20,E22:E28) -> 0 | F29: =SUM(F8:F20,F22:F28) -> 0 | G29: =SUM(G8:G20,G22:G28) -> 0 | H29: =SUM(H8:H20,H22:H28) -> 0 | I29: =SUM(I8:I20,I22:I28) -> 0 | K29: =SUM(K8:K20,K22:K28) -> 0
A30: Iž | C30: =E30+F30+G30+H30+I30 -> 0 | J30: =IF(C30=0,"",IF(B30=0,1,0.83*((C30-H30-I30/2)/C30)+0.17*((B30-G30-H30-I30/2)/B30)))
A31: Uvl | C31: =E31+F31+G31+H31+I31 -> 0 | J31: =IF(C31=0,"",IF(B31=0,1,0.83*((C31-H31-I31/2)/C31)+0.17*((B31-G31-H31-I31/2)/B31)))
A32: Gž | C32: =E32+F32+G32+H32+I32 -> 0 | J32: =IF(C32=0,"",IF(B32=0,1,0.83*((C32-H32-I32/2)/C32)+0.17*((B32-G32-H32-I32/2)/B32)))
A33: Pž | C33: =E33+F33+G33+H33+I33 -> 0 | J33: =IF(C33=0,"",IF(B33=0,1,0.83*((C33-H33-I33/2)/C33)+0.17*((B33-G33-H33-I33/2)/B33)))
A34: Rev | C34: =E34+F34+G34+H34+I34 -> 0 | J34: =IF(C34=0,"",IF(B34=0,1,0.83*((C34-H34-I34/2)/C34)+0.17*((B34-G34-H34-I34/2)/B34)))
A35: Gvl | C35: =E35+F35+G35+H35+I35 -> 0 | J35: =IF(C35=0,"",IF(B35=0,1,0.83*((C35-H35-I35/2)/C35)+0.17*((B35-G35-H35-I35/2)/B35)))
A36: Kž | C36: =E36+F36+G36+H36+I36 -> 0 | J36: =IF(C36=0,"",IF(B36=0,1,0.83*((C36-H36-I36/2)/C36)+0.17*((B36-G36-H36-I36/2)/B36)))
A37: Krž | C37: =E37+F37+G37+H37+I37 -> 0 | J37: =IF(C37=0,"",IF(B37=0,1,0.83*((C37-H37-I37/2)/C37)+0.17*((B37-G37-H37-I37/2)/B37)))
A38: Kžk | C38: =E38+F38+G38+H38+I38 -> 0 | J38: =IF(C38=0,"",IF(B38=0,1,0.83*((C38-H38-I38/2)/C38)+0.17*((B38-G38-H38-I38/2)/B38)))
A39: Ostalo* | C39: =E39+F39+G39+H39+I39 -> 0 | J39: =IF(C39=0,"",IF(B39=0,1,0.83*((C39-H39-I39/2)/C39)+0.17*((B39-G39-H39-I39/2)/B39)))
A41: Ukupno | B41: =SUM(B8:B20)+SUM(B22:B28)+SUM(B30:B39) -> 0 | C41: =SUM(C8:C20)+SUM(C22:C28)+SUM(C30:C39) -> 0 | D41: =SUM(D8:D20)+SUM(D22:D28)+SUM(D30:D39) -> 0 | E41: =SUM(E8:E20)+SUM(E22:E28)+SUM(E30:E39) -> 0 | F41: =SUM(F8:F20)+SUM(F22:F28)+SUM(F30:F39) -> 0 | G41: =SUM(G8:G20)+SUM(G22:G28)+SUM(G30:G39) -> 0 | H41: =SUM(H8:H20)+SUM(H22:H28)+SUM(H30:H39) -> 0 | I41: =SUM(I8:I20)+SUM(I22:I28)+SUM(I30:I39) -> 0 | J41: =IF(C41=0,"",IF(B41=0,1,0.83*((C41-H41-I41/2)/C41)+0.17*((B41-G41-H41-I41/2)/B41))) | K41: =SUM(K8:K20)+SUM(K22:K28)+SUM(K30:K39) -> 0
A43: Ukupno 2023.* | C43: Obrazloženje:
A44: * Unesite podatak o Ukupnom broju donesenih odluka na koje se može izjaviti pravni lijek iz izvještaja koji ste dostavili za 2023. godinu. Ukoliko je razlika u Ukupnom broju donesenih odluka na koje se može izjaviti pravni lijek u periodu 2024/2023. veća od 20% aktiviraće se kontrolnik i potrebno je da obrazložite uzroke za nastanak te razlike.
A51: 1 Kvalitet rada sudskih odluka se automatski obračunava u skladu sa članom 17. Kriterija za ocjenjivanje rada sudija. Slijedi tekst za pojašnjenje formule za obračun kvaliteta sudskih odluka: (75% * (Ukupan broj ožalbenih odluka - Broj ukinutih odluka - Broj djelimično ukinutih odluka/2) / Ukupan broj ožalbenih odluka) + (25% * (Broj donesenih odluka na koje se može izjaviti pravni lijek - Broj preinačenih odluka donijetih nakon održane glavne raspave ili pretresa pred drugostepenim sudom - Broj ukinutih odluka - Broj djelimično ukinutih odluka/2) / Broj donesenih odluka na koje se može izjaviti pravni lijek).
A56: NAPOMENA: U Tabelu IIa se unose podaci o kvalitetu odluka za sve nosilace pravosudne funkcije koji su u toku godine obavljali funkciju u sudu, bez obzira na period obavljanja funkcije u sudu. U Tabelu se unose podaci za sve nosioce pravosudne funkcije: koji su obavljali funkciju u sudu cijelu godinu, koji su imenovani u sud u toku godine, koji su prešli u drugi sud u toku godine, kao i podaci za nosioce pravosudne funkcije koji su prestali obavljati funkciju u sudu zbog odlaska u penziju u 2024. godini ili iz drugih razloga (ostavke, razrješenja), a u 2024. godini su donosili odluke na koje se može izjaviti pravni lijek, i/ili sud je nakon prestanka obavljanja funkcije zaprimio žalbene odluke od strane višeg suda po izjavljenom pravnom lijeku na odluke bivšeg nosioca pravosudne funckije. Na taj način se pravilno obračunava kolektivni kvalitet odluka u sudu.
A62: Tabela IIb - Kvalitet sudskih odluka po odjeljenjima - (Ukoliko sud nema formirana odjeljenja nije potrebno popunjavati Tabelu IIb - zanemariti kontrolnike)*
A63: Kontrolnik | C63: =SUM(C67:C81) -> 0 | D63: =SUM(D67:D81) -> 0 | E63: =SUM(E67:E81) -> 0 | F63: =SUM(F67:F81) -> 0 | G63: =SUM(G67:G81) -> 0 | H63: =SUM(H67:H81) -> 0 | I63: =SUM(I67:I81) -> 0 | J63: =SUM(J67:J81) -> 0 | L63: =SUM(L67:L81) -> 0
O64: Ocijenjen
A65: Naziv odjeljenja ** | C65: Broj donesenih odluka na koje se može izjaviti pravni lijek | D65: Ukupan broj ožalbenih odluka | E65: Broj odbačenih pravnih lijekova | F65: Broj potvrđenih odluka | G65: Broj preinačenih odluka | H65: Broj preinačenih odluka donijetih na raspravi ili na pretresu pred višim sudom | I65: Broj ukinutih odluka | J65: Broj djelimično ukinutih odluka | K65: Kvalitet sudskih odluka | L65: Broj presuda koje su ukinute i predmet je vraćen na ponovno suđenje | M65: Broj bodova koji se dodjeljuje predsjedniku sudskog odjeljenja | O65: Nije ocijenjen
C66: I | D66: II=IV+V+VI+ VII+VIII) | E66: III | F66: IV | G66: V | H66: VI | I66: VII | J66: VIII | K66: IX1 | L66: X | M66: XI
D67: =F67+G67+H67+I67+J67 -> 0 | K67: =IF(D67=0,"",IF(C67=0,1,0.83*((D67-I67-J67/2)/D67)+0.17*((C67-H67-I67-J67/2)/C67))) | M67: =IF(A67="","",IF(B67="Ocijenjen",IF(K67>0.95,5,IF(K67>0.9,4,IF(K67>0.8,3,IF(K67>0.7,2,IF(K67>0.6,1,0))))),""))
D68: =F68+G68+H68+I68+J68 -> 0 | K68: =IF(D68=0,"",IF(C68=0,1,0.83*((D68-I68-J68/2)/D68)+0.17*((C68-H68-I68-J68/2)/C68))) | M68: =IF(A68="","",IF(B68="Ocijenjen",IF(K68>0.95,5,IF(K68>0.9,4,IF(K68>0.8,3,IF(K68>0.7,2,IF(K68>0.6,1,0))))),""))
D69: =F69+G69+H69+I69+J69 -> 0 | K69: =IF(D69=0,"",IF(C69=0,1,0.83*((D69-I69-J69/2)/D69)+0.17*((C69-H69-I69-J69/2)/C69))) | M69: =IF(A69="","",IF(B69="Ocijenjen",IF(K69>0.95,5,IF(K69>0.9,4,IF(K69>0.8,3,IF(K69>0.7,2,IF(K69>0.6,1,0))))),""))
D70: =F70+G70+H70+I70+J70 -> 0 | K70: =IF(D70=0,"",IF(C70=0,1,0.83*((D70-I70-J70/2)/D70)+0.17*((C70-H70-I70-J70/2)/C70))) | M70: =IF(A70="","",IF(B70="Ocijenjen",IF(K70>0.95,5,IF(K70>0.9,4,IF(K70>0.8,3,IF(K70>0.7,2,IF(K70>0.6,1,0))))),""))
D71: =F71+G71+H71+I71+J71 -> 0 | K71: =IF(D71=0,"",IF(C71=0,1,0.83*((D71-I71-J71/2)/D71)+0.17*((C71-H71-I71-J71/2)/C71))) | M71: =IF(A71="","",IF(B71="Ocijenjen",IF(K71>0.95,5,IF(K71>0.9,4,IF(K71>0.8,3,IF(K71>0.7,2,IF(K71>0.6,1,0))))),""))
D72: =F72+G72+H72+I72+J72 -> 0 | K72: =IF(D72=0,"",IF(C72=0,1,0.83*((D72-I72-J72/2)/D72)+0.17*((C72-H72-I72-J72/2)/C72))) | M72: =IF(A72="","",IF(B72="Ocijenjen",IF(K72>0.95,5,IF(K72>0.9,4,IF(K72>0.8,3,IF(K72>0.7,2,IF(K72>0.6,1,0))))),""))
D73: =F73+G73+H73+I73+J73 -> 0 | K73: =IF(D73=0,"",IF(C73=0,1,0.83*((D73-I73-J73/2)/D73)+0.17*((C73-H73-I73-J73/2)/C73))) | M73: =IF(A73="","",IF(B73="Ocijenjen",IF(K73>0.95,5,IF(K73>0.9,4,IF(K73>0.8,3,IF(K73>0.7,2,IF(K73>0.6,1,0))))),""))
D74: =F74+G74+H74+I74+J74 -> 0 | K74: =IF(D74=0,"",IF(C74=0,1,0.83*((D74-I74-J74/2)/D74)+0.17*((C74-H74-I74-J74/2)/C74))) | M74: =IF(A74="","",IF(B74="Ocijenjen",IF(K74>0.95,5,IF(K74>0.9,4,IF(K74>0.8,3,IF(K74>0.7,2,IF(K74>0.6,1,0))))),""))
D75: =F75+G75+H75+I75+J75 -> 0 | K75: =IF(D75=0,"",IF(C75=0,1,0.83*((D75-I75-J75/2)/D75)+0.17*((C75-H75-I75-J75/2)/C75))) | M75: =IF(A75="","",IF(B75="Ocijenjen",IF(K75>0.95,5,IF(K75>0.9,4,IF(K75>0.8,3,IF(K75>0.7,2,IF(K75>0.6,1,0))))),""))
D76: =F76+G76+H76+I76+J76 -> 0 | K76: =IF(D76=0,"",IF(C76=0,1,0.83*((D76-I76-J76/2)/D76)+0.17*((C76-H76-I76-J76/2)/C76))) | M76: =IF(A76="","",IF(B76="Ocijenjen",IF(K76>0.95,5,IF(K76>0.9,4,IF(K76>0.8,3,IF(K76>0.7,2,IF(K76>0.6,1,0))))),""))
D77: =F77+G77+H77+I77+J77 -> 0 | K77: =IF(D77=0,"",IF(C77=0,1,0.83*((D77-I77-J77/2)/D77)+0.17*((C77-H77-I77-J77/2)/C77))) | M77: =IF(A77="","",IF(B77="Ocijenjen",IF(K77>0.95,5,IF(K77>0.9,4,IF(K77>0.8,3,IF(K77>0.7,2,IF(K77>0.6,1,0))))),""))
D78: =F78+G78+H78+I78+J78 -> 0 | K78: =IF(D78=0,"",IF(C78=0,1,0.83*((D78-I78-J78/2)/D78)+0.17*((C78-H78-I78-J78/2)/C78))) | M78: =IF(A78="","",IF(B78="Ocijenjen",IF(K78>0.95,5,IF(K78>0.9,4,IF(K78>0.8,3,IF(K78>0.7,2,IF(K78>0.6,1,0))))),""))
... D81: =F81+G81+H81+I81+J81 -> 0 | K81: =IF(D81=0,"",IF(C81=0,1,0.83*((D81-I81-J81/2)/D81)+0.17*((C81-H81-I81-J81/2)/C81))) | M81: =IF(A81="","",IF(B81="Ocijenjen",IF(K81>0.95,5,IF(K81>0.9,4,IF(K81>0.8,3,IF(K81>0.7,2,IF(K81>0.6,1,0))))),""))
A82: NAPOMENA: U broj donesenih odluka na koje se može izjaviti pravni lijek (Kolona I) i broj ukinutih odluka (Kolona VII) prilikom računanja procenta ukinutih odluka iz člana 17. stav (1) tačka a) i b) Kriterija za ocjenjivanje rada sudija u BiH neće se uzimati u obračun odluke koje su ukinute u sadržajno nebitnom dijelu odnosno ako je odluka ukinuta ili se smatra ukinutom zbog toga što je instancioni sud nakon donošenja ispitivane odluke izmijenio sudsku praksu, u skladu s stavom (3) navedenog člana Kriterija.

Sheet tbl2_kvalitet_rada
A1: for_key | B1: godina | C1: lista_referata | D1: DonesOdluke | E1: OdbPrLijek | F1: PotvOdluke | G1: PreinOdluke | H1: PreinOdlukeNakonRasp | I1: UkinOdluke | J1: DjelimUkin | K1: UkinVracPonSud
A2: =+'Tabela I'!$J$2 -> 114 | B2: =+'Tabela I'!$J$1 -> 2024 | C2: 11 | D2: ='Tabela II'!B8 -> 0 | E2: ='Tabela II'!D8 -> 0 | F2: ='Tabela II'!E8 -> 0 | G2: ='Tabela II'!F8 -> 0 | H2: ='Tabela II'!G8 -> 0 | I2: ='Tabela II'!H8 -> 0 | J2: ='Tabela II'!I8 -> 0 | K2: ='Tabela II'!K8 -> 0
A3: =+'Tabela I'!$J$2 -> 114 | B3: =+'Tabela I'!$J$1 -> 2024 | C3: 13 | D3: ='Tabela II'!B9 -> 0 | E3: ='Tabela II'!D9 -> 0 | F3: ='Tabela II'!E9 -> 0 | G3: ='Tabela II'!F9 -> 0 | H3: ='Tabela II'!G9 -> 0 | I3: ='Tabela II'!H9 -> 0 | J3: ='Tabela II'!I9 -> 0 | K3: ='Tabela II'!K9 -> 0
A4: =+'Tabela I'!$J$2 -> 114 | B4: =+'Tabela I'!$J$1 -> 2024 | C4: 12 | D4: ='Tabela II'!B10 -> 0 | E4: ='Tabela II'!D10 -> 0 | F4: ='Tabela II'!E10 -> 0 | G4: ='Tabela II'!F10 -> 0 | H4: ='Tabela II'!G10 -> 0 | I4: ='Tabela II'!H10 -> 0 | J4: ='Tabela II'!I10 -> 0 | K4: ='Tabela II'!K10 -> 0
A5: =+'Tabela I'!$J$2 -> 114 | B5: =+'Tabela I'!$J$1 -> 2024 | C5: 14 | D5: ='Tabela II'!B11 -> 0 | E5: ='Tabela II'!D11 -> 0 | F5: ='Tabela II'!E11 -> 0 | G5: ='Tabela II'!F11 -> 0 | H5: ='Tabela II'!G11 -> 0 | I5: ='Tabela II'!H11 -> 0 | J5: ='Tabela II'!I11 -> 0 | K5: ='Tabela II'!K11 -> 0
A6: =+'Tabela I'!$J$2 -> 114 | B6: =+'Tabela I'!$J$1 -> 2024 | C6: 16 | D6: ='Tabela II'!B12 -> 0 | E6: ='Tabela II'!D12 -> 0 | F6: ='Tabela II'!E12 -> 0 | G6: ='Tabela II'!F12 -> 0 | H6: ='Tabela II'!G12 -> 0 | I6: ='Tabela II'!H12 -> 0 | J6: ='Tabela II'!I12 -> 0 | K6: ='Tabela II'!K12 -> 0
A7: =+'Tabela I'!$J$2 -> 114 | B7: =+'Tabela I'!$J$1 -> 2024 | C7: 80 | D7: ='Tabela II'!B13 -> 0 | E7: ='Tabela II'!D13 -> 0 | F7: ='Tabela II'!E13 -> 0 | G7: ='Tabela II'!F13 -> 0 | H7: ='Tabela II'!G13 -> 0 | I7: ='Tabela II'!H13 -> 0 | J7: ='Tabela II'!I13 -> 0 | K7: ='Tabela II'!K13 -> 0
A8: =+'Tabela I'!$J$2 -> 114 | B8: =+'Tabela I'!$J$1 -> 2024 | C8: 18 | D8: ='Tabela II'!B14 -> 0 | E8: ='Tabela II'!D14 -> 0 | F8: ='Tabela II'!E14 -> 0 | G8: ='Tabela II'!F14 -> 0 | H8: ='Tabela II'!G14 -> 0 | I8: ='Tabela II'!H14 -> 0 | J8: ='Tabela II'!I14 -> 0 | K8: ='Tabela II'!K14 -> 0
A9: =+'Tabela I'!$J$2 -> 114 | B9: =+'Tabela I'!$J$1 -> 2024 | C9: 15 | D9: ='Tabela II'!B15 -> 0 | E9: ='Tabela II'!D15 -> 0 | F9: ='Tabela II'!E15 -> 0 | G9: ='Tabela II'!F15 -> 0 | H9: ='Tabela II'!G15 -> 0 | I9: ='Tabela II'!H15 -> 0 | J9: ='Tabela II'!I15 -> 0 | K9: ='Tabela II'!K15 -> 0
A10: =+'Tabela I'!$J$2 -> 114 | B10: =+'Tabela I'!$J$1 -> 2024 | C10: 82 | D10: ='Tabela II'!B16 -> 0 | E10: ='Tabela II'!D16 -> 0 | F10: ='Tabela II'!E16 -> 0 | G10: ='Tabela II'!F16 -> 0 | H10: ='Tabela II'!G16 -> 0 | I10: ='Tabela II'!H16 -> 0 | J10: ='Tabela II'!I16 -> 0 | K10: ='Tabela II'!K16 -> 0
A11: =+'Tabela I'!$J$2 -> 114 | B11: =+'Tabela I'!$J$1 -> 2024 | C11: 83 | D11: ='Tabela II'!B17 -> 0 | E11: ='Tabela II'!D17 -> 0 | F11: ='Tabela II'!E17 -> 0 | G11: ='Tabela II'!F17 -> 0 | H11: ='Tabela II'!G17 -> 0 | I11: ='Tabela II'!H17 -> 0 | J11: ='Tabela II'!I17 -> 0 | K11: ='Tabela II'!K17 -> 0
A12: =+'Tabela I'!$J$2 -> 114 | B12: =+'Tabela I'!$J$1 -> 2024 | C12: 84 | D12: ='Tabela II'!B18 -> 0 | E12: ='Tabela II'!D18 -> 0 | F12: ='Tabela II'!E18 -> 0 | G12: ='Tabela II'!F18 -> 0 | H12: ='Tabela II'!G18 -> 0 | I12: ='Tabela II'!H18 -> 0 | J12: ='Tabela II'!I18 -> 0 | K12: ='Tabela II'!K18 -> 0
A13: =+'Tabela I'!$J$2 -> 114 | B13: =+'Tabela I'!$J$1 -> 2024 | C13: 17 | D13: ='Tabela II'!B19 -> 0 | E13: ='Tabela II'!D19 -> 0 | F13: ='Tabela II'!E19 -> 0 | G13: ='Tabela II'!F19 -> 0 | H13: ='Tabela II'!G19 -> 0 | I13: ='Tabela II'!H19 -> 0 | J13: ='Tabela II'!I19 -> 0 | K13: ='Tabela II'!K19 -> 0
A14: =+'Tabela I'!$J$2 -> 114 | B14: =+'Tabela I'!$J$1 -> 2024 | C14: 19 | D14: ='Tabela II'!B20 -> 0 | E14: ='Tabela II'!D20 -> 0 | F14: ='Tabela II'!E20 -> 0 | G14: ='Tabela II'!F20 -> 0 | H14: ='Tabela II'!G20 -> 0 | I14: ='Tabela II'!H20 -> 0 | J14: ='Tabela II'!I20 -> 0 | K14: ='Tabela II'!K20 -> 0
A15: =+'Tabela I'!$J$2 -> 114 | B15: =+'Tabela I'!$J$1 -> 2024 | C15: 52 | D15: ='Tabela II'!B22 -> 0 | E15: ='Tabela II'!D22 -> 0 | F15: ='Tabela II'!E22 -> 0 | G15: ='Tabela II'!F22 -> 0 | H15: ='Tabela II'!G22 -> 0 | I15: ='Tabela II'!H22 -> 0 | J15: ='Tabela II'!I22 -> 0 | K15: ='Tabela II'!K22 -> 0
A16: =+'Tabela I'!$J$2 -> 114 | B16: =+'Tabela I'!$J$1 -> 2024 | C16: 85 | D16: ='Tabela II'!B23 -> 0 | E16: ='Tabela II'!D23 -> 0 | F16: ='Tabela II'!E23 -> 0 | G16: ='Tabela II'!F23 -> 0 | H16: ='Tabela II'!G23 -> 0 | I16: ='Tabela II'!H23 -> 0 | J16: ='Tabela II'!I23 -> 0 | K16: ='Tabela II'!K23 -> 0
A17: =+'Tabela I'!$J$2 -> 114 | B17: =+'Tabela I'!$J$1 -> 2024 | C17: 86 | D17: ='Tabela II'!B24 -> 0 | E17: ='Tabela II'!D24 -> 0 | F17: ='Tabela II'!E24 -> 0 | G17: ='Tabela II'!F24 -> 0 | H17: ='Tabela II'!G24 -> 0 | I17: ='Tabela II'!H24 -> 0 | J17: ='Tabela II'!I24 -> 0 | K17: ='Tabela II'!K24 -> 0
A18: =+'Tabela I'!$J$2 -> 114 | B18: =+'Tabela I'!$J$1 -> 2024 | C18: 87 | D18: ='Tabela II'!B25 -> 0 | E18: ='Tabela II'!D25 -> 0 | F18: ='Tabela II'!E25 -> 0 | G18: ='Tabela II'!F25 -> 0 | H18: ='Tabela II'!G25 -> 0 | I18: ='Tabela II'!H25 -> 0 | J18: ='Tabela II'!I25 -> 0 | K18: ='Tabela II'!K25 -> 0
A19: =+'Tabela I'!$J$2 -> 114 | B19: =+'Tabela I'!$J$1 -> 2024 | C19: 88 | D19: ='Tabela II'!B26 -> 0 | E19: ='Tabela II'!D26 -> 0 | F19: ='Tabela II'!E26 -> 0 | G19: ='Tabela II'!F26 -> 0 | H19: ='Tabela II'!G26 -> 0 | I19: ='Tabela II'!H26 -> 0 | J19: ='Tabela II'!I26 -> 0 | K19: ='Tabela II'!K26 -> 0
A20: =+'Tabela I'!$J$2 -> 114 | B20: =+'Tabela I'!$J$1 -> 2024 | C20: 113 | D20: ='Tabela II'!B27 -> 0 | E20: ='Tabela II'!D27 -> 0 | F20: ='Tabela II'!E27 -> 0 | G20: ='Tabela II'!F27 -> 0 | H20: ='Tabela II'!G27 -> 0 | I20: ='Tabela II'!H27 -> 0 | J20: ='Tabela II'!I27 -> 0 | K20: ='Tabela II'!K27 -> 0
A21: =+'Tabela I'!$J$2 -> 114 | B21: =+'Tabela I'!$J$1 -> 2024 | C21: 56 | D21: ='Tabela II'!B28 -> 0 | E21: ='Tabela II'!D28 -> 0 | F21: ='Tabela II'!E28 -> 0 | G21: ='Tabela II'!F28 -> 0 | H21: ='Tabela II'!G28 -> 0 | I21: ='Tabela II'!H28 -> 0 | J21: ='Tabela II'!I28 -> 0 | K21: ='Tabela II'!K28 -> 0
A22: =+'Tabela I'!$J$2 -> 114 | B22: =+'Tabela I'!$J$1 -> 2024 | C22: 89 | D22: =+'Tabela II'!B30 -> 0 | E22: =+'Tabela II'!D30 -> 0 | F22: =+'Tabela II'!E30 -> 0 | G22: =+'Tabela II'!F30 -> 0 | H22: =+'Tabela II'!G30 -> 0 | I22: =+'Tabela II'!H30 -> 0 | J22: =+'Tabela II'!I30 -> 0 | K22: =+'Tabela II'!K30 -> 0
A23: =+'Tabela I'!$J$2 -> 114 | B23: =+'Tabela I'!$J$1 -> 2024 | C23: 53 | D23: =+'Tabela II'!B31 -> 0 | E23: =+'Tabela II'!D31 -> 0 | F23: =+'Tabela II'!E31 -> 0 | G23: =+'Tabela II'!F31 -> 0 | H23: =+'Tabela II'!G31 -> 0 | I23: =+'Tabela II'!H31 -> 0 | J23: =+'Tabela II'!I31 -> 0 | K23: =+'Tabela II'!K31 -> 0
A24: =+'Tabela I'!$J$2 -> 114 | B24: =+'Tabela I'!$J$1 -> 2024 | C24: 34 | D24: =+'Tabela II'!B32 -> 0 | E24: =+'Tabela II'!D32 -> 0 | F24: =+'Tabela II'!E32 -> 0 | G24: =+'Tabela II'!F32 -> 0 | H24: =+'Tabela II'!G32 -> 0 | I24: =+'Tabela II'!H32 -> 0 | J24: =+'Tabela II'!I32 -> 0 | K24: =+'Tabela II'!K32 -> 0
A25: =+'Tabela I'!$J$2 -> 114 | B25: =+'Tabela I'!$J$1 -> 2024 | C25: 35 | D25: =+'Tabela II'!B33 -> 0 | E25: =+'Tabela II'!D33 -> 0 | F25: =+'Tabela II'!E33 -> 0 | G25: =+'Tabela II'!F33 -> 0 | H25: =+'Tabela II'!G33 -> 0 | I25: =+'Tabela II'!H33 -> 0 | J25: =+'Tabela II'!I33 -> 0 | K25: =+'Tabela II'!K33 -> 0
A26: =+'Tabela I'!$J$2 -> 114 | B26: =+'Tabela I'!$J$1 -> 2024 | C26: 66 | D26: =+'Tabela II'!B34 -> 0 | E26: =+'Tabela II'!D34 -> 0 | F26: =+'Tabela II'!E34 -> 0 | G26: =+'Tabela II'!F34 -> 0 | H26: =+'Tabela II'!G34 -> 0 | I26: =+'Tabela II'!H34 -> 0 | J26: =+'Tabela II'!I34 -> 0 | K26: =+'Tabela II'!K34 -> 0
A27: =+'Tabela I'!$J$2 -> 114 | B27: =+'Tabela I'!$J$1 -> 2024 | C27: 67 | D27: =+'Tabela II'!B35 -> 0 | E27: =+'Tabela II'!D35 -> 0 | F27: =+'Tabela II'!E35 -> 0 | G27: =+'Tabela II'!F35 -> 0 | H27: =+'Tabela II'!G35 -> 0 | I27: =+'Tabela II'!H35 -> 0 | J27: =+'Tabela II'!I35 -> 0 | K27: =+'Tabela II'!K35 -> 0
A28: =+'Tabela I'!$J$2 -> 114 | B28: =+'Tabela I'!$J$1 -> 2024 | C28: 38 | D28: =+'Tabela II'!B36 -> 0 | E28: =+'Tabela II'!D36 -> 0 | F28: =+'Tabela II'!E36 -> 0 | G28: =+'Tabela II'!F36 -> 0 | H28: =+'Tabela II'!G36 -> 0 | I28: =+'Tabela II'!H36 -> 0 | J28: =+'Tabela II'!I36 -> 0 | K28: =+'Tabela II'!K36 -> 0
A29: =+'Tabela I'!$J$2 -> 114 | B29: =+'Tabela I'!$J$1 -> 2024 | C29: 149 | D29: =+'Tabela II'!B37 -> 0 | E29: =+'Tabela II'!D37 -> 0 | F29: =+'Tabela II'!E37 -> 0 | G29: =+'Tabela II'!F37 -> 0 | H29: =+'Tabela II'!G37 -> 0 | I29: =+'Tabela II'!H37 -> 0 | J29: =+'Tabela II'!I37 -> 0 | K29: =+'Tabela II'!K37 -> 0
A30: =+'Tabela I'!$J$2 -> 114 | B30: =+'Tabela I'!$J$1 -> 2024 | C30: 40 | D30: =+'Tabela II'!B38 -> 0 | E30: =+'Tabela II'!D38 -> 0 | F30: =+'Tabela II'!E38 -> 0 | G30: =+'Tabela II'!F38 -> 0 | H30: =+'Tabela II'!G38 -> 0 | I30: =+'Tabela II'!H38 -> 0 | J30: =+'Tabela II'!I38 -> 0 | K30: =+'Tabela II'!K38 -> 0
A31: =+'Tabela I'!$J$2 -> 114 | B31: =+'Tabela I'!$J$1 -> 2024 | C31: 118 | D31: =+'Tabela II'!B39 -> 0 | E31: =+'Tabela II'!D39 -> 0 | F31: =+'Tabela II'!E39 -> 0 | G31: =+'Tabela II'!F39 -> 0 | H31: =+'Tabela II'!G39 -> 0 | I31: =+'Tabela II'!H39 -> 0 | J31: =+'Tabela II'!I39 -> 0 | K31: =+'Tabela II'!K39 -> 0
D32: =SUM(D2:D31) -> 0 | E32: =SUM(E2:E31) -> 0 | F32: =SUM(F2:F31) -> 0 | G32: =SUM(G2:G31) -> 0 | H32: =SUM(H2:H31) -> 0 | I32: =SUM(I2:I31) -> 0 | J32: =SUM(J2:J31) -> 0 | K32: =SUM(K2:K31) -> 0
A35: for_key | B35: godina | C35: Odjel | D35: DonesOdluke | E35: OdbPrLijek | F35: PotvOdluke | G35: PreinOdluke | H35: PreinOdlukeNakonRasp | I35: UkinOdluke | J35: DjelimUkin | K35: UkinVracPonSud
A36: =+'Tabela I'!$J$2 -> 114 | B36: =+'Tabela I'!$J$1 -> 2024 | C36: =+'Tabela II'!A67 -> 0 | D36: =+'Tabela II'!C67 -> 0 | E36: =+'Tabela II'!E67 -> 0 | F36: =+'Tabela II'!F67 -> 0 | G36: =+'Tabela II'!G67 -> 0 | H36: =+'Tabela II'!H67 -> 0 | I36: =+'Tabela II'!I67 -> 0 | J36: =+'Tabela II'!J67 -> 0 | K36: =+'Tabela II'!L67 -> 0
A37: =+'Tabela I'!$J$2 -> 114 | B37: =+'Tabela I'!$J$1 -> 2024 | C37: =+'Tabela II'!A68 -> 0 | D37: =+'Tabela II'!C68 -> 0 | E37: =+'Tabela II'!E68 -> 0 | F37: =+'Tabela II'!F68 -> 0 | G37: =+'Tabela II'!G68 -> 0 | H37: =+'Tabela II'!H68 -> 0 | I37: =+'Tabela II'!I68 -> 0 | J37: =+'Tabela II'!J68 -> 0 | K37: =+'Tabela II'!L68 -> 0
A38: =+'Tabela I'!$J$2 -> 114 | B38: =+'Tabela I'!$J$1 -> 2024 | C38: =+'Tabela II'!A69 -> 0 | D38: =+'Tabela II'!C69 -> 0 | E38: =+'Tabela II'!E69 -> 0 | F38: =+'Tabela II'!F69 -> 0 | G38: =+'Tabela II'!G69 -> 0 | H38: =+'Tabela II'!H69 -> 0 | I38: =+'Tabela II'!I69 -> 0 | J38: =+'Tabela II'!J69 -> 0 | K38: =+'Tabela II'!L69 -> 0
A39: =+'Tabela I'!$J$2 -> 114 | B39: =+'Tabela I'!$J$1 -> 2024 | C39: =+'Tabela II'!A70 -> 0 | D39: =+'Tabela II'!C70 -> 0 | E39: =+'Tabela II'!E70 -> 0 | F39: =+'Tabela II'!F70 -> 0 | G39: =+'Tabela II'!G70 -> 0 | H39: =+'Tabela II'!H70 -> 0 | I39: =+'Tabela II'!I70 -> 0 | J39: =+'Tabela II'!J70 -> 0 | K39: =+'Tabela II'!L70 -> 0
A40: =+'Tabela I'!$J$2 -> 114 | B40: =+'Tabela I'!$J$1 -> 2024 | C40: =+'Tabela II'!A71 -> 0 | D40: =+'Tabela II'!C71 -> 0 | E40: =+'Tabela II'!E71 -> 0 | F40: =+'Tabela II'!F71 -> 0 | G40: =+'Tabela II'!G71 -> 0 | H40: =+'Tabela II'!H71 -> 0 | I40: =+'Tabela II'!I71 -> 0 | J40: =+'Tabela II'!J71 -> 0 | K40: =+'Tabela II'!L71 -> 0
A41: =+'Tabela I'!$J$2 -> 114 | B41: =+'Tabela I'!$J$1 -> 2024 | C41: =+'Tabela II'!A72 -> 0 | D41: =+'Tabela II'!C72 -> 0 | E41: =+'Tabela II'!E72 -> 0 | F41: =+'Tabela II'!F72 -> 0 | G41: =+'Tabela II'!G72 -> 0 | H41: =+'Tabela II'!H72 -> 0 | I41: =+'Tabela II'!I72 -> 0 | J41: =+'Tabela II'!J72 -> 0 | K41: =+'Tabela II'!L72 -> 0
A42: =+'Tabela I'!$J$2 -> 114 | B42: =+'Tabela I'!$J$1 -> 2024 | C42: =+'Tabela II'!A73 -> 0 | D42: =+'Tabela II'!C73 -> 0 | E42: =+'Tabela II'!E73 -> 0 | F42: =+'Tabela II'!F73 -> 0 | G42: =+'Tabela II'!G73 -> 0 | H42: =+'Tabela II'!H73 -> 0 | I42: =+'Tabela II'!I73 -> 0 | J42: =+'Tabela II'!J73 -> 0 | K42: =+'Tabela II'!L73 -> 0
A43: =+'Tabela I'!$J$2 -> 114 | B43: =+'Tabela I'!$J$1 -> 2024 | C43: =+'Tabela II'!A74 -> 0 | D43: =+'Tabela II'!C74 -> 0 | E43: =+'Tabela II'!E74 -> 0 | F43: =+'Tabela II'!F74 -> 0 | G43: =+'Tabela II'!G74 -> 0 | H43: =+'Tabela II'!H74 -> 0 | I43: =+'Tabela II'!I74 -> 0 | J43: =+'Tabela II'!J74 -> 0 | K43: =+'Tabela II'!L74 -> 0
A44: =+'Tabela I'!$J$2 -> 114 | B44: =+'Tabela I'!$J$1 -> 2024 | C44: =+'Tabela II'!A75 -> 0 | D44: =+'Tabela II'!C75 -> 0 | E44: =+'Tabela II'!E75 -> 0 | F44: =+'Tabela II'!F75 -> 0 | G44: =+'Tabela II'!G75 -> 0 | H44: =+'Tabela II'!H75 -> 0 | I44: =+'Tabela II'!I75 -> 0 | J44: =+'Tabela II'!J75 -> 0 | K44: =+'Tabela II'!L75 -> 0
A45: =+'Tabela I'!$J$2 -> 114 | B45: =+'Tabela I'!$J$1 -> 2024 | C45: =+'Tabela II'!A76 -> 0 | D45: =+'Tabela II'!C76 -> 0 | E45: =+'Tabela II'!E76 -> 0 | F45: =+'Tabela II'!F76 -> 0 | G45: =+'Tabela II'!G76 -> 0 | H45: =+'Tabela II'!H76 -> 0 | I45: =+'Tabela II'!I76 -> 0 | J45: =+'Tabela II'!J76 -> 0 | K45: =+'Tabela II'!L76 -> 0
A46: =+'Tabela I'!$J$2 -> 114 | B46: =+'Tabela I'!$J$1 -> 2024 | C46: =+'Tabela II'!A77 -> 0 | D46: =+'Tabela II'!C77 -> 0 | E46: =+'Tabela II'!E77 -> 0 | F46: =+'Tabela II'!F77 -> 0 | G46: =+'Tabela II'!G77 -> 0 | H46: =+'Tabela II'!H77 -> 0 | I46: =+'Tabela II'!I77 -> 0 | J46: =+'Tabela II'!J77 -> 0 | K46: =+'Tabela II'!L77 -> 0
A47: =+'Tabela I'!$J$2 -> 114 | B47: =+'Tabela I'!$J$1 -> 2024 | C47: =+'Tabela II'!A78 -> 0 | D47: =+'Tabela II'!C78 -> 0 | E47: =+'Tabela II'!E78 -> 0 | F47: =+'Tabela II'!F78 -> 0 | G47: =+'Tabela II'!G78 -> 0 | H47: =+'Tabela II'!H78 -> 0 | I47: =+'Tabela II'!I78 -> 0 | J47: =+'Tabela II'!J78 -> 0 | K47: =+'Tabela II'!L78 -> 0
... A50: =+'Tabela I'!$J$2 -> 114 | B50: =+'Tabela I'!$J$1 -> 2024 | C50: =+'Tabela II'!A81 -> 0 | D50: =+'Tabela II'!C81 -> 0 | E50: =+'Tabela II'!E81 -> 0 | F50: =+'Tabela II'!F81 -> 0 | G50: =+'Tabela II'!G81 -> 0 | H50: =+'Tabela II'!H81 -> 0 | I50: =+'Tabela II'!I81 -> 0 | J50: =+'Tabela II'!J81 -> 0 | K50: =+'Tabela II'!L81 -> 0
D51: =SUM(D36:D50) -> 0 | E51: =SUM(E36:E50) -> 0 | F51: =SUM(F36:F50) -> 0 | G51: =SUM(G36:G50) -> 0 | H51: =SUM(H36:H50) -> 0 | I51: =SUM(I36:I50) -> 0 | J51: =SUM(J36:J50) -> 0 | K51: =SUM(K36:K50) -> 0

Sheet Tabela IIc
A1: Sud BiH
A2: Izvještajni period: | C2: 1.1.2024.-31.12.2024.
A3: Tabela IIc - Kvalitet sudskih sudskih odluka po nosiocima pravosudnih funkcija - Elektronski obrazac za obračun kvaliteta odluka (pogledati NAPOMENU 2 i 3)
A5: Redni broj | B5: Ime i prezime - podatak je automatski prenesen iz Tabele Ia - OBAVEZNO ZADRŽATI REDOSLIJED NPF-a iz Tabele Ia | C5: Pravosudna funkcija - podatak je automatski prenesen iz Tabele Ia - OBAVEZNO ZADRŽATI REDOSLIJED NPF-a iz Tabele Ia | D5: Ocjenjen / Nije ocijenjen u sudu | E5: Ukupan broj donesenih odluka na koje se može izjaviti pravni lijek | F5: Ukupan broj ožalbenih odluka | G5: Broj odbačenih pravnih lijekova*** | H5: Broj potvrđenih odluka | I5: Broj preinačenih odluka | J5: Broj preinačenih odluka donijetih nakon održane glavne rasprave ili pretresa pred drugostepenim sudom**** | K5: Broj ukinutih odluka | L5: Broj djelimično ukinutih odluka | M5: Kvalitet sudskih odluka prema članu 17. stav 1. tačka a) | N5: Broj ostvarenih bodova za kvalitet prema članu 17. stav 1. tačka a) | O5: Kvalitet sudskih odluka prema članu 17. stav 1. tačka b) | P5: Broj ostvarenih bodova za kvalitet prema članu 17. stav 1. tačka b) | Q5: UKUPAN broj ostvarenih bodova za kvalitet sudskih odluka
H6: Odbijen pravni lijek
A7: I | B7: II | C7: IV | D7: IV | E7: V | F7: VI | G7: VII | H7: VIII | I7: IX | J7: X | K7: XI | L7: XII | M7: XIII | N7: XIV | O7: XV | P7: XVI | Q7: XVII
A9: 1 | B9: =IF('Tabela I'!B10="","",'Tabela I'!B10) | C9: Predsjednik suda * | F9: =SUM(H9:L9) -> 0 | M9: =IF(D9="","",IF(D9="Nije ocijenjen ili Ne treba raditi na predmetima","",IF(D9="Ocijenjen",IF(F9<10,"Član 20. stav 7. Kriterija",(K9+(L9/2))/(F9))))) | N9: =IF(D9="","",IF(D9="Nije ocijenjen ili Ne treba raditi na predmetima","",IF(D9="Ocijenjen",IF(M9="Član 20. stav 7. Kriterija","",IF(M9>0.4,0,IF(M9>0.3,4,IF(M9>0.2,8,IF(M9>0.1,12,IF(M9<=0.1,15,))))))))) | O9: =IF(D9="","",IF(D9="Nije ocijenjen ili Ne treba raditi na predmetima","",IF(D9="Ocijenjen",IF(E9=0,"",((K9+J9+(L9/2))/(E9)))))) | P9: =IF(D9="","",IF(D9="Nije ocijenjen ili Ne treba raditi na predmetima","",IF(D9="Ocijenjen",IF(O9>0.2,0,IF(O9>0.15,1,IF(O9>0.1,2,IF(O9>0.06,3,IF(O9>0.03,4,IF(O9<=0.03,5,))))))))) | Q9: =IF(D9="","",IF(D9="Nije ocijenjen ili Ne treba raditi na predmetima","",IF(D9="Ocijenjen",IF(M9="Član 20. stav 7. Kriterija",P9,N9+P9)))) | T9: Ocijenjen
A10: 2 | B10: =IF('Tabela I'!B12="","",'Tabela I'!B12) | C10: =IF('Tabela I'!E12="","",'Tabela I'!E12) | F10: =SUM(H10:L10) -> 0 | M10: =IF(D10="","",IF(D10="Nije ocijenjen","",IF(D10="Ocijenjen",IF(F10<10,"Član 17. stav 7. Kriterija",(K10+(L10/2))/(F10))))) | N10: =IF(D10="","",IF(D10="Nije ocijenjen","",IF(D10="Ocijenjen",IF(M10="Član 17. stav 7. Kriterija","",IF(M10>0.4,0,IF(M10>0.3,8,IF(M10>0.2,16,IF(M10>0.1,24,IF(M10<=0.1,30,))))))))) | O10: =IF(D10="","",IF(D10="Nije ocijenjen","",IF(D10="Ocijenjen",IF(E10=0,"",((K10+J10+(L10/2))/(E10)))))) | P10: =IF(D10="","",IF(D10="Nije ocijenjen","",IF(D10="Ocijenjen",IF(O10>0.2,0,IF(O10>0.15,2,IF(O10>0.1,4,IF(O10>0.06,6,IF(O10>0.03,8,IF(O10<=0.03,10,))))))))) | Q10: =IF(D10="","",IF(D10="Nije ocijenjen","",IF(D10="Ocijenjen",IF(M10="Član 17. stav 7. Kriterija",P10,N10+P10)))) | R10: Sudija | T10: Nije ocijenjen
A11: 3 | B11: =IF('Tabela I'!B13="","",'Tabela I'!B13) | C11: =IF('Tabela I'!E13="","",'Tabela I'!E13) | F11: =SUM(H11:L11) -> 0 | M11: =IF(D11="","",IF(D11="Nije ocijenjen","",IF(D11="Ocijenjen",IF(F11<10,"Član 17. stav 7. Kriterija",(K11+(L11/2))/(F11))))) | N11: =IF(D11="","",IF(D11="Nije ocijenjen","",IF(D11="Ocijenjen",IF(M11="Član 17. stav 7. Kriterija","",IF(M11>0.4,0,IF(M11>0.3,8,IF(M11>0.2,16,IF(M11>0.1,24,IF(M11<=0.1,30,))))))))) | O11: =IF(D11="","",IF(D11="Nije ocijenjen","",IF(D11="Ocijenjen",IF(E11=0,"",((K11+J11+(L11/2))/(E11)))))) | P11: =IF(D11="","",IF(D11="Nije ocijenjen","",IF(D11="Ocijenjen",IF(O11>0.2,0,IF(O11>0.15,2,IF(O11>0.1,4,IF(O11>0.06,6,IF(O11>0.03,8,IF(O11<=0.03,10,))))))))) | Q11: =IF(D11="","",IF(D11="Nije ocijenjen","",IF(D11="Ocijenjen",IF(M11="Član 17. stav 7. Kriterija",P11,N11+P11)))) | R11: Stručni saradnik
A12: 4 | B12: =IF('Tabela I'!B14="","",'Tabela I'!B14) | C12: =IF('Tabela I'!E14="","",'Tabela I'!E14) | F12: =SUM(H12:L12) -> 0 | M12: =IF(D12="","",IF(D12="Nije ocijenjen","",IF(D12="Ocijenjen",IF(F12<10,"Član 17. stav 7. Kriterija",(K12+(L12/2))/(F12))))) | N12: =IF(D12="","",IF(D12="Nije ocijenjen","",IF(D12="Ocijenjen",IF(M12="Član 17. stav 7. Kriterija","",IF(M12>0.4,0,IF(M12>0.3,8,IF(M12>0.2,16,IF(M12>0.1,24,IF(M12<=0.1,30,))))))))) | O12: =IF(D12="","",IF(D12="Nije ocijenjen","",IF(D12="Ocijenjen",IF(E12=0,"",((K12+J12+(L12/2))/(E12)))))) | P12: =IF(D12="","",IF(D12="Nije ocijenjen","",IF(D12="Ocijenjen",IF(O12>0.2,0,IF(O12>0.15,2,IF(O12>0.1,4,IF(O12>0.06,6,IF(O12>0.03,8,IF(O12<=0.03,10,))))))))) | Q12: =IF(D12="","",IF(D12="Nije ocijenjen","",IF(D12="Ocijenjen",IF(M12="Član 17. stav 7. Kriterija",P12,N12+P12)))) | R12: Predsjednik odjela
A13: 5 | B13: =IF('Tabela I'!B15="","",'Tabela I'!B15) | C13: =IF('Tabela I'!E15="","",'Tabela I'!E15) | F13: =SUM(H13:L13) -> 0 | M13: =IF(D13="","",IF(D13="Nije ocijenjen","",IF(D13="Ocijenjen",IF(F13<10,"Član 17. stav 7. Kriterija",(K13+(L13/2))/(F13))))) | N13: =IF(D13="","",IF(D13="Nije ocijenjen","",IF(D13="Ocijenjen",IF(M13="Član 17. stav 7. Kriterija","",IF(M13>0.4,0,IF(M13>0.3,8,IF(M13>0.2,16,IF(M13>0.1,24,IF(M13<=0.1,30,))))))))) | O13: =IF(D13="","",IF(D13="Nije ocijenjen","",IF(D13="Ocijenjen",IF(E13=0,"",((K13+J13+(L13/2))/(E13)))))) | P13: =IF(D13="","",IF(D13="Nije ocijenjen","",IF(D13="Ocijenjen",IF(O13>0.2,0,IF(O13>0.15,2,IF(O13>0.1,4,IF(O13>0.06,6,IF(O13>0.03,8,IF(O13<=0.03,10,))))))))) | Q13: =IF(D13="","",IF(D13="Nije ocijenjen","",IF(D13="Ocijenjen",IF(M13="Član 17. stav 7. Kriterija",P13,N13+P13)))) | R13: Predsjednik sudskog vijeća vrhovnog suda entiteta
A14: 6 | B14: =IF('Tabela I'!B16="","",'Tabela I'!B16) | C14: =IF('Tabela I'!E16="","",'Tabela I'!E16) | F14: =SUM(H14:L14) -> 0 | M14: =IF(D14="","",IF(D14="Nije ocijenjen","",IF(D14="Ocijenjen",IF(F14<10,"Član 17. stav 7. Kriterija",(K14+(L14/2))/(F14))))) | N14: =IF(D14="","",IF(D14="Nije ocijenjen","",IF(D14="Ocijenjen",IF(M14="Član 17. stav 7. Kriterija","",IF(M14>0.4,0,IF(M14>0.3,8,IF(M14>0.2,16,IF(M14>0.1,24,IF(M14<=0.1,30,))))))))) | O14: =IF(D14="","",IF(D14="Nije ocijenjen","",IF(D14="Ocijenjen",IF(E14=0,"",((K14+J14+(L14/2))/(E14)))))) | P14: =IF(D14="","",IF(D14="Nije ocijenjen","",IF(D14="Ocijenjen",IF(O14>0.2,0,IF(O14>0.15,2,IF(O14>0.1,4,IF(O14>0.06,6,IF(O14>0.03,8,IF(O14<=0.03,10,))))))))) | Q14: =IF(D14="","",IF(D14="Nije ocijenjen","",IF(D14="Ocijenjen",IF(M14="Član 17. stav 7. Kriterija",P14,N14+P14)))) | R14: Član VSTV-a
A15: 7 | B15: =IF('Tabela I'!B17="","",'Tabela I'!B17) | C15: =IF('Tabela I'!E17="","",'Tabela I'!E17) | F15: =SUM(H15:L15) -> 0 | M15: =IF(D15="","",IF(D15="Nije ocijenjen","",IF(D15="Ocijenjen",IF(F15<10,"Član 17. stav 7. Kriterija",(K15+(L15/2))/(F15))))) | N15: =IF(D15="","",IF(D15="Nije ocijenjen","",IF(D15="Ocijenjen",IF(M15="Član 17. stav 7. Kriterija","",IF(M15>0.4,0,IF(M15>0.3,8,IF(M15>0.2,16,IF(M15>0.1,24,IF(M15<=0.1,30,))))))))) | O15: =IF(D15="","",IF(D15="Nije ocijenjen","",IF(D15="Ocijenjen",IF(E15=0,"",((K15+J15+(L15/2))/(E15)))))) | P15: =IF(D15="","",IF(D15="Nije ocijenjen","",IF(D15="Ocijenjen",IF(O15>0.2,0,IF(O15>0.15,2,IF(O15>0.1,4,IF(O15>0.06,6,IF(O15>0.03,8,IF(O15<=0.03,10,))))))))) | Q15: =IF(D15="","",IF(D15="Nije ocijenjen","",IF(D15="Ocijenjen",IF(M15="Član 17. stav 7. Kriterija",P15,N15+P15))))
A16: 8 | B16: =IF('Tabela I'!B18="","",'Tabela I'!B18) | C16: =IF('Tabela I'!E18="","",'Tabela I'!E18) | F16: =SUM(H16:L16) -> 0 | M16: =IF(D16="","",IF(D16="Nije ocijenjen","",IF(D16="Ocijenjen",IF(F16<10,"Član 17. stav 7. Kriterija",(K16+(L16/2))/(F16))))) | N16: =IF(D16="","",IF(D16="Nije ocijenjen","",IF(D16="Ocijenjen",IF(M16="Član 17. stav 7. Kriterija","",IF(M16>0.4,0,IF(M16>0.3,8,IF(M16>0.2,16,IF(M16>0.1,24,IF(M16<=0.1,30,))))))))) | O16: =IF(D16="","",IF(D16="Nije ocijenjen","",IF(D16="Ocijenjen",IF(E16=0,"",((K16+J16+(L16/2))/(E16)))))) | P16: =IF(D16="","",IF(D16="Nije ocijenjen","",IF(D16="Ocijenjen",IF(O16>0.2,0,IF(O16>0.15,2,IF(O16>0.1,4,IF(O16>0.06,6,IF(O16>0.03,8,IF(O16<=0.03,10,))))))))) | Q16: =IF(D16="","",IF(D16="Nije ocijenjen","",IF(D16="Ocijenjen",IF(M16="Član 17. stav 7. Kriterija",P16,N16+P16)))) | T16: Ocijenjen
A17: 9 | B17: =IF('Tabela I'!B19="","",'Tabela I'!B19) | C17: =IF('Tabela I'!E19="","",'Tabela I'!E19) | F17: =SUM(H17:L17) -> 0 | M17: =IF(D17="","",IF(D17="Nije ocijenjen","",IF(D17="Ocijenjen",IF(F17<10,"Član 17. stav 7. Kriterija",(K17+(L17/2))/(F17))))) | N17: =IF(D17="","",IF(D17="Nije ocijenjen","",IF(D17="Ocijenjen",IF(M17="Član 17. stav 7. Kriterija","",IF(M17>0.4,0,IF(M17>0.3,8,IF(M17>0.2,16,IF(M17>0.1,24,IF(M17<=0.1,30,))))))))) | O17: =IF(D17="","",IF(D17="Nije ocijenjen","",IF(D17="Ocijenjen",IF(E17=0,"",((K17+J17+(L17/2))/(E17)))))) | P17: =IF(D17="","",IF(D17="Nije ocijenjen","",IF(D17="Ocijenjen",IF(O17>0.2,0,IF(O17>0.15,2,IF(O17>0.1,4,IF(O17>0.06,6,IF(O17>0.03,8,IF(O17<=0.03,10,))))))))) | Q17: =IF(D17="","",IF(D17="Nije ocijenjen","",IF(D17="Ocijenjen",IF(M17="Član 17. stav 7. Kriterija",P17,N17+P17)))) | T17: Nije ocijenjen ili Ne treba raditi na predmetima
A18: 10 | B18: =IF('Tabela I'!B20="","",'Tabela I'!B20) | C18: =IF('Tabela I'!E20="","",'Tabela I'!E20) | F18: =SUM(H18:L18) -> 0 | M18: =IF(D18="","",IF(D18="Nije ocijenjen","",IF(D18="Ocijenjen",IF(F18<10,"Član 17. stav 7. Kriterija",(K18+(L18/2))/(F18))))) | N18: =IF(D18="","",IF(D18="Nije ocijenjen","",IF(D18="Ocijenjen",IF(M18="Član 17. stav 7. Kriterija","",IF(M18>0.4,0,IF(M18>0.3,8,IF(M18>0.2,16,IF(M18>0.1,24,IF(M18<=0.1,30,))))))))) | O18: =IF(D18="","",IF(D18="Nije ocijenjen","",IF(D18="Ocijenjen",IF(E18=0,"",((K18+J18+(L18/2))/(E18)))))) | P18: =IF(D18="","",IF(D18="Nije ocijenjen","",IF(D18="Ocijenjen",IF(O18>0.2,0,IF(O18>0.15,2,IF(O18>0.1,4,IF(O18>0.06,6,IF(O18>0.03,8,IF(O18<=0.03,10,))))))))) | Q18: =IF(D18="","",IF(D18="Nije ocijenjen","",IF(D18="Ocijenjen",IF(M18="Član 17. stav 7. Kriterija",P18,N18+P18))))
A19: 11 | B19: =IF('Tabela I'!B21="","",'Tabela I'!B21) | C19: =IF('Tabela I'!E21="","",'Tabela I'!E21) | F19: =SUM(H19:L19) -> 0 | M19: =IF(D19="","",IF(D19="Nije ocijenjen","",IF(D19="Ocijenjen",IF(F19<10,"Član 17. stav 7. Kriterija",(K19+(L19/2))/(F19))))) | N19: =IF(D19="","",IF(D19="Nije ocijenjen","",IF(D19="Ocijenjen",IF(M19="Član 17. stav 7. Kriterija","",IF(M19>0.4,0,IF(M19>0.3,8,IF(M19>0.2,16,IF(M19>0.1,24,IF(M19<=0.1,30,))))))))) | O19: =IF(D19="","",IF(D19="Nije ocijenjen","",IF(D19="Ocijenjen",IF(E19=0,"",((K19+J19+(L19/2))/(E19)))))) | P19: =IF(D19="","",IF(D19="Nije ocijenjen","",IF(D19="Ocijenjen",IF(O19>0.2,0,IF(O19>0.15,2,IF(O19>0.1,4,IF(O19>0.06,6,IF(O19>0.03,8,IF(O19<=0.03,10,))))))))) | Q19: =IF(D19="","",IF(D19="Nije ocijenjen","",IF(D19="Ocijenjen",IF(M19="Član 17. stav 7. Kriterija",P19,N19+P19))))
A20: 12 | B20: =IF('Tabela I'!B22="","",'Tabela I'!B22) | C20: =IF('Tabela I'!E22="","",'Tabela I'!E22) | F20: =SUM(H20:L20) -> 0 | M20: =IF(D20="","",IF(D20="Nije ocijenjen","",IF(D20="Ocijenjen",IF(F20<10,"Član 17. stav 7. Kriterija",(K20+(L20/2))/(F20))))) | N20: =IF(D20="","",IF(D20="Nije ocijenjen","",IF(D20="Ocijenjen",IF(M20="Član 17. stav 7. Kriterija","",IF(M20>0.4,0,IF(M20>0.3,8,IF(M20>0.2,16,IF(M20>0.1,24,IF(M20<=0.1,30,))))))))) | O20: =IF(D20="","",IF(D20="Nije ocijenjen","",IF(D20="Ocijenjen",IF(E20=0,"",((K20+J20+(L20/2))/(E20)))))) | P20: =IF(D20="","",IF(D20="Nije ocijenjen","",IF(D20="Ocijenjen",IF(O20>0.2,0,IF(O20>0.15,2,IF(O20>0.1,4,IF(O20>0.06,6,IF(O20>0.03,8,IF(O20<=0.03,10,))))))))) | Q20: =IF(D20="","",IF(D20="Nije ocijenjen","",IF(D20="Ocijenjen",IF(M20="Član 17. stav 7. Kriterija",P20,N20+P20))))
A21: 13 | B21: =IF('Tabela I'!B23="","",'Tabela I'!B23) | C21: =IF('Tabela I'!E23="","",'Tabela I'!E23) | F21: =SUM(H21:L21) -> 0 | M21: =IF(D21="","",IF(D21="Nije ocijenjen","",IF(D21="Ocijenjen",IF(F21<10,"Član 17. stav 7. Kriterija",(K21+(L21/2))/(F21))))) | N21: =IF(D21="","",IF(D21="Nije ocijenjen","",IF(D21="Ocijenjen",IF(M21="Član 17. stav 7. Kriterija","",IF(M21>0.4,0,IF(M21>0.3,8,IF(M21>0.2,16,IF(M21>0.1,24,IF(M21<=0.1,30,))))))))) | O21: =IF(D21="","",IF(D21="Nije ocijenjen","",IF(D21="Ocijenjen",IF(E21=0,"",((K21+J21+(L21/2))/(E21)))))) | P21: =IF(D21="","",IF(D21="Nije ocijenjen","",IF(D21="Ocijenjen",IF(O21>0.2,0,IF(O21>0.15,2,IF(O21>0.1,4,IF(O21>0.06,6,IF(O21>0.03,8,IF(O21<=0.03,10,))))))))) | Q21: =IF(D21="","",IF(D21="Nije ocijenjen","",IF(D21="Ocijenjen",IF(M21="Član 17. stav 7. Kriterija",P21,N21+P21))))
A22: 14 | B22: =IF('Tabela I'!B24="","",'Tabela I'!B24) | C22: =IF('Tabela I'!E24="","",'Tabela I'!E24) | F22: =SUM(H22:L22) -> 0 | M22: =IF(D22="","",IF(D22="Nije ocijenjen","",IF(D22="Ocijenjen",IF(F22<10,"Član 17. stav 7. Kriterija",(K22+(L22/2))/(F22))))) | N22: =IF(D22="","",IF(D22="Nije ocijenjen","",IF(D22="Ocijenjen",IF(M22="Član 17. stav 7. Kriterija","",IF(M22>0.4,0,IF(M22>0.3,8,IF(M22>0.2,16,IF(M22>0.1,24,IF(M22<=0.1,30,))))))))) | O22: =IF(D22="","",IF(D22="Nije ocijenjen","",IF(D22="Ocijenjen",IF(E22=0,"",((K22+J22+(L22/2))/(E22)))))) | P22: =IF(D22="","",IF(D22="Nije ocijenjen","",IF(D22="Ocijenjen",IF(O22>0.2,0,IF(O22>0.15,2,IF(O22>0.1,4,IF(O22>0.06,6,IF(O22>0.03,8,IF(O22<=0.03,10,))))))))) | Q22: =IF(D22="","",IF(D22="Nije ocijenjen","",IF(D22="Ocijenjen",IF(M22="Član 17. stav 7. Kriterija",P22,N22+P22))))
A23: 15 | B23: =IF('Tabela I'!B25="","",'Tabela I'!B25) | C23: =IF('Tabela I'!E25="","",'Tabela I'!E25) | F23: =SUM(H23:L23) -> 0 | M23: =IF(D23="","",IF(D23="Nije ocijenjen","",IF(D23="Ocijenjen",IF(F23<10,"Član 17. stav 7. Kriterija",(K23+(L23/2))/(F23))))) | N23: =IF(D23="","",IF(D23="Nije ocijenjen","",IF(D23="Ocijenjen",IF(M23="Član 17. stav 7. Kriterija","",IF(M23>0.4,0,IF(M23>0.3,8,IF(M23>0.2,16,IF(M23>0.1,24,IF(M23<=0.1,30,))))))))) | O23: =IF(D23="","",IF(D23="Nije ocijenjen","",IF(D23="Ocijenjen",IF(E23=0,"",((K23+J23+(L23/2))/(E23)))))) | P23: =IF(D23="","",IF(D23="Nije ocijenjen","",IF(D23="Ocijenjen",IF(O23>0.2,0,IF(O23>0.15,2,IF(O23>0.1,4,IF(O23>0.06,6,IF(O23>0.03,8,IF(O23<=0.03,10,))))))))) | Q23: =IF(D23="","",IF(D23="Nije ocijenjen","",IF(D23="Ocijenjen",IF(M23="Član 17. stav 7. Kriterija",P23,N23+P23))))
A24: 16 | B24: =IF('Tabela I'!B26="","",'Tabela I'!B26) | C24: =IF('Tabela I'!E26="","",'Tabela I'!E26) | F24: =SUM(H24:L24) -> 0 | M24: =IF(D24="","",IF(D24="Nije ocijenjen","",IF(D24="Ocijenjen",IF(F24<10,"Član 17. stav 7. Kriterija",(K24+(L24/2))/(F24))))) | N24: =IF(D24="","",IF(D24="Nije ocijenjen","",IF(D24="Ocijenjen",IF(M24="Član 17. stav 7. Kriterija","",IF(M24>0.4,0,IF(M24>0.3,8,IF(M24>0.2,16,IF(M24>0.1,24,IF(M24<=0.1,30,))))))))) | O24: =IF(D24="","",IF(D24="Nije ocijenjen","",IF(D24="Ocijenjen",IF(E24=0,"",((K24+J24+(L24/2))/(E24)))))) | P24: =IF(D24="","",IF(D24="Nije ocijenjen","",IF(D24="Ocijenjen",IF(O24>0.2,0,IF(O24>0.15,2,IF(O24>0.1,4,IF(O24>0.06,6,IF(O24>0.03,8,IF(O24<=0.03,10,))))))))) | Q24: =IF(D24="","",IF(D24="Nije ocijenjen","",IF(D24="Ocijenjen",IF(M24="Član 17. stav 7. Kriterija",P24,N24+P24))))
A25: 17 | B25: =IF('Tabela I'!B27="","",'Tabela I'!B27) | C25: =IF('Tabela I'!E27="","",'Tabela I'!E27) | F25: =SUM(H25:L25) -> 0 | M25: =IF(D25="","",IF(D25="Nije ocijenjen","",IF(D25="Ocijenjen",IF(F25<10,"Član 17. stav 7. Kriterija",(K25+(L25/2))/(F25))))) | N25: =IF(D25="","",IF(D25="Nije ocijenjen","",IF(D25="Ocijenjen",IF(M25="Član 17. stav 7. Kriterija","",IF(M25>0.4,0,IF(M25>0.3,8,IF(M25>0.2,16,IF(M25>0.1,24,IF(M25<=0.1,30,))))))))) | O25: =IF(D25="","",IF(D25="Nije ocijenjen","",IF(D25="Ocijenjen",IF(E25=0,"",((K25+J25+(L25/2))/(E25)))))) | P25: =IF(D25="","",IF(D25="Nije ocijenjen","",IF(D25="Ocijenjen",IF(O25>0.2,0,IF(O25>0.15,2,IF(O25>0.1,4,IF(O25>0.06,6,IF(O25>0.03,8,IF(O25<=0.03,10,))))))))) | Q25: =IF(D25="","",IF(D25="Nije ocijenjen","",IF(D25="Ocijenjen",IF(M25="Član 17. stav 7. Kriterija",P25,N25+P25))))
A26: 18 | B26: =IF('Tabela I'!B28="","",'Tabela I'!B28) | C26: =IF('Tabela I'!E28="","",'Tabela I'!E28) | F26: =SUM(H26:L26) -> 0 | M26: =IF(D26="","",IF(D26="Nije ocijenjen","",IF(D26="Ocijenjen",IF(F26<10,"Član 17. stav 7. Kriterija",(K26+(L26/2))/(F26))))) | N26: =IF(D26="","",IF(D26="Nije ocijenjen","",IF(D26="Ocijenjen",IF(M26="Član 17. stav 7. Kriterija","",IF(M26>0.4,0,IF(M26>0.3,8,IF(M26>0.2,16,IF(M26>0.1,24,IF(M26<=0.1,30,))))))))) | O26: =IF(D26="","",IF(D26="Nije ocijenjen","",IF(D26="Ocijenjen",IF(E26=0,"",((K26+J26+(L26/2))/(E26)))))) | P26: =IF(D26="","",IF(D26="Nije ocijenjen","",IF(D26="Ocijenjen",IF(O26>0.2,0,IF(O26>0.15,2,IF(O26>0.1,4,IF(O26>0.06,6,IF(O26>0.03,8,IF(O26<=0.03,10,))))))))) | Q26: =IF(D26="","",IF(D26="Nije ocijenjen","",IF(D26="Ocijenjen",IF(M26="Član 17. stav 7. Kriterija",P26,N26+P26))))
A27: 19 | B27: =IF('Tabela I'!B29="","",'Tabela I'!B29) | C27: =IF('Tabela I'!E29="","",'Tabela I'!E29) | F27: =SUM(H27:L27) -> 0 | M27: =IF(D27="","",IF(D27="Nije ocijenjen","",IF(D27="Ocijenjen",IF(F27<10,"Član 17. stav 7. Kriterija",(K27+(L27/2))/(F27))))) | N27: =IF(D27="","",IF(D27="Nije ocijenjen","",IF(D27="Ocijenjen",IF(M27="Član 17. stav 7. Kriterija","",IF(M27>0.4,0,IF(M27>0.3,8,IF(M27>0.2,16,IF(M27>0.1,24,IF(M27<=0.1,30,))))))))) | O27: =IF(D27="","",IF(D27="Nije ocijenjen","",IF(D27="Ocijenjen",IF(E27=0,"",((K27+J27+(L27/2))/(E27)))))) | P27: =IF(D27="","",IF(D27="Nije ocijenjen","",IF(D27="Ocijenjen",IF(O27>0.2,0,IF(O27>0.15,2,IF(O27>0.1,4,IF(O27>0.06,6,IF(O27>0.03,8,IF(O27<=0.03,10,))))))))) | Q27: =IF(D27="","",IF(D27="Nije ocijenjen","",IF(D27="Ocijenjen",IF(M27="Član 17. stav 7. Kriterija",P27,N27+P27))))
A28: 20 | B28: =IF('Tabela I'!B30="","",'Tabela I'!B30) | C28: =IF('Tabela I'!E30="","",'Tabela I'!E30) | F28: =SUM(H28:L28) -> 0 | M28: =IF(D28="","",IF(D28="Nije ocijenjen","",IF(D28="Ocijenjen",IF(F28<10,"Član 17. stav 7. Kriterija",(K28+(L28/2))/(F28))))) | N28: =IF(D28="","",IF(D28="Nije ocijenjen","",IF(D28="Ocijenjen",IF(M28="Član 17. stav 7. Kriterija","",IF(M28>0.4,0,IF(M28>0.3,8,IF(M28>0.2,16,IF(M28>0.1,24,IF(M28<=0.1,30,))))))))) | O28: =IF(D28="","",IF(D28="Nije ocijenjen","",IF(D28="Ocijenjen",IF(E28=0,"",((K28+J28+(L28/2))/(E28)))))) | P28: =IF(D28="","",IF(D28="Nije ocijenjen","",IF(D28="Ocijenjen",IF(O28>0.2,0,IF(O28>0.15,2,IF(O28>0.1,4,IF(O28>0.06,6,IF(O28>0.03,8,IF(O28<=0.03,10,))))))))) | Q28: =IF(D28="","",IF(D28="Nije ocijenjen","",IF(D28="Ocijenjen",IF(M28="Član 17. stav 7. Kriterija",P28,N28+P28))))
A29: 21 | B29: =IF('Tabela I'!B31="","",'Tabela I'!B31) | C29: =IF('Tabela I'!E31="","",'Tabela I'!E31) | F29: =SUM(H29:L29) -> 0 | M29: =IF(D29="","",IF(D29="Nije ocijenjen","",IF(D29="Ocijenjen",IF(F29<10,"Član 17. stav 7. Kriterija",(K29+(L29/2))/(F29))))) | N29: =IF(D29="","",IF(D29="Nije ocijenjen","",IF(D29="Ocijenjen",IF(M29="Član 17. stav 7. Kriterija","",IF(M29>0.4,0,IF(M29>0.3,8,IF(M29>0.2,16,IF(M29>0.1,24,IF(M29<=0.1,30,))))))))) | O29: =IF(D29="","",IF(D29="Nije ocijenjen","",IF(D29="Ocijenjen",IF(E29=0,"",((K29+J29+(L29/2))/(E29)))))) | P29: =IF(D29="","",IF(D29="Nije ocijenjen","",IF(D29="Ocijenjen",IF(O29>0.2,0,IF(O29>0.15,2,IF(O29>0.1,4,IF(O29>0.06,6,IF(O29>0.03,8,IF(O29<=0.03,10,))))))))) | Q29: =IF(D29="","",IF(D29="Nije ocijenjen","",IF(D29="Ocijenjen",IF(M29="Član 17. stav 7. Kriterija",P29,N29+P29))))
... A68: 60 | B68: =IF('Tabela I'!B70="","",'Tabela I'!B70) | C68: =IF('Tabela I'!E70="","",'Tabela I'!E70) | F68: =SUM(H68:L68) -> 0 | M68: =IF(D68="","",IF(D68="Nije ocijenjen","",IF(D68="Ocijenjen",IF(F68<10,"Član 17. stav 7. Kriterija",(K68+(L68/2))/(F68))))) | N68: =IF(D68="","",IF(D68="Nije ocijenjen","",IF(D68="Ocijenjen",IF(M68="Član 17. stav 7. Kriterija","",IF(M68>0.4,0,IF(M68>0.3,8,IF(M68>0.2,16,IF(M68>0.1,24,IF(M68<=0.1,30,))))))))) | O68: =IF(D68="","",IF(D68="Nije ocijenjen","",IF(D68="Ocijenjen",IF(E68=0,"",((K68+J68+(L68/2))/(E68)))))) | P68: =IF(D68="","",IF(D68="Nije ocijenjen","",IF(D68="Ocijenjen",IF(O68>0.2,0,IF(O68>0.15,2,IF(O68>0.1,4,IF(O68>0.06,6,IF(O68>0.03,8,IF(O68<=0.03,10,))))))))) | Q68: =IF(D68="","",IF(D68="Nije ocijenjen","",IF(D68="Ocijenjen",IF(M68="Član 17. stav 7. Kriterija",P68,N68+P68))))
A69: 61 | F69: =SUM(H69:L69) -> 0 | M69: =IF(D69="","",IF(D69="Nije ocijenjen","",IF(D69="Ocijenjen",IF(F69<10,"Član 17. stav 7. Kriterija",(K69+(L69/2))/(F69))))) | N69: =IF(D69="","",IF(D69="Nije ocijenjen","",IF(D69="Ocijenjen",IF(M69="Član 17. stav 7. Kriterija","",IF(M69>0.4,0,IF(M69>0.3,8,IF(M69>0.2,16,IF(M69>0.1,24,IF(M69<=0.1,30,))))))))) | O69: =IF(D69="","",IF(D69="Nije ocijenjen","",IF(D69="Ocijenjen",IF(E69=0,"",((K69+J69+(L69/2))/(E69)))))) | P69: =IF(D69="","",IF(D69="Nije ocijenjen","",IF(D69="Ocijenjen",IF(O69>0.2,0,IF(O69>0.15,2,IF(O69>0.1,4,IF(O69>0.06,6,IF(O69>0.03,8,IF(O69<=0.03,10,))))))))) | Q69: =IF(D69="","",IF(D69="Nije ocijenjen","",IF(D69="Ocijenjen",IF(M69="Član 17. stav 7. Kriterija",P69,N69+P69))))
A70: 62 | F70: =SUM(H70:L70) -> 0 | M70: =IF(D70="","",IF(D70="Nije ocijenjen","",IF(D70="Ocijenjen",IF(F70<10,"Član 17. stav 7. Kriterija",(K70+(L70/2))/(F70))))) | N70: =IF(D70="","",IF(D70="Nije ocijenjen","",IF(D70="Ocijenjen",IF(M70="Član 17. stav 7. Kriterija","",IF(M70>0.4,0,IF(M70>0.3,8,IF(M70>0.2,16,IF(M70>0.1,24,IF(M70<=0.1,30,))))))))) | O70: =IF(D70="","",IF(D70="Nije ocijenjen","",IF(D70="Ocijenjen",IF(E70=0,"",((K70+J70+(L70/2))/(E70)))))) | P70: =IF(D70="","",IF(D70="Nije ocijenjen","",IF(D70="Ocijenjen",IF(O70>0.2,0,IF(O70>0.15,2,IF(O70>0.1,4,IF(O70>0.06,6,IF(O70>0.03,8,IF(O70<=0.03,10,))))))))) | Q70: =IF(D70="","",IF(D70="Nije ocijenjen","",IF(D70="Ocijenjen",IF(M70="Član 17. stav 7. Kriterija",P70,N70+P70))))
A71: 63 | F71: =SUM(H71:L71) -> 0 | M71: =IF(D71="","",IF(D71="Nije ocijenjen","",IF(D71="Ocijenjen",IF(F71<10,"Član 17. stav 7. Kriterija",(K71+(L71/2))/(F71))))) | N71: =IF(D71="","",IF(D71="Nije ocijenjen","",IF(D71="Ocijenjen",IF(M71="Član 17. stav 7. Kriterija","",IF(M71>0.4,0,IF(M71>0.3,8,IF(M71>0.2,16,IF(M71>0.1,24,IF(M71<=0.1,30,))))))))) | O71: =IF(D71="","",IF(D71="Nije ocijenjen","",IF(D71="Ocijenjen",IF(E71=0,"",((K71+J71+(L71/2))/(E71)))))) | P71: =IF(D71="","",IF(D71="Nije ocijenjen","",IF(D71="Ocijenjen",IF(O71>0.2,0,IF(O71>0.15,2,IF(O71>0.1,4,IF(O71>0.06,6,IF(O71>0.03,8,IF(O71<=0.03,10,))))))))) | Q71: =IF(D71="","",IF(D71="Nije ocijenjen","",IF(D71="Ocijenjen",IF(M71="Član 17. stav 7. Kriterija",P71,N71+P71))))
A72: 64 | F72: =SUM(H72:L72) -> 0 | M72: =IF(D72="","",IF(D72="Nije ocijenjen","",IF(D72="Ocijenjen",IF(F72<10,"Član 17. stav 7. Kriterija",(K72+(L72/2))/(F72))))) | N72: =IF(D72="","",IF(D72="Nije ocijenjen","",IF(D72="Ocijenjen",IF(M72="Član 17. stav 7. Kriterija","",IF(M72>0.4,0,IF(M72>0.3,8,IF(M72>0.2,16,IF(M72>0.1,24,IF(M72<=0.1,30,))))))))) | O72: =IF(D72="","",IF(D72="Nije ocijenjen","",IF(D72="Ocijenjen",IF(E72=0,"",((K72+J72+(L72/2))/(E72)))))) | P72: =IF(D72="","",IF(D72="Nije ocijenjen","",IF(D72="Ocijenjen",IF(O72>0.2,0,IF(O72>0.15,2,IF(O72>0.1,4,IF(O72>0.06,6,IF(O72>0.03,8,IF(O72<=0.03,10,))))))))) | Q72: =IF(D72="","",IF(D72="Nije ocijenjen","",IF(D72="Ocijenjen",IF(M72="Član 17. stav 7. Kriterija",P72,N72+P72))))
A73: 65 | F73: =SUM(H73:L73) -> 0 | M73: =IF(D73="","",IF(D73="Nije ocijenjen","",IF(D73="Ocijenjen",IF(F73<10,"Član 17. stav 7. Kriterija",(K73+(L73/2))/(F73))))) | N73: =IF(D73="","",IF(D73="Nije ocijenjen","",IF(D73="Ocijenjen",IF(M73="Član 17. stav 7. Kriterija","",IF(M73>0.4,0,IF(M73>0.3,8,IF(M73>0.2,16,IF(M73>0.1,24,IF(M73<=0.1,30,))))))))) | O73: =IF(D73="","",IF(D73="Nije ocijenjen","",IF(D73="Ocijenjen",IF(E73=0,"",((K73+J73+(L73/2))/(E73)))))) | P73: =IF(D73="","",IF(D73="Nije ocijenjen","",IF(D73="Ocijenjen",IF(O73>0.2,0,IF(O73>0.15,2,IF(O73>0.1,4,IF(O73>0.06,6,IF(O73>0.03,8,IF(O73<=0.03,10,))))))))) | Q73: =IF(D73="","",IF(D73="Nije ocijenjen","",IF(D73="Ocijenjen",IF(M73="Član 17. stav 7. Kriterija",P73,N73+P73))))
A75: KVALITET SUDSKIH ODLUKA SUDA** | E75: =SUM(E9:E73) -> 0 | F75: =SUM(F9:F73) -> 0 | G75: =SUM(G9:G73) -> 0 | H75: =SUM(H9:H73) -> 0 | I75: =SUM(I9:I73) -> 0 | J75: =SUM(J9:J73) -> 0 | K75: =SUM(K9:K73) -> 0 | L75: =SUM(L9:L73) -> 0 | M75: =IF(F75=0,"",0.83*((F75-K75-(L75/2))/F75)+0.17*((E75-J75-K75-(L75/2))/E75))
A79: Tabela IId - Obračun individualnog kvaliteta odluka za proces ocjenjivanja nosilaca pravosudnih funkcija koji su u periodu ocjenjivanja radili u dva suda (pogledati NAPOMENU 2)
A81: Upisati naziv Suda 1
A82: 1 | B82: Ime i prezime | C82: Predsjednik suda | F82: =SUM(H82:L82) -> 0
A83: Upisati naziv Suda 2
A84: =+A82 -> 1 | B84: =+B82 -> Ime i prezime | F84: =SUM(H84:L84) -> 0
A85: Individualni kvalitet NPF-a koji je radio u dva suda u toku perioda izvještavanja
A86: =+A82 -> 1 | B86: =+B82 -> Ime i prezime | C86: Predsjednik suda | E86: =+E82+E84 -> 0 | F86: =SUM(H86:L86) -> 0 | G86: =+G82+G84 -> 0 | H86: =+H82+H84 -> 0 | I86: =+I82+I84 -> 0 | J86: =+J82+J84 -> 0 | K86: =+K82+K84 -> 0 | L86: =+L82+L84 -> 0 | M86: =IF(D86="","",IF(D86="Nije ocijenjen ili Ne treba raditi na predmetima","",IF(D86="Ocijenjen",IF(F86<10,"Član 20. stav 7. Kriterija",(K86+(L86/2))/(F86))))) | N86: =IF(D86="","",IF(D86="Nije ocijenjen ili Ne treba raditi na predmetima","",IF(D86="Ocijenjen",IF(M86="Član 20. stav 7. Kriterija","",IF(M86>0.4,0,IF(M86>0.3,4,IF(M86>0.2,8,IF(M86>0.1,12,IF(M86<=0.1,15,))))))))) | O86: =IF(D86="","",IF(D86="Nije ocijenjen ili Ne treba raditi na predmetima","",IF(D86="Ocijenjen",IF(E86=0,"",((K86+J86+(L86/2))/(E86)))))) | P86: =IF(D86="","",IF(D86="Nije ocijenjen ili Ne treba raditi na predmetima","",IF(D86="Ocijenjen",IF(O86>0.2,0,IF(O86>0.15,1,IF(O86>0.1,2,IF(O86>0.06,3,IF(O86>0.03,4,IF(O86<=0.03,5,))))))))) | Q86: =IF(D86="","",IF(D86="Nije ocijenjen ili Ne treba raditi na predmetima","",IF(D86="Ocijenjen",IF(M86="Član 20. stav 7. Kriterija",P86,N86+P86))))
A88: Upisati naziv Suda 1
A89: 2 | B89: Ime i prezime | F89: =SUM(H89:L89) -> 0
A90: Upisati naziv Suda 2
A91: =+A89 -> 2 | B91: =+B89 -> Ime i prezime | F91: =SUM(H91:L91) -> 0
A92: Individualni kvalitet NPF-a koji je radio u dva suda u toku perioda izvještavanja
A93: =+A89 -> 2 | B93: =+B89 -> Ime i prezime | E93: =+E89+E91 -> 0 | F93: =SUM(H93:L93) -> 0 | G93: =+G89+G91 -> 0 | H93: =+H89+H91 -> 0 | I93: =+I89+I91 -> 0 | J93: =+J89+J91 -> 0 | K93: =+K89+K91 -> 0 | L93: =+L89+L91 -> 0 | M93: =IF(D93="","",IF(D93="Nije ocijenjen","",IF(D93="Ocijenjen",IF(F93<10,"Član 17. stav 7. Kriterija",(K93+(L93/2))/(F93))))) | N93: =IF(D93="","",IF(D93="Nije ocijenjen","",IF(D93="Ocijenjen",IF(M93="Član 17. stav 7. Kriterija","",IF(M93>0.4,0,IF(M93>0.3,8,IF(M93>0.2,16,IF(M93>0.1,24,IF(M93<=0.1,30,))))))))) | O93: =IF(D93="","",IF(D93="Nije ocijenjen","",IF(D93="Ocijenjen",IF(E93=0,"",((K93+J93+(L93/2))/(E93)))))) | P93: =IF(D93="","",IF(D93="Nije ocijenjen","",IF(D93="Ocijenjen",IF(O93>0.2,0,IF(O93>0.15,2,IF(O93>0.1,4,IF(O93>0.06,6,IF(O93>0.03,8,IF(O93<=0.03,10,))))))))) | Q93: =IF(D93="","",IF(D93="Nije ocijenjen","",IF(D93="Ocijenjen",IF(M93="Član 17. stav 7. Kriterija",P93,N93+P93))))
A95: Upisati naziv Suda 1
A96: 3 | B96: Ime i prezime | F96: =SUM(H96:L96) -> 0
A97: Upisati naziv Suda 2
A98: =+A96 -> 3 | B98: =+B96 -> Ime i prezime | F98: =SUM(H98:L98) -> 0
A99: Individualni kvalitet NPF-a koji je radio u dva suda u toku perioda izvještavanja
A100: =+A96 -> 3 | B100: =+B96 -> Ime i prezime | E100: =+E96+E98 -> 0 | F100: =SUM(H100:L100) -> 0 | G100: =+G96+G98 -> 0 | H100: =+H96+H98 -> 0 | I100: =+I96+I98 -> 0 | J100: =+J96+J98 -> 0 | K100: =+K96+K98 -> 0 | L100: =+L96+L98 -> 0 | M100: =IF(D100="","",IF(D100="Nije ocijenjen","",IF(D100="Ocijenjen",IF(F100<10,"Član 17. stav 7. Kriterija",(K100+(L100/2))/(F100))))) | N100: =IF(D100="","",IF(D100="Nije ocijenjen","",IF(D100="Ocijenjen",IF(M100="Član 17. stav 7. Kriterija","",IF(M100>0.4,0,IF(M100>0.3,8,IF(M100>0.2,16,IF(M100>0.1,24,IF(M100<=0.1,30,))))))))) | O100: =IF(D100="","",IF(D100="Nije ocijenjen","",IF(D100="Ocijenjen",IF(E100=0,"",((K100+J100+(L100/2))/(E100)))))) | P100: =IF(D100="","",IF(D100="Nije ocijenjen","",IF(D100="Ocijenjen",IF(O100>0.2,0,IF(O100>0.15,2,IF(O100>0.1,4,IF(O100>0.06,6,IF(O100>0.03,8,IF(O100<=0.03,10,))))))))) | Q100: =IF(D100="","",IF(D100="Nije ocijenjen","",IF(D100="Ocijenjen",IF(M100="Član 17. stav 7. Kriterija",P100,N100+P100))))
A102: Upisati naziv Suda 1
A103: 4 | B103: Ime i prezime | F103: =SUM(H103:L103) -> 0
A104: Upisati naziv Suda 2
A105: =+A103 -> 4 | B105: =+B103 -> Ime i prezime | F105: =SUM(H105:L105) -> 0
A106: Individualni kvalitet NPF-a koji je radio u dva suda u toku perioda izvještavanja
A107: =+A103 -> 4 | B107: =+B103 -> Ime i prezime | E107: =+E103+E105 -> 0 | F107: =SUM(H107:L107) -> 0 | G107: =+G103+G105 -> 0 | H107: =+H103+H105 -> 0 | I107: =+I103+I105 -> 0 | J107: =+J103+J105 -> 0 | K107: =+K103+K105 -> 0 | L107: =+L103+L105 -> 0 | M107: =IF(D107="","",IF(D107="Nije ocijenjen","",IF(D107="Ocijenjen",IF(F107<10,"Član 17. stav 7. Kriterija",(K107+(L107/2))/(F107))))) | N107: =IF(D107="","",IF(D107="Nije ocijenjen","",IF(D107="Ocijenjen",IF(M107="Član 17. stav 7. Kriterija","",IF(M107>0.4,0,IF(M107>0.3,8,IF(M107>0.2,16,IF(M107>0.1,24,IF(M107<=0.1,30,))))))))) | O107: =IF(D107="","",IF(D107="Nije ocijenjen","",IF(D107="Ocijenjen",IF(E107=0,"",((K107+J107+(L107/2))/(E107)))))) | P107: =IF(D107="","",IF(D107="Nije ocijenjen","",IF(D107="Ocijenjen",IF(O107>0.2,0,IF(O107>0.15,2,IF(O107>0.1,4,IF(O107>0.06,6,IF(O107>0.03,8,IF(O107<=0.03,10,))))))))) | Q107: =IF(D107="","",IF(D107="Nije ocijenjen","",IF(D107="Ocijenjen",IF(M107="Član 17. stav 7. Kriterija",P107,N107+P107))))
A109: Upisati naziv Suda 1
A110: 5 | B110: Ime i prezime | F110: =SUM(H110:L110) -> 0
A111: Upisati naziv Suda 2
A112: =+A110 -> 5 | B112: =+B110 -> Ime i prezime | F112: =SUM(H112:L112) -> 0
A113: Individualni kvalitet NPF-a koji je radio u dva suda u toku perioda izvještavanja
A114: =+A110 -> 5 | B114: =+B110 -> Ime i prezime | E114: =+E110+E112 -> 0 | F114: =SUM(H114:L114) -> 0 | G114: =+G110+G112 -> 0 | H114: =+H110+H112 -> 0 | I114: =+I110+I112 -> 0 | J114: =+J110+J112 -> 0 | K114: =+K110+K112 -> 0 | L114: =+L110+L112 -> 0 | M114: =IF(D114="","",IF(D114="Nije ocijenjen","",IF(D114="Ocijenjen",IF(F114<10,"Član 17. stav 7. Kriterija",(K114+(L114/2))/(F114))))) | N114: =IF(D114="","",IF(D114="Nije ocijenjen","",IF(D114="Ocijenjen",IF(M114="Član 17. stav 7. Kriterija","",IF(M114>0.4,0,IF(M114>0.3,8,IF(M114>0.2,16,IF(M114>0.1,24,IF(M114<=0.1,30,))))))))) | O114: =IF(D114="","",IF(D114="Nije ocijenjen","",IF(D114="Ocijenjen",IF(E114=0,"",((K114+J114+(L114/2))/(E114)))))) | P114: =IF(D114="","",IF(D114="Nije ocijenjen","",IF(D114="Ocijenjen",IF(O114>0.2,0,IF(O114>0.15,2,IF(O114>0.1,4,IF(O114>0.06,6,IF(O114>0.03,8,IF(O114<=0.03,10,))))))))) | Q114: =IF(D114="","",IF(D114="Nije ocijenjen","",IF(D114="Ocijenjen",IF(M114="Član 17. stav 7. Kriterija",P114,N114+P114))))
A116: Upisati naziv Suda 1
A117: 6 | B117: Ime i prezime | F117: =SUM(H117:L117) -> 0
A118: Upisati naziv Suda 2
A119: =+A117 -> 6 | B119: =+B117 -> Ime i prezime | F119: =SUM(H119:L119) -> 0
A120: Individualni kvalitet NPF-a koji je radio u dva suda u toku perioda izvještavanja
A121: =+A117 -> 6 | B121: =+B117 -> Ime i prezime | E121: =+E117+E119 -> 0 | F121: =SUM(H121:L121) -> 0 | G121: =+G117+G119 -> 0 | H121: =+H117+H119 -> 0 | I121: =+I117+I119 -> 0 | J121: =+J117+J119 -> 0 | K121: =+K117+K119 -> 0 | L121: =+L117+L119 -> 0 | M121: =IF(D121="","",IF(D121="Nije ocijenjen","",IF(D121="Ocijenjen",IF(F121<10,"Član 17. stav 7. Kriterija",(K121+(L121/2))/(F121))))) | N121: =IF(D121="","",IF(D121="Nije ocijenjen","",IF(D121="Ocijenjen",IF(M121="Član 17. stav 7. Kriterija","",IF(M121>0.4,0,IF(M121>0.3,8,IF(M121>0.2,16,IF(M121>0.1,24,IF(M121<=0.1,30,))))))))) | O121: =IF(D121="","",IF(D121="Nije ocijenjen","",IF(D121="Ocijenjen",IF(E121=0,"",((K121+J121+(L121/2))/(E121)))))) | P121: =IF(D121="","",IF(D121="Nije ocijenjen","",IF(D121="Ocijenjen",IF(O121>0.2,0,IF(O121>0.15,2,IF(O121>0.1,4,IF(O121>0.06,6,IF(O121>0.03,8,IF(O121<=0.03,10,))))))))) | Q121: =IF(D121="","",IF(D121="Nije ocijenjen","",IF(D121="Ocijenjen",IF(M121="Član 17. stav 7. Kriterija",P121,N121+P121))))
A123: Upisati naziv Suda 1
A124: 7 | B124: Ime i prezime | F124: =SUM(H124:L124) -> 0
A125: Upisati naziv Suda 2
A126: =+A124 -> 7 | B126: =+B124 -> Ime i prezime | F126: =SUM(H126:L126) -> 0
A127: Individualni kvalitet NPF-a koji je radio u dva suda u toku perioda izvještavanja
A128: =+A124 -> 7 | B128: =+B124 -> Ime i prezime | E128: =+E124+E126 -> 0 | F128: =SUM(H128:L128) -> 0 | G128: =+G124+G126 -> 0 | H128: =+H124+H126 -> 0 | I128: =+I124+I126 -> 0 | J128: =+J124+J126 -> 0 | K128: =+K124+K126 -> 0 | L128: =+L124+L126 -> 0 | M128: =IF(D128="","",IF(D128="Nije ocijenjen","",IF(D128="Ocijenjen",IF(F128<10,"Član 17. stav 7. Kriterija",(K128+(L128/2))/(F128))))) | N128: =IF(D128="","",IF(D128="Nije ocijenjen","",IF(D128="Ocijenjen",IF(M128="Član 17. stav 7. Kriterija","",IF(M128>0.4,0,IF(M128>0.3,8,IF(M128>0.2,16,IF(M128>0.1,24,IF(M128<=0.1,30,))))))))) | O128: =IF(D128="","",IF(D128="Nije ocijenjen","",IF(D128="Ocijenjen",IF(E128=0,"",((K128+J128+(L128/2))/(E128)))))) | P128: =IF(D128="","",IF(D128="Nije ocijenjen","",IF(D128="Ocijenjen",IF(O128>0.2,0,IF(O128>0.15,2,IF(O128>0.1,4,IF(O128>0.06,6,IF(O128>0.03,8,IF(O128<=0.03,10,))))))))) | Q128: =IF(D128="","",IF(D128="Nije ocijenjen","",IF(D128="Ocijenjen",IF(M128="Član 17. stav 7. Kriterija",P128,N128+P128))))
A130: Upisati naziv Suda 1
A131: 8 | B131: Ime i prezime | F131: =SUM(H131:L131) -> 0
A132: Upisati naziv Suda 2
A133: =+A131 -> 8 | B133: =+B131 -> Ime i prezime | F133: =SUM(H133:L133) -> 0
A134: Individualni kvalitet NPF-a koji je radio u dva suda u toku perioda izvještavanja
A135: =+A131 -> 8 | B135: =+B131 -> Ime i prezime | E135: =+E131+E133 -> 0 | F135: =SUM(H135:L135) -> 0 | G135: =+G131+G133 -> 0 | H135: =+H131+H133 -> 0 | I135: =+I131+I133 -> 0 | J135: =+J131+J133 -> 0 | K135: =+K131+K133 -> 0 | L135: =+L131+L133 -> 0 | M135: =IF(D135="","",IF(D135="Nije ocijenjen","",IF(D135="Ocijenjen",IF(F135<10,"Član 17. stav 7. Kriterija",(K135+(L135/2))/(F135))))) | N135: =IF(D135="","",IF(D135="Nije ocijenjen","",IF(D135="Ocijenjen",IF(M135="Član 17. stav 7. Kriterija","",IF(M135>0.4,0,IF(M135>0.3,8,IF(M135>0.2,16,IF(M135>0.1,24,IF(M135<=0.1,30,))))))))) | O135: =IF(D135="","",IF(D135="Nije ocijenjen","",IF(D135="Ocijenjen",IF(E135=0,"",((K135+J135+(L135/2))/(E135)))))) | P135: =IF(D135="","",IF(D135="Nije ocijenjen","",IF(D135="Ocijenjen",IF(O135>0.2,0,IF(O135>0.15,2,IF(O135>0.1,4,IF(O135>0.06,6,IF(O135>0.03,8,IF(O135<=0.03,10,))))))))) | Q135: =IF(D135="","",IF(D135="Nije ocijenjen","",IF(D135="Ocijenjen",IF(M135="Član 17. stav 7. Kriterija",P135,N135+P135))))
A137: Upisati naziv Suda 1
A138: 9 | B138: Ime i prezime | F138: =SUM(H138:L138) -> 0
A139: Upisati naziv Suda 2
A140: =+A138 -> 9 | B140: =+B138 -> Ime i prezime | F140: =SUM(H140:L140) -> 0
A141: Individualni kvalitet NPF-a koji je radio u dva suda u toku perioda izvještavanja
A142: =+A138 -> 9 | B142: =+B138 -> Ime i prezime | E142: =+E138+E140 -> 0 | F142: =SUM(H142:L142) -> 0 | G142: =+G138+G140 -> 0 | H142: =+H138+H140 -> 0 | I142: =+I138+I140 -> 0 | J142: =+J138+J140 -> 0 | K142: =+K138+K140 -> 0 | L142: =+L138+L140 -> 0 | M142: =IF(D142="","",IF(D142="Nije ocijenjen","",IF(D142="Ocijenjen",IF(F142<10,"Član 17. stav 7. Kriterija",(K142+(L142/2))/(F142))))) | N142: =IF(D142="","",IF(D142="Nije ocijenjen","",IF(D142="Ocijenjen",IF(M142="Član 17. stav 7. Kriterija","",IF(M142>0.4,0,IF(M142>0.3,8,IF(M142>0.2,16,IF(M142>0.1,24,IF(M142<=0.1,30,))))))))) | O142: =IF(D142="","",IF(D142="Nije ocijenjen","",IF(D142="Ocijenjen",IF(E142=0,"",((K142+J142+(L142/2))/(E142)))))) | P142: =IF(D142="","",IF(D142="Nije ocijenjen","",IF(D142="Ocijenjen",IF(O142>0.2,0,IF(O142>0.15,2,IF(O142>0.1,4,IF(O142>0.06,6,IF(O142>0.03,8,IF(O142<=0.03,10,))))))))) | Q142: =IF(D142="","",IF(D142="Nije ocijenjen","",IF(D142="Ocijenjen",IF(M142="Član 17. stav 7. Kriterija",P142,N142+P142))))
A144: Upisati naziv Suda 1
A145: 10 | B145: Ime i prezime | F145: =SUM(H145:L145) -> 0
A146: Upisati naziv Suda 2
A147: =+A145 -> 10 | B147: =+B145 -> Ime i prezime | F147: =SUM(H147:L147) -> 0
A148: Individualni kvalitet NPF-a koji je radio u dva suda u toku perioda izvještavanja
A149: =+A145 -> 10 | B149: =+B145 -> Ime i prezime | E149: =+E145+E147 -> 0 | F149: =SUM(H149:L149) -> 0 | G149: =+G145+G147 -> 0 | H149: =+H145+H147 -> 0 | I149: =+I145+I147 -> 0 | J149: =+J145+J147 -> 0 | K149: =+K145+K147 -> 0 | L149: =+L145+L147 -> 0 | M149: =IF(D149="","",IF(D149="Nije ocijenjen","",IF(D149="Ocijenjen",IF(F149<10,"Član 17. stav 7. Kriterija",(K149+(L149/2))/(F149))))) | N149: =IF(D149="","",IF(D149="Nije ocijenjen","",IF(D149="Ocijenjen",IF(M149="Član 17. stav 7. Kriterija","",IF(M149>0.4,0,IF(M149>0.3,8,IF(M149>0.2,16,IF(M149>0.1,24,IF(M149<=0.1,30,))))))))) | O149: =IF(D149="","",IF(D149="Nije ocijenjen","",IF(D149="Ocijenjen",IF(E149=0,"",((K149+J149+(L149/2))/(E149)))))) | P149: =IF(D149="","",IF(D149="Nije ocijenjen","",IF(D149="Ocijenjen",IF(O149>0.2,0,IF(O149>0.15,2,IF(O149>0.1,4,IF(O149>0.06,6,IF(O149>0.03,8,IF(O149<=0.03,10,))))))))) | Q149: =IF(D149="","",IF(D149="Nije ocijenjen","",IF(D149="Ocijenjen",IF(M149="Član 17. stav 7. Kriterija",P149,N149+P149))))
A152: * Ukoliko predsjednik suda nije obavezan neposredno raditi na predmetima, u skladu sa članom 14. Pravilnika o orijentacionim mjerilima za rad sudija i stručnih saradnika u sudovima u BiH, podaci za predsjednika suda se unose u tabelu radi obračuna kolektivnog kvaliteta odluka suda.
A154: ** Kvalitet rada sudskih odluka se automatski obračunava u skladu sa članom 17. Kriterija za ocjenjivanje rada sudija u Bosni i Hercegovini. Slijedi tekst za pojašnjenje formule za obračun kvaliteta sudskih odluka: (75% * (Ukupan broj ožalbenih odluka - Broj ukinutih odluka - Broj djelimično ukinutih odluka/2) / Ukupan broj ožalbenih odluka) + (25% * (Broj donesenih odluka na koje se može izjaviti pravni lijek - Broj preinačenih odluka donijetih nakon održane glavne raspave ili pretresa pred drugostepenim sudom - Broj ukinutih odluka - Broj djelimično ukinutih odluka/2) / Broj donesenih odluka na koje se može izjaviti pravni lijek).
A158: *** Statistički podaci o broju odbačenih pravnih lijekova prikupljaju se isključivo u svrhu statističkog izvještavanja o radu sudova.
A159: NAPOMENA 1: Kvalitet odluka predsjednika suda i sudija u Tabeli IIc i IId automatski se obračunava u skladu sa odredbama člana 17. Kriterija za ocjenjivanje rada sudija u Bosni i Hercegovini i člana 20. Kriterija za ocjenjivanje rada predsjednika sudova u Bosni i Hercegovini.
A161: NAPOMENA 2: U Tabelu IIc se unose podaci o kvalitetu odluka za sve nosioce pravosudne funkcije koji su u toku godine obavljali funkciju u sudu (sudije Krivičnog, Upravnog i Apelacionog odjela Suda BiH). Za sudije Apelacionog odjela Suda BiH u koloni IV Tabele IIc potrebno je izabrati opciju ,,Ne''. Ukoliko je nosilac pravosudne funkcije u toku godine prvi put imenovan u sud, ili je obavljao funkciju u dva suda (bez obzira na nivo suda), ili je napustio pravosuđe u Tabelu IIc se unose podaci koje je nosilac pravosudne funkcije ostvario u sudu koji popunjava Tabelu IIc. Tabelu IId popunjava sud koje provodi postupak ocjenjivanja rezultata rada nosioca pravosudne funkcije koji je tokom godine obavljao funkciju u dva suda (bez obzira na nivo suda). Podaci o ostvarenom individualnom kvalitetu odluka nosilaca pravosudne funkcije se unose pojedinačno za svaki sud u kojem je nosilac pravosudne funkcije obavljao funkciju. U obrazac za ocjenjivanje rada unosi se podatak o procentu ostvarenog kvaliteta odluka i broju ostvarenih bodova iz Tabele IId.
...

Sheet tblIId
A1: Sud | B1: Godina | C1: ImePrezime | D1: Funkcija | E1: Ocij/NijeOcij | F1: UkBrDonOdlnsmiPrLijek | G1: UkBrOzOdl | H1: BrOdbPravLijekova | I1: BrPotOdl | J1: BrPreinOdl | K1: BrPreOdlNakOdGlRas/PretPredDrugSud | L1: BrUkOdl | M1: BrDjelUkOdl | N1: KvaSudOdlČl16/1/a | O1: BrOstBodZaKvalČl16/1/a | P1: KvalSudOdlČl16/1/b | Q1: BrOstBodZaKvalČl16/1/b | R1: UkBrOstBodZaKval
A2: =+'Tabela I'!$J$2 -> 114 | B2: =+'Tabela I'!$J$1 -> 2024 | C2: =+'Tabela IIc'!B9 | D2: Predsjednik suda * | E2: =+'Tabela IIc'!D9 -> 0 | F2: =+'Tabela IIc'!E9 -> 0 | G2: =+'Tabela IIc'!F9 -> 0 | H2: =+'Tabela IIc'!G9 -> 0 | I2: =+'Tabela IIc'!H9 -> 0 | J2: =+'Tabela IIc'!I9 -> 0 | K2: =+'Tabela IIc'!J9 -> 0 | L2: =+'Tabela IIc'!K9 -> 0 | ... R2: =+'Tabela IIc'!Q9 | U2: Ocijenjen
A3: =+'Tabela I'!$J$2 -> 114 | B3: =+'Tabela I'!$J$1 -> 2024 | C3: =+'Tabela IIc'!B10 | D3: =+'Tabela IIc'!C10 | E3: =+'Tabela IIc'!D10 -> 0 | F3: =+'Tabela IIc'!E10 -> 0 | G3: =+'Tabela IIc'!F10 -> 0 | H3: =+'Tabela IIc'!G10 -> 0 | I3: =+'Tabela IIc'!H10 -> 0 | J3: =+'Tabela IIc'!I10 -> 0 | ... R3: =+'Tabela IIc'!Q10 | S3: Sudija | U3: Nije ocijenjen
A4: =+'Tabela I'!$J$2 -> 114 | B4: =+'Tabela I'!$J$1 -> 2024 | C4: =+'Tabela IIc'!B11 | D4: =+'Tabela IIc'!C11 | E4: =+'Tabela IIc'!D11 -> 0 | F4: =+'Tabela IIc'!E11 -> 0 | G4: =+'Tabela IIc'!F11 -> 0 | H4: =+'Tabela IIc'!G11 -> 0 | I4: =+'Tabela IIc'!H11 -> 0 | J4: =+'Tabela IIc'!I11 -> 0 | ... R4: =+'Tabela IIc'!Q11 | S4: Stručni saradnik
A5: =+'Tabela I'!$J$2 -> 114 | B5: =+'Tabela I'!$J$1 -> 2024 | C5: =+'Tabela IIc'!B12 | D5: =+'Tabela IIc'!C12 | E5: =+'Tabela IIc'!D12 -> 0 | F5: =+'Tabela IIc'!E12 -> 0 | G5: =+'Tabela IIc'!F12 -> 0 | H5: =+'Tabela IIc'!G12 -> 0 | I5: =+'Tabela IIc'!H12 -> 0 | J5: =+'Tabela IIc'!I12 -> 0 | ... R5: =+'Tabela IIc'!Q12
A6: =+'Tabela I'!$J$2 -> 114 | B6: =+'Tabela I'!$J$1 -> 2024 | C6: =+'Tabela IIc'!B13 | D6: =+'Tabela IIc'!C13 | E6: =+'Tabela IIc'!D13 -> 0 | F6: =+'Tabela IIc'!E13 -> 0 | G6: =+'Tabela IIc'!F13 -> 0 | H6: =+'Tabela IIc'!G13 -> 0 | I6: =+'Tabela IIc'!H13 -> 0 | J6: =+'Tabela IIc'!I13 -> 0 | ... R6: =+'Tabela IIc'!Q13
A7: =+'Tabela I'!$J$2 -> 114 | B7: =+'Tabela I'!$J$1 -> 2024 | C7: =+'Tabela IIc'!B14 | D7: =+'Tabela IIc'!C14 | E7: =+'Tabela IIc'!D14 -> 0 | F7: =+'Tabela IIc'!E14 -> 0 | G7: =+'Tabela IIc'!F14 -> 0 | H7: =+'Tabela IIc'!G14 -> 0 | I7: =+'Tabela IIc'!H14 -> 0 | J7: =+'Tabela IIc'!I14 -> 0 | ... R7: =+'Tabela IIc'!Q14
A8: =+'Tabela I'!$J$2 -> 114 | B8: =+'Tabela I'!$J$1 -> 2024 | C8: =+'Tabela IIc'!B15 | D8: =+'Tabela IIc'!C15 | E8: =+'Tabela IIc'!D15 -> 0 | F8: =+'Tabela IIc'!E15 -> 0 | G8: =+'Tabela IIc'!F15 -> 0 | H8: =+'Tabela IIc'!G15 -> 0 | I8: =+'Tabela IIc'!H15 -> 0 | J8: =+'Tabela IIc'!I15 -> 0 | ... R8: =+'Tabela IIc'!Q15
A9: =+'Tabela I'!$J$2 -> 114 | B9: =+'Tabela I'!$J$1 -> 2024 | C9: =+'Tabela IIc'!B16 | D9: =+'Tabela IIc'!C16 | E9: =+'Tabela IIc'!D16 -> 0 | F9: =+'Tabela IIc'!E16 -> 0 | G9: =+'Tabela IIc'!F16 -> 0 | H9: =+'Tabela IIc'!G16 -> 0 | I9: =+'Tabela IIc'!H16 -> 0 | J9: =+'Tabela IIc'!I16 -> 0 | ... R9: =+'Tabela IIc'!Q16
A10: =+'Tabela I'!$J$2 -> 114 | B10: =+'Tabela I'!$J$1 -> 2024 | C10: =+'Tabela IIc'!B17 | D10: =+'Tabela IIc'!C17 | E10: =+'Tabela IIc'!D17 -> 0 | F10: =+'Tabela IIc'!E17 -> 0 | G10: =+'Tabela IIc'!F17 -> 0 | H10: =+'Tabela IIc'!G17 -> 0 | I10: =+'Tabela IIc'!H17 -> 0 | J10: =+'Tabela IIc'!I17 -> 0 | ... R10: =+'Tabela IIc'!Q17
A11: =+'Tabela I'!$J$2 -> 114 | B11: =+'Tabela I'!$J$1 -> 2024 | C11: =+'Tabela IIc'!B18 | D11: =+'Tabela IIc'!C18 | E11: =+'Tabela IIc'!D18 -> 0 | F11: =+'Tabela IIc'!E18 -> 0 | G11: =+'Tabela IIc'!F18 -> 0 | H11: =+'Tabela IIc'!G18 -> 0 | I11: =+'Tabela IIc'!H18 -> 0 | J11: =+'Tabela IIc'!I18 -> 0 | ... R11: =+'Tabela IIc'!Q18
A12: =+'Tabela I'!$J$2 -> 114 | B12: =+'Tabela I'!$J$1 -> 2024 | C12: =+'Tabela IIc'!B19 | D12: =+'Tabela IIc'!C19 | E12: =+'Tabela IIc'!D19 -> 0 | F12: =+'Tabela IIc'!E19 -> 0 | G12: =+'Tabela IIc'!F19 -> 0 | H12: =+'Tabela IIc'!G19 -> 0 | I12: =+'Tabela IIc'!H19 -> 0 | J12: =+'Tabela IIc'!I19 -> 0 | ... R12: =+'Tabela IIc'!Q19
A13: =+'Tabela I'!$J$2 -> 114 | B13: =+'Tabela I'!$J$1 -> 2024 | C13: =+'Tabela IIc'!B20 | D13: =+'Tabela IIc'!C20 | E13: =+'Tabela IIc'!D20 -> 0 | F13: =+'Tabela IIc'!E20 -> 0 | G13: =+'Tabela IIc'!F20 -> 0 | H13: =+'Tabela IIc'!G20 -> 0 | I13: =+'Tabela IIc'!H20 -> 0 | J13: =+'Tabela IIc'!I20 -> 0 | ... R13: =+'Tabela IIc'!Q20
A14: =+'Tabela I'!$J$2 -> 114 | B14: =+'Tabela I'!$J$1 -> 2024 | C14: =+'Tabela IIc'!B21 | D14: =+'Tabela IIc'!C21 | E14: =+'Tabela IIc'!D21 -> 0 | F14: =+'Tabela IIc'!E21 -> 0 | G14: =+'Tabela IIc'!F21 -> 0 | H14: =+'Tabela IIc'!G21 -> 0 | I14: =+'Tabela IIc'!H21 -> 0 | J14: =+'Tabela IIc'!I21 -> 0 | ... R14: =+'Tabela IIc'!Q21
A15: =+'Tabela I'!$J$2 -> 114 | B15: =+'Tabela I'!$J$1 -> 2024 | C15: =+'Tabela IIc'!B22 | D15: =+'Tabela IIc'!C22 | E15: =+'Tabela IIc'!D22 -> 0 | F15: =+'Tabela IIc'!E22 -> 0 | G15: =+'Tabela IIc'!F22 -> 0 | H15: =+'Tabela IIc'!G22 -> 0 | I15: =+'Tabela IIc'!H22 -> 0 | J15: =+'Tabela IIc'!I22 -> 0 | ... R15: =+'Tabela IIc'!Q22
A16: =+'Tabela I'!$J$2 -> 114 | B16: =+'Tabela I'!$J$1 -> 2024 | C16: =+'Tabela IIc'!B23 | D16: =+'Tabela IIc'!C23 | E16: =+'Tabela IIc'!D23 -> 0 | F16: =+'Tabela IIc'!E23 -> 0 | G16: =+'Tabela IIc'!F23 -> 0 | H16: =+'Tabela IIc'!G23 -> 0 | I16: =+'Tabela IIc'!H23 -> 0 | J16: =+'Tabela IIc'!I23 -> 0 | ... R16: =+'Tabela IIc'!Q23
... A66: =+'Tabela I'!$J$2 -> 114 | B66: =+'Tabela I'!$J$1 -> 2024 | C66: =+'Tabela IIc'!B73 -> 0 | D66: =+'Tabela IIc'!C73 -> 0 | E66: =+'Tabela IIc'!D73 -> 0 | F66: =+'Tabela IIc'!E73 -> 0 | G66: =+'Tabela IIc'!F73 -> 0 | H66: =+'Tabela IIc'!G73 -> 0 | I66: =+'Tabela IIc'!H73 -> 0 | J66: =+'Tabela IIc'!I73 -> 0 | ... R66: =+'Tabela IIc'!Q73
A69: Tabela Iie
A71: =+'Tabela I'!$J$2 -> 114 | B71: =+'Tabela I'!$J$1 -> 2024 | C71: =+'Tabela IIc'!B86 -> Ime i prezime | D71: =+'Tabela IIc'!C86 -> Predsjednik suda | E71: =+'Tabela IIc'!D86 -> 0 | F71: =+'Tabela IIc'!E86 -> 0 | G71: =+'Tabela IIc'!F86 -> 0 | H71: =+'Tabela IIc'!G86 -> 0 | I71: =+'Tabela IIc'!H86 -> 0 | J71: =+'Tabela IIc'!I86 -> 0 | ... R71: =+'Tabela IIc'!Q86
A72: =+'Tabela I'!$J$2 -> 114 | B72: =+'Tabela I'!$J$1 -> 2024 | C72: =+'Tabela IIc'!B93 -> Ime i prezime | D72: =+'Tabela IIc'!C93 -> 0 | E72: =+'Tabela IIc'!D93 -> 0 | F72: =+'Tabela IIc'!E93 -> 0 | G72: =+'Tabela IIc'!F93 -> 0 | H72: =+'Tabela IIc'!G93 -> 0 | I72: =+'Tabela IIc'!H93 -> 0 | J72: =+'Tabela IIc'!I93 -> 0 | ... R72: =+'Tabela IIc'!Q93
A73: =+'Tabela I'!$J$2 -> 114 | B73: =+'Tabela I'!$J$1 -> 2024 | C73: =+'Tabela IIc'!B100 -> Ime i prezime | D73: =+'Tabela IIc'!C100 -> 0 | E73: =+'Tabela IIc'!D100 -> 0 | F73: =+'Tabela IIc'!E100 -> 0 | G73: =+'Tabela IIc'!F100 -> 0 | H73: =+'Tabela IIc'!G100 -> 0 | I73: =+'Tabela IIc'!H100 -> 0 | J73: =+'Tabela IIc'!I100 -> 0 | ... R73: =+'Tabela IIc'!Q100
A74: =+'Tabela I'!$J$2 -> 114 | B74: =+'Tabela I'!$J$1 -> 2024 | C74: =+'Tabela IIc'!B107 -> Ime i prezime | D74: =+'Tabela IIc'!C107 -> 0 | E74: =+'Tabela IIc'!D107 -> 0 | F74: =+'Tabela IIc'!E107 -> 0 | G74: =+'Tabela IIc'!F107 -> 0 | H74: =+'Tabela IIc'!G107 -> 0 | I74: =+'Tabela IIc'!H107 -> 0 | J74: =+'Tabela IIc'!I107 -> 0 | ... R74: =+'Tabela IIc'!Q107
A75: =+'Tabela I'!$J$2 -> 114 | B75: =+'Tabela I'!$J$1 -> 2024 | C75: =+'Tabela IIc'!B114 -> Ime i prezime | D75: =+'Tabela IIc'!C114 -> 0 | E75: =+'Tabela IIc'!D114 -> 0 | F75: =+'Tabela IIc'!E114 -> 0 | G75: =+'Tabela IIc'!F114 -> 0 | H75: =+'Tabela IIc'!G114 -> 0 | I75: =+'Tabela IIc'!H114 -> 0 | J75: =+'Tabela IIc'!I114 -> 0 | ... R75: =+'Tabela IIc'!Q114
A76: =+'Tabela I'!$J$2 -> 114 | B76: =+'Tabela I'!$J$1 -> 2024 | C76: =+'Tabela IIc'!B121 -> Ime i prezime | D76: =+'Tabela IIc'!C121 -> 0 | E76: =+'Tabela IIc'!D121 -> 0 | F76: =+'Tabela IIc'!E121 -> 0 | G76: =+'Tabela IIc'!F121 -> 0 | H76: =+'Tabela IIc'!G121 -> 0 | I76: =+'Tabela IIc'!H121 -> 0 | J76: =+'Tabela IIc'!I121 -> 0 | ... R76: =+'Tabela IIc'!Q121
A77: =+'Tabela I'!$J$2 -> 114 | B77: =+'Tabela I'!$J$1 -> 2024 | C77: =+'Tabela IIc'!B128 -> Ime i prezime | D77: =+'Tabela IIc'!C128 -> 0 | E77: =+'Tabela IIc'!D128 -> 0 | F77: =+'Tabela IIc'!E128 -> 0 | G77: =+'Tabela IIc'!F128 -> 0 | H77: =+'Tabela IIc'!G128 -> 0 | I77: =+'Tabela IIc'!H128 -> 0 | J77: =+'Tabela IIc'!I128 -> 0 | ... R77: =+'Tabela IIc'!Q128
A78: =+'Tabela I'!$J$2 -> 114 | B78: =+'Tabela I'!$J$1 -> 2024 | C78: =+'Tabela IIc'!B135 -> Ime i prezime | D78: =+'Tabela IIc'!C135 -> 0 | E78: =+'Tabela IIc'!D135 -> 0 | F78: =+'Tabela IIc'!E135 -> 0 | G78: =+'Tabela IIc'!F135 -> 0 | H78: =+'Tabela IIc'!G135 -> 0 | I78: =+'Tabela IIc'!H135 -> 0 | J78: =+'Tabela IIc'!I135 -> 0 | ... R78: =+'Tabela IIc'!Q135
A79: =+'Tabela I'!$J$2 -> 114 | B79: =+'Tabela I'!$J$1 -> 2024 | C79: =+'Tabela IIc'!B142 -> Ime i prezime | D79: =+'Tabela IIc'!C142 -> 0 | E79: =+'Tabela IIc'!D142 -> 0 | F79: =+'Tabela IIc'!E142 -> 0 | G79: =+'Tabela IIc'!F142 -> 0 | H79: =+'Tabela IIc'!G142 -> 0 | I79: =+'Tabela IIc'!H142 -> 0 | J79: =+'Tabela IIc'!I142 -> 0 | ... R79: =+'Tabela IIc'!Q142 | S79: =+'Tabela IIc'!#REF! -> #REF! | T79: =+'Tabela IIc'!R142 -> 0 | U79: =+'Tabela IIc'!S142 -> 0 | V79: =+'Tabela IIc'!T142 -> 0
A80: =+'Tabela I'!$J$2 -> 114 | B80: =+'Tabela I'!$J$1 -> 2024 | C80: =+'Tabela IIc'!B149 -> Ime i prezime | D80: =+'Tabela IIc'!C149 -> 0 | E80: =+'Tabela IIc'!D149 -> 0 | F80: =+'Tabela IIc'!E149 -> 0 | G80: =+'Tabela IIc'!F149 -> 0 | H80: =+'Tabela IIc'!G149 -> 0 | I80: =+'Tabela IIc'!H149 -> 0 | J80: =+'Tabela IIc'!I149 -> 0 | ... R80: =+'Tabela IIc'!Q149 | S80: =+'Tabela IIc'!#REF! -> #REF! | T80: =+'Tabela IIc'!R149 -> 0 | U80: =+'Tabela IIc'!S149 -> 0 | V80: =+'Tabela IIc'!T149 -> 0

Sheet Tabela III
A1: Sud BiH
A2: Izvještajni period: | B2: ='Tabela II'!B2 -> 1.1.2024.-31.12.2024.
A3: Tabela III - Odluke Ustavnog suda BiH
A4: Tabela IIIa - Odluke kojima se ne usvaja apelacija
A5: Broj odluka kojima se odbacuje apelacija | B5: Broj odluka kojima se obustavlja postupak pred Ustavnim sudom BiH | C5: Broj odluka kojima se odbija apelacija | D5: Ukupno
A6: I | B6: II | C6: III | D6: IV=I+II+III
D7: =IF(SUM(A7:C7)=0," ",SUM(A7:C7))
A8: Tabela IIIb - Odluke kojima se usvaja apelacija
A9: Pravni osnov | B9: Broj odluka kojima se usvaja apelacija | E9: Ukupno
B10: Broj odluka kojima se preinačuju odluke suda | C10: Broj odluka kojima se ukidaju odluke suda | D10: Broj ostalih odluka kojima se usvaja apelacija
B11: I | C11: II | D11: III | E11: IV=I+II+III
A12: Čl. 13. EK (pravo na djelotvorni pravni lijek) | E12: =IF(SUM(B12:D12)=0," ",SUM(B12:D12))
A13: Čl. 3. P7 (naknada za pogrešnu presudu) | E13: =IF(SUM(B13:D13)=0," ",SUM(B13:D13))
A14: Čl. 6. EK i II/3.e) Ustava BiH (pravo na pravično suđenje) | E14: =IF(SUM(B14:D14)=0," ",SUM(B14:D14))
A15: Čl. 5.EK i II/3d Ustava (pravo na ličnu slobodu) | E15: =IF(SUM(B15:D15)=0," ",SUM(B15:D15))
A16: Čl. 1. P.1. i II/3.k) Ustava BiH (pravo na imovinu) | E16: =IF(SUM(B16:D16)=0," ",SUM(B16:D16))
A17: Čl. 1. P.7. (Proceduralne zaštite u vezi sa protjerivanjem stranaca) | E17: =IF(SUM(B17:D17)=0," ",SUM(B17:D17))
A18: Ostalo | E18: =IF(SUM(B18:D18)=0," ",SUM(B18:D18))
A19: Tabela IIIc – Predmeti u kojima se nalaže sudu da okonča predmet bez odlaganja zbog kršenja prava na donošenje odluke u razumnom roku
A20: Pravni osnov | B20: Broj odluka kojima se nalaže sudu da okonča predmet bez odlaganja zbog kršenja prava na donošenje odluke u razumnom roku jer je Ustavni sud BiH zaključio da je odugovlačenju postupka najviše doprinio
B21: prvostepeni sud | C21: drugostepeni sud | D21: sud koji rješava predmet po uloženom vanrednom pravnom lijeku | E21: Ostalo | F21: Ukupno
B22: I | C22: II | D22: III | E22: IV | F22: V=I+II+III+IV
A23: Čl. 6 EK i II/3.e) Ustava BiH (pravo na pravično suđenje) | F23: =IF(SUM(B23:E23)=0," ",SUM(B23:E23))
A24: Tabela IIId - Predmeti u kojima je utvrđeno kršenje prava na donošenje odluke u razumnom roku
A25: Broj predmeta u kojima je određena naknada nematerijalne štete zbog kršenja prava na donošenje odluke u razumnom roku
A26: Ukupan iznos određene naknade
A28: * U Tabelu IIId unose se podaci o predmetima u kojima je usvojena apelacija u odnosu na odluke Vašeg suda i određena naknada nematerijalne štete zbog kršenja prava na donošenje odluke u razumnom roku, kao i ukupan iznos naknade koji je utvrdio Ustavni sud BiH.

Sheet tbl10_ust_sud
A1: for_key | B1: godina | C1: BrOdbacApel | D1: BrObustPost | E1: BrOdbijApel
A2: =+'Tabela I'!$J$2 -> 114 | B2: =+'Tabela I'!$J$1 -> 2024 | C2: ='Tabela III'!A7 -> 0 | D2: ='Tabela III'!B7 -> 0 | E2: ='Tabela III'!C7 -> 0
A5: for_key | B5: godina | C5: Pravni osnov | D5: BrPreinOdl | E5: BrUkidOdl | F5: BrUsvApel
A6: =+'Tabela I'!$J$2 -> 114 | B6: =+'Tabela I'!$J$1 -> 2024 | C6: 1 | D6: ='Tabela III'!B12 -> 0 | E6: ='Tabela III'!C12 -> 0 | F6: ='Tabela III'!D12 -> 0
A7: =+'Tabela I'!$J$2 -> 114 | B7: =+'Tabela I'!$J$1 -> 2024 | C7: 2 | D7: ='Tabela III'!B13 -> 0 | E7: ='Tabela III'!C13 -> 0 | F7: ='Tabela III'!D13 -> 0
A8: =+'Tabela I'!$J$2 -> 114 | B8: =+'Tabela I'!$J$1 -> 2024 | C8: 3 | D8: ='Tabela III'!B14 -> 0 | E8: ='Tabela III'!C14 -> 0 | F8: ='Tabela III'!D14 -> 0
A9: =+'Tabela I'!$J$2 -> 114 | B9: =+'Tabela I'!$J$1 -> 2024 | C9: 4 | D9: ='Tabela III'!B15 -> 0 | E9: ='Tabela III'!C15 -> 0 | F9: ='Tabela III'!D15 -> 0
A10: =+'Tabela I'!$J$2 -> 114 | B10: =+'Tabela I'!$J$1 -> 2024 | C10: 5 | D10: ='Tabela III'!B16 -> 0 | E10: ='Tabela III'!C16 -> 0 | F10: ='Tabela III'!D16 -> 0
A11: =+'Tabela I'!$J$2 -> 114 | B11: =+'Tabela I'!$J$1 -> 2024 | C11: 6 | D11: ='Tabela III'!B17 -> 0 | E11: ='Tabela III'!C17 -> 0 | F11: ='Tabela III'!D17 -> 0
A12: =+'Tabela I'!$J$2 -> 114 | B12: =+'Tabela I'!$J$1 -> 2024 | C12: 7 | D12: ='Tabela III'!B18 -> 0 | E12: ='Tabela III'!C18 -> 0 | F12: ='Tabela III'!D18 -> 0
A15: for_key | B15: godina | C15: Pravni osnov | D15: PrvostSud | E15: DrugostSud | F15: SudPoUlPrLij | G15: Ostalo
A16: =+'Tabela I'!$J$2 -> 114 | B16: =+'Tabela I'!$J$1 -> 2024 | C16: 3 | D16: ='Tabela III'!B23 -> 0 | E16: ='Tabela III'!C23 -> 0 | F16: ='Tabela III'!D23 -> 0 | G16: ='Tabela III'!E23 -> 0
A19: for_key | B19: godina | C19: BrNaknNematStete | D19: UkIznosNaknade
A20: =+'Tabela I'!$J$2 -> 114 | B20: =+'Tabela I'!$J$1 -> 2024 | C20: ='Tabela III'!B25 -> 0 | D20: ='Tabela III'!B26 -> 0
