Workbook

Sheet Uputstvo
B2: KANTONALNI/OKRUŽNI SUDOVI
B3: Kompletni materijali u vezi procesa izvještavanja i ocjenjivanja rada u sudovima za 2024. godinu dostupni su na linku:
B4: https://vstv.pravosudje.ba/vstvfo/B/141/article/134917
B5: Tabele za popunjavanje podataka o radu sudova nije moguće mijenjati, niti dodavati nove redove ili kolone.
B6: Tabele se isključivo popunjavaju predviđenim redoslijedom, po redoslijedu postavljenih tabela.
B9: Podatke je potrebno upisivati samo u polja osjenčena žutom bojom.
B10: U ostala polja nije moguće upisivati vrijednosti, u ovim poljima vrijednosti će biti izračunate automatski.
B11: Molimo Vas da u Tabeli I i naslovu e-maila (subject) kojim ćete poslati popunjene obrasce navedete naziv Vašeg suda.
B14: Popunjene obrasce poslati na e-mail adresu: vstvstatistika@pravosudje.ba do 03.02.2025. godine.
B16: Za sva eventualna pitanja vezano za popunjavanje obrazaca molimo Vas da kontaktirate Odjel za pravosudnu analitiku i izvještavanje, na telefon: 033 704 616 ili 033 707 584.
B19: Tabele za ocjenjivanje NPF u sudu sadrže detaljnije napomene koje je potrebno imati u vidu prilikom popunjavanja tabela.
B20: Pored napomena datih uz tabele, potrebno je imati u vidu i slijedeće:
... B34: TABELA IV – ODLUKE USTAVNOG SUDA BIH U tabeli IV potrebno je prikazati samo podatke o odlukama Ustavnog suda BiH u kojima je izrekom obuhvaćena odluka Vašeg suda, odnosno postupak koji je u toku pred Vašim sudom (kada je riječ o apelacijama sa navodima da postoji kršenje prava na suđenje u razumnom roku). Posebna napomena: Traženi podaci se odnose na odluke iz apelacione nadležnosti Ustavnog suda BiH. Tabela IVa – Odluke kojima se ne usvaja apelacija: potrebno je prikazati podatke o odlukama Ustavnog suda BiH kojima je utvrđeno da nije osnovana apelacija izjavljena u odnosu na odluke Vašeg suda. Molimo da unesete podatake u kolone I-III prema njihovim nazivima. Podaci se automatski preračunavaju u koloni IV. Tabela IVb – Odluke kojima apelacija usvaja: “Pravni osnov” - Odluke kojima se usvaja apelacija potrebno je razvrstati prema izrekama odluka Ustavnog suda BiH kojima su utvrđene povrede Ustava BiH, Evropske konvencije o ljudskim pravima (u tabeli: EK) i njenih protokola (u tabeli:P). Svi pomenuti dokumenti i klasifikacija povreda su dostupni na zvaničnoj web stranici Ustavnog suda BiH (http://www.ccbh.ba/bos/p_stream.php?kat=83). Kolone I - IV “Broj odluka kojim se usvaja apelacija” – Potrebno je razvrstati broj odluka Ustavnog suda kojima se izjavljena apelacija usvaja u odnosu na odluku Vašeg suda, prema odgovarajućim kategorijama, u zavisnosti od izreke odluke Ustavnog suda BiH. Preostale odluke Ustavnog suda, koje ne spadaju u navedene tri kategorije, potrebno je upisati u rubriku “Broj ostalih odluka kojima se usvajaju apelacije” (npr. odluka kojom se usvaja apelacija i konstatuje povreda prava na pravično suđenje, zbog prekoračenja razumnog roka za donošenje odluke, nakon što je sudski postupak završen, a kojom se ne nalaže sudu da okonča predmet bez odlaganja, odnosno ne ukida ili ne preinačuje odluka suda). Ukoliko su izrekom odluke Ustavnog suda BiH ustanovljene dvije ili više povreda ustavom zagarantovanih prava i sloboda, molimo Vas da svaku od povreda evidentirate posebno u tabeli IVb. Molimo Vas da i djelimično usvojene apelacije prikažete u odgovarajućim kolonama tabele IVb. Tabela IVc – Predmeti u kojima se nalaže sudu da okonča predmet bez odlaganja zbog kršenja prava na donošenje odluke u razumnom roku U tabeli IVc potrebno je prikazati predmete u kojima je Ustavni sud BiH naložio sudu da okonča predmet bez odlaganja zbog kršenja prava na donošenje odluke u razumnom roku. Molimo Vas da u ovu tabelu unesete samo podatke o predmetima u kojima je Vašem sudu naloženo da okonča predmet bez odlaganja. U skladu sa obrazloženjem odluke Ustavnog suda BiH, potrebno je da naznačite u kojoj fazi postupka je Vaš sud rješavao predmet za koji je Ustavni sud utvrdio da je Vaš sud u najvećoj mjeri doprinio odugovlačenju postupka. Tabela IVd - Predmeti u kojima je utvrđeno kršenje prava na donošenje odluke u razumnom roku Takođe, potrebno je da popunite i tabelu IVd koja se odnosi na ukupan broj predmeta, u kojima je usvojena apelacija u odnosu na Vaš sud i određena naknada nematerijalne štete zbog kršenja prava na donošenje odluke u razumnom roku, kao i ukupan iznos naknade koji je utvrdio Ustavni sud BiH.

Sheet Tabela I
A1: Kantonalni/Okružni sud: | K1: 2024
A2: Izvještajni period: | B2: 1.1.2024.-31.12.2024.
A4: Ostvarena kolektivna norma za sud u 2024. godini | D4: =+'Tabela II'!P84
A5: Kvalitet sudskih odluka: | B5: =+J30
A7: Tabela I - Kvalitet sudskih odluka po vrstama predmeta
A8: Vrsta predmeta | B8: Broj donesenih odluka na koje se može izjaviti pravni lijek | C8: Ukupan broj ožalbenih odluka | D8: Broj odbačenih pravnih lijekova | E8: Broj potvrđenih odluka | F8: Broj preinačenih odluka | G8: Broj preinačenih odluka donijetih nakon održane glavne rasprave ili pretresa pred drugostepenim sudom | H8: Broj ukinutih odluka | I8: Broj djelimično ukinutih odluka | J8: Kvalitet sudskih odluka | K8: Broj presuda koje su ukinute i predmet je vraćen na ponovno suđenje
E9: Odbijen pravni lijek
B10: I | C10: II=IV+V+VI+ VII+VIII) | D10: III | E10: IV | F10: V | G10: VI | H10: VII | I10: VIII | J10: IX1 | K10: X
A11: Građansko odjeljenje
A12: Gž | C12: =E12+F12+G12+H12+I12 -> 0 | J12: =IF(C12=0,"",IF(B12=0,1,0.75*((C12-H12-I12/2)/C12)+0.25*((B12-G12-H12-I12/2)/B12)))
A13: Pž | C13: =E13+F13+G13+H13+I13 -> 0 | J13: =IF(C13=0,"",IF(B13=0,1,0.75*((C13-H13-I13/2)/C13)+0.25*((B13-G13-H13-I13/2)/B13)))
A14: Rsž | C14: =E14+F14+G14+H14+I14 -> 0 | J14: =IF(C14=0,"",IF(B14=0,1,0.75*((C14-H14-I14/2)/C14)+0.25*((B14-G14-H14-I14/2)/B14)))
A15: Ostalo* | C15: =E15+F15+G15+H15+I15 -> 0 | J15: =IF(C15=0,"",IF(B15=0,1,0.75*((C15-H15-I15/2)/C15)+0.25*((B15-G15-H15-I15/2)/B15)))
A16: Krivično odjeljenje
A17: K | C17: =E17+F17+G17+H17+I17 -> 0 | J17: =IF(C17=0,"",IF(B17=0,1,0.75*((C17-H17-I17/2)/C17)+0.25*((B17-G17-H17-I17/2)/B17)))
A18: Ratni zločini | C18: =E18+F18+G18+H18+I18 -> 0 | J18: =IF(C18=0,"",IF(B18=0,1,0.75*((C18-H18-I18/2)/C18)+0.25*((B18-G18-H18-I18/2)/B18)))
A19: Kž | C19: =E19+F19+G19+H19+I19 -> 0 | J19: =IF(C19=0,"",IF(B19=0,1,0.75*((C19-H19-I19/2)/C19)+0.25*((B19-G19-H19-I19/2)/B19)))
A20: Kžk | C20: =E20+F20+G20+H20+I20 -> 0 | J20: =IF(C20=0,"",IF(B20=0,1,0.75*((C20-H20-I20/2)/C20)+0.25*((B20-G20-H20-I20/2)/B20)))
A21: Kv | C21: =E21+F21+G21+H21+I21 -> 0 | J21: =IF(C21=0,"",IF(B21=0,1,0.75*((C21-H21-I21/2)/C21)+0.25*((B21-G21-H21-I21/2)/B21)))
A22: Kpp | C22: =E22+F22+G22+H22+I22 -> 0 | J22: =IF(C22=0,"",IF(B22=0,1,0.75*((C22-H22-I22/2)/C22)+0.25*((B22-G22-H22-I22/2)/B22)))
A23: Kps | C23: =E23+F23+G23+H23+I23 -> 0 | J23: =IF(C23=0,"",IF(B23=0,1,0.75*((C23-H23-I23/2)/C23)+0.25*((B23-G23-H23-I23/2)/B23)))
A24: Kmž | C24: =E24+F24+G24+H24+I24 -> 0 | J24: =IF(C24=0,"",IF(B24=0,1,0.75*((C24-H24-I24/2)/C24)+0.25*((B24-G24-H24-I24/2)/B24)))
A25: Ostalo* | C25: =E25+F25+G25+H25+I25 -> 0 | J25: =IF(C25=0,"",IF(B25=0,1,0.75*((C25-H25-I25/2)/C25)+0.25*((B25-G25-H25-I25/2)/B25)))
A26: Upravno odjeljenje
A27: U | C27: =E27+F27+G27+H27+I27 -> 0 | J27: =IF(C27=0,"",IF(B27=0,1,0.75*((C27-H27-I27/2)/C27)+0.25*((B27-G27-H27-I27/2)/B27)))
A28: Ostalo | C28: =E28+F28+G28+H28+I28 -> 0 | J28: =IF(C28=0,"",IF(B28=0,1,0.75*((C28-H28-I28/2)/C28)+0.25*((B28-G28-H28-I28/2)/B28)))
A30: Ukupno | B30: =SUM(B12:B15)+SUM(B17:B25)+SUM(B27:B28) -> 0 | C30: =SUM(C12:C15)+SUM(C17:C25)+SUM(C27:C28) -> 0 | D30: =SUM(D12:D15)+SUM(D17:D25)+SUM(D27:D28) -> 0 | E30: =SUM(E12:E15)+SUM(E17:E25)+SUM(E27:E28) -> 0 | F30: =SUM(F12:F15)+SUM(F17:F25)+SUM(F27:F28) -> 0 | G30: =SUM(G12:G15)+SUM(G17:G25)+SUM(G27:G28) -> 0 | H30: =SUM(H12:H15)+SUM(H17:H25)+SUM(H27:H28) -> 0 | I30: =SUM(I12:I15)+SUM(I17:I25)+SUM(I27:I28) -> 0 | J30: =IF(C30=0,"",IF(B30=0,1,0.75*((C30-H30-I30/2)/C30)+0.25*((B30-G30-H30-I30/2)/B30))) | K30: =SUM(K12:K15)+SUM(K17:K25)+SUM(K27:K28) -> 0
A32: Ukupno 2023.* | C32: Obrazloženje:
A33: * Unesite podatak o Ukupnom broju donesenih odluka na koje se može izjaviti pravni lijek iz izvještaja koji ste dostavili za 2023. godinu. Ukoliko je razlika u Ukupnom broju donesenih odluka na koje se može izjaviti pravni lijek u periodu 2024/2023 veća od 20% aktiviraće se kontrolnik i potrebno je da obrazložite uzroke za nastanak te razlike.
A40: 1 Kvalitet rada sudskih odluka se automatski obračunava u skladu sa članom 17. Kriterija za ocjenjivanje rada sudija u BiH. Slijedi tekst za pojašnjenje formule za obračun kvaliteta sudskih odluka: (75% * (Ukupan broj ožalbenih odluka - Broj ukinutih odluka - Broj djelimično ukinutih odluka/2) / Ukupan broj ožalbenih odluka) + (25% * (Broj donesenih odluka na koje se može izjaviti pravni lijek - Broj preinačenih odluka donijetih nakon održane glavne raspave ili pretresa pred drugostepenim sudom - Broj ukinutih odluka - Broj djelimično ukinutih odluka/2) / Broj donesenih odluka na koje se može izjaviti pravni lijek).
A42: NAPOMENA: U Tabelu I se unose podaci o kvalitetu odluka za sve nosilace pravosudne funkcije koji su u toku godine obavljali funkciju u sudu, bez obzira na period obavljanja funkcije u sudu. U Tabelu se unose podaci za sve nosioce pravosudne funkcije: koji su obavljali funkciju u sudu cijelu godinu, koji su imenovani u sud u toku godine, koji su prešli u drugi sud u toku godine (bez obzira na nivo suda), kao i podaci za nosioce pravosudne funkcije koji su prestali obavljati funkciju u sudu zbog odlaska u penziju u 2024. godini ili iz drugih razloga (ostavke, razrješenja), a u 2024. godini su donosili odluke na koje se može izjaviti pravni lijek, i/ili sud je nakon prestanka obavljanja funkcije zaprimio žalbene odluke od strane višeg suda po izjavljenom pravnom lijeku na odluke bivšeg nosioca pravosudne funkcije. Na taj način se pravilno obračunava kolektivni kvalitet odluka u sudu.
A49: NAPOMENA: U broj donesenih odluka na koje se može izjaviti pravni lijek (Kolona I) i broj ukinutih odluka (Kolona VII) prilikom računanja procenta ukinutih odluka iz člana 17. stav (1) tačka a) i b) Kriterija za ocjenjivanje rada sudija u BiH neće se uzimati u obračun odluke koje su ukinute u sadržajno nebitnom dijelu odnosno ako je odluka ukinuta ili se smatra ukinutom zbog toga što je instancioni sud nakon donošenja ispitivane odluke izmijenio sudsku praksu, u skladu s stavom (3) navedenog člana Kriterija.

Sheet Tabela II
A1: ='Tabela I'!A1 -> Kantonalni/Okružni sud: | D1: ='Tabela I'!C1 -> 0
A2: Izvještajni period: | C2: 1.1.2024.-31.12.2024.
A3: Tabela IIa – Ostvarena orijentaciona norma - Elektronski obrazac za obračun ostvarene orijentacione norme (pogledati NAPOMENU 4 i 4a)
A5: Redni broj | B5: Ime i prezime - evidentirani podatak se automatski prenosi u Tabelu IIIa | C5: Ocjenjen u sudu | D5: Naziv odjela | E5: Pravosudna funkcija | G5: Procenat orijentacijske norme koju je nosilac pravosudne funkcije dužan ostvariti - Ukoliko procenat orijenatcijske norme nije predviđen u padajućem meniju pogledati NAPOMENU 3 | H5: Period obavljanja pravosudne funkcije u instituciji koja popunjava tabelu Ia | J5: Ukupan broj dana za obračun norme - pogledati NAPOMENU 2 | K5: Broj dana opravdanog odsustva iz člana 13. Kriterija za ocjenjivanje rada (pogledati NAPOMENU 9) | L5: Ostvarena orijentaciona norma iz CMS-a | M5: Ostvarena orijentaciona norma na predmetima van CMS-a - pogledati NAPOMENU 6 | N5: Procenat ostvarene orijentacione norme prema članu 9. Pravilnika o orijentacijskim mjerilima - pogledati NAPOMENU 7 | O5: Procenat ostvarene propisane godišnje orijentacijske norme u 2024. godini | P5: Ukupno ostvarena orijentacijska norma u 2024. godini | Q5: Nedovoljan broj predmeta u radu - pogledati NAPOMENU 5 | V5: Broj ostvarenih bodova | W5: Sudija | X5: Stručni saradnik | Y5: Predsjednik odjela | Z5: Predsjednik sudskog vijeća vrhovnog suda entiteta | AA5: Član VSTV-a
H6: Datum od | I6: Datum do | Q6: broj predmeta u radu | R6: broj riješenih predmeta | S6: broj neriješenih predmeta sa zakonskim i procesnim smetnjama | T6: broj neriješenih predmeta bez zakonskih i procesnih smetnji | U6: procenat riješenih predmeta
A7: I | B7: II | C7: III | D7: IV | E7: V | G7: VI | H7: VII | I7: VIII | J7: IX | K7: X | L7: XI | M7: XII | N7: XIII | O7: XIV | P7: XV | Q7: XVI | R7: XVII | S7: XVIII | T7: XIX | U7: XX | V7: XXI | W7: 1 | X7: 0.9 | Y7: 0.75 | Z7: 0.7 | AA7: 0.5 | AB7: 0.35 | AC7: 0.25 | AD7: Ne treba raditi na predm.
A8: 1 | E8: Predsjednik suda | J8: 262 | O8: =IF(G8="","",IF(G8="Ne treba raditi na predm.",1+SUM(L8:N8),(SUM(L8:N8)/G8))) | P8: =IF(K8>0,IF(G8="Ne treba raditi na predm.",O8,O8*(J8/(J8-K8))),O8) | U8: =IF(Q8="","",R8/(Q8-S8)) | V8: =IF(P8="","",IF(C8="Ne","",IF(G8="Ne treba raditi na predm.","",IF(P8>1,20,IF(U8="",IF(P8>0.9,18,IF(P8>0.8,16,IF(P8>0.7,12,IF(P8>0.6,8,IF(P8>0.5,4,0))))),IF(U8>0.94,20,IF(U8>0.9,18,IF(U8>0.8,16,IF(U8>0.7,12,IF(U8>0.6,8,IF(U8>0.5,4,0))))))))))) | W8: 0.7 | X8: 0.5 | Y8: 0.4 | Z8: 0.3 | AA8: Ne treba raditi na predm.
E9: Predsjednik suda | J9: 262 | O9: =IF(G9="","",IF(G9="Ne treba raditi na predm.",1+SUM(L9:N9),(SUM(L9:N9)/G9))) | P9: =IF(K9>0,IF(G9="Ne treba raditi na predm.",O9,O9*(J9/(J9-K9))),O9) | U9: =IF(Q9="","",R9/(Q9-S9)) | V9: =IF(P9="","",IF(C8="Ne","",IF(G9="Ne treba raditi na predm.","",IF(P9>1,20,IF(U9="",IF(P9>0.9,18,IF(P9>0.8,16,IF(P9>0.7,12,IF(P9>0.6,8,IF(P9>0.5,4,0))))),IF(U9>0.94,20,IF(U9>0.9,18,IF(U9>0.8,16,IF(U9>0.7,12,IF(U9>0.6,8,IF(U9>0.5,4,0)))))))))))
A10: 2 | F10: =IF(E10="Sudija",1,IF(E10="Stručni saradnik",1,IF(E10="Član VSTV-a",2,""))) | J10: 262 | O10: =IF(G10="","",IF(G10="Ne treba raditi na predm.",1+SUM(L10:N10),(SUM(L10:N10)/G10))) | P10: =IF(K10>0,IF(G10="Ne treba raditi na predm.",O10,O10*(J10/(J10-K10))),O10) | U10: =IF(Q10="","",R10/(Q10-S10)) | V10: =IF(P10="","",IF(C10="Ne","",IF(G10="Ne treba raditi na predm.","",IF(P10>1,40,IF(U10="",IF(P10>0.9,35,IF(P10>0.8,30,IF(P10>0.7,20,IF(P10>0.6,15,IF(P10>0.5,10,0))))),IF(U10>0.94,40,IF(U10>0.9,35,IF(U10>0.8,30,IF(U10>0.7,20,IF(U10>0.6,15,IF(U10>0.5,10,0))))))))))) | W10: Da | X10: Ne
A11: 3 | F11: =IF(E11="Sudija",1,IF(E11="Stručni saradnik",1,IF(E11="Član VSTV-a",2,""))) | J11: 262 | O11: =IF(G11="","",IF(G11="Ne treba raditi na predm.",1+SUM(L11:N11),(SUM(L11:N11)/G11))) | P11: =IF(K11>0,IF(G11="Ne treba raditi na predm.",O11,O11*(J11/(J11-K11))),O11) | U11: =IF(Q11="","",R11/(Q11-S11)) | V11: =IF(P11="","",IF(C11="Ne","",IF(G11="Ne treba raditi na predm.","",IF(P11>1,40,IF(U11="",IF(P11>0.9,35,IF(P11>0.8,30,IF(P11>0.7,20,IF(P11>0.6,15,IF(P11>0.5,10,0))))),IF(U11>0.94,40,IF(U11>0.9,35,IF(U11>0.8,30,IF(U11>0.7,20,IF(U11>0.6,15,IF(U11>0.5,10,0)))))))))))
A12: 4 | F12: =IF(E12="Sudija",1,IF(E12="Stručni saradnik",1,IF(E12="Član VSTV-a",2,""))) | J12: 262 | O12: =IF(G12="","",IF(G12="Ne treba raditi na predm.",1+SUM(L12:N12),(SUM(L12:N12)/G12))) | P12: =IF(K12>0,IF(G12="Ne treba raditi na predm.",O12,O12*(J12/(J12-K12))),O12) | U12: =IF(Q12="","",R12/(Q12-S12)) | V12: =IF(P12="","",IF(C12="Ne","",IF(G12="Ne treba raditi na predm.","",IF(P12>1,40,IF(U12="",IF(P12>0.9,35,IF(P12>0.8,30,IF(P12>0.7,20,IF(P12>0.6,15,IF(P12>0.5,10,0))))),IF(U12>0.94,40,IF(U12>0.9,35,IF(U12>0.8,30,IF(U12>0.7,20,IF(U12>0.6,15,IF(U12>0.5,10,0)))))))))))
A13: 5 | F13: =IF(E13="Sudija",1,IF(E13="Stručni saradnik",1,IF(E13="Član VSTV-a",2,""))) | J13: 262 | O13: =IF(G13="","",IF(G13="Ne treba raditi na predm.",1+SUM(L13:N13),(SUM(L13:N13)/G13))) | P13: =IF(K13>0,IF(G13="Ne treba raditi na predm.",O13,O13*(J13/(J13-K13))),O13) | U13: =IF(Q13="","",R13/(Q13-S13)) | V13: =IF(P13="","",IF(C13="Ne","",IF(G13="Ne treba raditi na predm.","",IF(P13>1,40,IF(U13="",IF(P13>0.9,35,IF(P13>0.8,30,IF(P13>0.7,20,IF(P13>0.6,15,IF(P13>0.5,10,0))))),IF(U13>0.94,40,IF(U13>0.9,35,IF(U13>0.8,30,IF(U13>0.7,20,IF(U13>0.6,15,IF(U13>0.5,10,0)))))))))))
A14: 6 | F14: =IF(E14="Sudija",1,IF(E14="Stručni saradnik",1,IF(E14="Član VSTV-a",2,""))) | J14: 262 | O14: =IF(G14="","",IF(G14="Ne treba raditi na predm.",1+SUM(L14:N14),(SUM(L14:N14)/G14))) | P14: =IF(K14>0,IF(G14="Ne treba raditi na predm.",O14,O14*(J14/(J14-K14))),O14) | U14: =IF(Q14="","",R14/(Q14-S14)) | V14: =IF(P14="","",IF(C14="Ne","",IF(G14="Ne treba raditi na predm.","",IF(P14>1,40,IF(U14="",IF(P14>0.9,35,IF(P14>0.8,30,IF(P14>0.7,20,IF(P14>0.6,15,IF(P14>0.5,10,0))))),IF(U14>0.94,40,IF(U14>0.9,35,IF(U14>0.8,30,IF(U14>0.7,20,IF(U14>0.6,15,IF(U14>0.5,10,0)))))))))))
A15: 7 | F15: =IF(E15="Sudija",1,IF(E15="Stručni saradnik",1,IF(E15="Član VSTV-a",2,""))) | J15: 262 | O15: =IF(G15="","",IF(G15="Ne treba raditi na predm.",1+SUM(L15:N15),(SUM(L15:N15)/G15))) | P15: =IF(K15>0,IF(G15="Ne treba raditi na predm.",O15,O15*(J15/(J15-K15))),O15) | U15: =IF(Q15="","",R15/(Q15-S15)) | V15: =IF(P15="","",IF(C15="Ne","",IF(G15="Ne treba raditi na predm.","",IF(P15>1,40,IF(U15="",IF(P15>0.9,35,IF(P15>0.8,30,IF(P15>0.7,20,IF(P15>0.6,15,IF(P15>0.5,10,0))))),IF(U15>0.94,40,IF(U15>0.9,35,IF(U15>0.8,30,IF(U15>0.7,20,IF(U15>0.6,15,IF(U15>0.5,10,0)))))))))))
A16: 8 | F16: =IF(E16="Sudija",1,IF(E16="Stručni saradnik",1,IF(E16="Član VSTV-a",2,""))) | J16: 262 | O16: =IF(G16="","",IF(G16="Ne treba raditi na predm.",1+SUM(L16:N16),(SUM(L16:N16)/G16))) | P16: =IF(K16>0,IF(G16="Ne treba raditi na predm.",O16,O16*(J16/(J16-K16))),O16) | U16: =IF(Q16="","",R16/(Q16-S16)) | V16: =IF(P16="","",IF(C16="Ne","",IF(G16="Ne treba raditi na predm.","",IF(P16>1,40,IF(U16="",IF(P16>0.9,35,IF(P16>0.8,30,IF(P16>0.7,20,IF(P16>0.6,15,IF(P16>0.5,10,0))))),IF(U16>0.94,40,IF(U16>0.9,35,IF(U16>0.8,30,IF(U16>0.7,20,IF(U16>0.6,15,IF(U16>0.5,10,0)))))))))))
A17: 9 | F17: =IF(E17="Sudija",1,IF(E17="Stručni saradnik",1,IF(E17="Član VSTV-a",2,""))) | J17: 262 | O17: =IF(G17="","",IF(G17="Ne treba raditi na predm.",1+SUM(L17:N17),(SUM(L17:N17)/G17))) | P17: =IF(K17>0,IF(G17="Ne treba raditi na predm.",O17,O17*(J17/(J17-K17))),O17) | U17: =IF(Q17="","",R17/(Q17-S17)) | V17: =IF(P17="","",IF(C17="Ne","",IF(G17="Ne treba raditi na predm.","",IF(P17>1,40,IF(U17="",IF(P17>0.9,35,IF(P17>0.8,30,IF(P17>0.7,20,IF(P17>0.6,15,IF(P17>0.5,10,0))))),IF(U17>0.94,40,IF(U17>0.9,35,IF(U17>0.8,30,IF(U17>0.7,20,IF(U17>0.6,15,IF(U17>0.5,10,0)))))))))))
A18: 10 | F18: =IF(E18="Sudija",1,IF(E18="Stručni saradnik",1,IF(E18="Član VSTV-a",2,""))) | J18: 262 | O18: =IF(G18="","",IF(G18="Ne treba raditi na predm.",1+SUM(L18:N18),(SUM(L18:N18)/G18))) | P18: =IF(K18>0,IF(G18="Ne treba raditi na predm.",O18,O18*(J18/(J18-K18))),O18) | U18: =IF(Q18="","",R18/(Q18-S18)) | V18: =IF(P18="","",IF(C18="Ne","",IF(G18="Ne treba raditi na predm.","",IF(P18>1,40,IF(U18="",IF(P18>0.9,35,IF(P18>0.8,30,IF(P18>0.7,20,IF(P18>0.6,15,IF(P18>0.5,10,0))))),IF(U18>0.94,40,IF(U18>0.9,35,IF(U18>0.8,30,IF(U18>0.7,20,IF(U18>0.6,15,IF(U18>0.5,10,0)))))))))))
A19: 11 | F19: =IF(E19="Sudija",1,IF(E19="Stručni saradnik",1,IF(E19="Član VSTV-a",2,""))) | J19: 262 | O19: =IF(G19="","",IF(G19="Ne treba raditi na predm.",1+SUM(L19:N19),(SUM(L19:N19)/G19))) | P19: =IF(K19>0,IF(G19="Ne treba raditi na predm.",O19,O19*(J19/(J19-K19))),O19) | U19: =IF(Q19="","",R19/(Q19-S19)) | V19: =IF(P19="","",IF(C19="Ne","",IF(G19="Ne treba raditi na predm.","",IF(P19>1,40,IF(U19="",IF(P19>0.9,35,IF(P19>0.8,30,IF(P19>0.7,20,IF(P19>0.6,15,IF(P19>0.5,10,0))))),IF(U19>0.94,40,IF(U19>0.9,35,IF(U19>0.8,30,IF(U19>0.7,20,IF(U19>0.6,15,IF(U19>0.5,10,0)))))))))))
A20: 12 | F20: =IF(E20="Sudija",1,IF(E20="Stručni saradnik",1,IF(E20="Član VSTV-a",2,""))) | J20: 262 | O20: =IF(G20="","",IF(G20="Ne treba raditi na predm.",1+SUM(L20:N20),(SUM(L20:N20)/G20))) | P20: =IF(K20>0,IF(G20="Ne treba raditi na predm.",O20,O20*(J20/(J20-K20))),O20) | U20: =IF(Q20="","",R20/(Q20-S20)) | V20: =IF(P20="","",IF(C20="Ne","",IF(G20="Ne treba raditi na predm.","",IF(P20>1,40,IF(U20="",IF(P20>0.9,35,IF(P20>0.8,30,IF(P20>0.7,20,IF(P20>0.6,15,IF(P20>0.5,10,0))))),IF(U20>0.94,40,IF(U20>0.9,35,IF(U20>0.8,30,IF(U20>0.7,20,IF(U20>0.6,15,IF(U20>0.5,10,0)))))))))))
A21: 13 | F21: =IF(E21="Sudija",1,IF(E21="Stručni saradnik",1,IF(E21="Član VSTV-a",2,""))) | J21: 262 | O21: =IF(G21="","",IF(G21="Ne treba raditi na predm.",1+SUM(L21:N21),(SUM(L21:N21)/G21))) | P21: =IF(K21>0,IF(G21="Ne treba raditi na predm.",O21,O21*(J21/(J21-K21))),O21) | U21: =IF(Q21="","",R21/(Q21-S21)) | V21: =IF(P21="","",IF(C21="Ne","",IF(G21="Ne treba raditi na predm.","",IF(P21>1,40,IF(U21="",IF(P21>0.9,35,IF(P21>0.8,30,IF(P21>0.7,20,IF(P21>0.6,15,IF(P21>0.5,10,0))))),IF(U21>0.94,40,IF(U21>0.9,35,IF(U21>0.8,30,IF(U21>0.7,20,IF(U21>0.6,15,IF(U21>0.5,10,0)))))))))))
A22: 14 | F22: =IF(E22="Sudija",1,IF(E22="Stručni saradnik",1,IF(E22="Član VSTV-a",2,""))) | J22: 262 | O22: =IF(G22="","",IF(G22="Ne treba raditi na predm.",1+SUM(L22:N22),(SUM(L22:N22)/G22))) | P22: =IF(K22>0,IF(G22="Ne treba raditi na predm.",O22,O22*(J22/(J22-K22))),O22) | U22: =IF(Q22="","",R22/(Q22-S22)) | V22: =IF(P22="","",IF(C22="Ne","",IF(G22="Ne treba raditi na predm.","",IF(P22>1,40,IF(U22="",IF(P22>0.9,35,IF(P22>0.8,30,IF(P22>0.7,20,IF(P22>0.6,15,IF(P22>0.5,10,0))))),IF(U22>0.94,40,IF(U22>0.9,35,IF(U22>0.8,30,IF(U22>0.7,20,IF(U22>0.6,15,IF(U22>0.5,10,0)))))))))))
... A73: 65 | F73: =IF(E73="Sudija",1,IF(E73="Stručni saradnik",1,IF(E73="Član VSTV-a",2,""))) | J73: 262 | O73: =IF(G73="","",IF(G73="Ne treba raditi na predm.",1+SUM(L73:N73),(SUM(L73:N73)/G73))) | P73: =IF(K73>0,IF(G73="Ne treba raditi na predm.",O73,O73*(J73/(J73-K73))),O73) | U73: =IF(Q73="","",R73/(Q73-S73)) | V73: =IF(P73="","",IF(C73="Ne","",IF(G73="Ne treba raditi na predm.","",IF(P73>1,40,IF(U73="",IF(P73>0.9,35,IF(P73>0.8,30,IF(P73>0.7,20,IF(P73>0.6,15,IF(P73>0.5,10,0))))),IF(U73>0.94,40,IF(U73>0.9,35,IF(U73>0.8,30,IF(U73>0.7,20,IF(U73>0.6,15,IF(U73>0.5,10,0)))))))))))
F74: =IF(E74="Sudija",1,IF(E74="Stručni saradnik",1,IF(E74="Član VSTV-a",2,""))) | J74: 262 | O74: =IF(G74="","",IF(G74="Ne treba raditi na predm.",1+SUM(L74:N74),(SUM(L74:N74)/G74))) | P74: =IF(K74>0,IF(G74="Ne treba raditi na predm.",O74,O74*(J74/(J74-K74))),O74) | U74: =IF(Q74="","",R74/(Q74-S74)) | V74: =IF(P74="","",IF(C74="Ne","",IF(G74="Ne treba raditi na predm.","",IF(P74>1,40,IF(U74="",IF(P74>0.9,35,IF(P74>0.8,30,IF(P74>0.7,20,IF(P74>0.6,15,IF(P74>0.5,10,0))))),IF(U74>0.94,40,IF(U74>0.9,35,IF(U74>0.8,30,IF(U74>0.7,20,IF(U74>0.6,15,IF(U74>0.5,10,0)))))))))))
F75: =IF(E75="Sudija",1,IF(E75="Stručni saradnik",1,IF(E75="Član VSTV-a",2,""))) | J75: 262 | O75: =IF(G75="","",IF(G75="Ne treba raditi na predm.",1+SUM(L75:N75),(SUM(L75:N75)/G75))) | P75: =IF(K75>0,IF(G75="Ne treba raditi na predm.",O75,O75*(J75/(J75-K75))),O75) | U75: =IF(Q75="","",R75/(Q75-S75)) | V75: =IF(P75="","",IF(C75="Ne","",IF(G75="Ne treba raditi na predm.","",IF(P75>1,40,IF(U75="",IF(P75>0.9,35,IF(P75>0.8,30,IF(P75>0.7,20,IF(P75>0.6,15,IF(P75>0.5,10,0))))),IF(U75>0.94,40,IF(U75>0.9,35,IF(U75>0.8,30,IF(U75>0.7,20,IF(U75>0.6,15,IF(U75>0.5,10,0)))))))))))
F76: =IF(E76="Sudija",1,IF(E76="Stručni saradnik",1,IF(E76="Član VSTV-a",2,""))) | J76: 262 | O76: =IF(G76="","",IF(G76="Ne treba raditi na predm.",1+SUM(L76:N76),(SUM(L76:N76)/G76))) | P76: =IF(K76>0,IF(G76="Ne treba raditi na predm.",O76,O76*(J76/(J76-K76))),O76) | U76: =IF(Q76="","",R76/(Q76-S76)) | V76: =IF(P76="","",IF(C76="Ne","",IF(G76="Ne treba raditi na predm.","",IF(P76>1,40,IF(U76="",IF(P76>0.9,35,IF(P76>0.8,30,IF(P76>0.7,20,IF(P76>0.6,15,IF(P76>0.5,10,0))))),IF(U76>0.94,40,IF(U76>0.9,35,IF(U76>0.8,30,IF(U76>0.7,20,IF(U76>0.6,15,IF(U76>0.5,10,0)))))))))))
F77: =IF(E77="Sudija",1,IF(E77="Stručni saradnik",1,IF(E77="Član VSTV-a",2,""))) | J77: 262 | O77: =IF(G77="","",IF(G77="Ne treba raditi na predm.",1+SUM(L77:N77),(SUM(L77:N77)/G77))) | P77: =IF(K77>0,IF(G77="Ne treba raditi na predm.",O77,O77*(J77/(J77-K77))),O77) | U77: =IF(Q77="","",R77/(Q77-S77)) | V77: =IF(P77="","",IF(C77="Ne","",IF(G77="Ne treba raditi na predm.","",IF(P77>1,40,IF(U77="",IF(P77>0.9,35,IF(P77>0.8,30,IF(P77>0.7,20,IF(P77>0.6,15,IF(P77>0.5,10,0))))),IF(U77>0.94,40,IF(U77>0.9,35,IF(U77>0.8,30,IF(U77>0.7,20,IF(U77>0.6,15,IF(U77>0.5,10,0)))))))))))
F78: =IF(E78="Sudija",1,IF(E78="Stručni saradnik",1,IF(E78="Član VSTV-a",2,""))) | J78: 262 | O78: =IF(G78="","",IF(G78="Ne treba raditi na predm.",1+SUM(L78:N78),(SUM(L78:N78)/G78))) | P78: =IF(K78>0,IF(G78="Ne treba raditi na predm.",O78,O78*(J78/(J78-K78))),O78) | U78: =IF(Q78="","",R78/(Q78-S78)) | V78: =IF(P78="","",IF(C78="Ne","",IF(G78="Ne treba raditi na predm.","",IF(P78>1,40,IF(U78="",IF(P78>0.9,35,IF(P78>0.8,30,IF(P78>0.7,20,IF(P78>0.6,15,IF(P78>0.5,10,0))))),IF(U78>0.94,40,IF(U78>0.9,35,IF(U78>0.8,30,IF(U78>0.7,20,IF(U78>0.6,15,IF(U78>0.5,10,0)))))))))))
F79: =IF(E79="Sudija",1,IF(E79="Stručni saradnik",1,IF(E79="Član VSTV-a",2,""))) | J79: 262 | O79: =IF(G79="","",IF(G79="Ne treba raditi na predm.",1+SUM(L79:N79),(SUM(L79:N79)/G79))) | P79: =IF(K79>0,IF(G79="Ne treba raditi na predm.",O79,O79*(J79/(J79-K79))),O79) | U79: =IF(Q79="","",R79/(Q79-S79)) | V79: =IF(P79="","",IF(C79="Ne","",IF(G79="Ne treba raditi na predm.","",IF(P79>1,40,IF(U79="",IF(P79>0.9,35,IF(P79>0.8,30,IF(P79>0.7,20,IF(P79>0.6,15,IF(P79>0.5,10,0))))),IF(U79>0.94,40,IF(U79>0.9,35,IF(U79>0.8,30,IF(U79>0.7,20,IF(U79>0.6,15,IF(U79>0.5,10,0)))))))))))
F80: =IF(E80="Sudija",1,IF(E80="Stručni saradnik",1,IF(E80="Član VSTV-a",2,""))) | J80: 262 | O80: =IF(G80="","",IF(G80="Ne treba raditi na predm.",1+SUM(L80:N80),(SUM(L80:N80)/G80))) | P80: =IF(K80>0,IF(G80="Ne treba raditi na predm.",O80,O80*(J80/(J80-K80))),O80) | U80: =IF(Q80="","",R80/(Q80-S80)) | V80: =IF(P80="","",IF(C80="Ne","",IF(G80="Ne treba raditi na predm.","",IF(P80>1,40,IF(U80="",IF(P80>0.9,35,IF(P80>0.8,30,IF(P80>0.7,20,IF(P80>0.6,15,IF(P80>0.5,10,0))))),IF(U80>0.94,40,IF(U80>0.9,35,IF(U80>0.8,30,IF(U80>0.7,20,IF(U80>0.6,15,IF(U80>0.5,10,0)))))))))))
F81: =IF(E81="Sudija",1,IF(E81="Stručni saradnik",1,IF(E81="Član VSTV-a",2,""))) | J81: 262 | O81: =IF(G81="","",IF(G81="Ne treba raditi na predm.",1+SUM(L81:N81),(SUM(L81:N81)/G81))) | P81: =IF(K81>0,IF(G81="Ne treba raditi na predm.",O81,O81*(J81/(J81-K81))),O81) | U81: =IF(Q81="","",R81/(Q81-S81)) | V81: =IF(P81="","",IF(C81="Ne","",IF(G81="Ne treba raditi na predm.","",IF(P81>1,40,IF(U81="",IF(P81>0.9,35,IF(P81>0.8,30,IF(P81>0.7,20,IF(P81>0.6,15,IF(P81>0.5,10,0))))),IF(U81>0.94,40,IF(U81>0.9,35,IF(U81>0.8,30,IF(U81>0.7,20,IF(U81>0.6,15,IF(U81>0.5,10,0)))))))))))
F82: =IF(E82="Sudija",1,IF(E82="Stručni saradnik",1,IF(E82="Član VSTV-a",2,""))) | J82: 262 | O82: =IF(G82="","",IF(G82="Ne treba raditi na predm.",1+SUM(L82:N82),(SUM(L82:N82)/G82))) | P82: =IF(K82>0,IF(G82="Ne treba raditi na predm.",O82,O82*(J82/(J82-K82))),O82) | U82: =IF(Q82="","",R82/(Q82-S82)) | V82: =IF(P82="","",IF(C82="Ne","",IF(G82="Ne treba raditi na predm.","",IF(P82>1,40,IF(U82="",IF(P82>0.9,35,IF(P82>0.8,30,IF(P82>0.7,20,IF(P82>0.6,15,IF(P82>0.5,10,0))))),IF(U82>0.94,40,IF(U82>0.9,35,IF(U82>0.8,30,IF(U82>0.7,20,IF(U82>0.6,15,IF(U82>0.5,10,0)))))))))))
F83: =IF(E83="Sudija",1,IF(E83="Stručni saradnik",1,IF(E83="Član VSTV-a",2,""))) | J83: 262 | O83: =IF(G83="","",IF(G83="Ne treba raditi na predm.",1+SUM(L83:N83),(SUM(L83:N83)/G83))) | P83: =IF(K83>0,IF(G83="Ne treba raditi na predm.",O83,O83*(J83/(J83-K83))),O83) | U83: =IF(Q83="","",R83/(Q83-S83)) | V83: =IF(P83="","",IF(C83="Ne","",IF(G83="Ne treba raditi na predm.","",IF(P83>1,40,IF(U83="",IF(P83>0.9,35,IF(P83>0.8,30,IF(P83>0.7,20,IF(P83>0.6,15,IF(P83>0.5,10,0))))),IF(U83>0.94,40,IF(U83>0.9,35,IF(U83>0.8,30,IF(U83>0.7,20,IF(U83>0.6,15,IF(U83>0.5,10,0)))))))))))
O84: KOLEKTIVNA NORMA SUDA | P84: =IF(P8="",IF(P9="","",AVERAGEIF(P8:P83,">0,2")),AVERAGEIF(P8:P83,">0,2")) | Q84: =SUM(Q8:Q83) -> 0 | R84: =SUM(R8:R83) -> 0 | S84: =SUM(S8:S83) -> 0 | T84: =SUM(T8:T83) -> 0 | U84: =IF(Q84=0,"",R84/(Q84-S84))
O85: BODOVANJE ZA OSTVARENU KOLEKTIVNU NORMU SUDA U SKLADU SA ČLANOM 22. KRITERIJA ZA OCJENJIVANJE RADA PREDSJEDNIKA SUDOVA | P85: =IF(P84="","",IF(P84>1,20,IF(P84>0.9,18,IF(P84>0.8,16,IF(P84>0.7,12,IF(P84>0.6,8,IF(P84>0.5,4,0)))))))
B87: Obrazloženje norme NPF-a unesene u plava polja
B88: Primjer - Sudija 1 | C88: 8 mjeseci sudija, 4 mjeseca šef odjela (90% norme sudije) | G88: 0.97
Q100: Nedovoljan broj predmeta u radu
A101: NAPOMENA 1: U Tabelu IIa se unose podaci o ostvarenoj orijentacijskoj normi za sve nosioce pravosudnih funkcija, uključujući i one kod kojih je ukupno ostvarenje norme ispod 20%: novoimenovane sudije/stručni saradnici, sudije/stručni saradnici koji su imenovani u drugu instituciju, kao i sudije/stručni saradnici koji su prestali sa radom zbog: penzionisanja, podnošenja ostavke, smrti, gubitka radne sposobnosti, razrješenja od dužnosti, privremenog ili trajnog udaljenja od vršenja dužnosti itd. (član 14. Kriterija za ocjenjivanje rada predsjednika sudova u Bosni i Hercegovini). Ostvarena kolektivna norma suda automatski će se obračunati i predsjedniku suda će se dodijeliti odgovarajući broj bodova u skladu sa članom 22. Kriterija za ocjenjivanje rada predsjednika sudova u Bosni i Hercegovini. Ukoliko sud nije imao dovoljan broj predmeta u radu za ostvarenje orijentacijske norme, potrebno je manuelno unijeti ukupan broj predmeta koji su bili u radu u sudu kao i ukupan broj riješenih predmeta u sudu u periodu izvještavanja, kao i podatke o broju neriješenih predmeta sa zakonskim i procesnim smetnjama i broju neriješenih predmeta bez zakonskih i procesnih smetnji. Procenat riješenih predmeta automatski će se obračunati, te predsjedniku suda dodijeliti odgovarajući broj bodova u skladu sa članom 23. Kriterija za ocjenjivanje rada predsjednika sudova u Bosni i Hercegovini. | Q101: broj predmeta u radu | R101: broj riješenih predmeta | S101: broj neriješenih predmeta sa zakonskim i procesnim smetnjama | T101: broj neriješenih predmeta bez zakonskih i procesnih smetnji | U101: procenat riješenih predmeta
U102: =IF(Q102="","",R102/(Q102-S102))
T103: BODOVANJE ZA BROJ RIJEŠENIH PREDMETA U SUDU U SKLADU SA ČLANOM 23. KRITERIJA ZA OCJENJIVANJE RADA PREDSJEDNIKA SUDOVA | U103: =IF(U102="","",IF(U102>0.94,20,IF(U102>0.9,18,IF(U102>0.8,16,IF(U102>0.7,12,IF(U102>0.6,8,IF(U102>0.5,4,0)))))))
A106: Tabela IIb -Obračun norme za proces ocjenjivanja za nosioce pravosudne funkcije koji su u toku godine prešli iz jednog suda u drugi sud - Obračun prema Instrukciji dio: II POSEBNI SLUČAJEVI OCJENJIVANJA 3) a) (pogledati NAPOMENU 4) i koji su odlukom VSTV BiH privremeno upućeni na obavljanje sudijske dužnosti u drugi sud (pogledati NAPOMENU 4a)
A107: Ime i prezime predsjednika suda | O107: Ukupna ostvarena orijentacijska norma koja se unosi u Obrazac za ocjenjivanje = | P107: =P108+P109 -> 0
A108: Sud 1 | E108: Predsjednik suda | O108: =IF(G108="",0,IF(G108="Ne treba raditi na predm.",1+SUM(L108:N108),(SUM(L108:N108)/G108))) -> 0 | P108: =IF(K108>0,IF(G108="Ne treba raditi na predm.",O108,O108*(J108/(J108-K108))),O108) -> 0 | U108: =IF(Q108="","",(R108+R109)/(Q108+Q109-S108-S109)) | V108: =IF(P108="","",IF(C108="Ne","",IF(G108="Ne treba raditi na predm.","",IF((P108+P109)>1,20,IF(U108="",IF((P108+P109)>0.9,18,IF((P108+P109)>0.8,16,IF((P108+P109)>0.7,12,IF((P108+P109)>0.6,8,IF((P108+P109)>0.5,4,0))))),IF((U108+U109)>0.94,20,IF((U108+U109)>0.9,18,IF((U108+U109)>0.8,16,IF((U108+U109)>0.7,12,IF((U108+U109)>0.6,8,IF((U108+U109)>0.5,4,0))))))))))) -> 0
A109: Sud 2 | F109: =IF(E109="Sudija",1,IF(E109="Stručni saradnik",1,IF(E109="Član VSTV-a",2,""))) | O109: =IF(G109="",0,IF(G109="Ne treba raditi na predm.",1+SUM(L109:N109),(SUM(L109:N109)/G109))) -> 0 | P109: =IF(K109>0,IF(G109="Ne treba raditi na predm.",O109,O109*(J109/(J109-K109))),O109) -> 0 | V109: =IF(P109="","",IF(C109="Ne","",IF(G109="Ne treba raditi na predm.","",IF((P108+P109)>1,40,IF(U109="",IF((P108+P109)>0.9,35,IF((P108+P109)>0.8,30,IF((P108+P109)>0.7,20,IF((P108+P109)>0.6,15,IF((P108+P109)>0.5,10,0))))),IF((U108+U109)>0.94,40,IF((U108+U109)>0.9,35,IF((U108+U109)>0.8,30,IF((U108+U109)>0.7,20,IF((U108+U109)>0.6,15,IF((U108+U109)>0.5,10,0))))))))))) -> 0
A110: Ime i prezime nosioca pravosudne funkcije | O110: Ukupna ostvarena orijentacijska norma koja se unosi u Obrazac za ocjenjivanje = | P110: =P111+P112 -> 0
A111: Sud 1 | F111: =IF(E111="Sudija",1,IF(E111="Stručni saradnik",1,IF(E111="Član VSTV-a",2,""))) | O111: =IF(G111="",0,IF(G111="Ne treba raditi na predm.",1+SUM(L111:N111),(SUM(L111:N111)/G111))) -> 0 | P111: =IF(K111>0,IF(G111="Ne treba raditi na predm.",O111,O111*(J111/(J111-K111))),O111) -> 0 | U111: =IF(Q111="","",(R111+R112)/(Q111+Q112-S111-S112)) | V111: =IF(P111="","",IF(C111="Ne","",IF(G111="Ne treba raditi na predm.","",IF((P111+P112)>1,40,IF(U111="",IF((P111+P112)>0.9,35,IF((P111+P112)>0.8,30,IF((P111+P112)>0.7,20,IF((P111+P112)>0.6,15,IF((P111+P112)>0.5,10,0))))),IF((U111+U112)>0.94,40,IF((U111+U112)>0.9,35,IF((U111+U112)>0.8,30,IF((U111+U112)>0.7,20,IF((U111+U112)>0.6,15,IF((U111+U112)>0.5,10,0))))))))))) -> 0
A112: Sud 2 | F112: =IF(E112="Sudija",1,IF(E112="Stručni saradnik",1,IF(E112="Član VSTV-a",2,""))) | O112: =IF(G112="",0,IF(G112="Ne treba raditi na predm.",1+SUM(L112:N112),(SUM(L112:N112)/G112))) -> 0 | P112: =IF(K112>0,IF(G112="Ne treba raditi na predm.",O112,O112*(J112/(J112-K112))),O112) -> 0 | V112: =IF(P112="","",IF(C112="Ne","",IF(G112="Ne treba raditi na predm.","",IF((P111+P112)>1,40,IF(U112="",IF((P111+P112)>0.9,35,IF((P111+P112)>0.8,30,IF((P111+P112)>0.7,20,IF((P111+P112)>0.6,15,IF((P111+P112)>0.5,10,0))))),IF((U111+U112)>0.94,40,IF((U111+U112)>0.9,35,IF((U111+U112)>0.8,30,IF((U111+U112)>0.7,20,IF((U111+U112)>0.6,15,IF((U111+U112)>0.5,10,0))))))))))) -> 0
A113: Ime i prezime nosioca pravosudne funkcije | O113: Ukupna ostvarena orijentacijska norma koja se unosi u Obrazac za ocjenjivanje = | P113: =P114+P115 -> 0
A114: Sud 1 | F114: =IF(E114="Sudija",1,IF(E114="Stručni saradnik",1,IF(E114="Član VSTV-a",2,""))) | O114: =IF(G114="",0,IF(G114="Ne treba raditi na predm.",1+SUM(L114:N114),(SUM(L114:N114)/G114))) -> 0 | P114: =IF(K114>0,IF(G114="Ne treba raditi na predm.",O114,O114*(J114/(J114-K114))),O114) -> 0 | U114: =IF(Q114="","",(R114+R115)/(Q114+Q115-S114-S115)) | V114: =IF(P114="","",IF(C114="Ne","",IF(G114="Ne treba raditi na predm.","",IF((P114+P115)>1,40,IF(U114="",IF((P114+P115)>0.9,35,IF((P114+P115)>0.8,30,IF((P114+P115)>0.7,20,IF((P114+P115)>0.6,15,IF((P114+P115)>0.5,10,0))))),IF((U114+U115)>0.94,40,IF((U114+U115)>0.9,35,IF((U114+U115)>0.8,30,IF((U114+U115)>0.7,20,IF((U114+U115)>0.6,15,IF((U114+U115)>0.5,10,0))))))))))) -> 0
A115: Sud 2 | F115: =IF(E115="Sudija",1,IF(E115="Stručni saradnik",1,IF(E115="Član VSTV-a",2,""))) | O115: =IF(G115="",0,IF(G115="Ne treba raditi na predm.",1+SUM(L115:N115),(SUM(L115:N115)/G115))) -> 0 | P115: =IF(K115>0,IF(G115="Ne treba raditi na predm.",O115,O115*(J115/(J115-K115))),O115) -> 0 | V115: =IF(P115="","",IF(C115="Ne","",IF(G115="Ne treba raditi na predm.","",IF((P114+P115)>1,40,IF(U115="",IF((P114+P115)>0.9,35,IF((P114+P115)>0.8,30,IF((P114+P115)>0.7,20,IF((P114+P115)>0.6,15,IF((P114+P115)>0.5,10,0))))),IF((U114+U115)>0.94,40,IF((U114+U115)>0.9,35,IF((U114+U115)>0.8,30,IF((U114+U115)>0.7,20,IF((U114+U115)>0.6,15,IF((U114+U115)>0.5,10,0))))))))))) -> 0
A116: Ime i prezime nosioca pravosudne funkcije | O116: Ukupna ostvarena orijentacijska norma koja se unosi u Obrazac za ocjenjivanje = | P116: =P117+P118 -> 0
A117: Sud 1 | F117: =IF(E117="Sudija",1,IF(E117="Stručni saradnik",1,IF(E117="Član VSTV-a",2,""))) | O117: =IF(G117="",0,IF(G117="Ne treba raditi na predm.",1+SUM(L117:N117),(SUM(L117:N117)/G117))) -> 0 | P117: =IF(K117>0,IF(G117="Ne treba raditi na predm.",O117,O117*(J117/(J117-K117))),O117) -> 0 | U117: =IF(Q117="","",(R117+R118)/(Q117+Q118-S117-S118)) | V117: =IF(P117="","",IF(C117="Ne","",IF(G117="Ne treba raditi na predm.","",IF((P117+P118)>1,40,IF(U117="",IF((P117+P118)>0.9,35,IF((P117+P118)>0.8,30,IF((P117+P118)>0.7,20,IF((P117+P118)>0.6,15,IF((P117+P118)>0.5,10,0))))),IF((U117+U118)>0.94,40,IF((U117+U118)>0.9,35,IF((U117+U118)>0.8,30,IF((U117+U118)>0.7,20,IF((U117+U118)>0.6,15,IF((U117+U118)>0.5,10,0))))))))))) -> 0
A118: Sud 2 | F118: =IF(E118="Sudija",1,IF(E118="Stručni saradnik",1,IF(E118="Član VSTV-a",2,""))) | O118: =IF(G118="",0,IF(G118="Ne treba raditi na predm.",1+SUM(L118:N118),(SUM(L118:N118)/G118))) -> 0 | P118: =IF(K118>0,IF(G118="Ne treba raditi na predm.",O118,O118*(J118/(J118-K118))),O118) -> 0 | V118: =IF(P118="","",IF(C118="Ne","",IF(G118="Ne treba raditi na predm.","",IF((P117+P118)>1,40,IF(U118="",IF((P117+P118)>0.9,35,IF((P117+P118)>0.8,30,IF((P117+P118)>0.7,20,IF((P117+P118)>0.6,15,IF((P117+P118)>0.5,10,0))))),IF((U117+U118)>0.94,40,IF((U117+U118)>0.9,35,IF((U117+U118)>0.8,30,IF((U117+U118)>0.7,20,IF((U117+U118)>0.6,15,IF((U117+U118)>0.5,10,0))))))))))) -> 0
A119: Ime i prezime nosioca pravosudne funkcije | O119: Ukupna ostvarena orijentacijska norma koja se unosi u Obrazac za ocjenjivanje = | P119: =P120+P121 -> 0
A120: Sud 1 | F120: =IF(E120="Sudija",1,IF(E120="Stručni saradnik",1,IF(E120="Član VSTV-a",2,""))) | O120: =IF(G120="",0,IF(G120="Ne treba raditi na predm.",1+SUM(L120:N120),(SUM(L120:N120)/G120))) -> 0 | P120: =IF(K120>0,IF(G120="Ne treba raditi na predm.",O120,O120*(J120/(J120-K120))),O120) -> 0 | U120: =IF(Q120="","",(R120+R121)/(Q120+Q121-S120-S121)) | V120: =IF(P120="","",IF(C120="Ne","",IF(G120="Ne treba raditi na predm.","",IF((P120+P121)>1,40,IF(U120="",IF((P120+P121)>0.9,35,IF((P120+P121)>0.8,30,IF((P120+P121)>0.7,20,IF((P120+P121)>0.6,15,IF((P120+P121)>0.5,10,0))))),IF((U120+U121)>0.94,40,IF((U120+U121)>0.9,35,IF((U120+U121)>0.8,30,IF((U120+U121)>0.7,20,IF((U120+U121)>0.6,15,IF((U120+U121)>0.5,10,0))))))))))) -> 0
A121: Sud 2 | F121: =IF(E121="Sudija",1,IF(E121="Stručni saradnik",1,IF(E121="Član VSTV-a",2,""))) | O121: =IF(G121="",0,IF(G121="Ne treba raditi na predm.",1+SUM(L121:N121),(SUM(L121:N121)/G121))) -> 0 | P121: =IF(K121>0,IF(G121="Ne treba raditi na predm.",O121,O121*(J121/(J121-K121))),O121) -> 0 | V121: =IF(P121="","",IF(C121="Ne","",IF(G121="Ne treba raditi na predm.","",IF((P120+P121)>1,40,IF(U121="",IF((P120+P121)>0.9,35,IF((P120+P121)>0.8,30,IF((P120+P121)>0.7,20,IF((P120+P121)>0.6,15,IF((P120+P121)>0.5,10,0))))),IF((U120+U121)>0.94,40,IF((U120+U121)>0.9,35,IF((U120+U121)>0.8,30,IF((U120+U121)>0.7,20,IF((U120+U121)>0.6,15,IF((U120+U121)>0.5,10,0))))))))))) -> 0
A122: Ime i prezime nosioca pravosudne funkcije | O122: Ukupna ostvarena orijentacijska norma koja se unosi u Obrazac za ocjenjivanje = | P122: =P123+P124 -> 0
A123: Sud 1 | F123: =IF(E123="Sudija",1,IF(E123="Stručni saradnik",1,IF(E123="Član VSTV-a",2,""))) | O123: =IF(G123="",0,IF(G123="Ne treba raditi na predm.",1+SUM(L123:N123),(SUM(L123:N123)/G123))) -> 0 | P123: =IF(K123>0,IF(G123="Ne treba raditi na predm.",O123,O123*(J123/(J123-K123))),O123) -> 0 | U123: =IF(Q123="","",(R123+R124)/(Q123+Q124-S123-S124)) | V123: =IF(P123="","",IF(C123="Ne","",IF(G123="Ne treba raditi na predm.","",IF((P123+P124)>1,40,IF(U123="",IF((P123+P124)>0.9,35,IF((P123+P124)>0.8,30,IF((P123+P124)>0.7,20,IF((P123+P124)>0.6,15,IF((P123+P124)>0.5,10,0))))),IF((U123+U124)>0.94,40,IF((U123+U124)>0.9,35,IF((U123+U124)>0.8,30,IF((U123+U124)>0.7,20,IF((U123+U124)>0.6,15,IF((U123+U124)>0.5,10,0))))))))))) -> 0
A124: Sud 2 | F124: =IF(E124="Sudija",1,IF(E124="Stručni saradnik",1,IF(E124="Član VSTV-a",2,""))) | O124: =IF(G124="",0,IF(G124="Ne treba raditi na predm.",1+SUM(L124:N124),(SUM(L124:N124)/G124))) -> 0 | P124: =IF(K124>0,IF(G124="Ne treba raditi na predm.",O124,O124*(J124/(J124-K124))),O124) -> 0 | V124: =IF(P124="","",IF(C124="Ne","",IF(G124="Ne treba raditi na predm.","",IF((P123+P124)>1,40,IF(U124="",IF((P123+P124)>0.9,35,IF((P123+P124)>0.8,30,IF((P123+P124)>0.7,20,IF((P123+P124)>0.6,15,IF((P123+P124)>0.5,10,0))))),IF((U123+U124)>0.94,40,IF((U123+U124)>0.9,35,IF((U123+U124)>0.8,30,IF((U123+U124)>0.7,20,IF((U123+U124)>0.6,15,IF((U123+U124)>0.5,10,0))))))))))) -> 0
A125: Ime i prezime nosioca pravosudne funkcije | O125: Ukupna ostvarena orijentacijska norma koja se unosi u Obrazac za ocjenjivanje = | P125: =P126+P127 -> 0
A126: Sud 1 | F126: =IF(E126="Sudija",1,IF(E126="Stručni saradnik",1,IF(E126="Član VSTV-a",2,""))) | O126: =IF(G126="",0,IF(G126="Ne treba raditi na predm.",1+SUM(L126:N126),(SUM(L126:N126)/G126))) -> 0 | P126: =IF(K126>0,IF(G126="Ne treba raditi na predm.",O126,O126*(J126/(J126-K126))),O126) -> 0 | U126: =IF(Q126="","",(R126+R127)/(Q126+Q127-S126-S127)) | V126: =IF(P126="","",IF(C126="Ne","",IF(G126="Ne treba raditi na predm.","",IF((P126+P127)>1,40,IF(U126="",IF((P126+P127)>0.9,35,IF((P126+P127)>0.8,30,IF((P126+P127)>0.7,20,IF((P126+P127)>0.6,15,IF((P126+P127)>0.5,10,0))))),IF((U126+U127)>0.94,40,IF((U126+U127)>0.9,35,IF((U126+U127)>0.8,30,IF((U126+U127)>0.7,20,IF((U126+U127)>0.6,15,IF((U126+U127)>0.5,10,0))))))))))) -> 0
A127: Sud 2 | F127: =IF(E127="Sudija",1,IF(E127="Stručni saradnik",1,IF(E127="Član VSTV-a",2,""))) | O127: =IF(G127="",0,IF(G127="Ne treba raditi na predm.",1+SUM(L127:N127),(SUM(L127:N127)/G127))) -> 0 | P127: =IF(K127>0,IF(G127="Ne treba raditi na predm.",O127,O127*(J127/(J127-K127))),O127) -> 0 | V127: =IF(P127="","",IF(C127="Ne","",IF(G127="Ne treba raditi na predm.","",IF((P126+P127)>1,40,IF(U127="",IF((P126+P127)>0.9,35,IF((P126+P127)>0.8,30,IF((P126+P127)>0.7,20,IF((P126+P127)>0.6,15,IF((P126+P127)>0.5,10,0))))),IF((U126+U127)>0.94,40,IF((U126+U127)>0.9,35,IF((U126+U127)>0.8,30,IF((U126+U127)>0.7,20,IF((U126+U127)>0.6,15,IF((U126+U127)>0.5,10,0))))))))))) -> 0
A128: Ime i prezime nosioca pravosudne funkcije | O128: Ukupna ostvarena orijentacijska norma koja se unosi u Obrazac za ocjenjivanje = | P128: =P129+P130 -> 0
A129: Sud 1 | F129: =IF(E129="Sudija",1,IF(E129="Stručni saradnik",1,IF(E129="Član VSTV-a",2,""))) | O129: =IF(G129="",0,IF(G129="Ne treba raditi na predm.",1+SUM(L129:N129),(SUM(L129:N129)/G129))) -> 0 | P129: =IF(K129>0,IF(G129="Ne treba raditi na predm.",O129,O129*(J129/(J129-K129))),O129) -> 0 | U129: =IF(Q129="","",(R129+R130)/(Q129+Q130-S129-S130)) | V129: =IF(P129="","",IF(C129="Ne","",IF(G129="Ne treba raditi na predm.","",IF((P129+P130)>1,40,IF(U129="",IF((P129+P130)>0.9,35,IF((P129+P130)>0.8,30,IF((P129+P130)>0.7,20,IF((P129+P130)>0.6,15,IF((P129+P130)>0.5,10,0))))),IF((U129+U130)>0.94,40,IF((U129+U130)>0.9,35,IF((U129+U130)>0.8,30,IF((U129+U130)>0.7,20,IF((U129+U130)>0.6,15,IF((U129+U130)>0.5,10,0))))))))))) -> 0
A130: Sud 2 | F130: =IF(E130="Sudija",1,IF(E130="Stručni saradnik",1,IF(E130="Član VSTV-a",2,""))) | O130: =IF(G130="",0,IF(G130="Ne treba raditi na predm.",1+SUM(L130:N130),(SUM(L130:N130)/G130))) -> 0 | P130: =IF(K130>0,IF(G130="Ne treba raditi na predm.",O130,O130*(J130/(J130-K130))),O130) -> 0 | V130: =IF(P130="","",IF(C130="Ne","",IF(G130="Ne treba raditi na predm.","",IF((P129+P130)>1,40,IF(U130="",IF((P129+P130)>0.9,35,IF((P129+P130)>0.8,30,IF((P129+P130)>0.7,20,IF((P129+P130)>0.6,15,IF((P129+P130)>0.5,10,0))))),IF((U129+U130)>0.94,40,IF((U129+U130)>0.9,35,IF((U129+U130)>0.8,30,IF((U129+U130)>0.7,20,IF((U129+U130)>0.6,15,IF((U129+U130)>0.5,10,0))))))))))) -> 0
A131: Ime i prezime nosioca pravosudne funkcije | O131: Ukupna ostvarena orijentacijska norma koja se unosi u Obrazac za ocjenjivanje = | P131: =P132+P133 -> 0
A132: Sud 1 | F132: =IF(E132="Sudija",1,IF(E132="Stručni saradnik",1,IF(E132="Član VSTV-a",2,""))) | O132: =IF(G132="",0,IF(G132="Ne treba raditi na predm.",1+SUM(L132:N132),(SUM(L132:N132)/G132))) -> 0 | P132: =IF(K132>0,IF(G132="Ne treba raditi na predm.",O132,O132*(J132/(J132-K132))),O132) -> 0 | U132: =IF(Q132="","",(R132+R133)/(Q132+Q133-S132-S133)) | V132: =IF(P132="","",IF(C132="Ne","",IF(G132="Ne treba raditi na predm.","",IF((P132+P133)>1,40,IF(U132="",IF((P132+P133)>0.9,35,IF((P132+P133)>0.8,30,IF((P132+P133)>0.7,20,IF((P132+P133)>0.6,15,IF((P132+P133)>0.5,10,0))))),IF((U132+U133)>0.94,40,IF((U132+U133)>0.9,35,IF((U132+U133)>0.8,30,IF((U132+U133)>0.7,20,IF((U132+U133)>0.6,15,IF((U132+U133)>0.5,10,0))))))))))) -> 0
A133: Sud 2 | F133: =IF(E133="Sudija",1,IF(E133="Stručni saradnik",1,IF(E133="Član VSTV-a",2,""))) | O133: =IF(G133="",0,IF(G133="Ne treba raditi na predm.",1+SUM(L133:N133),(SUM(L133:N133)/G133))) -> 0 | P133: =IF(K133>0,IF(G133="Ne treba raditi na predm.",O133,O133*(J133/(J133-K133))),O133) -> 0 | V133: =IF(P133="","",IF(C133="Ne","",IF(G133="Ne treba raditi na predm.","",IF((P132+P133)>1,40,IF(U133="",IF((P132+P133)>0.9,35,IF((P132+P133)>0.8,30,IF((P132+P133)>0.7,20,IF((P132+P133)>0.6,15,IF((P132+P133)>0.5,10,0))))),IF((U132+U133)>0.94,40,IF((U132+U133)>0.9,35,IF((U132+U133)>0.8,30,IF((U132+U133)>0.7,20,IF((U132+U133)>0.6,15,IF((U132+U133)>0.5,10,0))))))))))) -> 0
A134: Ime i prezime nosioca pravosudne funkcije | O134: Ukupna ostvarena orijentacijska norma koja se unosi u Obrazac za ocjenjivanje = | P134: =P135+P136 -> 0
A135: Sud 1 | F135: =IF(E135="Sudija",1,IF(E135="Stručni saradnik",1,IF(E135="Član VSTV-a",2,""))) | O135: =IF(G135="",0,IF(G135="Ne treba raditi na predm.",1+SUM(L135:N135),(SUM(L135:N135)/G135))) -> 0 | P135: =IF(K135>0,IF(G135="Ne treba raditi na predm.",O135,O135*(J135/(J135-K135))),O135) -> 0 | U135: =IF(Q135="","",(R135+R136)/(Q135+Q136-S135-S136)) | V135: =IF(P135="","",IF(C135="Ne","",IF(G135="Ne treba raditi na predm.","",IF((P135+P136)>1,40,IF(U135="",IF((P135+P136)>0.9,35,IF((P135+P136)>0.8,30,IF((P135+P136)>0.7,20,IF((P135+P136)>0.6,15,IF((P135+P136)>0.5,10,0))))),IF((U135+U136)>0.94,40,IF((U135+U136)>0.9,35,IF((U135+U136)>0.8,30,IF((U135+U136)>0.7,20,IF((U135+U136)>0.6,15,IF((U135+U136)>0.5,10,0))))))))))) -> 0
A136: Sud 2 | F136: =IF(E136="Sudija",1,IF(E136="Stručni saradnik",1,IF(E136="Član VSTV-a",2,""))) | O136: =IF(G136="",0,IF(G136="Ne treba raditi na predm.",1+SUM(L136:N136),(SUM(L136:N136)/G136))) -> 0 | P136: =IF(K136>0,IF(G136="Ne treba raditi na predm.",O136,O136*(J136/(J136-K136))),O136) -> 0 | V136: =IF(P136="","",IF(C136="Ne","",IF(G136="Ne treba raditi na predm.","",IF((P135+P136)>1,40,IF(U136="",IF((P135+P136)>0.9,35,IF((P135+P136)>0.8,30,IF((P135+P136)>0.7,20,IF((P135+P136)>0.6,15,IF((P135+P136)>0.5,10,0))))),IF((U135+U136)>0.94,40,IF((U135+U136)>0.9,35,IF((U135+U136)>0.8,30,IF((U135+U136)>0.7,20,IF((U135+U136)>0.6,15,IF((U135+U136)>0.5,10,0))))))))))) -> 0
A137: Ime i prezime nosioca pravosudne funkcije | O137: Ukupna ostvarena orijentacijska norma koja se unosi u Obrazac za ocjenjivanje = | P137: =P138+P139 -> 0
A138: Sud 1 | F138: =IF(E138="Sudija",1,IF(E138="Stručni saradnik",1,IF(E138="Član VSTV-a",2,""))) | O138: =IF(G138="",0,IF(G138="Ne treba raditi na predm.",1+SUM(L138:N138),(SUM(L138:N138)/G138))) -> 0 | P138: =IF(K138>0,IF(G138="Ne treba raditi na predm.",O138,O138*(J138/(J138-K138))),O138) -> 0 | U138: =IF(Q138="","",(R138+R139)/(Q138+Q139-S138-S139)) | V138: =IF(P138="","",IF(C138="Ne","",IF(G138="Ne treba raditi na predm.","",IF((P138+P139)>1,40,IF(U138="",IF((P138+P139)>0.9,35,IF((P138+P139)>0.8,30,IF((P138+P139)>0.7,20,IF((P138+P139)>0.6,15,IF((P138+P139)>0.5,10,0))))),IF((U138+U139)>0.94,40,IF((U138+U139)>0.9,35,IF((U138+U139)>0.8,30,IF((U138+U139)>0.7,20,IF((U138+U139)>0.6,15,IF((U138+U139)>0.5,10,0))))))))))) -> 0
A139: Sud 2 | F139: =IF(E139="Sudija",1,IF(E139="Stručni saradnik",1,IF(E139="Član VSTV-a",2,""))) | O139: =IF(G139="",0,IF(G139="Ne treba raditi na predm.",1+SUM(L139:N139),(SUM(L139:N139)/G139))) -> 0 | P139: =IF(K139>0,IF(G139="Ne treba raditi na predm.",O139,O139*(J139/(J139-K139))),O139) -> 0 | V139: =IF(P139="","",IF(C139="Ne","",IF(G139="Ne treba raditi na predm.","",IF((P138+P139)>1,40,IF(U139="",IF((P138+P139)>0.9,35,IF((P138+P139)>0.8,30,IF((P138+P139)>0.7,20,IF((P138+P139)>0.6,15,IF((P138+P139)>0.5,10,0))))),IF((U138+U139)>0.94,40,IF((U138+U139)>0.9,35,IF((U138+U139)>0.8,30,IF((U138+U139)>0.7,20,IF((U138+U139)>0.6,15,IF((U138+U139)>0.5,10,0))))))))))) -> 0
A140: Ime i prezime nosioca pravosudne funkcije | O140: Ukupna ostvarena orijentacijska norma koja se unosi u Obrazac za ocjenjivanje = | P140: =P141+P142 -> 0
A141: Sud 1 | F141: =IF(E141="Sudija",1,IF(E141="Stručni saradnik",1,IF(E141="Član VSTV-a",2,""))) | O141: =IF(G141="",0,IF(G141="Ne treba raditi na predm.",1+SUM(L141:N141),(SUM(L141:N141)/G141))) -> 0 | P141: =IF(K141>0,IF(G141="Ne treba raditi na predm.",O141,O141*(J141/(J141-K141))),O141) -> 0 | U141: =IF(Q141="","",(R141+R142)/(Q141+Q142-S141-S142)) | V141: =IF(P141="","",IF(C141="Ne","",IF(G141="Ne treba raditi na predm.","",IF((P141+P142)>1,40,IF(U141="",IF((P141+P142)>0.9,35,IF((P141+P142)>0.8,30,IF((P141+P142)>0.7,20,IF((P141+P142)>0.6,15,IF((P141+P142)>0.5,10,0))))),IF((U141+U142)>0.94,40,IF((U141+U142)>0.9,35,IF((U141+U142)>0.8,30,IF((U141+U142)>0.7,20,IF((U141+U142)>0.6,15,IF((U141+U142)>0.5,10,0))))))))))) -> 0
A142: Sud 2 | F142: =IF(E142="Sudija",1,IF(E142="Stručni saradnik",1,IF(E142="Član VSTV-a",2,""))) | O142: =IF(G142="",0,IF(G142="Ne treba raditi na predm.",1+SUM(L142:N142),(SUM(L142:N142)/G142))) -> 0 | P142: =IF(K142>0,IF(G142="Ne treba raditi na predm.",O142,O142*(J142/(J142-K142))),O142) -> 0 | V142: =IF(P142="","",IF(C142="Ne","",IF(G142="Ne treba raditi na predm.","",IF((P141+P142)>1,40,IF(U142="",IF((P141+P142)>0.9,35,IF((P141+P142)>0.8,30,IF((P141+P142)>0.7,20,IF((P141+P142)>0.6,15,IF((P141+P142)>0.5,10,0))))),IF((U141+U142)>0.94,40,IF((U141+U142)>0.9,35,IF((U141+U142)>0.8,30,IF((U141+U142)>0.7,20,IF((U141+U142)>0.6,15,IF((U141+U142)>0.5,10,0))))))))))) -> 0
A143: Ime i prezime nosioca pravosudne funkcije | O143: Ukupna ostvarena orijentacijska norma koja se unosi u Obrazac za ocjenjivanje = | P143: =P144+P145 -> 0
A144: Sud 1 | F144: =IF(E144="Sudija",1,IF(E144="Stručni saradnik",1,IF(E144="Član VSTV-a",2,""))) | O144: =IF(G144="",0,IF(G144="Ne treba raditi na predm.",1+SUM(L144:N144),(SUM(L144:N144)/G144))) -> 0 | P144: =IF(K144>0,IF(G144="Ne treba raditi na predm.",O144,O144*(J144/(J144-K144))),O144) -> 0 | U144: =IF(Q144="","",(R144+R145)/(Q144+Q145-S144-S145)) | V144: =IF(P144="","",IF(C144="Ne","",IF(G144="Ne treba raditi na predm.","",IF((P144+P145)>1,40,IF(U144="",IF((P144+P145)>0.9,35,IF((P144+P145)>0.8,30,IF((P144+P145)>0.7,20,IF((P144+P145)>0.6,15,IF((P144+P145)>0.5,10,0))))),IF((U144+U145)>0.94,40,IF((U144+U145)>0.9,35,IF((U144+U145)>0.8,30,IF((U144+U145)>0.7,20,IF((U144+U145)>0.6,15,IF((U144+U145)>0.5,10,0))))))))))) -> 0
A145: Sud 2 | F145: =IF(E145="Sudija",1,IF(E145="Stručni saradnik",1,IF(E145="Član VSTV-a",2,""))) | O145: =IF(G145="",0,IF(G145="Ne treba raditi na predm.",1+SUM(L145:N145),(SUM(L145:N145)/G145))) -> 0 | P145: =IF(K145>0,IF(G145="Ne treba raditi na predm.",O145,O145*(J145/(J145-K145))),O145) -> 0 | V145: =IF(P145="","",IF(C145="Ne","",IF(G145="Ne treba raditi na predm.","",IF((P144+P145)>1,40,IF(U145="",IF((P144+P145)>0.9,35,IF((P144+P145)>0.8,30,IF((P144+P145)>0.7,20,IF((P144+P145)>0.6,15,IF((P144+P145)>0.5,10,0))))),IF((U144+U145)>0.94,40,IF((U144+U145)>0.9,35,IF((U144+U145)>0.8,30,IF((U144+U145)>0.7,20,IF((U144+U145)>0.6,15,IF((U144+U145)>0.5,10,0))))))))))) -> 0
A146: Ime i prezime nosioca pravosudne funkcije | O146: Ukupna ostvarena orijentacijska norma koja se unosi u Obrazac za ocjenjivanje = | P146: =P147+P148 -> 0
A147: Sud 1 | F147: =IF(E147="Sudija",1,IF(E147="Stručni saradnik",1,IF(E147="Član VSTV-a",2,""))) | O147: =IF(G147="",0,IF(G147="Ne treba raditi na predm.",1+SUM(L147:N147),(SUM(L147:N147)/G147))) -> 0 | P147: =IF(K147>0,IF(G147="Ne treba raditi na predm.",O147,O147*(J147/(J147-K147))),O147) -> 0 | U147: =IF(Q147="","",(R147+R148)/(Q147+Q148-S147-S148)) | V147: =IF(P147="","",IF(C147="Ne","",IF(G147="Ne treba raditi na predm.","",IF((P147+P148)>1,40,IF(U147="",IF((P147+P148)>0.9,35,IF((P147+P148)>0.8,30,IF((P147+P148)>0.7,20,IF((P147+P148)>0.6,15,IF((P147+P148)>0.5,10,0))))),IF((U147+U148)>0.94,40,IF((U147+U148)>0.9,35,IF((U147+U148)>0.8,30,IF((U147+U148)>0.7,20,IF((U147+U148)>0.6,15,IF((U147+U148)>0.5,10,0))))))))))) -> 0
A148: Sud 2 | F148: =IF(E148="Sudija",1,IF(E148="Stručni saradnik",1,IF(E148="Član VSTV-a",2,""))) | O148: =IF(G148="",0,IF(G148="Ne treba raditi na predm.",1+SUM(L148:N148),(SUM(L148:N148)/G148))) -> 0 | P148: =IF(K148>0,IF(G148="Ne treba raditi na predm.",O148,O148*(J148/(J148-K148))),O148) -> 0 | V148: =IF(P148="","",IF(C148="Ne","",IF(G148="Ne treba raditi na predm.","",IF((P147+P148)>1,40,IF(U148="",IF((P147+P148)>0.9,35,IF((P147+P148)>0.8,30,IF((P147+P148)>0.7,20,IF((P147+P148)>0.6,15,IF((P147+P148)>0.5,10,0))))),IF((U147+U148)>0.94,40,IF((U147+U148)>0.9,35,IF((U147+U148)>0.8,30,IF((U147+U148)>0.7,20,IF((U147+U148)>0.6,15,IF((U147+U148)>0.5,10,0))))))))))) -> 0
A149: Ime i prezime nosioca pravosudne funkcije | O149: Ukupna ostvarena orijentacijska norma koja se unosi u Obrazac za ocjenjivanje = | P149: =P150+P151 -> 0
A150: Sud 1 | F150: =IF(E150="Sudija",1,IF(E150="Stručni saradnik",1,IF(E150="Član VSTV-a",2,""))) | O150: =IF(G150="",0,IF(G150="Ne treba raditi na predm.",1+SUM(L150:N150),(SUM(L150:N150)/G150))) -> 0 | P150: =IF(K150>0,IF(G150="Ne treba raditi na predm.",O150,O150*(J150/(J150-K150))),O150) -> 0 | U150: =IF(Q150="","",(R150+R151)/(Q150+Q151-S150-S151)) | V150: =IF(P150="","",IF(C150="Ne","",IF(G150="Ne treba raditi na predm.","",IF((P150+P151)>1,40,IF(U150="",IF((P150+P151)>0.9,35,IF((P150+P151)>0.8,30,IF((P150+P151)>0.7,20,IF((P150+P151)>0.6,15,IF((P150+P151)>0.5,10,0))))),IF((U150+U151)>0.94,40,IF((U150+U151)>0.9,35,IF((U150+U151)>0.8,30,IF((U150+U151)>0.7,20,IF((U150+U151)>0.6,15,IF((U150+U151)>0.5,10,0))))))))))) -> 0
A151: Sud 2 | F151: =IF(E151="Sudija",1,IF(E151="Stručni saradnik",1,IF(E151="Član VSTV-a",2,""))) | O151: =IF(G151="",0,IF(G151="Ne treba raditi na predm.",1+SUM(L151:N151),(SUM(L151:N151)/G151))) -> 0 | P151: =IF(K151>0,IF(G151="Ne treba raditi na predm.",O151,O151*(J151/(J151-K151))),O151) -> 0 | V151: =IF(P151="","",IF(C151="Ne","",IF(G151="Ne treba raditi na predm.","",IF((P150+P151)>1,40,IF(U151="",IF((P150+P151)>0.9,35,IF((P150+P151)>0.8,30,IF((P150+P151)>0.7,20,IF((P150+P151)>0.6,15,IF((P150+P151)>0.5,10,0))))),IF((U150+U151)>0.94,40,IF((U150+U151)>0.9,35,IF((U150+U151)>0.8,30,IF((U150+U151)>0.7,20,IF((U150+U151)>0.6,15,IF((U150+U151)>0.5,10,0))))))))))) -> 0
A152: Ime i prezime nosioca pravosudne funkcije | O152: Ukupna ostvarena orijentacijska norma koja se unosi u Obrazac za ocjenjivanje = | P152: =P153+P154 -> 0
A153: Sud 1 | F153: =IF(E153="Sudija",1,IF(E153="Stručni saradnik",1,IF(E153="Član VSTV-a",2,""))) | O153: =IF(G153="",0,IF(G153="Ne treba raditi na predm.",1+SUM(L153:N153),(SUM(L153:N153)/G153))) -> 0 | P153: =IF(K153>0,IF(G153="Ne treba raditi na predm.",O153,O153*(J153/(J153-K153))),O153) -> 0 | U153: =IF(Q153="","",(R153+R154)/(Q153+Q154-S153-S154)) | V153: =IF(P153="","",IF(C153="Ne","",IF(G153="Ne treba raditi na predm.","",IF((P153+P154)>1,40,IF(U153="",IF((P153+P154)>0.9,35,IF((P153+P154)>0.8,30,IF((P153+P154)>0.7,20,IF((P153+P154)>0.6,15,IF((P153+P154)>0.5,10,0))))),IF((U153+U154)>0.94,40,IF((U153+U154)>0.9,35,IF((U153+U154)>0.8,30,IF((U153+U154)>0.7,20,IF((U153+U154)>0.6,15,IF((U153+U154)>0.5,10,0))))))))))) -> 0
A154: Sud 2 | F154: =IF(E154="Sudija",1,IF(E154="Stručni saradnik",1,IF(E154="Član VSTV-a",2,""))) | O154: =IF(G154="",0,IF(G154="Ne treba raditi na predm.",1+SUM(L154:N154),(SUM(L154:N154)/G154))) -> 0 | P154: =IF(K154>0,IF(G154="Ne treba raditi na predm.",O154,O154*(J154/(J154-K154))),O154) -> 0 | V154: =IF(P154="","",IF(C154="Ne","",IF(G154="Ne treba raditi na predm.","",IF((P153+P154)>1,40,IF(U154="",IF((P153+P154)>0.9,35,IF((P153+P154)>0.8,30,IF((P153+P154)>0.7,20,IF((P153+P154)>0.6,15,IF((P153+P154)>0.5,10,0))))),IF((U153+U154)>0.94,40,IF((U153+U154)>0.9,35,IF((U153+U154)>0.8,30,IF((U153+U154)>0.7,20,IF((U153+U154)>0.6,15,IF((U153+U154)>0.5,10,0))))))))))) -> 0
A155: Ime i prezime nosioca pravosudne funkcije | O155: Ukupna ostvarena orijentacijska norma koja se unosi u Obrazac za ocjenjivanje = | P155: =P156+P157 -> 0
A156: Sud 1 | F156: =IF(E156="Sudija",1,IF(E156="Stručni saradnik",1,IF(E156="Član VSTV-a",2,""))) | O156: =IF(G156="",0,IF(G156="Ne treba raditi na predm.",1+SUM(L156:N156),(SUM(L156:N156)/G156))) -> 0 | P156: =IF(K156>0,IF(G156="Ne treba raditi na predm.",O156,O156*(J156/(J156-K156))),O156) -> 0 | U156: =IF(Q156="","",(R156+R157)/(Q156+Q157-S156-S157)) | V156: =IF(P156="","",IF(C156="Ne","",IF(G156="Ne treba raditi na predm.","",IF((P156+P157)>1,40,IF(U156="",IF((P156+P157)>0.9,35,IF((P156+P157)>0.8,30,IF((P156+P157)>0.7,20,IF((P156+P157)>0.6,15,IF((P156+P157)>0.5,10,0))))),IF((U156+U157)>0.94,40,IF((U156+U157)>0.9,35,IF((U156+U157)>0.8,30,IF((U156+U157)>0.7,20,IF((U156+U157)>0.6,15,IF((U156+U157)>0.5,10,0))))))))))) -> 0
A157: Sud 2 | F157: =IF(E157="Sudija",1,IF(E157="Stručni saradnik",1,IF(E157="Član VSTV-a",2,""))) | O157: =IF(G157="",0,IF(G157="Ne treba raditi na predm.",1+SUM(L157:N157),(SUM(L157:N157)/G157))) -> 0 | P157: =IF(K157>0,IF(G157="Ne treba raditi na predm.",O157,O157*(J157/(J157-K157))),O157) -> 0 | V157: =IF(P157="","",IF(C157="Ne","",IF(G157="Ne treba raditi na predm.","",IF((P156+P157)>1,40,IF(U157="",IF((P156+P157)>0.9,35,IF((P156+P157)>0.8,30,IF((P156+P157)>0.7,20,IF((P156+P157)>0.6,15,IF((P156+P157)>0.5,10,0))))),IF((U156+U157)>0.94,40,IF((U156+U157)>0.9,35,IF((U156+U157)>0.8,30,IF((U156+U157)>0.7,20,IF((U156+U157)>0.6,15,IF((U156+U157)>0.5,10,0))))))))))) -> 0
A158: Ime i prezime nosioca pravosudne funkcije | O158: Ukupna ostvarena orijentacijska norma koja se unosi u Obrazac za ocjenjivanje = | P158: =P159+P160 -> 0
A159: Sud 1 | F159: =IF(E159="Sudija",1,IF(E159="Stručni saradnik",1,IF(E159="Član VSTV-a",2,""))) | O159: =IF(G159="",0,IF(G159="Ne treba raditi na predm.",1+SUM(L159:N159),(SUM(L159:N159)/G159))) -> 0 | P159: =IF(K159>0,IF(G159="Ne treba raditi na predm.",O159,O159*(J159/(J159-K159))),O159) -> 0 | U159: =IF(Q159="","",(R159+R160)/(Q159+Q160-S159-S160)) | V159: =IF(P159="","",IF(C159="Ne","",IF(G159="Ne treba raditi na predm.","",IF((P159+P160)>1,40,IF(U159="",IF((P159+P160)>0.9,35,IF((P159+P160)>0.8,30,IF((P159+P160)>0.7,20,IF((P159+P160)>0.6,15,IF((P159+P160)>0.5,10,0))))),IF((U159+U160)>0.94,40,IF((U159+U160)>0.9,35,IF((U159+U160)>0.8,30,IF((U159+U160)>0.7,20,IF((U159+U160)>0.6,15,IF((U159+U160)>0.5,10,0))))))))))) -> 0
A160: Sud 2 | F160: =IF(E160="Sudija",1,IF(E160="Stručni saradnik",1,IF(E160="Član VSTV-a",2,""))) | O160: =IF(G160="",0,IF(G160="Ne treba raditi na predm.",1+SUM(L160:N160),(SUM(L160:N160)/G160))) -> 0 | P160: =IF(K160>0,IF(G160="Ne treba raditi na predm.",O160,O160*(J160/(J160-K160))),O160) -> 0 | V160: =IF(P160="","",IF(C160="Ne","",IF(G160="Ne treba raditi na predm.","",IF((P159+P160)>1,40,IF(U160="",IF((P159+P160)>0.9,35,IF((P159+P160)>0.8,30,IF((P159+P160)>0.7,20,IF((P159+P160)>0.6,15,IF((P159+P160)>0.5,10,0))))),IF((U159+U160)>0.94,40,IF((U159+U160)>0.9,35,IF((U159+U160)>0.8,30,IF((U159+U160)>0.7,20,IF((U159+U160)>0.6,15,IF((U159+U160)>0.5,10,0))))))))))) -> 0
A161: Ime i prezime nosioca pravosudne funkcije | O161: Ukupna ostvarena orijentacijska norma koja se unosi u Obrazac za ocjenjivanje = | P161: =P162+P163 -> 0
A162: Sud 1 | F162: =IF(E162="Sudija",1,IF(E162="Stručni saradnik",1,IF(E162="Član VSTV-a",2,""))) | O162: =IF(G162="",0,IF(G162="Ne treba raditi na predm.",1+SUM(L162:N162),(SUM(L162:N162)/G162))) -> 0 | P162: =IF(K162>0,IF(G162="Ne treba raditi na predm.",O162,O162*(J162/(J162-K162))),O162) -> 0 | U162: =IF(Q162="","",(R162+R163)/(Q162+Q163-S162-S163)) | V162: =IF(P162="","",IF(C162="Ne","",IF(G162="Ne treba raditi na predm.","",IF((P162+P163)>1,40,IF(U162="",IF((P162+P163)>0.9,35,IF((P162+P163)>0.8,30,IF((P162+P163)>0.7,20,IF((P162+P163)>0.6,15,IF((P162+P163)>0.5,10,0))))),IF((U162+U163)>0.94,40,IF((U162+U163)>0.9,35,IF((U162+U163)>0.8,30,IF((U162+U163)>0.7,20,IF((U162+U163)>0.6,15,IF((U162+U163)>0.5,10,0))))))))))) -> 0
A163: Sud 2 | F163: =IF(E163="Sudija",1,IF(E163="Stručni saradnik",1,IF(E163="Član VSTV-a",2,""))) | O163: =IF(G163="",0,IF(G163="Ne treba raditi na predm.",1+SUM(L163:N163),(SUM(L163:N163)/G163))) -> 0 | P163: =IF(K163>0,IF(G163="Ne treba raditi na predm.",O163,O163*(J163/(J163-K163))),O163) -> 0 | V163: =IF(P163="","",IF(C163="Ne","",IF(G163="Ne treba raditi na predm.","",IF((P162+P163)>1,40,IF(U163="",IF((P162+P163)>0.9,35,IF((P162+P163)>0.8,30,IF((P162+P163)>0.7,20,IF((P162+P163)>0.6,15,IF((P162+P163)>0.5,10,0))))),IF((U162+U163)>0.94,40,IF((U162+U163)>0.9,35,IF((U162+U163)>0.8,30,IF((U162+U163)>0.7,20,IF((U162+U163)>0.6,15,IF((U162+U163)>0.5,10,0))))))))))) -> 0
A164: Ime i prezime nosioca pravosudne funkcije | O164: Ukupna ostvarena orijentacijska norma koja se unosi u Obrazac za ocjenjivanje = | P164: =P165+P166 -> 0
A165: Sud 1 | F165: =IF(E165="Sudija",1,IF(E165="Stručni saradnik",1,IF(E165="Član VSTV-a",2,""))) | O165: =IF(G165="",0,IF(G165="Ne treba raditi na predm.",1+SUM(L165:N165),(SUM(L165:N165)/G165))) -> 0 | P165: =IF(K165>0,IF(G165="Ne treba raditi na predm.",O165,O165*(J165/(J165-K165))),O165) -> 0 | U165: =IF(Q165="","",(R165+R166)/(Q165+Q166-S165-S166)) | V165: =IF(P165="","",IF(C165="Ne","",IF(G165="Ne treba raditi na predm.","",IF((P165+P166)>1,40,IF(U165="",IF((P165+P166)>0.9,35,IF((P165+P166)>0.8,30,IF((P165+P166)>0.7,20,IF((P165+P166)>0.6,15,IF((P165+P166)>0.5,10,0))))),IF((U165+U166)>0.94,40,IF((U165+U166)>0.9,35,IF((U165+U166)>0.8,30,IF((U165+U166)>0.7,20,IF((U165+U166)>0.6,15,IF((U165+U166)>0.5,10,0))))))))))) -> 0
...

Sheet Tabela III
A1: =+'Tabela I'!A1 -> Kantonalni/Okružni sud: | D1: =+'Tabela I'!C1 -> 0
A2: Izvještajni period: | D2: =+'Tabela I'!B2 -> 1.1.2024.-31.12.2024.
A3: Tabela IIIa - Kvalitet sudskih odluka po nosiocima pravosudnih funkcija - Elektronski obrazac za obračun kvaliteta odluka (pogledati NAPOMENU 2 i 3)
A6: Redni broj | B6: Ime i prezime - podatak je automatski prenesen iz Tabele IIa - OBAVEZNO ZADRŽATI REDOSLIJED NPF-a iz Tabele IIa | C6: Pravosudna funkcija | D6: Ocijenjen / Nije ocijenjen u sudu | E6: Ukupan broj donesenih odluka na koje se može izjaviti pravni lijek | F6: Ukupan broj ožalbenih odluka | G6: Broj odbačenih pravnih lijekova*** | H6: Broj potvrđenih odluka | I6: Broj preinačenih odluka | J6: Broj preinačenih odluka donijetih nakon održane glavne rasprave ili pretresa pred drugostepenim sudom | K6: Broj ukinutih odluka | L6: Broj djelimično ukinutih odluka | M6: Kvalitet sudskih odluka prema članu 17. stav 1. tačka a) | N6: Broj ostvarenih bodova za kvalitet prema članu 17. stav 1. tačka a) | O6: Kvalitet sudskih odluka prema članu 17. stav 1. tačka b) | P6: Broj ostvarenih bodova za kvalitet prema članu 17. stav 1. tačka b) | Q6: UKUPAN broj ostvarenih bodova za kvalitet sudskih odluka
H7: Odbijen pravni lijek
A8: I | B8: II | C8: III | D8: IV | E8: V | F8: VI | G8: VII | H8: VIII | I8: IX | J8: X | K8: XI | L8: XII | M8: XIII | N8: XIV | O8: XV | P8: XVI | Q8: XVII
A10: 1 | B10: =IF('Tabela II'!B8="","",'Tabela II'!B8) | C10: Predsjednik suda * | F10: =SUM(H10:L10) -> 0 | M10: =IF(D10="","",IF(D10="Nije ocijenjen ili Ne treba raditi na predmetima","",IF(D10="Ocijenjen",IF(F10<10,"Član 20. stav 7. Kriterija",(K10+(L10/2))/(F10))))) | N10: =IF(D10="","",IF(D10="Nije ocijenjen ili Ne treba raditi na predmetima","",IF(D10="Ocijenjen",IF(M10="Član 20. stav 7. Kriterija","",IF(M10>0.4,0,IF(M10>0.3,4,IF(M10>0.2,8,IF(M10>0.1,12,IF(M10<=0.1,15,))))))))) | O10: =IF(D10="","",IF(D10="Nije ocijenjen ili Ne treba raditi na predmetima","",IF(D10="Ocijenjen",IF(E10=0,"",((K10+J10+(L10/2))/(E10)))))) | P10: =IF(D10="","",IF(D10="Nije ocijenjen ili Ne treba raditi na predmetima","",IF(D10="Ocijenjen",IF(O10>0.2,0,IF(O10>0.15,1,IF(O10>0.1,2,IF(O10>0.06,3,IF(O10>0.03,4,IF(O10<=0.03,5,))))))))) | Q10: =IF(D10="","",IF(D10="Nije ocijenjen ili Ne treba raditi na predmetima","",IF(D10="Ocijenjen",IF(M10="Član 20. stav 7. Kriterija",P10,N10+P10)))) | U10: Ocijenjen
A11: 2 | B11: =IF('Tabela II'!B10="","",'Tabela II'!B10) | F11: =SUM(H11:L11) -> 0 | M11: =IF(D11="","",IF(D11="Nije ocijenjen","",IF(D11="Ocijenjen",IF(F11<10,"Član 17. stav 7. Kriterija",(K11+(L11/2))/(F11))))) | N11: =IF(D11="","",IF(D11="Nije ocijenjen","",IF(D11="Ocijenjen",IF(M11="Član 17. stav 7. Kriterija","",IF(M11>0.4,0,IF(M11>0.3,8,IF(M11>0.2,16,IF(M11>0.1,24,IF(M11<=0.1,30,))))))))) | O11: =IF(D11="","",IF(D11="Nije ocijenjen","",IF(D11="Ocijenjen",IF(E11=0,"",((K11+J11+(L11/2))/(E11)))))) | P11: =IF(D11="","",IF(D11="Nije ocijenjen","",IF(D11="Ocijenjen",IF(O11>0.2,0,IF(O11>0.15,2,IF(O11>0.1,4,IF(O11>0.06,6,IF(O11>0.03,8,IF(O11<=0.03,10,))))))))) | Q11: =IF(D11="","",IF(D11="Nije ocijenjen","",IF(D11="Ocijenjen",IF(M11="Član 17. stav 7. Kriterija",P11,N11+P11)))) | S11: Sudija | U11: Nije ocijenjen
A12: 3 | B12: =IF('Tabela II'!B11="","",'Tabela II'!B11) | F12: =SUM(H12:L12) -> 0 | M12: =IF(D12="","",IF(D12="Nije ocijenjen","",IF(D12="Ocijenjen",IF(F12<10,"Član 17. stav 7. Kriterija",(K12+(L12/2))/(F12))))) | N12: =IF(D12="","",IF(D12="Nije ocijenjen","",IF(D12="Ocijenjen",IF(M12="Član 17. stav 7. Kriterija","",IF(M12>0.4,0,IF(M12>0.3,8,IF(M12>0.2,16,IF(M12>0.1,24,IF(M12<=0.1,30,))))))))) | O12: =IF(D12="","",IF(D12="Nije ocijenjen","",IF(D12="Ocijenjen",IF(E12=0,"",((K12+J12+(L12/2))/(E12)))))) | P12: =IF(D12="","",IF(D12="Nije ocijenjen","",IF(D12="Ocijenjen",IF(O12>0.2,0,IF(O12>0.15,2,IF(O12>0.1,4,IF(O12>0.06,6,IF(O12>0.03,8,IF(O12<=0.03,10,))))))))) | Q12: =IF(D12="","",IF(D12="Nije ocijenjen","",IF(D12="Ocijenjen",IF(M12="Član 17. stav 7. Kriterija",P12,N12+P12)))) | S12: Stručni saradnik
A13: 4 | B13: =IF('Tabela II'!B12="","",'Tabela II'!B12) | F13: =SUM(H13:L13) -> 0 | M13: =IF(D13="","",IF(D13="Nije ocijenjen","",IF(D13="Ocijenjen",IF(F13<10,"Član 17. stav 7. Kriterija",(K13+(L13/2))/(F13))))) | N13: =IF(D13="","",IF(D13="Nije ocijenjen","",IF(D13="Ocijenjen",IF(M13="Član 17. stav 7. Kriterija","",IF(M13>0.4,0,IF(M13>0.3,8,IF(M13>0.2,16,IF(M13>0.1,24,IF(M13<=0.1,30,))))))))) | O13: =IF(D13="","",IF(D13="Nije ocijenjen","",IF(D13="Ocijenjen",IF(E13=0,"",((K13+J13+(L13/2))/(E13)))))) | P13: =IF(D13="","",IF(D13="Nije ocijenjen","",IF(D13="Ocijenjen",IF(O13>0.2,0,IF(O13>0.15,2,IF(O13>0.1,4,IF(O13>0.06,6,IF(O13>0.03,8,IF(O13<=0.03,10,))))))))) | Q13: =IF(D13="","",IF(D13="Nije ocijenjen","",IF(D13="Ocijenjen",IF(M13="Član 17. stav 7. Kriterija",P13,N13+P13)))) | S13: Predsjednik odjela
A14: 5 | B14: =IF('Tabela II'!B13="","",'Tabela II'!B13) | F14: =SUM(H14:L14) -> 0 | M14: =IF(D14="","",IF(D14="Nije ocijenjen","",IF(D14="Ocijenjen",IF(F14<10,"Član 17. stav 7. Kriterija",(K14+(L14/2))/(F14))))) | N14: =IF(D14="","",IF(D14="Nije ocijenjen","",IF(D14="Ocijenjen",IF(M14="Član 17. stav 7. Kriterija","",IF(M14>0.4,0,IF(M14>0.3,8,IF(M14>0.2,16,IF(M14>0.1,24,IF(M14<=0.1,30,))))))))) | O14: =IF(D14="","",IF(D14="Nije ocijenjen","",IF(D14="Ocijenjen",IF(E14=0,"",((K14+J14+(L14/2))/(E14)))))) | P14: =IF(D14="","",IF(D14="Nije ocijenjen","",IF(D14="Ocijenjen",IF(O14>0.2,0,IF(O14>0.15,2,IF(O14>0.1,4,IF(O14>0.06,6,IF(O14>0.03,8,IF(O14<=0.03,10,))))))))) | Q14: =IF(D14="","",IF(D14="Nije ocijenjen","",IF(D14="Ocijenjen",IF(M14="Član 17. stav 7. Kriterija",P14,N14+P14)))) | S14: Predsjednik sudskog vijeća vrhovnog suda entiteta
A15: 6 | B15: =IF('Tabela II'!B14="","",'Tabela II'!B14) | F15: =SUM(H15:L15) -> 0 | M15: =IF(D15="","",IF(D15="Nije ocijenjen","",IF(D15="Ocijenjen",IF(F15<10,"Član 17. stav 7. Kriterija",(K15+(L15/2))/(F15))))) | N15: =IF(D15="","",IF(D15="Nije ocijenjen","",IF(D15="Ocijenjen",IF(M15="Član 17. stav 7. Kriterija","",IF(M15>0.4,0,IF(M15>0.3,8,IF(M15>0.2,16,IF(M15>0.1,24,IF(M15<=0.1,30,))))))))) | O15: =IF(D15="","",IF(D15="Nije ocijenjen","",IF(D15="Ocijenjen",IF(E15=0,"",((K15+J15+(L15/2))/(E15)))))) | P15: =IF(D15="","",IF(D15="Nije ocijenjen","",IF(D15="Ocijenjen",IF(O15>0.2,0,IF(O15>0.15,2,IF(O15>0.1,4,IF(O15>0.06,6,IF(O15>0.03,8,IF(O15<=0.03,10,))))))))) | Q15: =IF(D15="","",IF(D15="Nije ocijenjen","",IF(D15="Ocijenjen",IF(M15="Član 17. stav 7. Kriterija",P15,N15+P15))))
A16: 7 | B16: =IF('Tabela II'!B15="","",'Tabela II'!B15) | F16: =SUM(H16:L16) -> 0 | M16: =IF(D16="","",IF(D16="Nije ocijenjen","",IF(D16="Ocijenjen",IF(F16<10,"Član 17. stav 7. Kriterija",(K16+(L16/2))/(F16))))) | N16: =IF(D16="","",IF(D16="Nije ocijenjen","",IF(D16="Ocijenjen",IF(M16="Član 17. stav 7. Kriterija","",IF(M16>0.4,0,IF(M16>0.3,8,IF(M16>0.2,16,IF(M16>0.1,24,IF(M16<=0.1,30,))))))))) | O16: =IF(D16="","",IF(D16="Nije ocijenjen","",IF(D16="Ocijenjen",IF(E16=0,"",((K16+J16+(L16/2))/(E16)))))) | P16: =IF(D16="","",IF(D16="Nije ocijenjen","",IF(D16="Ocijenjen",IF(O16>0.2,0,IF(O16>0.15,2,IF(O16>0.1,4,IF(O16>0.06,6,IF(O16>0.03,8,IF(O16<=0.03,10,))))))))) | Q16: =IF(D16="","",IF(D16="Nije ocijenjen","",IF(D16="Ocijenjen",IF(M16="Član 17. stav 7. Kriterija",P16,N16+P16))))
A17: 8 | B17: =IF('Tabela II'!B16="","",'Tabela II'!B16) | F17: =SUM(H17:L17) -> 0 | M17: =IF(D17="","",IF(D17="Nije ocijenjen","",IF(D17="Ocijenjen",IF(F17<10,"Član 17. stav 7. Kriterija",(K17+(L17/2))/(F17))))) | N17: =IF(D17="","",IF(D17="Nije ocijenjen","",IF(D17="Ocijenjen",IF(M17="Član 17. stav 7. Kriterija","",IF(M17>0.4,0,IF(M17>0.3,8,IF(M17>0.2,16,IF(M17>0.1,24,IF(M17<=0.1,30,))))))))) | O17: =IF(D17="","",IF(D17="Nije ocijenjen","",IF(D17="Ocijenjen",IF(E17=0,"",((K17+J17+(L17/2))/(E17)))))) | P17: =IF(D17="","",IF(D17="Nije ocijenjen","",IF(D17="Ocijenjen",IF(O17>0.2,0,IF(O17>0.15,2,IF(O17>0.1,4,IF(O17>0.06,6,IF(O17>0.03,8,IF(O17<=0.03,10,))))))))) | Q17: =IF(D17="","",IF(D17="Nije ocijenjen","",IF(D17="Ocijenjen",IF(M17="Član 17. stav 7. Kriterija",P17,N17+P17)))) | U17: Ocijenjen
A18: 9 | B18: =IF('Tabela II'!B17="","",'Tabela II'!B17) | F18: =SUM(H18:L18) -> 0 | M18: =IF(D18="","",IF(D18="Nije ocijenjen","",IF(D18="Ocijenjen",IF(F18<10,"Član 17. stav 7. Kriterija",(K18+(L18/2))/(F18))))) | N18: =IF(D18="","",IF(D18="Nije ocijenjen","",IF(D18="Ocijenjen",IF(M18="Član 17. stav 7. Kriterija","",IF(M18>0.4,0,IF(M18>0.3,8,IF(M18>0.2,16,IF(M18>0.1,24,IF(M18<=0.1,30,))))))))) | O18: =IF(D18="","",IF(D18="Nije ocijenjen","",IF(D18="Ocijenjen",IF(E18=0,"",((K18+J18+(L18/2))/(E18)))))) | P18: =IF(D18="","",IF(D18="Nije ocijenjen","",IF(D18="Ocijenjen",IF(O18>0.2,0,IF(O18>0.15,2,IF(O18>0.1,4,IF(O18>0.06,6,IF(O18>0.03,8,IF(O18<=0.03,10,))))))))) | Q18: =IF(D18="","",IF(D18="Nije ocijenjen","",IF(D18="Ocijenjen",IF(M18="Član 17. stav 7. Kriterija",P18,N18+P18)))) | U18: Nije ocijenjen ili Ne treba raditi na predmetima
A19: 10 | B19: =IF('Tabela II'!B18="","",'Tabela II'!B18) | F19: =SUM(H19:L19) -> 0 | M19: =IF(D19="","",IF(D19="Nije ocijenjen","",IF(D19="Ocijenjen",IF(F19<10,"Član 17. stav 7. Kriterija",(K19+(L19/2))/(F19))))) | N19: =IF(D19="","",IF(D19="Nije ocijenjen","",IF(D19="Ocijenjen",IF(M19="Član 17. stav 7. Kriterija","",IF(M19>0.4,0,IF(M19>0.3,8,IF(M19>0.2,16,IF(M19>0.1,24,IF(M19<=0.1,30,))))))))) | O19: =IF(D19="","",IF(D19="Nije ocijenjen","",IF(D19="Ocijenjen",IF(E19=0,"",((K19+J19+(L19/2))/(E19)))))) | P19: =IF(D19="","",IF(D19="Nije ocijenjen","",IF(D19="Ocijenjen",IF(O19>0.2,0,IF(O19>0.15,2,IF(O19>0.1,4,IF(O19>0.06,6,IF(O19>0.03,8,IF(O19<=0.03,10,))))))))) | Q19: =IF(D19="","",IF(D19="Nije ocijenjen","",IF(D19="Ocijenjen",IF(M19="Član 17. stav 7. Kriterija",P19,N19+P19))))
A20: 11 | B20: =IF('Tabela II'!B19="","",'Tabela II'!B19) | F20: =SUM(H20:L20) -> 0 | M20: =IF(D20="","",IF(D20="Nije ocijenjen","",IF(D20="Ocijenjen",IF(F20<10,"Član 17. stav 7. Kriterija",(K20+(L20/2))/(F20))))) | N20: =IF(D20="","",IF(D20="Nije ocijenjen","",IF(D20="Ocijenjen",IF(M20="Član 17. stav 7. Kriterija","",IF(M20>0.4,0,IF(M20>0.3,8,IF(M20>0.2,16,IF(M20>0.1,24,IF(M20<=0.1,30,))))))))) | O20: =IF(D20="","",IF(D20="Nije ocijenjen","",IF(D20="Ocijenjen",IF(E20=0,"",((K20+J20+(L20/2))/(E20)))))) | P20: =IF(D20="","",IF(D20="Nije ocijenjen","",IF(D20="Ocijenjen",IF(O20>0.2,0,IF(O20>0.15,2,IF(O20>0.1,4,IF(O20>0.06,6,IF(O20>0.03,8,IF(O20<=0.03,10,))))))))) | Q20: =IF(D20="","",IF(D20="Nije ocijenjen","",IF(D20="Ocijenjen",IF(M20="Član 17. stav 7. Kriterija",P20,N20+P20))))
A21: 12 | B21: =IF('Tabela II'!B20="","",'Tabela II'!B20) | F21: =SUM(H21:L21) -> 0 | M21: =IF(D21="","",IF(D21="Nije ocijenjen","",IF(D21="Ocijenjen",IF(F21<10,"Član 17. stav 7. Kriterija",(K21+(L21/2))/(F21))))) | N21: =IF(D21="","",IF(D21="Nije ocijenjen","",IF(D21="Ocijenjen",IF(M21="Član 17. stav 7. Kriterija","",IF(M21>0.4,0,IF(M21>0.3,8,IF(M21>0.2,16,IF(M21>0.1,24,IF(M21<=0.1,30,))))))))) | O21: =IF(D21="","",IF(D21="Nije ocijenjen","",IF(D21="Ocijenjen",IF(E21=0,"",((K21+J21+(L21/2))/(E21)))))) | P21: =IF(D21="","",IF(D21="Nije ocijenjen","",IF(D21="Ocijenjen",IF(O21>0.2,0,IF(O21>0.15,2,IF(O21>0.1,4,IF(O21>0.06,6,IF(O21>0.03,8,IF(O21<=0.03,10,))))))))) | Q21: =IF(D21="","",IF(D21="Nije ocijenjen","",IF(D21="Ocijenjen",IF(M21="Član 17. stav 7. Kriterija",P21,N21+P21))))
A22: 13 | B22: =IF('Tabela II'!B21="","",'Tabela II'!B21) | F22: =SUM(H22:L22) -> 0 | M22: =IF(D22="","",IF(D22="Nije ocijenjen","",IF(D22="Ocijenjen",IF(F22<10,"Član 17. stav 7. Kriterija",(K22+(L22/2))/(F22))))) | N22: =IF(D22="","",IF(D22="Nije ocijenjen","",IF(D22="Ocijenjen",IF(M22="Član 17. stav 7. Kriterija","",IF(M22>0.4,0,IF(M22>0.3,8,IF(M22>0.2,16,IF(M22>0.1,24,IF(M22<=0.1,30,))))))))) | O22: =IF(D22="","",IF(D22="Nije ocijenjen","",IF(D22="Ocijenjen",IF(E22=0,"",((K22+J22+(L22/2))/(E22)))))) | P22: =IF(D22="","",IF(D22="Nije ocijenjen","",IF(D22="Ocijenjen",IF(O22>0.2,0,IF(O22>0.15,2,IF(O22>0.1,4,IF(O22>0.06,6,IF(O22>0.03,8,IF(O22<=0.03,10,))))))))) | Q22: =IF(D22="","",IF(D22="Nije ocijenjen","",IF(D22="Ocijenjen",IF(M22="Član 17. stav 7. Kriterija",P22,N22+P22))))
A23: 14 | B23: =IF('Tabela II'!B22="","",'Tabela II'!B22) | F23: =SUM(H23:L23) -> 0 | M23: =IF(D23="","",IF(D23="Nije ocijenjen","",IF(D23="Ocijenjen",IF(F23<10,"Član 17. stav 7. Kriterija",(K23+(L23/2))/(F23))))) | N23: =IF(D23="","",IF(D23="Nije ocijenjen","",IF(D23="Ocijenjen",IF(M23="Član 17. stav 7. Kriterija","",IF(M23>0.4,0,IF(M23>0.3,8,IF(M23>0.2,16,IF(M23>0.1,24,IF(M23<=0.1,30,))))))))) | O23: =IF(D23="","",IF(D23="Nije ocijenjen","",IF(D23="Ocijenjen",IF(E23=0,"",((K23+J23+(L23/2))/(E23)))))) | P23: =IF(D23="","",IF(D23="Nije ocijenjen","",IF(D23="Ocijenjen",IF(O23>0.2,0,IF(O23>0.15,2,IF(O23>0.1,4,IF(O23>0.06,6,IF(O23>0.03,8,IF(O23<=0.03,10,))))))))) | Q23: =IF(D23="","",IF(D23="Nije ocijenjen","",IF(D23="Ocijenjen",IF(M23="Član 17. stav 7. Kriterija",P23,N23+P23))))
A24: 15 | B24: =IF('Tabela II'!B23="","",'Tabela II'!B23) | F24: =SUM(H24:L24) -> 0 | M24: =IF(D24="","",IF(D24="Nije ocijenjen","",IF(D24="Ocijenjen",IF(F24<10,"Član 17. stav 7. Kriterija",(K24+(L24/2))/(F24))))) | N24: =IF(D24="","",IF(D24="Nije ocijenjen","",IF(D24="Ocijenjen",IF(M24="Član 17. stav 7. Kriterija","",IF(M24>0.4,0,IF(M24>0.3,8,IF(M24>0.2,16,IF(M24>0.1,24,IF(M24<=0.1,30,))))))))) | O24: =IF(D24="","",IF(D24="Nije ocijenjen","",IF(D24="Ocijenjen",IF(E24=0,"",((K24+J24+(L24/2))/(E24)))))) | P24: =IF(D24="","",IF(D24="Nije ocijenjen","",IF(D24="Ocijenjen",IF(O24>0.2,0,IF(O24>0.15,2,IF(O24>0.1,4,IF(O24>0.06,6,IF(O24>0.03,8,IF(O24<=0.03,10,))))))))) | Q24: =IF(D24="","",IF(D24="Nije ocijenjen","",IF(D24="Ocijenjen",IF(M24="Član 17. stav 7. Kriterija",P24,N24+P24))))
A25: 16 | B25: =IF('Tabela II'!B24="","",'Tabela II'!B24) | F25: =SUM(H25:L25) -> 0 | M25: =IF(D25="","",IF(D25="Nije ocijenjen","",IF(D25="Ocijenjen",IF(F25<10,"Član 17. stav 7. Kriterija",(K25+(L25/2))/(F25))))) | N25: =IF(D25="","",IF(D25="Nije ocijenjen","",IF(D25="Ocijenjen",IF(M25="Član 17. stav 7. Kriterija","",IF(M25>0.4,0,IF(M25>0.3,8,IF(M25>0.2,16,IF(M25>0.1,24,IF(M25<=0.1,30,))))))))) | O25: =IF(D25="","",IF(D25="Nije ocijenjen","",IF(D25="Ocijenjen",IF(E25=0,"",((K25+J25+(L25/2))/(E25)))))) | P25: =IF(D25="","",IF(D25="Nije ocijenjen","",IF(D25="Ocijenjen",IF(O25>0.2,0,IF(O25>0.15,2,IF(O25>0.1,4,IF(O25>0.06,6,IF(O25>0.03,8,IF(O25<=0.03,10,))))))))) | Q25: =IF(D25="","",IF(D25="Nije ocijenjen","",IF(D25="Ocijenjen",IF(M25="Član 17. stav 7. Kriterija",P25,N25+P25))))
A26: 17 | B26: =IF('Tabela II'!B25="","",'Tabela II'!B25) | F26: =SUM(H26:L26) -> 0 | M26: =IF(D26="","",IF(D26="Nije ocijenjen","",IF(D26="Ocijenjen",IF(F26<10,"Član 17. stav 7. Kriterija",(K26+(L26/2))/(F26))))) | N26: =IF(D26="","",IF(D26="Nije ocijenjen","",IF(D26="Ocijenjen",IF(M26="Član 17. stav 7. Kriterija","",IF(M26>0.4,0,IF(M26>0.3,8,IF(M26>0.2,16,IF(M26>0.1,24,IF(M26<=0.1,30,))))))))) | O26: =IF(D26="","",IF(D26="Nije ocijenjen","",IF(D26="Ocijenjen",IF(E26=0,"",((K26+J26+(L26/2))/(E26)))))) | P26: =IF(D26="","",IF(D26="Nije ocijenjen","",IF(D26="Ocijenjen",IF(O26>0.2,0,IF(O26>0.15,2,IF(O26>0.1,4,IF(O26>0.06,6,IF(O26>0.03,8,IF(O26<=0.03,10,))))))))) | Q26: =IF(D26="","",IF(D26="Nije ocijenjen","",IF(D26="Ocijenjen",IF(M26="Član 17. stav 7. Kriterija",P26,N26+P26))))
A27: 18 | B27: =IF('Tabela II'!B26="","",'Tabela II'!B26) | F27: =SUM(H27:L27) -> 0 | M27: =IF(D27="","",IF(D27="Nije ocijenjen","",IF(D27="Ocijenjen",IF(F27<10,"Član 17. stav 7. Kriterija",(K27+(L27/2))/(F27))))) | N27: =IF(D27="","",IF(D27="Nije ocijenjen","",IF(D27="Ocijenjen",IF(M27="Član 17. stav 7. Kriterija","",IF(M27>0.4,0,IF(M27>0.3,8,IF(M27>0.2,16,IF(M27>0.1,24,IF(M27<=0.1,30,))))))))) | O27: =IF(D27="","",IF(D27="Nije ocijenjen","",IF(D27="Ocijenjen",IF(E27=0,"",((K27+J27+(L27/2))/(E27)))))) | P27: =IF(D27="","",IF(D27="Nije ocijenjen","",IF(D27="Ocijenjen",IF(O27>0.2,0,IF(O27>0.15,2,IF(O27>0.1,4,IF(O27>0.06,6,IF(O27>0.03,8,IF(O27<=0.03,10,))))))))) | Q27: =IF(D27="","",IF(D27="Nije ocijenjen","",IF(D27="Ocijenjen",IF(M27="Član 17. stav 7. Kriterija",P27,N27+P27))))
A28: 19 | B28: =IF('Tabela II'!B27="","",'Tabela II'!B27) | F28: =SUM(H28:L28) -> 0 | M28: =IF(D28="","",IF(D28="Nije ocijenjen","",IF(D28="Ocijenjen",IF(F28<10,"Član 17. stav 7. Kriterija",(K28+(L28/2))/(F28))))) | N28: =IF(D28="","",IF(D28="Nije ocijenjen","",IF(D28="Ocijenjen",IF(M28="Član 17. stav 7. Kriterija","",IF(M28>0.4,0,IF(M28>0.3,8,IF(M28>0.2,16,IF(M28>0.1,24,IF(M28<=0.1,30,))))))))) | O28: =IF(D28="","",IF(D28="Nije ocijenjen","",IF(D28="Ocijenjen",IF(E28=0,"",((K28+J28+(L28/2))/(E28)))))) | P28: =IF(D28="","",IF(D28="Nije ocijenjen","",IF(D28="Ocijenjen",IF(O28>0.2,0,IF(O28>0.15,2,IF(O28>0.1,4,IF(O28>0.06,6,IF(O28>0.03,8,IF(O28<=0.03,10,))))))))) | Q28: =IF(D28="","",IF(D28="Nije ocijenjen","",IF(D28="Ocijenjen",IF(M28="Član 17. stav 7. Kriterija",P28,N28+P28))))
A29: 20 | B29: =IF('Tabela II'!B28="","",'Tabela II'!B28) | F29: =SUM(H29:L29) -> 0 | M29: =IF(D29="","",IF(D29="Nije ocijenjen","",IF(D29="Ocijenjen",IF(F29<10,"Član 17. stav 7. Kriterija",(K29+(L29/2))/(F29))))) | N29: =IF(D29="","",IF(D29="Nije ocijenjen","",IF(D29="Ocijenjen",IF(M29="Član 17. stav 7. Kriterija","",IF(M29>0.4,0,IF(M29>0.3,8,IF(M29>0.2,16,IF(M29>0.1,24,IF(M29<=0.1,30,))))))))) | O29: =IF(D29="","",IF(D29="Nije ocijenjen","",IF(D29="Ocijenjen",IF(E29=0,"",((K29+J29+(L29/2))/(E29)))))) | P29: =IF(D29="","",IF(D29="Nije ocijenjen","",IF(D29="Ocijenjen",IF(O29>0.2,0,IF(O29>0.15,2,IF(O29>0.1,4,IF(O29>0.06,6,IF(O29>0.03,8,IF(O29<=0.03,10,))))))))) | Q29: =IF(D29="","",IF(D29="Nije ocijenjen","",IF(D29="Ocijenjen",IF(M29="Član 17. stav 7. Kriterija",P29,N29+P29))))
A30: 21 | B30: =IF('Tabela II'!B29="","",'Tabela II'!B29) | F30: =SUM(H30:L30) -> 0 | M30: =IF(D30="","",IF(D30="Nije ocijenjen","",IF(D30="Ocijenjen",IF(F30<10,"Član 17. stav 7. Kriterija",(K30+(L30/2))/(F30))))) | N30: =IF(D30="","",IF(D30="Nije ocijenjen","",IF(D30="Ocijenjen",IF(M30="Član 17. stav 7. Kriterija","",IF(M30>0.4,0,IF(M30>0.3,8,IF(M30>0.2,16,IF(M30>0.1,24,IF(M30<=0.1,30,))))))))) | O30: =IF(D30="","",IF(D30="Nije ocijenjen","",IF(D30="Ocijenjen",IF(E30=0,"",((K30+J30+(L30/2))/(E30)))))) | P30: =IF(D30="","",IF(D30="Nije ocijenjen","",IF(D30="Ocijenjen",IF(O30>0.2,0,IF(O30>0.15,2,IF(O30>0.1,4,IF(O30>0.06,6,IF(O30>0.03,8,IF(O30<=0.03,10,))))))))) | Q30: =IF(D30="","",IF(D30="Nije ocijenjen","",IF(D30="Ocijenjen",IF(M30="Član 17. stav 7. Kriterija",P30,N30+P30))))
... A69: 60 | B69: =IF('Tabela II'!B68="","",'Tabela II'!B68) | F69: =SUM(H69:L69) -> 0 | M69: =IF(D69="","",IF(D69="Nije ocijenjen","",IF(D69="Ocijenjen",IF(F69<10,"Član 17. stav 7. Kriterija",(K69+(L69/2))/(F69))))) | N69: =IF(D69="","",IF(D69="Nije ocijenjen","",IF(D69="Ocijenjen",IF(M69="Član 17. stav 7. Kriterija","",IF(M69>0.4,0,IF(M69>0.3,8,IF(M69>0.2,16,IF(M69>0.1,24,IF(M69<=0.1,30,))))))))) | O69: =IF(D69="","",IF(D69="Nije ocijenjen","",IF(D69="Ocijenjen",IF(E69=0,"",((K69+J69+(L69/2))/(E69)))))) | P69: =IF(D69="","",IF(D69="Nije ocijenjen","",IF(D69="Ocijenjen",IF(O69>0.2,0,IF(O69>0.15,2,IF(O69>0.1,4,IF(O69>0.06,6,IF(O69>0.03,8,IF(O69<=0.03,10,))))))))) | Q69: =IF(D69="","",IF(D69="Nije ocijenjen","",IF(D69="Ocijenjen",IF(M69="Član 17. stav 7. Kriterija",P69,N69+P69))))
A70: 61 | F70: =SUM(H70:L70) -> 0 | M70: =IF(D70="","",IF(D70="Nije ocijenjen","",IF(D70="Ocijenjen",IF(F70<10,"Član 17. stav 7. Kriterija",(K70+(L70/2))/(F70))))) | N70: =IF(D70="","",IF(D70="Nije ocijenjen","",IF(D70="Ocijenjen",IF(M70="Član 17. stav 7. Kriterija","",IF(M70>0.4,0,IF(M70>0.3,8,IF(M70>0.2,16,IF(M70>0.1,24,IF(M70<=0.1,30,))))))))) | O70: =IF(D70="","",IF(D70="Nije ocijenjen","",IF(D70="Ocijenjen",IF(E70=0,"",((K70+J70+(L70/2))/(E70)))))) | P70: =IF(D70="","",IF(D70="Nije ocijenjen","",IF(D70="Ocijenjen",IF(O70>0.2,0,IF(O70>0.15,2,IF(O70>0.1,4,IF(O70>0.06,6,IF(O70>0.03,8,IF(O70<=0.03,10,))))))))) | Q70: =IF(D70="","",IF(D70="Nije ocijenjen","",IF(D70="Ocijenjen",IF(M70="Član 17. stav 7. Kriterija",P70,N70+P70))))
A71: 62 | F71: =SUM(H71:L71) -> 0 | M71: =IF(D71="","",IF(D71="Nije ocijenjen","",IF(D71="Ocijenjen",IF(F71<10,"Član 17. stav 7. Kriterija",(K71+(L71/2))/(F71))))) | N71: =IF(D71="","",IF(D71="Nije ocijenjen","",IF(D71="Ocijenjen",IF(M71="Član 17. stav 7. Kriterija","",IF(M71>0.4,0,IF(M71>0.3,8,IF(M71>0.2,16,IF(M71>0.1,24,IF(M71<=0.1,30,))))))))) | O71: =IF(D71="","",IF(D71="Nije ocijenjen","",IF(D71="Ocijenjen",IF(E71=0,"",((K71+J71+(L71/2))/(E71)))))) | P71: =IF(D71="","",IF(D71="Nije ocijenjen","",IF(D71="Ocijenjen",IF(O71>0.2,0,IF(O71>0.15,2,IF(O71>0.1,4,IF(O71>0.06,6,IF(O71>0.03,8,IF(O71<=0.03,10,))))))))) | Q71: =IF(D71="","",IF(D71="Nije ocijenjen","",IF(D71="Ocijenjen",IF(M71="Član 17. stav 7. Kriterija",P71,N71+P71))))
A72: 63 | F72: =SUM(H72:L72) -> 0 | M72: =IF(D72="","",IF(D72="Nije ocijenjen","",IF(D72="Ocijenjen",IF(F72<10,"Član 17. stav 7. Kriterija",(K72+(L72/2))/(F72))))) | N72: =IF(D72="","",IF(D72="Nije ocijenjen","",IF(D72="Ocijenjen",IF(M72="Član 17. stav 7. Kriterija","",IF(M72>0.4,0,IF(M72>0.3,8,IF(M72>0.2,16,IF(M72>0.1,24,IF(M72<=0.1,30,))))))))) | O72: =IF(D72="","",IF(D72="Nije ocijenjen","",IF(D72="Ocijenjen",IF(E72=0,"",((K72+J72+(L72/2))/(E72)))))) | P72: =IF(D72="","",IF(D72="Nije ocijenjen","",IF(D72="Ocijenjen",IF(O72>0.2,0,IF(O72>0.15,2,IF(O72>0.1,4,IF(O72>0.06,6,IF(O72>0.03,8,IF(O72<=0.03,10,))))))))) | Q72: =IF(D72="","",IF(D72="Nije ocijenjen","",IF(D72="Ocijenjen",IF(M72="Član 17. stav 7. Kriterija",P72,N72+P72))))
A73: 64 | F73: =SUM(H73:L73) -> 0 | M73: =IF(D73="","",IF(D73="Nije ocijenjen","",IF(D73="Ocijenjen",IF(F73<10,"Član 17. stav 7. Kriterija",(K73+(L73/2))/(F73))))) | N73: =IF(D73="","",IF(D73="Nije ocijenjen","",IF(D73="Ocijenjen",IF(M73="Član 17. stav 7. Kriterija","",IF(M73>0.4,0,IF(M73>0.3,8,IF(M73>0.2,16,IF(M73>0.1,24,IF(M73<=0.1,30,))))))))) | O73: =IF(D73="","",IF(D73="Nije ocijenjen","",IF(D73="Ocijenjen",IF(E73=0,"",((K73+J73+(L73/2))/(E73)))))) | P73: =IF(D73="","",IF(D73="Nije ocijenjen","",IF(D73="Ocijenjen",IF(O73>0.2,0,IF(O73>0.15,2,IF(O73>0.1,4,IF(O73>0.06,6,IF(O73>0.03,8,IF(O73<=0.03,10,))))))))) | Q73: =IF(D73="","",IF(D73="Nije ocijenjen","",IF(D73="Ocijenjen",IF(M73="Član 17. stav 7. Kriterija",P73,N73+P73))))
A74: 65 | F74: =SUM(H74:L74) -> 0 | M74: =IF(D74="","",IF(D74="Nije ocijenjen","",IF(D74="Ocijenjen",IF(F74<10,"Član 17. stav 7. Kriterija",(K74+(L74/2))/(F74))))) | N74: =IF(D74="","",IF(D74="Nije ocijenjen","",IF(D74="Ocijenjen",IF(M74="Član 17. stav 7. Kriterija","",IF(M74>0.4,0,IF(M74>0.3,8,IF(M74>0.2,16,IF(M74>0.1,24,IF(M74<=0.1,30,))))))))) | O74: =IF(D74="","",IF(D74="Nije ocijenjen","",IF(D74="Ocijenjen",IF(E74=0,"",((K74+J74+(L74/2))/(E74)))))) | P74: =IF(D74="","",IF(D74="Nije ocijenjen","",IF(D74="Ocijenjen",IF(O74>0.2,0,IF(O74>0.15,2,IF(O74>0.1,4,IF(O74>0.06,6,IF(O74>0.03,8,IF(O74<=0.03,10,))))))))) | Q74: =IF(D74="","",IF(D74="Nije ocijenjen","",IF(D74="Ocijenjen",IF(M74="Član 17. stav 7. Kriterija",P74,N74+P74))))
A76: KVALITET SUDSKIH ODLUKA ** | E76: =SUM(E10:E74) -> 0 | F76: =SUM(F10:F74) -> 0 | G76: =SUM(G10:G74) -> 0 | H76: =SUM(H10:H74) -> 0 | I76: =SUM(I10:I74) -> 0 | J76: =SUM(J10:J74) -> 0 | K76: =SUM(K10:K74) -> 0 | L76: =SUM(L10:L74) -> 0 | M76: =IF(F76=0,"",0.75*((F76-K76-(L76/2))/F76)+0.25*((E76-J76-K76-(L76/2))/E76))
A79: Tabela IIIb - Obračun individualnog kvaliteta odluka za proces ocjenjivanja nosilaca pravosudnih funkcija koji su u periodu ocjenjivanja radili u dva suda (pogledati NAPOMENU 2) i koji su odlukom VSTV BiH privremeno upućeni na obavljanje sudijske dužnosti u drugi sud (pogledati NAPOMENU 2a)
A81: Upisati naziv Suda 1
A82: 1 | B82: Ime i prezime | C82: Predsjednik suda | F82: =SUM(H82:L82) -> 0
A83: Upisati naziv Suda 2
A84: =+A82 -> 1 | B84: =+B82 -> Ime i prezime | F84: =SUM(H84:L84) -> 0
A85: Individualni kvalitet NPF-a koji je radio u dva suda u toku perioda ocjenjivanja
A86: =+A82 -> 1 | B86: =+B82 -> Ime i prezime | C86: Predsjednik suda | E86: =+E82+E84 -> 0 | F86: =SUM(H86:L86) -> 0 | G86: =+G82+G84 -> 0 | H86: =+H82+H84 -> 0 | I86: =+I82+I84 -> 0 | J86: =+J82+J84 -> 0 | K86: =+K82+K84 -> 0 | L86: =+L82+L84 -> 0 | M86: =IF(D86="","",IF(D86="Nije ocijenjen ili Ne treba raditi na predmetima","",IF(D86="Ocijenjen",IF(F86<10,"Član 20. stav 7. Kriterija",(K86+(L86/2))/(F86))))) | N86: =IF(D86="","",IF(D86="Nije ocijenjen ili Ne treba raditi na predmetima","",IF(D86="Ocijenjen",IF(M86="Član 20. stav 7. Kriterija","",IF(M86>0.4,0,IF(M86>0.3,4,IF(M86>0.2,8,IF(M86>0.1,12,IF(M86<=0.1,15,))))))))) | O86: =IF(D86="","",IF(D86="Nije ocijenjen ili Ne treba raditi na predmetima","",IF(D86="Ocijenjen",IF(E86=0,"",((K86+J86+(L86/2))/(E86)))))) | P86: =IF(D86="","",IF(D86="Nije ocijenjen ili Ne treba raditi na predmetima","",IF(D86="Ocijenjen",IF(O86>0.2,0,IF(O86>0.15,1,IF(O86>0.1,2,IF(O86>0.06,3,IF(O86>0.03,4,IF(O86<=0.03,5,))))))))) | Q86: =IF(D86="","",IF(D86="Nije ocijenjen ili Ne treba raditi na predmetima","",IF(D86="Ocijenjen",IF(M86="Član 20. stav 7. Kriterija",P86,N86+P86))))
A88: Upisati naziv Suda 1
A89: 2 | B89: Ime i prezime | F89: =SUM(H89:L89) -> 0
A90: Upisati naziv Suda 2
A91: =+A89 -> 2 | B91: =+B89 -> Ime i prezime | F91: =SUM(H91:L91) -> 0
A92: Individualni kvalitet NPF-a koji je radio u dva suda u toku perioda ocjenjivanja
A93: =+A89 -> 2 | B93: =+B89 -> Ime i prezime | E93: =+E89+E91 -> 0 | F93: =SUM(H93:L93) -> 0 | G93: =+G89+G91 -> 0 | H93: =+H89+H91 -> 0 | I93: =+I89+I91 -> 0 | J93: =+J89+J91 -> 0 | K93: =+K89+K91 -> 0 | L93: =+L89+L91 -> 0 | M93: =IF(D93="","",IF(D93="Nije ocijenjen","",IF(D93="Ocijenjen",IF(F93<10,"Član 17. stav 7. Kriterija",(K93+(L93/2))/(F93))))) | N93: =IF(D93="","",IF(D93="Nije ocijenjen","",IF(D93="Ocijenjen",IF(M93="Član 17. stav 7. Kriterija","",IF(M93>0.4,0,IF(M93>0.3,8,IF(M93>0.2,16,IF(M93>0.1,24,IF(M93<=0.1,30,))))))))) | O93: =IF(D93="","",IF(D93="Nije ocijenjen","",IF(D93="Ocijenjen",IF(E93=0,"",((K93+J93+(L93/2))/(E93)))))) | P93: =IF(D93="","",IF(D93="Nije ocijenjen","",IF(D93="Ocijenjen",IF(O93>0.2,0,IF(O93>0.15,2,IF(O93>0.1,4,IF(O93>0.06,6,IF(O93>0.03,8,IF(O93<=0.03,10,))))))))) | Q93: =IF(D93="","",IF(D93="Nije ocijenjen","",IF(D93="Ocijenjen",IF(M93="Član 17. stav 7. Kriterija",P93,N93+P93))))
A95: Upisati naziv Suda 1
A96: 3 | B96: Ime i prezime | F96: =SUM(H96:L96) -> 0
A97: Upisati naziv Suda 2
A98: =+A96 -> 3 | B98: =+B96 -> Ime i prezime | F98: =SUM(H98:L98) -> 0
A99: Individualni kvalitet NPF-a koji je radio u dva suda u toku perioda ocjenjivanja
A100: =+A96 -> 3 | B100: =+B96 -> Ime i prezime | E100: =+E96+E98 -> 0 | F100: =SUM(H100:L100) -> 0 | G100: =+G96+G98 -> 0 | H100: =+H96+H98 -> 0 | I100: =+I96+I98 -> 0 | J100: =+J96+J98 -> 0 | K100: =+K96+K98 -> 0 | L100: =+L96+L98 -> 0 | M100: =IF(D100="","",IF(D100="Nije ocijenjen","",IF(D100="Ocijenjen",IF(F100<10,"Član 17. stav 7. Kriterija",(K100+(L100/2))/(F100))))) | N100: =IF(D100="","",IF(D100="Nije ocijenjen","",IF(D100="Ocijenjen",IF(M100="Član 17. stav 7. Kriterija","",IF(M100>0.4,0,IF(M100>0.3,8,IF(M100>0.2,16,IF(M100>0.1,24,IF(M100<=0.1,30,))))))))) | O100: =IF(D100="","",IF(D100="Nije ocijenjen","",IF(D100="Ocijenjen",IF(E100=0,"",((K100+J100+(L100/2))/(E100)))))) | P100: =IF(D100="","",IF(D100="Nije ocijenjen","",IF(D100="Ocijenjen",IF(O100>0.2,0,IF(O100>0.15,2,IF(O100>0.1,4,IF(O100>0.06,6,IF(O100>0.03,8,IF(O100<=0.03,10,))))))))) | Q100: =IF(D100="","",IF(D100="Nije ocijenjen","",IF(D100="Ocijenjen",IF(M100="Član 17. stav 7. Kriterija",P100,N100+P100))))
A102: Upisati naziv Suda 1
A103: 4 | B103: Ime i prezime | F103: =SUM(H103:L103) -> 0
A104: Upisati naziv Suda 2
A105: =+A103 -> 4 | B105: =+B103 -> Ime i prezime | F105: =SUM(H105:L105) -> 0
A106: Individualni kvalitet NPF-a koji je radio u dva suda u toku perioda ocjenjivanja
A107: =+A103 -> 4 | B107: =+B103 -> Ime i prezime | E107: =+E103+E105 -> 0 | F107: =SUM(H107:L107) -> 0 | G107: =+G103+G105 -> 0 | H107: =+H103+H105 -> 0 | I107: =+I103+I105 -> 0 | J107: =+J103+J105 -> 0 | K107: =+K103+K105 -> 0 | L107: =+L103+L105 -> 0 | M107: =IF(D107="","",IF(D107="Nije ocijenjen","",IF(D107="Ocijenjen",IF(F107<10,"Član 17. stav 7. Kriterija",(K107+(L107/2))/(F107))))) | N107: =IF(D107="","",IF(D107="Nije ocijenjen","",IF(D107="Ocijenjen",IF(M107="Član 17. stav 7. Kriterija","",IF(M107>0.4,0,IF(M107>0.3,8,IF(M107>0.2,16,IF(M107>0.1,24,IF(M107<=0.1,30,))))))))) | O107: =IF(D107="","",IF(D107="Nije ocijenjen","",IF(D107="Ocijenjen",IF(E107=0,"",((K107+J107+(L107/2))/(E107)))))) | P107: =IF(D107="","",IF(D107="Nije ocijenjen","",IF(D107="Ocijenjen",IF(O107>0.2,0,IF(O107>0.15,2,IF(O107>0.1,4,IF(O107>0.06,6,IF(O107>0.03,8,IF(O107<=0.03,10,))))))))) | Q107: =IF(D107="","",IF(D107="Nije ocijenjen","",IF(D107="Ocijenjen",IF(M107="Član 17. stav 7. Kriterija",P107,N107+P107))))
A109: Upisati naziv Suda 1
A110: 5 | B110: Ime i prezime | F110: =SUM(H110:L110) -> 0
A111: Upisati naziv Suda 2
A112: =+A110 -> 5 | B112: =+B110 -> Ime i prezime | F112: =SUM(H112:L112) -> 0
A113: Individualni kvalitet NPF-a koji je radio u dva suda u toku perioda ocjenjivanja
A114: =+A110 -> 5 | B114: =+B110 -> Ime i prezime | E114: =+E110+E112 -> 0 | F114: =SUM(H114:L114) -> 0 | G114: =+G110+G112 -> 0 | H114: =+H110+H112 -> 0 | I114: =+I110+I112 -> 0 | J114: =+J110+J112 -> 0 | K114: =+K110+K112 -> 0 | L114: =+L110+L112 -> 0 | M114: =IF(D114="","",IF(D114="Nije ocijenjen","",IF(D114="Ocijenjen",IF(F114<10,"Član 17. stav 7. Kriterija",(K114+(L114/2))/(F114))))) | N114: =IF(D114="","",IF(D114="Nije ocijenjen","",IF(D114="Ocijenjen",IF(M114="Član 17. stav 7. Kriterija","",IF(M114>0.4,0,IF(M114>0.3,8,IF(M114>0.2,16,IF(M114>0.1,24,IF(M114<=0.1,30,))))))))) | O114: =IF(D114="","",IF(D114="Nije ocijenjen","",IF(D114="Ocijenjen",IF(E114=0,"",((K114+J114+(L114/2))/(E114)))))) | P114: =IF(D114="","",IF(D114="Nije ocijenjen","",IF(D114="Ocijenjen",IF(O114>0.2,0,IF(O114>0.15,2,IF(O114>0.1,4,IF(O114>0.06,6,IF(O114>0.03,8,IF(O114<=0.03,10,))))))))) | Q114: =IF(D114="","",IF(D114="Nije ocijenjen","",IF(D114="Ocijenjen",IF(M114="Član 17. stav 7. Kriterija",P114,N114+P114))))
A116: Upisati naziv Suda 1
A117: 6 | B117: Ime i prezime | F117: =SUM(H117:L117) -> 0
A118: Upisati naziv Suda 2
A119: =+A117 -> 6 | B119: =+B117 -> Ime i prezime | F119: =SUM(H119:L119) -> 0
A120: Individualni kvalitet NPF-a koji je radio u dva suda u toku perioda ocjenjivanja
A121: =+A117 -> 6 | B121: =+B117 -> Ime i prezime | E121: =+E117+E119 -> 0 | F121: =SUM(H121:L121) -> 0 | G121: =+G117+G119 -> 0 | H121: =+H117+H119 -> 0 | I121: =+I117+I119 -> 0 | J121: =+J117+J119 -> 0 | K121: =+K117+K119 -> 0 | L121: =+L117+L119 -> 0 | M121: =IF(D121="","",IF(D121="Nije ocijenjen","",IF(D121="Ocijenjen",IF(F121<10,"Član 17. stav 7. Kriterija",(K121+(L121/2))/(F121))))) | N121: =IF(D121="","",IF(D121="Nije ocijenjen","",IF(D121="Ocijenjen",IF(M121="Član 17. stav 7. Kriterija","",IF(M121>0.4,0,IF(M121>0.3,8,IF(M121>0.2,16,IF(M121>0.1,24,IF(M121<=0.1,30,))))))))) | O121: =IF(D121="","",IF(D121="Nije ocijenjen","",IF(D121="Ocijenjen",IF(E121=0,"",((K121+J121+(L121/2))/(E121)))))) | P121: =IF(D121="","",IF(D121="Nije ocijenjen","",IF(D121="Ocijenjen",IF(O121>0.2,0,IF(O121>0.15,2,IF(O121>0.1,4,IF(O121>0.06,6,IF(O121>0.03,8,IF(O121<=0.03,10,))))))))) | Q121: =IF(D121="","",IF(D121="Nije ocijenjen","",IF(D121="Ocijenjen",IF(M121="Član 17. stav 7. Kriterija",P121,N121+P121))))
A123: Upisati naziv Suda 1
A124: 7 | B124: Ime i prezime | F124: =SUM(H124:L124) -> 0
A125: Upisati naziv Suda 2
A126: =+A124 -> 7 | B126: =+B124 -> Ime i prezime | F126: =SUM(H126:L126) -> 0
A127: Individualni kvalitet NPF-a koji je radio u dva suda u toku perioda ocjenjivanja
A128: =+A124 -> 7 | B128: =+B124 -> Ime i prezime | E128: =+E124+E126 -> 0 | F128: =SUM(H128:L128) -> 0 | G128: =+G124+G126 -> 0 | H128: =+H124+H126 -> 0 | I128: =+I124+I126 -> 0 | J128: =+J124+J126 -> 0 | K128: =+K124+K126 -> 0 | L128: =+L124+L126 -> 0 | M128: =IF(D128="","",IF(D128="Nije ocijenjen","",IF(D128="Ocijenjen",IF(F128<10,"Član 17. stav 7. Kriterija",(K128+(L128/2))/(F128))))) | N128: =IF(D128="","",IF(D128="Nije ocijenjen","",IF(D128="Ocijenjen",IF(M128="Član 17. stav 7. Kriterija","",IF(M128>0.4,0,IF(M128>0.3,8,IF(M128>0.2,16,IF(M128>0.1,24,IF(M128<=0.1,30,))))))))) | O128: =IF(D128="","",IF(D128="Nije ocijenjen","",IF(D128="Ocijenjen",IF(E128=0,"",((K128+J128+(L128/2))/(E128)))))) | P128: =IF(D128="","",IF(D128="Nije ocijenjen","",IF(D128="Ocijenjen",IF(O128>0.2,0,IF(O128>0.15,2,IF(O128>0.1,4,IF(O128>0.06,6,IF(O128>0.03,8,IF(O128<=0.03,10,))))))))) | Q128: =IF(D128="","",IF(D128="Nije ocijenjen","",IF(D128="Ocijenjen",IF(M128="Član 17. stav 7. Kriterija",P128,N128+P128))))
A130: Upisati naziv Suda 1
A131: 8 | B131: Ime i prezime | F131: =SUM(H131:L131) -> 0
A132: Upisati naziv Suda 2
A133: =+A131 -> 8 | B133: =+B131 -> Ime i prezime | F133: =SUM(H133:L133) -> 0
A134: Individualni kvalitet NPF-a koji je radio u dva suda u toku perioda ocjenjivanja
A135: =+A131 -> 8 | B135: =+B131 -> Ime i prezime | E135: =+E131+E133 -> 0 | F135: =SUM(H135:L135) -> 0 | G135: =+G131+G133 -> 0 | H135: =+H131+H133 -> 0 | I135: =+I131+I133 -> 0 | J135: =+J131+J133 -> 0 | K135: =+K131+K133 -> 0 | L135: =+L131+L133 -> 0 | M135: =IF(D135="","",IF(D135="Nije ocijenjen","",IF(D135="Ocijenjen",IF(F135<10,"Član 17. stav 7. Kriterija",(K135+(L135/2))/(F135))))) | N135: =IF(D135="","",IF(D135="Nije ocijenjen","",IF(D135="Ocijenjen",IF(M135="Član 17. stav 7. Kriterija","",IF(M135>0.4,0,IF(M135>0.3,8,IF(M135>0.2,16,IF(M135>0.1,24,IF(M135<=0.1,30,))))))))) | O135: =IF(D135="","",IF(D135="Nije ocijenjen","",IF(D135="Ocijenjen",IF(E135=0,"",((K135+J135+(L135/2))/(E135)))))) | P135: =IF(D135="","",IF(D135="Nije ocijenjen","",IF(D135="Ocijenjen",IF(O135>0.2,0,IF(O135>0.15,2,IF(O135>0.1,4,IF(O135>0.06,6,IF(O135>0.03,8,IF(O135<=0.03,10,))))))))) | Q135: =IF(D135="","",IF(D135="Nije ocijenjen","",IF(D135="Ocijenjen",IF(M135="Član 17. stav 7. Kriterija",P135,N135+P135))))
A137: Upisati naziv Suda 1
A138: 9 | B138: Ime i prezime | F138: =SUM(H138:L138) -> 0
A139: Upisati naziv Suda 2
A140: =+A138 -> 9 | B140: =+B138 -> Ime i prezime | F140: =SUM(H140:L140) -> 0
A141: Individualni kvalitet NPF-a koji je radio u dva suda u toku perioda ocjenjivanja
A142: =+A138 -> 9 | B142: =+B138 -> Ime i prezime | E142: =+E138+E140 -> 0 | F142: =SUM(H142:L142) -> 0 | G142: =+G138+G140 -> 0 | H142: =+H138+H140 -> 0 | I142: =+I138+I140 -> 0 | J142: =+J138+J140 -> 0 | K142: =+K138+K140 -> 0 | L142: =+L138+L140 -> 0 | M142: =IF(D142="","",IF(D142="Nije ocijenjen","",IF(D142="Ocijenjen",IF(F142<10,"Član 17. stav 7. Kriterija",(K142+(L142/2))/(F142))))) | N142: =IF(D142="","",IF(D142="Nije ocijenjen","",IF(D142="Ocijenjen",IF(M142="Član 17. stav 7. Kriterija","",IF(M142>0.4,0,IF(M142>0.3,8,IF(M142>0.2,16,IF(M142>0.1,24,IF(M142<=0.1,30,))))))))) | O142: =IF(D142="","",IF(D142="Nije ocijenjen","",IF(D142="Ocijenjen",IF(E142=0,"",((K142+J142+(L142/2))/(E142)))))) | P142: =IF(D142="","",IF(D142="Nije ocijenjen","",IF(D142="Ocijenjen",IF(O142>0.2,0,IF(O142>0.15,2,IF(O142>0.1,4,IF(O142>0.06,6,IF(O142>0.03,8,IF(O142<=0.03,10,))))))))) | Q142: =IF(D142="","",IF(D142="Nije ocijenjen","",IF(D142="Ocijenjen",IF(M142="Član 17. stav 7. Kriterija",P142,N142+P142))))
A144: Upisati naziv Suda 1
A145: 10 | B145: Ime i prezime | F145: =SUM(H145:L145) -> 0
A146: Upisati naziv Suda 2
A147: =+A145 -> 10 | B147: =+B145 -> Ime i prezime | F147: =SUM(H147:L147) -> 0
A148: Individualni kvalitet NPF-a koji je radio u dva suda u toku perioda ocjenjivanja
A149: =+A145 -> 10 | B149: =+B145 -> Ime i prezime | E149: =+E145+E147 -> 0 | F149: =SUM(H149:L149) -> 0 | G149: =+G145+G147 -> 0 | H149: =+H145+H147 -> 0 | I149: =+I145+I147 -> 0 | J149: =+J145+J147 -> 0 | K149: =+K145+K147 -> 0 | L149: =+L145+L147 -> 0 | M149: =IF(D149="","",IF(D149="Nije ocijenjen","",IF(D149="Ocijenjen",IF(F149<10,"Član 17. stav 7. Kriterija",(K149+(L149/2))/(F149))))) | N149: =IF(D149="","",IF(D149="Nije ocijenjen","",IF(D149="Ocijenjen",IF(M149="Član 17. stav 7. Kriterija","",IF(M149>0.4,0,IF(M149>0.3,8,IF(M149>0.2,16,IF(M149>0.1,24,IF(M149<=0.1,30,))))))))) | O149: =IF(D149="","",IF(D149="Nije ocijenjen","",IF(D149="Ocijenjen",IF(E149=0,"",((K149+J149+(L149/2))/(E149)))))) | P149: =IF(D149="","",IF(D149="Nije ocijenjen","",IF(D149="Ocijenjen",IF(O149>0.2,0,IF(O149>0.15,2,IF(O149>0.1,4,IF(O149>0.06,6,IF(O149>0.03,8,IF(O149<=0.03,10,))))))))) | Q149: =IF(D149="","",IF(D149="Nije ocijenjen","",IF(D149="Ocijenjen",IF(M149="Član 17. stav 7. Kriterija",P149,N149+P149))))
A151: Upisati naziv Suda 1
A152: 11 | B152: Ime i prezime | F152: =SUM(H152:L152) -> 0
A153: Upisati naziv Suda 2
A154: =+A152 -> 11 | B154: =+B152 -> Ime i prezime | F154: =SUM(H154:L154) -> 0
A155: Individualni kvalitet NPF-a koji je radio u dva suda u toku perioda ocjenjivanja
...

Sheet Tabela IV
A1: =+'Tabela I'!A1 -> Kantonalni/Okružni sud: | B1: =+'Tabela I'!C1 -> 0
A2: Izvještajni period: | B2: =+'Tabela I'!B2 -> 1.1.2024.-31.12.2024.
A3: Tabela IV - Odluke Ustavnog suda BiH
A4: Tabela IVa - Odluke kojima se ne usvaja apelacija
A5: Broj odluka kojima se odbacuje apelacija | B5: Broj odluka kojima se obustavlja postupak pred Ustavnim sudom BiH | C5: Broj odluka kojima se odbija apelacija | D5: Ukupno
A6: I | B6: II | C6: III | D6: IV=I+II+III
D7: =IF(SUM(A7:C7)=0," ",SUM(A7:C7))
A8: Tabela IVb - Odluke kojima se usvaja apelacija
A9: Pravni osnov | B9: Broj odluka kojima se usvaja apelacija | E9: Ukupno
B10: Broj odluka kojima se preinačuju odluke suda | C10: Broj odluka kojima se ukidaju odluke suda | D10: Broj ostalih odluka kojima se usvaja apelacija
B11: I | C11: II | D11: III | E11: IV=I+II+III
A12: Čl. 13. EK (pravo na djelotvorni pravni lijek) | E12: =IF(SUM(B12:D12)=0," ",SUM(B12:D12))
A13: Čl. 3. P7 (naknada za pogrešnu presudu) | E13: =IF(SUM(B13:D13)=0," ",SUM(B13:D13))
A14: Čl. 6. EK i II/3.e) Ustava BiH (pravo na pravično suđenje) | E14: =IF(SUM(B14:D14)=0," ",SUM(B14:D14))
A15: Čl. 5.EK i II/3d Ustava (pravo na ličnu slobodu) | E15: =IF(SUM(B15:D15)=0," ",SUM(B15:D15))
A16: Čl. 1. P.1. i II/3.k) Ustava BiH (pravo na imovinu) | E16: =IF(SUM(B16:D16)=0," ",SUM(B16:D16))
A17: Čl. 1. P.7. (Proceduralne zaštite u vezi sa protjerivanjem stranaca) | E17: =IF(SUM(B17:D17)=0," ",SUM(B17:D17))
A18: Ostalo | E18: =IF(SUM(B18:D18)=0," ",SUM(B18:D18))
A19: Tabela IVc – Predmeti u kojima se nalaže sudu da okonča predmet bez odlaganja zbog kršenja prava na donošenje odluke u razumnom roku
A20: Pravni osnov | B20: Broj odluka kojima se nalaže sudu da okonča predmet bez odlaganja zbog kršenja prava na donošenje odluke u razumnom roku jer je Ustavni sud BiH zaključio da je odugovlačenju postupka najviše doprinio
B21: prvostepeni sud | C21: drugostepeni sud | D21: sud koji rješava predmet po uloženom vanrednom pravnom lijeku | E21: Ostalo | F21: Ukupno
B22: I | C22: II | D22: III | E22: IV | F22: V=I+II+III+IV
A23: Čl. 6 EK i II/3.e) Ustava BiH (pravo na pravično suđenje) | F23: =IF(SUM(B23:E23)=0," ",SUM(B23:E23))
A24: Tabela IVd - Predmeti u kojima je utvrđeno kršenje prava na donošenje odluke u razumnom roku*
A25: Broj predmeta u kojima je određena naknada nematerijalne štete zbog kršenja prava na donošenje odluke u razumnom roku
A26: Ukupan iznos određene naknade
A28: * U Tabelu IVd unose se podaci o predmetima u kojima je usvojena apelacija u odnosu na odluke Vašeg suda i određena naknada nematerijalne štete zbog kršenja prava na donošenje odluke u razumnom roku, kao i ukupan iznos naknade koji je utvrdio Ustavni sud BiH.

Sheet tbl1_kvalitet_rada
A1: for_key | B1: godina | C1: lista_referata | D1: DonesOdluke | E1: OdbPrLijek | F1: PotvOdluke | G1: PreinOdluke | H1: PreinOdlukeNakonRasp | I1: UkinOdluke | J1: DjelimUkin | K1: UkinVracPonSud
A2: =+'Tabela I'!$K$2 -> 0 | B2: =+'Tabela I'!$K$1 -> 2024 | C2: 34 | D2: ='Tabela I'!B12 -> 0 | E2: ='Tabela I'!D12 -> 0 | F2: ='Tabela I'!E12 -> 0 | G2: ='Tabela I'!F12 -> 0 | H2: ='Tabela I'!G12 -> 0 | I2: ='Tabela I'!H12 -> 0 | J2: ='Tabela I'!I12 -> 0 | K2: ='Tabela I'!K12 -> 0
A3: =+'Tabela I'!$K$2 -> 0 | B3: =+'Tabela I'!$K$1 -> 2024 | C3: 35 | D3: ='Tabela I'!B13 -> 0 | E3: ='Tabela I'!D13 -> 0 | F3: ='Tabela I'!E13 -> 0 | G3: ='Tabela I'!F13 -> 0 | H3: ='Tabela I'!G13 -> 0 | I3: ='Tabela I'!H13 -> 0 | J3: ='Tabela I'!I13 -> 0 | K3: ='Tabela I'!K13 -> 0
A4: =+'Tabela I'!$K$2 -> 0 | B4: =+'Tabela I'!$K$1 -> 2024 | C4: 90 | D4: ='Tabela I'!B14 -> 0 | E4: ='Tabela I'!D14 -> 0 | F4: ='Tabela I'!E14 -> 0 | G4: ='Tabela I'!F14 -> 0 | H4: ='Tabela I'!G14 -> 0 | I4: ='Tabela I'!H14 -> 0 | J4: ='Tabela I'!I14 -> 0 | K4: ='Tabela I'!K14 -> 0
A5: =+'Tabela I'!$K$2 -> 0 | B5: =+'Tabela I'!$K$1 -> 2024 | C5: 36 | D5: ='Tabela I'!B15 -> 0 | E5: ='Tabela I'!D15 -> 0 | F5: ='Tabela I'!E15 -> 0 | G5: ='Tabela I'!F15 -> 0 | H5: ='Tabela I'!G15 -> 0 | I5: ='Tabela I'!H15 -> 0 | J5: ='Tabela I'!I15 -> 0 | K5: ='Tabela I'!K15 -> 0
A6: =+'Tabela I'!$K$2 -> 0 | B6: =+'Tabela I'!$K$1 -> 2024 | C6: 11 | D6: ='Tabela I'!B17 -> 0 | E6: ='Tabela I'!D17 -> 0 | F6: ='Tabela I'!E17 -> 0 | G6: ='Tabela I'!F17 -> 0 | H6: ='Tabela I'!G17 -> 0 | I6: ='Tabela I'!H17 -> 0 | J6: ='Tabela I'!I17 -> 0 | K6: ='Tabela I'!K17 -> 0
A7: =+'Tabela I'!$K$2 -> 0 | B7: =+'Tabela I'!$K$1 -> 2024 | C7: 37 | D7: ='Tabela I'!B18 -> 0 | E7: ='Tabela I'!D18 -> 0 | F7: ='Tabela I'!E18 -> 0 | G7: ='Tabela I'!F18 -> 0 | H7: ='Tabela I'!G18 -> 0 | I7: ='Tabela I'!H18 -> 0 | J7: ='Tabela I'!I18 -> 0 | K7: ='Tabela I'!K18 -> 0
A8: =+'Tabela I'!$K$2 -> 0 | B8: =+'Tabela I'!$K$1 -> 2024 | C8: 38 | D8: ='Tabela I'!B19 -> 0 | E8: ='Tabela I'!D19 -> 0 | F8: ='Tabela I'!E19 -> 0 | G8: ='Tabela I'!F19 -> 0 | H8: ='Tabela I'!G19 -> 0 | I8: ='Tabela I'!H19 -> 0 | J8: ='Tabela I'!I19 -> 0 | K8: ='Tabela I'!K19 -> 0
A9: =+'Tabela I'!$K$2 -> 0 | B9: =+'Tabela I'!$K$1 -> 2024 | C9: 40 | D9: ='Tabela I'!B20 -> 0 | E9: ='Tabela I'!D20 -> 0 | F9: ='Tabela I'!E20 -> 0 | G9: ='Tabela I'!F20 -> 0 | H9: ='Tabela I'!G20 -> 0 | I9: ='Tabela I'!H20 -> 0 | J9: ='Tabela I'!I20 -> 0 | K9: ='Tabela I'!K20 -> 0
A10: =+'Tabela I'!$K$2 -> 0 | B10: =+'Tabela I'!$K$1 -> 2024 | C10: 16 | D10: ='Tabela I'!B21 -> 0 | E10: ='Tabela I'!D21 -> 0 | F10: ='Tabela I'!E21 -> 0 | G10: ='Tabela I'!F21 -> 0 | H10: ='Tabela I'!G21 -> 0 | I10: ='Tabela I'!H21 -> 0 | J10: ='Tabela I'!I21 -> 0 | K10: ='Tabela I'!K21 -> 0
A11: =+'Tabela I'!$K$2 -> 0 | B11: =+'Tabela I'!$K$1 -> 2024 | C11: 13 | D11: ='Tabela I'!B22 -> 0 | E11: ='Tabela I'!D22 -> 0 | F11: ='Tabela I'!E22 -> 0 | G11: ='Tabela I'!F22 -> 0 | H11: ='Tabela I'!G22 -> 0 | I11: ='Tabela I'!H22 -> 0 | J11: ='Tabela I'!I22 -> 0 | K11: ='Tabela I'!K22 -> 0
A12: =+'Tabela I'!$K$2 -> 0 | B12: =+'Tabela I'!$K$1 -> 2024 | C12: 12 | D12: ='Tabela I'!B23 -> 0 | E12: ='Tabela I'!D23 -> 0 | F12: ='Tabela I'!E23 -> 0 | G12: ='Tabela I'!F23 -> 0 | H12: ='Tabela I'!G23 -> 0 | I12: ='Tabela I'!H23 -> 0 | J12: ='Tabela I'!I23 -> 0 | K12: ='Tabela I'!K23 -> 0
A13: =+'Tabela I'!$K$2 -> 0 | B13: =+'Tabela I'!$K$1 -> 2024 | C13: 39 | D13: ='Tabela I'!B24 -> 0 | E13: ='Tabela I'!D24 -> 0 | F13: ='Tabela I'!E24 -> 0 | G13: ='Tabela I'!F24 -> 0 | H13: ='Tabela I'!G24 -> 0 | I13: ='Tabela I'!H24 -> 0 | J13: ='Tabela I'!I24 -> 0 | K13: ='Tabela I'!K24 -> 0
A14: =+'Tabela I'!$K$2 -> 0 | B14: =+'Tabela I'!$K$1 -> 2024 | C14: 19 | D14: ='Tabela I'!B25 -> 0 | E14: ='Tabela I'!D25 -> 0 | F14: ='Tabela I'!E25 -> 0 | G14: ='Tabela I'!F25 -> 0 | H14: ='Tabela I'!G25 -> 0 | I14: ='Tabela I'!H25 -> 0 | J14: ='Tabela I'!I25 -> 0 | K14: ='Tabela I'!K25 -> 0
A15: =+'Tabela I'!$K$2 -> 0 | B15: =+'Tabela I'!$K$1 -> 2024 | C15: 52 | D15: ='Tabela I'!B27 -> 0 | E15: ='Tabela I'!D27 -> 0 | F15: ='Tabela I'!E27 -> 0 | G15: ='Tabela I'!F27 -> 0 | H15: ='Tabela I'!G27 -> 0 | I15: ='Tabela I'!H27 -> 0 | J15: ='Tabela I'!I27 -> 0 | K15: ='Tabela I'!K27 -> 0
A16: =+'Tabela I'!$K$2 -> 0 | B16: =+'Tabela I'!$K$1 -> 2024 | C16: 56 | D16: ='Tabela I'!B28 -> 0 | E16: ='Tabela I'!D28 -> 0 | F16: ='Tabela I'!E28 -> 0 | G16: ='Tabela I'!F28 -> 0 | H16: ='Tabela I'!G28 -> 0 | I16: ='Tabela I'!H28 -> 0 | J16: ='Tabela I'!I28 -> 0 | K16: ='Tabela I'!K28 -> 0
D17: =SUM(D2:D16) -> 0 | E17: =SUM(E2:E16) -> 0 | F17: =SUM(F2:F16) -> 0 | G17: =SUM(G2:G16) -> 0 | H17: =SUM(H2:H16) -> 0 | I17: =SUM(I2:I16) -> 0 | J17: =SUM(J2:J16) -> 0 | K17: =SUM(K2:K16) -> 0

Sheet tblIII
A1: Sud | B1: Godina | C1: ImePrezime | D1: Funkcija | E1: Ocij/NijeOcij | F1: UkBrDonOdlnsmiPrLijek | G1: UkBrOzOdl | H1: BrOdbPravLijekova | I1: BrPotOdl | J1: BrPreinOdl | K1: BrPreOdlNakOdGlRas/PretPredDrugSud | L1: BrUkOdl | M1: BrDjelUkOdl | N1: KvaSudOdlČl16/1/a | O1: BrOstBodZaKvalČl16/1/a | P1: KvalSudOdlČl16/1/b | Q1: BrOstBodZaKvalČl16/1/b | R1: UkBrOstBodZaKval | S1: KvalSudOdlČl16/1/b
A2: =+'Tabela I'!$K$2 -> 0 | B2: =+'Tabela I'!$K$1 -> 2024 | C2: =+'Tabela III'!B10 | D2: =+'Tabela III'!C10 -> Predsjednik suda * | E2: =+'Tabela III'!D10 -> 0 | F2: =+'Tabela III'!E10 -> 0 | G2: =+'Tabela III'!F10 -> 0 | H2: =+'Tabela III'!G10 -> 0 | I2: =+'Tabela III'!H10 -> 0 | J2: =+'Tabela III'!I10 -> 0 | ... R2: =+'Tabela III'!Q10 | V2: Ocijenjen
A3: =+'Tabela I'!$K$2 -> 0 | B3: =+'Tabela I'!$K$1 -> 2024 | C3: ='Tabela III'!B11 | D3: =+'Tabela III'!C11 -> 0 | E3: =+'Tabela III'!D11 -> 0 | F3: =+'Tabela III'!E11 -> 0 | G3: =+'Tabela III'!F11 -> 0 | H3: =+'Tabela III'!G11 -> 0 | I3: =+'Tabela III'!H11 -> 0 | J3: =+'Tabela III'!I11 -> 0 | K3: =+'Tabela III'!J11 -> 0 | ... R3: =+'Tabela III'!Q11 | T3: Sudija | V3: Nije ocijenjen
A4: =+'Tabela I'!$K$2 -> 0 | B4: =+'Tabela I'!$K$1 -> 2024 | C4: =+'Tabela III'!B12 | D4: =+'Tabela III'!C12 -> 0 | E4: =+'Tabela III'!D12 -> 0 | F4: =+'Tabela III'!E12 -> 0 | G4: =+'Tabela III'!F12 -> 0 | H4: =+'Tabela III'!G12 -> 0 | I4: =+'Tabela III'!H12 -> 0 | J4: =+'Tabela III'!I12 -> 0 | ... R4: =+'Tabela III'!Q12 | T4: Stručni saradnik
A5: =+'Tabela I'!$K$2 -> 0 | B5: =+'Tabela I'!$K$1 -> 2024 | C5: =+'Tabela III'!B13 | D5: =+'Tabela III'!C13 -> 0 | E5: =+'Tabela III'!D13 -> 0 | F5: =+'Tabela III'!E13 -> 0 | G5: =+'Tabela III'!F13 -> 0 | H5: =+'Tabela III'!G13 -> 0 | I5: =+'Tabela III'!H13 -> 0 | J5: =+'Tabela III'!I13 -> 0 | ... R5: =+'Tabela III'!Q13
A6: =+'Tabela I'!$K$2 -> 0 | B6: =+'Tabela I'!$K$1 -> 2024 | C6: =+'Tabela III'!B14 | D6: =+'Tabela III'!C14 -> 0 | E6: =+'Tabela III'!D14 -> 0 | F6: =+'Tabela III'!E14 -> 0 | G6: =+'Tabela III'!F14 -> 0 | H6: =+'Tabela III'!G14 -> 0 | I6: =+'Tabela III'!H14 -> 0 | J6: =+'Tabela III'!I14 -> 0 | ... R6: =+'Tabela III'!Q14
A7: =+'Tabela I'!$K$2 -> 0 | B7: =+'Tabela I'!$K$1 -> 2024 | C7: =+'Tabela III'!B15 | D7: =+'Tabela III'!C15 -> 0 | E7: =+'Tabela III'!D15 -> 0 | F7: =+'Tabela III'!E15 -> 0 | G7: =+'Tabela III'!F15 -> 0 | H7: =+'Tabela III'!G15 -> 0 | I7: =+'Tabela III'!H15 -> 0 | J7: =+'Tabela III'!I15 -> 0 | ... R7: =+'Tabela III'!Q15
A8: =+'Tabela I'!$K$2 -> 0 | B8: =+'Tabela I'!$K$1 -> 2024 | C8: =+'Tabela III'!B16 | D8: =+'Tabela III'!C16 -> 0 | E8: =+'Tabela III'!D16 -> 0 | F8: =+'Tabela III'!E16 -> 0 | G8: =+'Tabela III'!F16 -> 0 | H8: =+'Tabela III'!G16 -> 0 | I8: =+'Tabela III'!H16 -> 0 | J8: =+'Tabela III'!I16 -> 0 | ... R8: =+'Tabela III'!Q16
A9: =+'Tabela I'!$K$2 -> 0 | B9: =+'Tabela I'!$K$1 -> 2024 | C9: =+'Tabela III'!B17 | D9: =+'Tabela III'!C17 -> 0 | E9: =+'Tabela III'!D17 -> 0 | F9: =+'Tabela III'!E17 -> 0 | G9: =+'Tabela III'!F17 -> 0 | H9: =+'Tabela III'!G17 -> 0 | I9: =+'Tabela III'!H17 -> 0 | J9: =+'Tabela III'!I17 -> 0 | ... R9: =+'Tabela III'!Q17
A10: =+'Tabela I'!$K$2 -> 0 | B10: =+'Tabela I'!$K$1 -> 2024 | C10: =+'Tabela III'!B18 | D10: =+'Tabela III'!C18 -> 0 | E10: =+'Tabela III'!D18 -> 0 | F10: =+'Tabela III'!E18 -> 0 | G10: =+'Tabela III'!F18 -> 0 | H10: =+'Tabela III'!G18 -> 0 | I10: =+'Tabela III'!H18 -> 0 | J10: =+'Tabela III'!I18 -> 0 | ... R10: =+'Tabela III'!Q18
A11: =+'Tabela I'!$K$2 -> 0 | B11: =+'Tabela I'!$K$1 -> 2024 | C11: =+'Tabela III'!B19 | D11: =+'Tabela III'!C19 -> 0 | E11: =+'Tabela III'!D19 -> 0 | F11: =+'Tabela III'!E19 -> 0 | G11: =+'Tabela III'!F19 -> 0 | H11: =+'Tabela III'!G19 -> 0 | I11: =+'Tabela III'!H19 -> 0 | J11: =+'Tabela III'!I19 -> 0 | ... R11: =+'Tabela III'!Q19
A12: =+'Tabela I'!$K$2 -> 0 | B12: =+'Tabela I'!$K$1 -> 2024 | C12: =+'Tabela III'!B20 | D12: =+'Tabela III'!C20 -> 0 | E12: =+'Tabela III'!D20 -> 0 | F12: =+'Tabela III'!E20 -> 0 | G12: =+'Tabela III'!F20 -> 0 | H12: =+'Tabela III'!G20 -> 0 | I12: =+'Tabela III'!H20 -> 0 | J12: =+'Tabela III'!I20 -> 0 | ... R12: =+'Tabela III'!Q20
A13: =+'Tabela I'!$K$2 -> 0 | B13: =+'Tabela I'!$K$1 -> 2024 | C13: =+'Tabela III'!B21 | D13: =+'Tabela III'!C21 -> 0 | E13: =+'Tabela III'!D21 -> 0 | F13: =+'Tabela III'!E21 -> 0 | G13: =+'Tabela III'!F21 -> 0 | H13: =+'Tabela III'!G21 -> 0 | I13: =+'Tabela III'!H21 -> 0 | J13: =+'Tabela III'!I21 -> 0 | ... R13: =+'Tabela III'!Q21
A14: =+'Tabela I'!$K$2 -> 0 | B14: =+'Tabela I'!$K$1 -> 2024 | C14: =+'Tabela III'!B22 | D14: =+'Tabela III'!C22 -> 0 | E14: =+'Tabela III'!D22 -> 0 | F14: =+'Tabela III'!E22 -> 0 | G14: =+'Tabela III'!F22 -> 0 | H14: =+'Tabela III'!G22 -> 0 | I14: =+'Tabela III'!H22 -> 0 | J14: =+'Tabela III'!I22 -> 0 | ... R14: =+'Tabela III'!Q22
A15: =+'Tabela I'!$K$2 -> 0 | B15: =+'Tabela I'!$K$1 -> 2024 | C15: =+'Tabela III'!B23 | D15: =+'Tabela III'!C23 -> 0 | E15: =+'Tabela III'!D23 -> 0 | F15: =+'Tabela III'!E23 -> 0 | G15: =+'Tabela III'!F23 -> 0 | H15: =+'Tabela III'!G23 -> 0 | I15: =+'Tabela III'!H23 -> 0 | J15: =+'Tabela III'!I23 -> 0 | ... R15: =+'Tabela III'!Q23
A16: =+'Tabela I'!$K$2 -> 0 | B16: =+'Tabela I'!$K$1 -> 2024 | C16: =+'Tabela III'!B24 | D16: =+'Tabela III'!C24 -> 0 | E16: =+'Tabela III'!D24 -> 0 | F16: =+'Tabela III'!E24 -> 0 | G16: =+'Tabela III'!F24 -> 0 | H16: =+'Tabela III'!G24 -> 0 | I16: =+'Tabela III'!H24 -> 0 | J16: =+'Tabela III'!I24 -> 0 | ... R16: =+'Tabela III'!Q24
... A66: =+'Tabela I'!$K$2 -> 0 | B66: =+'Tabela I'!$K$1 -> 2024 | C66: =+'Tabela III'!B74 -> 0 | D66: =+'Tabela III'!C74 -> 0 | E66: =+'Tabela III'!D74 -> 0 | F66: =+'Tabela III'!E74 -> 0 | G66: =+'Tabela III'!F74 -> 0 | H66: =+'Tabela III'!G74 -> 0 | I66: =+'Tabela III'!H74 -> 0 | J66: =+'Tabela III'!I74 -> 0 | ... R66: =+'Tabela III'!Q74
A69: Tabela IIIb
A71: =+'Tabela I'!$K$2 -> 0 | B71: =+'Tabela I'!$K$1 -> 2024 | C71: =+'Tabela III'!B86 -> Ime i prezime | D71: =+'Tabela III'!C86 -> Predsjednik suda | E71: =+'Tabela III'!D86 -> 0 | F71: =+'Tabela III'!E86 -> 0 | G71: =+'Tabela III'!F86 -> 0 | H71: =+'Tabela III'!G86 -> 0 | I71: =+'Tabela III'!H86 -> 0 | J71: =+'Tabela III'!I86 -> 0 | ... R71: =+'Tabela III'!Q86
A72: =+'Tabela I'!$K$2 -> 0 | B72: =+'Tabela I'!$K$1 -> 2024 | C72: =+'Tabela III'!B93 -> Ime i prezime | D72: =+'Tabela III'!C93 -> 0 | E72: =+'Tabela III'!D93 -> 0 | F72: =+'Tabela III'!E93 -> 0 | G72: =+'Tabela III'!F93 -> 0 | H72: =+'Tabela III'!G93 -> 0 | I72: =+'Tabela III'!H93 -> 0 | J72: =+'Tabela III'!I93 -> 0 | ... R72: =+'Tabela III'!Q93
A73: =+'Tabela I'!$K$2 -> 0 | B73: =+'Tabela I'!$K$1 -> 2024 | C73: =+'Tabela III'!B100 -> Ime i prezime | D73: =+'Tabela III'!C100 -> 0 | E73: =+'Tabela III'!D100 -> 0 | F73: =+'Tabela III'!E100 -> 0 | G73: =+'Tabela III'!F100 -> 0 | H73: =+'Tabela III'!G100 -> 0 | I73: =+'Tabela III'!H100 -> 0 | J73: =+'Tabela III'!I100 -> 0 | ... R73: =+'Tabela III'!Q100
A74: =+'Tabela I'!$K$2 -> 0 | B74: =+'Tabela I'!$K$1 -> 2024 | C74: =+'Tabela III'!B107 -> Ime i prezime | D74: =+'Tabela III'!C107 -> 0 | E74: =+'Tabela III'!D107 -> 0 | F74: =+'Tabela III'!E107 -> 0 | G74: =+'Tabela III'!F107 -> 0 | H74: =+'Tabela III'!G107 -> 0 | I74: =+'Tabela III'!H107 -> 0 | J74: =+'Tabela III'!I107 -> 0 | ... R74: =+'Tabela III'!Q107
A75: =+'Tabela I'!$K$2 -> 0 | B75: =+'Tabela I'!$K$1 -> 2024 | C75: =+'Tabela III'!B114 -> Ime i prezime | D75: =+'Tabela III'!C114 -> 0 | E75: =+'Tabela III'!D114 -> 0 | F75: =+'Tabela III'!E114 -> 0 | G75: =+'Tabela III'!F114 -> 0 | H75: =+'Tabela III'!G114 -> 0 | I75: =+'Tabela III'!H114 -> 0 | J75: =+'Tabela III'!I114 -> 0 | ... R75: =+'Tabela III'!Q114
A76: =+'Tabela I'!$K$2 -> 0 | B76: =+'Tabela I'!$K$1 -> 2024 | C76: =+'Tabela III'!B121 -> Ime i prezime | D76: =+'Tabela III'!C121 -> 0 | E76: =+'Tabela III'!D121 -> 0 | F76: =+'Tabela III'!E121 -> 0 | G76: =+'Tabela III'!F121 -> 0 | H76: =+'Tabela III'!G121 -> 0 | I76: =+'Tabela III'!H121 -> 0 | J76: =+'Tabela III'!I121 -> 0 | ... R76: =+'Tabela III'!Q121
A77: =+'Tabela I'!$K$2 -> 0 | B77: =+'Tabela I'!$K$1 -> 2024 | C77: =+'Tabela III'!B128 -> Ime i prezime | D77: =+'Tabela III'!C128 -> 0 | E77: =+'Tabela III'!D128 -> 0 | F77: =+'Tabela III'!E128 -> 0 | G77: =+'Tabela III'!F128 -> 0 | H77: =+'Tabela III'!G128 -> 0 | I77: =+'Tabela III'!H128 -> 0 | J77: =+'Tabela III'!I128 -> 0 | ... R77: =+'Tabela III'!Q128
A78: =+'Tabela I'!$K$2 -> 0 | B78: =+'Tabela I'!$K$1 -> 2024 | C78: =+'Tabela III'!B135 -> Ime i prezime | D78: =+'Tabela III'!C135 -> 0 | E78: =+'Tabela III'!D135 -> 0 | F78: =+'Tabela III'!E135 -> 0 | G78: =+'Tabela III'!F135 -> 0 | H78: =+'Tabela III'!G135 -> 0 | I78: =+'Tabela III'!H135 -> 0 | J78: =+'Tabela III'!I135 -> 0 | ... R78: =+'Tabela III'!Q135
A79: =+'Tabela I'!$K$2 -> 0 | B79: =+'Tabela I'!$K$1 -> 2024 | C79: =+'Tabela III'!B142 -> Ime i prezime | D79: =+'Tabela III'!C142 -> 0 | E79: =+'Tabela III'!D142 -> 0 | F79: =+'Tabela III'!E142 -> 0 | G79: =+'Tabela III'!F142 -> 0 | H79: =+'Tabela III'!G142 -> 0 | I79: =+'Tabela III'!H142 -> 0 | J79: =+'Tabela III'!I142 -> 0 | ... R79: =+'Tabela III'!Q142
A80: =+'Tabela I'!$K$2 -> 0 | B80: =+'Tabela I'!$K$1 -> 2024 | C80: =+'Tabela III'!B149 -> Ime i prezime | D80: =+'Tabela III'!C149 -> 0 | E80: =+'Tabela III'!D149 -> 0 | F80: =+'Tabela III'!E149 -> 0 | G80: =+'Tabela III'!F149 -> 0 | H80: =+'Tabela III'!G149 -> 0 | I80: =+'Tabela III'!H149 -> 0 | J80: =+'Tabela III'!I149 -> 0 | ... R80: =+'Tabela III'!Q149
A81: =+'Tabela I'!$K$2 -> 0 | B81: =+'Tabela I'!$K$1 -> 2024 | C81: =+'Tabela III'!B156 -> Ime i prezime | D81: =+'Tabela III'!C156 -> 0 | E81: =+'Tabela III'!D156 -> 0 | F81: =+'Tabela III'!E156 -> 0 | G81: =+'Tabela III'!F156 -> 0 | H81: =+'Tabela III'!G156 -> 0 | I81: =+'Tabela III'!H156 -> 0 | J81: =+'Tabela III'!I156 -> 0 | ... R81: =+'Tabela III'!Q156
A82: =+'Tabela I'!$K$2 -> 0 | B82: =+'Tabela I'!$K$1 -> 2024 | C82: =+'Tabela III'!B163 -> Ime i prezime | D82: =+'Tabela III'!C163 -> 0 | E82: =+'Tabela III'!D163 -> 0 | F82: =+'Tabela III'!E163 -> 0 | G82: =+'Tabela III'!F163 -> 0 | H82: =+'Tabela III'!G163 -> 0 | I82: =+'Tabela III'!H163 -> 0 | J82: =+'Tabela III'!I163 -> 0 | ... R82: =+'Tabela III'!Q163
A83: =+'Tabela I'!$K$2 -> 0 | B83: =+'Tabela I'!$K$1 -> 2024 | C83: =+'Tabela III'!B170 -> Ime i prezime | D83: =+'Tabela III'!C170 -> 0 | E83: =+'Tabela III'!D170 -> 0 | F83: =+'Tabela III'!E170 -> 0 | G83: =+'Tabela III'!F170 -> 0 | H83: =+'Tabela III'!G170 -> 0 | I83: =+'Tabela III'!H170 -> 0 | J83: =+'Tabela III'!I170 -> 0 | ... R83: =+'Tabela III'!Q170
A84: =+'Tabela I'!$K$2 -> 0 | B84: =+'Tabela I'!$K$1 -> 2024 | C84: =+'Tabela III'!B177 -> Ime i prezime | D84: =+'Tabela III'!C177 -> 0 | E84: =+'Tabela III'!D177 -> 0 | F84: =+'Tabela III'!E177 -> 0 | G84: =+'Tabela III'!F177 -> 0 | H84: =+'Tabela III'!G177 -> 0 | I84: =+'Tabela III'!H177 -> 0 | J84: =+'Tabela III'!I177 -> 0 | ... R84: =+'Tabela III'!Q177
A85: =+'Tabela I'!$K$2 -> 0 | B85: =+'Tabela I'!$K$1 -> 2024 | C85: =+'Tabela III'!B184 -> Ime i prezime | D85: =+'Tabela III'!C184 -> 0 | E85: =+'Tabela III'!D184 -> 0 | F85: =+'Tabela III'!E184 -> 0 | G85: =+'Tabela III'!F184 -> 0 | H85: =+'Tabela III'!G184 -> 0 | I85: =+'Tabela III'!H184 -> 0 | J85: =+'Tabela III'!I184 -> 0 | ... R85: =+'Tabela III'!Q184
A86: =+'Tabela I'!$K$2 -> 0 | B86: =+'Tabela I'!$K$1 -> 2024 | C86: =+'Tabela III'!B191 -> Ime i prezime | D86: =+'Tabela III'!C191 -> 0 | E86: =+'Tabela III'!D191 -> 0 | F86: =+'Tabela III'!E191 -> 0 | G86: =+'Tabela III'!F191 -> 0 | H86: =+'Tabela III'!G191 -> 0 | I86: =+'Tabela III'!H191 -> 0 | J86: =+'Tabela III'!I191 -> 0 | ... R86: =+'Tabela III'!Q191
A87: =+'Tabela I'!$K$2 -> 0 | B87: =+'Tabela I'!$K$1 -> 2024 | C87: =+'Tabela III'!B198 -> Ime i prezime | D87: =+'Tabela III'!C198 -> 0 | E87: =+'Tabela III'!D198 -> 0 | F87: =+'Tabela III'!E198 -> 0 | G87: =+'Tabela III'!F198 -> 0 | H87: =+'Tabela III'!G198 -> 0 | I87: =+'Tabela III'!H198 -> 0 | J87: =+'Tabela III'!I198 -> 0 | ... R87: =+'Tabela III'!Q198
A88: =+'Tabela I'!$K$2 -> 0 | B88: =+'Tabela I'!$K$1 -> 2024 | C88: =+'Tabela III'!B205 -> Ime i prezime | D88: =+'Tabela III'!C205 -> 0 | E88: =+'Tabela III'!D205 -> 0 | F88: =+'Tabela III'!E205 -> 0 | G88: =+'Tabela III'!F205 -> 0 | H88: =+'Tabela III'!G205 -> 0 | I88: =+'Tabela III'!H205 -> 0 | J88: =+'Tabela III'!I205 -> 0 | ... R88: =+'Tabela III'!Q205
A89: =+'Tabela I'!$K$2 -> 0 | B89: =+'Tabela I'!$K$1 -> 2024 | C89: =+'Tabela III'!B212 -> Ime i prezime | D89: =+'Tabela III'!C212 -> 0 | E89: =+'Tabela III'!D212 -> 0 | F89: =+'Tabela III'!E212 -> 0 | G89: =+'Tabela III'!F212 -> 0 | H89: =+'Tabela III'!G212 -> 0 | I89: =+'Tabela III'!H212 -> 0 | J89: =+'Tabela III'!I212 -> 0 | ... R89: =+'Tabela III'!Q212
A90: =+'Tabela I'!$K$2 -> 0 | B90: =+'Tabela I'!$K$1 -> 2024 | C90: =+'Tabela III'!B219 -> Ime i prezime | D90: =+'Tabela III'!C219 -> 0 | E90: =+'Tabela III'!D219 -> 0 | F90: =+'Tabela III'!E219 -> 0 | G90: =+'Tabela III'!F219 -> 0 | H90: =+'Tabela III'!G219 -> 0 | I90: =+'Tabela III'!H219 -> 0 | J90: =+'Tabela III'!I219 -> 0 | ... R90: =+'Tabela III'!Q219
A91: =+'Tabela I'!$K$2 -> 0 | B91: =+'Tabela I'!$K$1 -> 2024 | C91: =+'Tabela III'!B226 -> Ime i prezime | D91: =+'Tabela III'!C226 -> 0 | E91: =+'Tabela III'!D226 -> 0 | F91: =+'Tabela III'!E226 -> 0 | G91: =+'Tabela III'!F226 -> 0 | H91: =+'Tabela III'!G226 -> 0 | I91: =+'Tabela III'!H226 -> 0 | J91: =+'Tabela III'!I226 -> 0 | ... R91: =+'Tabela III'!Q226
A92: =+'Tabela I'!$K$2 -> 0 | B92: =+'Tabela I'!$K$1 -> 2024 | C92: =+'Tabela III'!B233 -> Ime i prezime | D92: =+'Tabela III'!C233 -> 0 | E92: =+'Tabela III'!D233 -> 0 | F92: =+'Tabela III'!E233 -> 0 | G92: =+'Tabela III'!F233 -> 0 | H92: =+'Tabela III'!G233 -> 0 | I92: =+'Tabela III'!H233 -> 0 | J92: =+'Tabela III'!I233 -> 0 | ... R92: =+'Tabela III'!Q233
A93: =+'Tabela I'!$K$2 -> 0 | B93: =+'Tabela I'!$K$1 -> 2024 | C93: =+'Tabela III'!B240 -> Ime i prezime | D93: =+'Tabela III'!C240 -> 0 | E93: =+'Tabela III'!D240 -> 0 | F93: =+'Tabela III'!E240 -> 0 | G93: =+'Tabela III'!F240 -> 0 | H93: =+'Tabela III'!G240 -> 0 | I93: =+'Tabela III'!H240 -> 0 | J93: =+'Tabela III'!I240 -> 0 | ... R93: =+'Tabela III'!Q240
A94: =+'Tabela I'!$K$2 -> 0 | B94: =+'Tabela I'!$K$1 -> 2024 | C94: =+'Tabela III'!B247 -> Ime i prezime | D94: =+'Tabela III'!C247 -> 0 | E94: =+'Tabela III'!D247 -> 0 | F94: =+'Tabela III'!E247 -> 0 | G94: =+'Tabela III'!F247 -> 0 | H94: =+'Tabela III'!G247 -> 0 | I94: =+'Tabela III'!H247 -> 0 | J94: =+'Tabela III'!I247 -> 0 | ... R94: =+'Tabela III'!Q247
A95: =+'Tabela I'!$K$2 -> 0 | B95: =+'Tabela I'!$K$1 -> 2024 | C95: =+'Tabela III'!B254 -> Ime i prezime | D95: =+'Tabela III'!C254 -> 0 | E95: =+'Tabela III'!D254 -> 0 | F95: =+'Tabela III'!E254 -> 0 | G95: =+'Tabela III'!F254 -> 0 | H95: =+'Tabela III'!G254 -> 0 | I95: =+'Tabela III'!H254 -> 0 | J95: =+'Tabela III'!I254 -> 0 | ... R95: =+'Tabela III'!Q254

Sheet tbl10_ust_sud
A1: for_key | B1: godina | C1: BrOdbacApel | D1: BrObustPost | E1: BrOdbijApel
A2: =+'Tabela I'!$K$2 -> 0 | B2: =+'Tabela I'!$K$1 -> 2024 | C2: ='Tabela IV'!A7 -> 0 | D2: ='Tabela IV'!B7 -> 0 | E2: ='Tabela IV'!C7 -> 0
A5: for_key | B5: godina | C5: Pravni osnov | D5: BrPreinOdl | E5: BrUkidOdl | F5: BrUsvApel
A6: =+'Tabela I'!$K$2 -> 0 | B6: =+'Tabela I'!$K$1 -> 2024 | C6: 1 | D6: ='Tabela IV'!B12 -> 0 | E6: ='Tabela IV'!C12 -> 0 | F6: ='Tabela IV'!D12 -> 0
A7: =+'Tabela I'!$K$2 -> 0 | B7: =+'Tabela I'!$K$1 -> 2024 | C7: 2 | D7: ='Tabela IV'!B13 -> 0 | E7: ='Tabela IV'!C13 -> 0 | F7: ='Tabela IV'!D13 -> 0
A8: =+'Tabela I'!$K$2 -> 0 | B8: =+'Tabela I'!$K$1 -> 2024 | C8: 3 | D8: ='Tabela IV'!B14 -> 0 | E8: ='Tabela IV'!C14 -> 0 | F8: ='Tabela IV'!D14 -> 0
A9: =+'Tabela I'!$K$2 -> 0 | B9: =+'Tabela I'!$K$1 -> 2024 | C9: 4 | D9: ='Tabela IV'!B15 -> 0 | E9: ='Tabela IV'!C15 -> 0 | F9: ='Tabela IV'!D15 -> 0
A10: =+'Tabela I'!$K$2 -> 0 | B10: =+'Tabela I'!$K$1 -> 2024 | C10: 5 | D10: ='Tabela IV'!B16 -> 0 | E10: ='Tabela IV'!C16 -> 0 | F10: ='Tabela IV'!D16 -> 0
A11: =+'Tabela I'!$K$2 -> 0 | B11: =+'Tabela I'!$K$1 -> 2024 | C11: 6 | D11: ='Tabela IV'!B17 -> 0 | E11: ='Tabela IV'!C17 -> 0 | F11: ='Tabela IV'!D17 -> 0
A12: =+'Tabela I'!$K$2 -> 0 | B12: =+'Tabela I'!$K$1 -> 2024 | C12: 7 | D12: ='Tabela IV'!B18 -> 0 | E12: ='Tabela IV'!C18 -> 0 | F12: ='Tabela IV'!D18 -> 0
A15: for_key | B15: godina | C15: Pravni osnov | D15: PrvostSud | E15: DrugostSud | F15: SudPoUlPrLij | G15: Ostalo
A16: =+'Tabela I'!$K$2 -> 0 | B16: =+'Tabela I'!$K$1 -> 2024 | C16: 3 | D16: ='Tabela IV'!B23 -> 0 | E16: ='Tabela IV'!C23 -> 0 | F16: ='Tabela IV'!D23 -> 0 | G16: ='Tabela IV'!E23 -> 0
A19: for_key | B19: godina | C19: BrNaknNematStete | D19: UkIznosNaknade
A20: =+'Tabela I'!$K$2 -> 0 | B20: =+'Tabela I'!$K$1 -> 2024 | C20: ='Tabela IV'!B25 -> 0 | D20: ='Tabela IV'!B26 -> 0

Sheet tbl II
A1: Godina | B1: Sud | C1: ImePrezime | D1: Ocjenjen | E1: Odjel | F1: Funkcija | G1: NormaPravilnik | H1: DatumOd | I1: DatumDo | J1: BroDanaZa Normu | K1: Odsustvo | L1: NormaCMS | M1: NormaVanCMS | N1: VeceVrenovanje | O1: OstvarenaNorma | P1: PreracunataNorma | Q1: BrPredURadu | R1: BrRijPred | S1: BrNerijPredSaZakProcSmet | T1: BrNerijPredBezZakProcSmet | U1: ProcRijePred | V1: BrOStBod
A2: ='Tabela I'!$K$1 -> 2024 | B2: ='Tabela I'!$K$2 -> 0 | C2: ='Tabela II'!B8 -> 0 | D2: ='Tabela II'!C8 -> 0 | E2: ='Tabela II'!D8 -> 0 | F2: ='Tabela II'!E8 -> Predsjednik suda | G2: ='Tabela II'!G8 -> 0 | H2: ='Tabela II'!H8 -> 0 | I2: ='Tabela II'!I8 -> 0 | J2: ='Tabela II'!J8 -> 262 | K2: ='Tabela II'!K8 -> 0 | L2: ='Tabela II'!L8 -> 0 | M2: ='Tabela II'!M8 -> 0 | N2: ='Tabela II'!N8 -> 0 | ... V2: ='Tabela II'!V8
A3: ='Tabela I'!$K$1 -> 2024 | B3: ='Tabela I'!$K$2 -> 0 | C3: ='Tabela II'!B9 -> 0 | D3: ='Tabela II'!C9 -> 0 | E3: ='Tabela II'!D9 -> 0 | F3: ='Tabela II'!E9 -> Predsjednik suda | G3: ='Tabela II'!G9 -> 0 | H3: ='Tabela II'!H9 -> 0 | I3: ='Tabela II'!I9 -> 0 | J3: ='Tabela II'!J9 -> 262 | K3: ='Tabela II'!K9 -> 0 | L3: ='Tabela II'!L9 -> 0 | M3: ='Tabela II'!M9 -> 0 | N3: ='Tabela II'!N9 -> 0 | ... V3: ='Tabela II'!V9
A4: ='Tabela I'!$K$1 -> 2024 | B4: ='Tabela I'!$K$2 -> 0 | C4: ='Tabela II'!B10 -> 0 | D4: ='Tabela II'!C10 -> 0 | E4: ='Tabela II'!D10 -> 0 | F4: ='Tabela II'!E10 -> 0 | G4: ='Tabela II'!G10 -> 0 | H4: ='Tabela II'!H10 -> 0 | I4: ='Tabela II'!I10 -> 0 | J4: ='Tabela II'!J10 -> 262 | K4: ='Tabela II'!K10 -> 0 | L4: ='Tabela II'!L10 -> 0 | M4: ='Tabela II'!M10 -> 0 | N4: ='Tabela II'!N10 -> 0 | ... V4: ='Tabela II'!V10
A5: ='Tabela I'!$K$1 -> 2024 | B5: ='Tabela I'!$K$2 -> 0 | C5: ='Tabela II'!B11 -> 0 | D5: ='Tabela II'!C11 -> 0 | E5: ='Tabela II'!D11 -> 0 | F5: ='Tabela II'!E11 -> 0 | G5: ='Tabela II'!G11 -> 0 | H5: ='Tabela II'!H11 -> 0 | I5: ='Tabela II'!I11 -> 0 | J5: ='Tabela II'!J11 -> 262 | K5: ='Tabela II'!K11 -> 0 | L5: ='Tabela II'!L11 -> 0 | M5: ='Tabela II'!M11 -> 0 | N5: ='Tabela II'!N11 -> 0 | ... V5: ='Tabela II'!V11
A6: ='Tabela I'!$K$1 -> 2024 | B6: ='Tabela I'!$K$2 -> 0 | C6: ='Tabela II'!B12 -> 0 | D6: ='Tabela II'!C12 -> 0 | E6: ='Tabela II'!D12 -> 0 | F6: ='Tabela II'!E12 -> 0 | G6: ='Tabela II'!G12 -> 0 | H6: ='Tabela II'!H12 -> 0 | I6: ='Tabela II'!I12 -> 0 | J6: ='Tabela II'!J12 -> 262 | K6: ='Tabela II'!K12 -> 0 | L6: ='Tabela II'!L12 -> 0 | M6: ='Tabela II'!M12 -> 0 | N6: ='Tabela II'!N12 -> 0 | ... V6: ='Tabela II'!V12
A7: ='Tabela I'!$K$1 -> 2024 | B7: ='Tabela I'!$K$2 -> 0 | C7: ='Tabela II'!B13 -> 0 | D7: ='Tabela II'!C13 -> 0 | E7: ='Tabela II'!D13 -> 0 | F7: ='Tabela II'!E13 -> 0 | G7: ='Tabela II'!G13 -> 0 | H7: ='Tabela II'!H13 -> 0 | I7: ='Tabela II'!I13 -> 0 | J7: ='Tabela II'!J13 -> 262 | K7: ='Tabela II'!K13 -> 0 | L7: ='Tabela II'!L13 -> 0 | M7: ='Tabela II'!M13 -> 0 | N7: ='Tabela II'!N13 -> 0 | ... V7: ='Tabela II'!V13
A8: ='Tabela I'!$K$1 -> 2024 | B8: ='Tabela I'!$K$2 -> 0 | C8: ='Tabela II'!B14 -> 0 | D8: ='Tabela II'!C14 -> 0 | E8: ='Tabela II'!D14 -> 0 | F8: ='Tabela II'!E14 -> 0 | G8: ='Tabela II'!G14 -> 0 | H8: ='Tabela II'!H14 -> 0 | I8: ='Tabela II'!I14 -> 0 | J8: ='Tabela II'!J14 -> 262 | K8: ='Tabela II'!K14 -> 0 | L8: ='Tabela II'!L14 -> 0 | M8: ='Tabela II'!M14 -> 0 | N8: ='Tabela II'!N14 -> 0 | ... V8: ='Tabela II'!V14
A9: ='Tabela I'!$K$1 -> 2024 | B9: ='Tabela I'!$K$2 -> 0 | C9: ='Tabela II'!B15 -> 0 | D9: ='Tabela II'!C15 -> 0 | E9: ='Tabela II'!D15 -> 0 | F9: ='Tabela II'!E15 -> 0 | G9: ='Tabela II'!G15 -> 0 | H9: ='Tabela II'!H15 -> 0 | I9: ='Tabela II'!I15 -> 0 | J9: ='Tabela II'!J15 -> 262 | K9: ='Tabela II'!K15 -> 0 | L9: ='Tabela II'!L15 -> 0 | M9: ='Tabela II'!M15 -> 0 | N9: ='Tabela II'!N15 -> 0 | ... V9: ='Tabela II'!V15
A10: ='Tabela I'!$K$1 -> 2024 | B10: ='Tabela I'!$K$2 -> 0 | C10: ='Tabela II'!B16 -> 0 | D10: ='Tabela II'!C16 -> 0 | E10: ='Tabela II'!D16 -> 0 | F10: ='Tabela II'!E16 -> 0 | G10: ='Tabela II'!G16 -> 0 | H10: ='Tabela II'!H16 -> 0 | I10: ='Tabela II'!I16 -> 0 | J10: ='Tabela II'!J16 -> 262 | K10: ='Tabela II'!K16 -> 0 | L10: ='Tabela II'!L16 -> 0 | M10: ='Tabela II'!M16 -> 0 | N10: ='Tabela II'!N16 -> 0 | ... V10: ='Tabela II'!V16
A11: ='Tabela I'!$K$1 -> 2024 | B11: ='Tabela I'!$K$2 -> 0 | C11: ='Tabela II'!B17 -> 0 | D11: ='Tabela II'!C17 -> 0 | E11: ='Tabela II'!D17 -> 0 | F11: ='Tabela II'!E17 -> 0 | G11: ='Tabela II'!G17 -> 0 | H11: ='Tabela II'!H17 -> 0 | I11: ='Tabela II'!I17 -> 0 | J11: ='Tabela II'!J17 -> 262 | K11: ='Tabela II'!K17 -> 0 | L11: ='Tabela II'!L17 -> 0 | M11: ='Tabela II'!M17 -> 0 | N11: ='Tabela II'!N17 -> 0 | ... V11: ='Tabela II'!V17
A12: ='Tabela I'!$K$1 -> 2024 | B12: ='Tabela I'!$K$2 -> 0 | C12: ='Tabela II'!B18 -> 0 | D12: ='Tabela II'!C18 -> 0 | E12: ='Tabela II'!D18 -> 0 | F12: ='Tabela II'!E18 -> 0 | G12: ='Tabela II'!G18 -> 0 | H12: ='Tabela II'!H18 -> 0 | I12: ='Tabela II'!I18 -> 0 | J12: ='Tabela II'!J18 -> 262 | K12: ='Tabela II'!K18 -> 0 | L12: ='Tabela II'!L18 -> 0 | M12: ='Tabela II'!M18 -> 0 | N12: ='Tabela II'!N18 -> 0 | ... V12: ='Tabela II'!V18
A13: ='Tabela I'!$K$1 -> 2024 | B13: ='Tabela I'!$K$2 -> 0 | C13: ='Tabela II'!B19 -> 0 | D13: ='Tabela II'!C19 -> 0 | E13: ='Tabela II'!D19 -> 0 | F13: ='Tabela II'!E19 -> 0 | G13: ='Tabela II'!G19 -> 0 | H13: ='Tabela II'!H19 -> 0 | I13: ='Tabela II'!I19 -> 0 | J13: ='Tabela II'!J19 -> 262 | K13: ='Tabela II'!K19 -> 0 | L13: ='Tabela II'!L19 -> 0 | M13: ='Tabela II'!M19 -> 0 | N13: ='Tabela II'!N19 -> 0 | ... V13: ='Tabela II'!V19
... A77: ='Tabela I'!$K$1 -> 2024 | B77: ='Tabela I'!$K$2 -> 0 | C77: ='Tabela II'!B83 -> 0 | D77: ='Tabela II'!C83 -> 0 | E77: ='Tabela II'!D83 -> 0 | F77: ='Tabela II'!E83 -> 0 | G77: ='Tabela II'!G83 -> 0 | H77: ='Tabela II'!H83 -> 0 | I77: ='Tabela II'!I83 -> 0 | J77: ='Tabela II'!J83 -> 262 | K77: ='Tabela II'!K83 -> 0 | L77: ='Tabela II'!L83 -> 0 | M77: ='Tabela II'!M83 -> 0 | N77: ='Tabela II'!N83 -> 0 | ... V77: ='Tabela II'!V83
A79: Godina | B79: Sud | C79: ImePrezime | D79: Ocjenjen | E79: Odjel | F79: Funkcija | G79: NormaPravilnik | H79: DatumOd | I79: DatumDo | J79: BroDanaZa Normu | K79: Odsustvo | L79: NormaCMS | M79: NormaVanCMS | N79: VeceVrenovanje | O79: OstvarenaNorma | P79: PreracunataNorma | Q79: BrPredURadu | R79: BrRijPred | S79: BrNerijPredSaZakProcSmet | T79: BrNerijPredBezZakProcSmet | U79: ProcRijePred | V79: BrOStBod | W79: Sud
A80: ='Tabela I'!$K$1 -> 2024 | B80: ='Tabela I'!$K$2 -> 0 | C80: ='Tabela II'!D107 -> 0 | D80: ='Tabela II'!C108 -> 0 | E80: ='Tabela II'!D108 -> 0 | F80: ='Tabela II'!E108 -> Predsjednik suda | G80: ='Tabela II'!G108 -> 0 | H80: ='Tabela II'!H108 -> 0 | I80: ='Tabela II'!I108 -> 0 | J80: ='Tabela II'!J108 -> 0 | K80: ='Tabela II'!K108 -> 0 | L80: ='Tabela II'!L108 -> 0 | M80: ='Tabela II'!M108 -> 0 | N80: ='Tabela II'!N108 -> 0 | ... V80: ='Tabela II'!V108 -> 0 | W80: ='Tabela II'!A108 -> Sud 1
A81: ='Tabela I'!$K$1 -> 2024 | B81: ='Tabela I'!$K$2 -> 0 | C81: ='Tabela II'!D107 -> 0 | D81: ='Tabela II'!C109 -> 0 | E81: ='Tabela II'!D109 -> 0 | F81: ='Tabela II'!E109 -> 0 | G81: ='Tabela II'!G109 -> 0 | H81: ='Tabela II'!H109 -> 0 | I81: ='Tabela II'!I109 -> 0 | J81: ='Tabela II'!J109 -> 0 | K81: ='Tabela II'!K109 -> 0 | L81: ='Tabela II'!L109 -> 0 | M81: ='Tabela II'!M109 -> 0 | N81: ='Tabela II'!N109 -> 0 | ... V81: ='Tabela II'!V109 -> 0 | W81: ='Tabela II'!A109 -> Sud 2
A82: ='Tabela I'!$K$1 -> 2024 | B82: ='Tabela I'!$K$2 -> 0 | C82: ='Tabela II'!D110 -> 0 | D82: ='Tabela II'!C111 -> 0 | E82: ='Tabela II'!D111 -> 0 | F82: ='Tabela II'!E111 -> 0 | G82: ='Tabela II'!G111 -> 0 | H82: ='Tabela II'!H111 -> 0 | I82: ='Tabela II'!I111 -> 0 | J82: ='Tabela II'!J111 -> 0 | K82: ='Tabela II'!K111 -> 0 | L82: ='Tabela II'!L111 -> 0 | M82: ='Tabela II'!M111 -> 0 | N82: ='Tabela II'!N111 -> 0 | ... V82: ='Tabela II'!V111 -> 0 | W82: ='Tabela II'!A111 -> Sud 1
A83: ='Tabela I'!$K$1 -> 2024 | B83: ='Tabela I'!$K$2 -> 0 | C83: ='Tabela II'!D110 -> 0 | D83: ='Tabela II'!C112 -> 0 | E83: ='Tabela II'!D112 -> 0 | F83: ='Tabela II'!E112 -> 0 | G83: ='Tabela II'!G112 -> 0 | H83: ='Tabela II'!H112 -> 0 | I83: ='Tabela II'!I112 -> 0 | J83: ='Tabela II'!J112 -> 0 | K83: ='Tabela II'!K112 -> 0 | L83: ='Tabela II'!L112 -> 0 | M83: ='Tabela II'!M112 -> 0 | N83: ='Tabela II'!N112 -> 0 | ... V83: ='Tabela II'!V112 -> 0 | W83: ='Tabela II'!A112 -> Sud 2
A84: ='Tabela I'!$K$1 -> 2024 | B84: ='Tabela I'!$K$2 -> 0 | C84: ='Tabela II'!D113 -> 0 | D84: ='Tabela II'!C114 -> 0 | E84: ='Tabela II'!D114 -> 0 | F84: ='Tabela II'!E114 -> 0 | G84: ='Tabela II'!G114 -> 0 | H84: ='Tabela II'!H114 -> 0 | I84: ='Tabela II'!I114 -> 0 | J84: ='Tabela II'!J114 -> 0 | K84: ='Tabela II'!K114 -> 0 | L84: ='Tabela II'!L114 -> 0 | M84: ='Tabela II'!M114 -> 0 | N84: ='Tabela II'!N114 -> 0 | ... V84: ='Tabela II'!V114 -> 0 | W84: ='Tabela II'!A114 -> Sud 1
A85: ='Tabela I'!$K$1 -> 2024 | B85: ='Tabela I'!$K$2 -> 0 | C85: ='Tabela II'!D113 -> 0 | D85: ='Tabela II'!C115 -> 0 | E85: ='Tabela II'!D115 -> 0 | F85: ='Tabela II'!E115 -> 0 | G85: ='Tabela II'!G115 -> 0 | H85: ='Tabela II'!H115 -> 0 | I85: ='Tabela II'!I115 -> 0 | J85: ='Tabela II'!J115 -> 0 | K85: ='Tabela II'!K115 -> 0 | L85: ='Tabela II'!L115 -> 0 | M85: ='Tabela II'!M115 -> 0 | N85: ='Tabela II'!N115 -> 0 | ... V85: ='Tabela II'!V115 -> 0 | W85: ='Tabela II'!A115 -> Sud 2
A86: ='Tabela I'!$K$1 -> 2024 | B86: ='Tabela I'!$K$2 -> 0 | C86: ='Tabela II'!D116 -> 0 | D86: ='Tabela II'!C117 -> 0 | E86: ='Tabela II'!D117 -> 0 | F86: ='Tabela II'!E117 -> 0 | G86: ='Tabela II'!G117 -> 0 | H86: ='Tabela II'!H117 -> 0 | I86: ='Tabela II'!I117 -> 0 | J86: ='Tabela II'!J117 -> 0 | K86: ='Tabela II'!K117 -> 0 | L86: ='Tabela II'!L117 -> 0 | M86: ='Tabela II'!M117 -> 0 | N86: ='Tabela II'!N117 -> 0 | ... V86: ='Tabela II'!V117 -> 0 | W86: ='Tabela II'!A117 -> Sud 1
A87: ='Tabela I'!$K$1 -> 2024 | B87: ='Tabela I'!$K$2 -> 0 | C87: ='Tabela II'!D116 -> 0 | D87: ='Tabela II'!C118 -> 0 | E87: ='Tabela II'!D118 -> 0 | F87: ='Tabela II'!E118 -> 0 | G87: ='Tabela II'!G118 -> 0 | H87: ='Tabela II'!H118 -> 0 | I87: ='Tabela II'!I118 -> 0 | J87: ='Tabela II'!J118 -> 0 | K87: ='Tabela II'!K118 -> 0 | L87: ='Tabela II'!L118 -> 0 | M87: ='Tabela II'!M118 -> 0 | N87: ='Tabela II'!N118 -> 0 | ... V87: ='Tabela II'!V118 -> 0 | W87: ='Tabela II'!A118 -> Sud 2
A88: ='Tabela I'!$K$1 -> 2024 | B88: ='Tabela I'!$K$2 -> 0 | C88: ='Tabela II'!D119 -> 0 | D88: ='Tabela II'!C120 -> 0 | E88: ='Tabela II'!D120 -> 0 | F88: ='Tabela II'!E120 -> 0 | G88: ='Tabela II'!G120 -> 0 | H88: ='Tabela II'!H120 -> 0 | I88: ='Tabela II'!I120 -> 0 | J88: ='Tabela II'!J120 -> 0 | K88: ='Tabela II'!K120 -> 0 | L88: ='Tabela II'!L120 -> 0 | M88: ='Tabela II'!M120 -> 0 | N88: ='Tabela II'!N120 -> 0 | ... V88: ='Tabela II'!V120 -> 0 | W88: ='Tabela II'!A120 -> Sud 1
A89: ='Tabela I'!$K$1 -> 2024 | B89: ='Tabela I'!$K$2 -> 0 | C89: ='Tabela II'!D119 -> 0 | D89: ='Tabela II'!C121 -> 0 | E89: ='Tabela II'!D121 -> 0 | F89: ='Tabela II'!E121 -> 0 | G89: ='Tabela II'!G121 -> 0 | H89: ='Tabela II'!H121 -> 0 | I89: ='Tabela II'!I121 -> 0 | J89: ='Tabela II'!J121 -> 0 | K89: ='Tabela II'!K121 -> 0 | L89: ='Tabela II'!L121 -> 0 | M89: ='Tabela II'!M121 -> 0 | N89: ='Tabela II'!N121 -> 0 | ... V89: ='Tabela II'!V121 -> 0 | W89: ='Tabela II'!A121 -> Sud 2
A90: ='Tabela I'!$K$1 -> 2024 | B90: ='Tabela I'!$K$2 -> 0 | C90: ='Tabela II'!D122 -> 0 | D90: ='Tabela II'!C123 -> 0 | E90: ='Tabela II'!D123 -> 0 | F90: ='Tabela II'!E123 -> 0 | G90: ='Tabela II'!G123 -> 0 | H90: ='Tabela II'!H123 -> 0 | I90: ='Tabela II'!I123 -> 0 | J90: ='Tabela II'!J123 -> 0 | K90: ='Tabela II'!K123 -> 0 | L90: ='Tabela II'!L123 -> 0 | M90: ='Tabela II'!M123 -> 0 | N90: ='Tabela II'!N123 -> 0 | ... V90: ='Tabela II'!V123 -> 0 | W90: ='Tabela II'!A123 -> Sud 1
A91: ='Tabela I'!$K$1 -> 2024 | B91: ='Tabela I'!$K$2 -> 0 | C91: ='Tabela II'!D122 -> 0 | D91: ='Tabela II'!C124 -> 0 | E91: ='Tabela II'!D124 -> 0 | F91: ='Tabela II'!E124 -> 0 | G91: ='Tabela II'!G124 -> 0 | H91: ='Tabela II'!H124 -> 0 | I91: ='Tabela II'!I124 -> 0 | J91: ='Tabela II'!J124 -> 0 | K91: ='Tabela II'!K124 -> 0 | L91: ='Tabela II'!L124 -> 0 | M91: ='Tabela II'!M124 -> 0 | N91: ='Tabela II'!N124 -> 0 | ... V91: ='Tabela II'!V124 -> 0 | W91: ='Tabela II'!A124 -> Sud 2
A92: ='Tabela I'!$K$1 -> 2024 | B92: ='Tabela I'!$K$2 -> 0 | C92: ='Tabela II'!D125 -> 0 | D92: ='Tabela II'!C126 -> 0 | E92: ='Tabela II'!D126 -> 0 | F92: ='Tabela II'!E126 -> 0 | G92: ='Tabela II'!G126 -> 0 | H92: ='Tabela II'!H126 -> 0 | I92: ='Tabela II'!I126 -> 0 | J92: ='Tabela II'!J126 -> 0 | K92: ='Tabela II'!K126 -> 0 | L92: ='Tabela II'!L126 -> 0 | M92: ='Tabela II'!M126 -> 0 | N92: ='Tabela II'!N126 -> 0 | ... V92: ='Tabela II'!V126 -> 0 | W92: ='Tabela II'!A126 -> Sud 1
A93: ='Tabela I'!$K$1 -> 2024 | B93: ='Tabela I'!$K$2 -> 0 | C93: ='Tabela II'!D125 -> 0 | D93: ='Tabela II'!C127 -> 0 | E93: ='Tabela II'!D127 -> 0 | F93: ='Tabela II'!E127 -> 0 | G93: ='Tabela II'!G127 -> 0 | H93: ='Tabela II'!H127 -> 0 | I93: ='Tabela II'!I127 -> 0 | J93: ='Tabela II'!J127 -> 0 | K93: ='Tabela II'!K127 -> 0 | L93: ='Tabela II'!L127 -> 0 | M93: ='Tabela II'!M127 -> 0 | N93: ='Tabela II'!N127 -> 0 | ... V93: ='Tabela II'!V127 -> 0 | W93: ='Tabela II'!A127 -> Sud 2
A94: ='Tabela I'!$K$1 -> 2024 | B94: ='Tabela I'!$K$2 -> 0 | C94: ='Tabela II'!D128 -> 0 | D94: ='Tabela II'!C129 -> 0 | E94: ='Tabela II'!D129 -> 0 | F94: ='Tabela II'!E129 -> 0 | G94: ='Tabela II'!G129 -> 0 | H94: ='Tabela II'!H129 -> 0 | I94: ='Tabela II'!I129 -> 0 | J94: ='Tabela II'!J129 -> 0 | K94: ='Tabela II'!K129 -> 0 | L94: ='Tabela II'!L129 -> 0 | M94: ='Tabela II'!M129 -> 0 | N94: ='Tabela II'!N129 -> 0 | ... V94: ='Tabela II'!V129 -> 0 | W94: ='Tabela II'!A129 -> Sud 1
A95: ='Tabela I'!$K$1 -> 2024 | B95: ='Tabela I'!$K$2 -> 0 | C95: ='Tabela II'!D128 -> 0 | D95: ='Tabela II'!C130 -> 0 | E95: ='Tabela II'!D130 -> 0 | F95: ='Tabela II'!E130 -> 0 | G95: ='Tabela II'!G130 -> 0 | H95: ='Tabela II'!H130 -> 0 | I95: ='Tabela II'!I130 -> 0 | J95: ='Tabela II'!J130 -> 0 | K95: ='Tabela II'!K130 -> 0 | L95: ='Tabela II'!L130 -> 0 | M95: ='Tabela II'!M130 -> 0 | N95: ='Tabela II'!N130 -> 0 | ... V95: ='Tabela II'!V130 -> 0 | W95: ='Tabela II'!A130 -> Sud 2
A96: ='Tabela I'!$K$1 -> 2024 | B96: ='Tabela I'!$K$2 -> 0 | C96: ='Tabela II'!D131 -> 0 | D96: ='Tabela II'!C132 -> 0 | E96: ='Tabela II'!D132 -> 0 | F96: ='Tabela II'!E132 -> 0 | G96: ='Tabela II'!G132 -> 0 | H96: ='Tabela II'!H132 -> 0 | I96: ='Tabela II'!I132 -> 0 | J96: ='Tabela II'!J132 -> 0 | K96: ='Tabela II'!K132 -> 0 | L96: ='Tabela II'!L132 -> 0 | M96: ='Tabela II'!M132 -> 0 | N96: ='Tabela II'!N132 -> 0 | ... V96: ='Tabela II'!V132 -> 0 | W96: ='Tabela II'!A132 -> Sud 1
A97: ='Tabela I'!$K$1 -> 2024 | B97: ='Tabela I'!$K$2 -> 0 | C97: ='Tabela II'!D131 -> 0 | D97: ='Tabela II'!C133 -> 0 | E97: ='Tabela II'!D133 -> 0 | F97: ='Tabela II'!E133 -> 0 | G97: ='Tabela II'!G133 -> 0 | H97: ='Tabela II'!H133 -> 0 | I97: ='Tabela II'!I133 -> 0 | J97: ='Tabela II'!J133 -> 0 | K97: ='Tabela II'!K133 -> 0 | L97: ='Tabela II'!L133 -> 0 | M97: ='Tabela II'!M133 -> 0 | N97: ='Tabela II'!N133 -> 0 | ... V97: ='Tabela II'!V133 -> 0 | W97: ='Tabela II'!A133 -> Sud 2
A98: ='Tabela I'!$K$1 -> 2024 | B98: ='Tabela I'!$K$2 -> 0 | C98: ='Tabela II'!D134 -> 0 | D98: ='Tabela II'!C135 -> 0 | E98: ='Tabela II'!D135 -> 0 | F98: ='Tabela II'!E135 -> 0 | G98: ='Tabela II'!G135 -> 0 | H98: ='Tabela II'!H135 -> 0 | I98: ='Tabela II'!I135 -> 0 | J98: ='Tabela II'!J135 -> 0 | K98: ='Tabela II'!K135 -> 0 | L98: ='Tabela II'!L135 -> 0 | M98: ='Tabela II'!M135 -> 0 | N98: ='Tabela II'!N135 -> 0 | ... V98: ='Tabela II'!V135 -> 0 | W98: ='Tabela II'!A135 -> Sud 1
A99: ='Tabela I'!$K$1 -> 2024 | B99: ='Tabela I'!$K$2 -> 0 | C99: ='Tabela II'!D134 -> 0 | D99: ='Tabela II'!C136 -> 0 | E99: ='Tabela II'!D136 -> 0 | F99: ='Tabela II'!E136 -> 0 | G99: ='Tabela II'!G136 -> 0 | H99: ='Tabela II'!H136 -> 0 | I99: ='Tabela II'!I136 -> 0 | J99: ='Tabela II'!J136 -> 0 | K99: ='Tabela II'!K136 -> 0 | L99: ='Tabela II'!L136 -> 0 | M99: ='Tabela II'!M136 -> 0 | N99: ='Tabela II'!N136 -> 0 | ... V99: ='Tabela II'!V136 -> 0 | W99: ='Tabela II'!A136 -> Sud 2
A100: ='Tabela I'!$K$1 -> 2024 | B100: ='Tabela I'!$K$2 -> 0 | C100: ='Tabela II'!D137 -> 0 | D100: ='Tabela II'!C138 -> 0 | E100: ='Tabela II'!D138 -> 0 | F100: ='Tabela II'!E138 -> 0 | G100: ='Tabela II'!G138 -> 0 | H100: ='Tabela II'!H138 -> 0 | I100: ='Tabela II'!I138 -> 0 | J100: ='Tabela II'!J138 -> 0 | K100: ='Tabela II'!K138 -> 0 | L100: ='Tabela II'!L138 -> 0 | M100: ='Tabela II'!M138 -> 0 | N100: ='Tabela II'!N138 -> 0 | ... V100: ='Tabela II'!V138 -> 0 | W100: ='Tabela II'!A138 -> Sud 1
A101: ='Tabela I'!$K$1 -> 2024 | B101: ='Tabela I'!$K$2 -> 0 | C101: ='Tabela II'!D137 -> 0 | D101: ='Tabela II'!C139 -> 0 | E101: ='Tabela II'!D139 -> 0 | F101: ='Tabela II'!E139 -> 0 | G101: ='Tabela II'!G139 -> 0 | H101: ='Tabela II'!H139 -> 0 | I101: ='Tabela II'!I139 -> 0 | J101: ='Tabela II'!J139 -> 0 | K101: ='Tabela II'!K139 -> 0 | L101: ='Tabela II'!L139 -> 0 | M101: ='Tabela II'!M139 -> 0 | N101: ='Tabela II'!N139 -> 0 | ... V101: ='Tabela II'!V139 -> 0 | W101: ='Tabela II'!A139 -> Sud 2
A102: ='Tabela I'!$K$1 -> 2024 | B102: ='Tabela I'!$K$2 -> 0 | C102: ='Tabela II'!D140 -> 0 | D102: ='Tabela II'!C141 -> 0 | E102: ='Tabela II'!D141 -> 0 | F102: ='Tabela II'!E141 -> 0 | G102: ='Tabela II'!G141 -> 0 | H102: ='Tabela II'!H141 -> 0 | I102: ='Tabela II'!I141 -> 0 | J102: ='Tabela II'!J141 -> 0 | K102: ='Tabela II'!K141 -> 0 | L102: ='Tabela II'!L141 -> 0 | M102: ='Tabela II'!M141 -> 0 | N102: ='Tabela II'!N141 -> 0 | ... V102: ='Tabela II'!V141 -> 0 | W102: ='Tabela II'!A141 -> Sud 1
A103: ='Tabela I'!$K$1 -> 2024 | B103: ='Tabela I'!$K$2 -> 0 | C103: ='Tabela II'!D140 -> 0 | D103: ='Tabela II'!C142 -> 0 | E103: ='Tabela II'!D142 -> 0 | F103: ='Tabela II'!E142 -> 0 | G103: ='Tabela II'!G142 -> 0 | H103: ='Tabela II'!H142 -> 0 | I103: ='Tabela II'!I142 -> 0 | J103: ='Tabela II'!J142 -> 0 | K103: ='Tabela II'!K142 -> 0 | L103: ='Tabela II'!L142 -> 0 | M103: ='Tabela II'!M142 -> 0 | N103: ='Tabela II'!N142 -> 0 | ... V103: ='Tabela II'!V142 -> 0 | W103: ='Tabela II'!A142 -> Sud 2
A104: ='Tabela I'!$K$1 -> 2024 | B104: ='Tabela I'!$K$2 -> 0 | C104: ='Tabela II'!D143 -> 0 | D104: ='Tabela II'!C144 -> 0 | E104: ='Tabela II'!D144 -> 0 | F104: ='Tabela II'!E144 -> 0 | G104: ='Tabela II'!G144 -> 0 | H104: ='Tabela II'!H144 -> 0 | I104: ='Tabela II'!I144 -> 0 | J104: ='Tabela II'!J144 -> 0 | K104: ='Tabela II'!K144 -> 0 | L104: ='Tabela II'!L144 -> 0 | M104: ='Tabela II'!M144 -> 0 | N104: ='Tabela II'!N144 -> 0 | ... V104: ='Tabela II'!V144 -> 0 | W104: ='Tabela II'!A144 -> Sud 1
A105: ='Tabela I'!$K$1 -> 2024 | B105: ='Tabela I'!$K$2 -> 0 | C105: ='Tabela II'!D143 -> 0 | D105: ='Tabela II'!C145 -> 0 | E105: ='Tabela II'!D145 -> 0 | F105: ='Tabela II'!E145 -> 0 | G105: ='Tabela II'!G145 -> 0 | H105: ='Tabela II'!H145 -> 0 | I105: ='Tabela II'!I145 -> 0 | J105: ='Tabela II'!J145 -> 0 | K105: ='Tabela II'!K145 -> 0 | L105: ='Tabela II'!L145 -> 0 | M105: ='Tabela II'!M145 -> 0 | N105: ='Tabela II'!N145 -> 0 | ... V105: ='Tabela II'!V145 -> 0 | W105: ='Tabela II'!A145 -> Sud 2
A106: ='Tabela I'!$K$1 -> 2024 | B106: ='Tabela I'!$K$2 -> 0 | C106: ='Tabela II'!D146 -> 0 | D106: ='Tabela II'!C147 -> 0 | E106: ='Tabela II'!D147 -> 0 | F106: ='Tabela II'!E147 -> 0 | G106: ='Tabela II'!G147 -> 0 | H106: ='Tabela II'!H147 -> 0 | I106: ='Tabela II'!I147 -> 0 | J106: ='Tabela II'!J147 -> 0 | K106: ='Tabela II'!K147 -> 0 | L106: ='Tabela II'!L147 -> 0 | M106: ='Tabela II'!M147 -> 0 | N106: ='Tabela II'!N147 -> 0 | ... V106: ='Tabela II'!V147 -> 0 | W106: ='Tabela II'!A147 -> Sud 1
A107: ='Tabela I'!$K$1 -> 2024 | B107: ='Tabela I'!$K$2 -> 0 | C107: ='Tabela II'!D146 -> 0 | D107: ='Tabela II'!C148 -> 0 | E107: ='Tabela II'!D148 -> 0 | F107: ='Tabela II'!E148 -> 0 | G107: ='Tabela II'!G148 -> 0 | H107: ='Tabela II'!H148 -> 0 | I107: ='Tabela II'!I148 -> 0 | J107: ='Tabela II'!J148 -> 0 | K107: ='Tabela II'!K148 -> 0 | L107: ='Tabela II'!L148 -> 0 | M107: ='Tabela II'!M148 -> 0 | N107: ='Tabela II'!N148 -> 0 | ... V107: ='Tabela II'!V148 -> 0 | W107: ='Tabela II'!A148 -> Sud 2
A108: ='Tabela I'!$K$1 -> 2024 | B108: ='Tabela I'!$K$2 -> 0 | C108: ='Tabela II'!D149 -> 0 | D108: ='Tabela II'!C150 -> 0 | E108: ='Tabela II'!D150 -> 0 | F108: ='Tabela II'!E150 -> 0 | G108: ='Tabela II'!G150 -> 0 | H108: ='Tabela II'!H150 -> 0 | I108: ='Tabela II'!I150 -> 0 | J108: ='Tabela II'!J150 -> 0 | K108: ='Tabela II'!K150 -> 0 | L108: ='Tabela II'!L150 -> 0 | M108: ='Tabela II'!M150 -> 0 | N108: ='Tabela II'!N150 -> 0 | ... V108: ='Tabela II'!V150 -> 0 | W108: ='Tabela II'!A150 -> Sud 1
A109: ='Tabela I'!$K$1 -> 2024 | B109: ='Tabela I'!$K$2 -> 0 | C109: ='Tabela II'!D149 -> 0 | D109: ='Tabela II'!C151 -> 0 | E109: ='Tabela II'!D151 -> 0 | F109: ='Tabela II'!E151 -> 0 | G109: ='Tabela II'!G151 -> 0 | H109: ='Tabela II'!H151 -> 0 | I109: ='Tabela II'!I151 -> 0 | J109: ='Tabela II'!J151 -> 0 | K109: ='Tabela II'!K151 -> 0 | L109: ='Tabela II'!L151 -> 0 | M109: ='Tabela II'!M151 -> 0 | N109: ='Tabela II'!N151 -> 0 | ... V109: ='Tabela II'!V151 -> 0 | W109: ='Tabela II'!A151 -> Sud 2
A110: ='Tabela I'!$K$1 -> 2024 | B110: ='Tabela I'!$K$2 -> 0 | C110: ='Tabela II'!D152 -> 0 | D110: ='Tabela II'!C153 -> 0 | E110: ='Tabela II'!D153 -> 0 | F110: ='Tabela II'!E153 -> 0 | G110: ='Tabela II'!G153 -> 0 | H110: ='Tabela II'!H153 -> 0 | I110: ='Tabela II'!I153 -> 0 | J110: ='Tabela II'!J153 -> 0 | K110: ='Tabela II'!K153 -> 0 | L110: ='Tabela II'!L153 -> 0 | M110: ='Tabela II'!M153 -> 0 | N110: ='Tabela II'!N153 -> 0 | ... V110: ='Tabela II'!V153 -> 0 | W110: ='Tabela II'!A153 -> Sud 1
A111: ='Tabela I'!$K$1 -> 2024 | B111: ='Tabela I'!$K$2 -> 0 | C111: ='Tabela II'!D152 -> 0 | D111: ='Tabela II'!C154 -> 0 | E111: ='Tabela II'!D154 -> 0 | F111: ='Tabela II'!E154 -> 0 | G111: ='Tabela II'!G154 -> 0 | H111: ='Tabela II'!H154 -> 0 | I111: ='Tabela II'!I154 -> 0 | J111: ='Tabela II'!J154 -> 0 | K111: ='Tabela II'!K154 -> 0 | L111: ='Tabela II'!L154 -> 0 | M111: ='Tabela II'!M154 -> 0 | N111: ='Tabela II'!N154 -> 0 | ... V111: ='Tabela II'!V154 -> 0 | W111: ='Tabela II'!A154 -> Sud 2
A112: ='Tabela I'!$K$1 -> 2024 | B112: ='Tabela I'!$K$2 -> 0 | C112: ='Tabela II'!D155 -> 0 | D112: ='Tabela II'!C156 -> 0 | E112: ='Tabela II'!D156 -> 0 | F112: ='Tabela II'!E156 -> 0 | G112: ='Tabela II'!G156 -> 0 | H112: ='Tabela II'!H156 -> 0 | I112: ='Tabela II'!I156 -> 0 | J112: ='Tabela II'!J156 -> 0 | K112: ='Tabela II'!K156 -> 0 | L112: ='Tabela II'!L156 -> 0 | M112: ='Tabela II'!M156 -> 0 | N112: ='Tabela II'!N156 -> 0 | ... V112: ='Tabela II'!V156 -> 0 | W112: ='Tabela II'!A156 -> Sud 1
A113: ='Tabela I'!$K$1 -> 2024 | B113: ='Tabela I'!$K$2 -> 0 | C113: ='Tabela II'!D155 -> 0 | D113: ='Tabela II'!C157 -> 0 | E113: ='Tabela II'!D157 -> 0 | F113: ='Tabela II'!E157 -> 0 | G113: ='Tabela II'!G157 -> 0 | H113: ='Tabela II'!H157 -> 0 | I113: ='Tabela II'!I157 -> 0 | J113: ='Tabela II'!J157 -> 0 | K113: ='Tabela II'!K157 -> 0 | L113: ='Tabela II'!L157 -> 0 | M113: ='Tabela II'!M157 -> 0 | N113: ='Tabela II'!N157 -> 0 | ... V113: ='Tabela II'!V157 -> 0 | W113: ='Tabela II'!A157 -> Sud 2
A114: ='Tabela I'!$K$1 -> 2024 | B114: ='Tabela I'!$K$2 -> 0 | C114: ='Tabela II'!D158 -> 0 | D114: ='Tabela II'!C159 -> 0 | E114: ='Tabela II'!D159 -> 0 | F114: ='Tabela II'!E159 -> 0 | G114: ='Tabela II'!G159 -> 0 | H114: ='Tabela II'!H159 -> 0 | I114: ='Tabela II'!I159 -> 0 | J114: ='Tabela II'!J159 -> 0 | K114: ='Tabela II'!K159 -> 0 | L114: ='Tabela II'!L159 -> 0 | M114: ='Tabela II'!M159 -> 0 | N114: ='Tabela II'!N159 -> 0 | ... V114: ='Tabela II'!V159 -> 0 | W114: ='Tabela II'!A159 -> Sud 1
A115: ='Tabela I'!$K$1 -> 2024 | B115: ='Tabela I'!$K$2 -> 0 | C115: ='Tabela II'!D158 -> 0 | D115: ='Tabela II'!C160 -> 0 | E115: ='Tabela II'!D160 -> 0 | F115: ='Tabela II'!E160 -> 0 | G115: ='Tabela II'!G160 -> 0 | H115: ='Tabela II'!H160 -> 0 | I115: ='Tabela II'!I160 -> 0 | J115: ='Tabela II'!J160 -> 0 | K115: ='Tabela II'!K160 -> 0 | L115: ='Tabela II'!L160 -> 0 | M115: ='Tabela II'!M160 -> 0 | N115: ='Tabela II'!N160 -> 0 | ... V115: ='Tabela II'!V160 -> 0 | W115: ='Tabela II'!A160 -> Sud 2
A116: ='Tabela I'!$K$1 -> 2024 | B116: ='Tabela I'!$K$2 -> 0 | C116: ='Tabela II'!D161 -> 0 | D116: ='Tabela II'!C162 -> 0 | E116: ='Tabela II'!D162 -> 0 | F116: ='Tabela II'!E162 -> 0 | G116: ='Tabela II'!G162 -> 0 | H116: ='Tabela II'!H162 -> 0 | I116: ='Tabela II'!I162 -> 0 | J116: ='Tabela II'!J162 -> 0 | K116: ='Tabela II'!K162 -> 0 | L116: ='Tabela II'!L162 -> 0 | M116: ='Tabela II'!M162 -> 0 | N116: ='Tabela II'!N162 -> 0 | ... V116: ='Tabela II'!V162 -> 0 | W116: ='Tabela II'!A162 -> Sud 1
A117: ='Tabela I'!$K$1 -> 2024 | B117: ='Tabela I'!$K$2 -> 0 | C117: ='Tabela II'!D161 -> 0 | D117: ='Tabela II'!C163 -> 0 | E117: ='Tabela II'!D163 -> 0 | F117: ='Tabela II'!E163 -> 0 | G117: ='Tabela II'!G163 -> 0 | H117: ='Tabela II'!H163 -> 0 | I117: ='Tabela II'!I163 -> 0 | J117: ='Tabela II'!J163 -> 0 | K117: ='Tabela II'!K163 -> 0 | L117: ='Tabela II'!L163 -> 0 | M117: ='Tabela II'!M163 -> 0 | N117: ='Tabela II'!N163 -> 0 | ... V117: ='Tabela II'!V163 -> 0 | W117: ='Tabela II'!A163 -> Sud 2
A118: ='Tabela I'!$K$1 -> 2024 | B118: ='Tabela I'!$K$2 -> 0 | C118: ='Tabela II'!D164 -> 0 | D118: ='Tabela II'!C165 -> 0 | E118: ='Tabela II'!D165 -> 0 | F118: ='Tabela II'!E165 -> 0 | G118: ='Tabela II'!G165 -> 0 | H118: ='Tabela II'!H165 -> 0 | I118: ='Tabela II'!I165 -> 0 | J118: ='Tabela II'!J165 -> 0 | K118: ='Tabela II'!K165 -> 0 | L118: ='Tabela II'!L165 -> 0 | M118: ='Tabela II'!M165 -> 0 | N118: ='Tabela II'!N165 -> 0 | ... V118: ='Tabela II'!V165 -> 0 | W118: ='Tabela II'!A165 -> Sud 1
A119: ='Tabela I'!$K$1 -> 2024 | B119: ='Tabela I'!$K$2 -> 0 | C119: ='Tabela II'!D164 -> 0 | D119: ='Tabela II'!C166 -> 0 | E119: ='Tabela II'!D166 -> 0 | F119: ='Tabela II'!E166 -> 0 | G119: ='Tabela II'!G166 -> 0 | H119: ='Tabela II'!H166 -> 0 | I119: ='Tabela II'!I166 -> 0 | J119: ='Tabela II'!J166 -> 0 | K119: ='Tabela II'!K166 -> 0 | L119: ='Tabela II'!L166 -> 0 | M119: ='Tabela II'!M166 -> 0 | N119: ='Tabela II'!N166 -> 0 | ... V119: ='Tabela II'!V166 -> 0 | W119: ='Tabela II'!A166 -> Sud 2
A120: ='Tabela I'!$K$1 -> 2024 | B120: ='Tabela I'!$K$2 -> 0 | C120: ='Tabela II'!D167 -> 0 | D120: ='Tabela II'!C168 -> 0 | E120: ='Tabela II'!D168 -> 0 | F120: ='Tabela II'!E168 -> 0 | G120: ='Tabela II'!G168 -> 0 | H120: ='Tabela II'!H168 -> 0 | I120: ='Tabela II'!I168 -> 0 | J120: ='Tabela II'!J168 -> 0 | K120: ='Tabela II'!K168 -> 0 | L120: ='Tabela II'!L168 -> 0 | M120: ='Tabela II'!M168 -> 0 | N120: ='Tabela II'!N168 -> 0 | ... V120: ='Tabela II'!V168 -> 0 | W120: ='Tabela II'!A168 -> Sud 1
A121: ='Tabela I'!$K$1 -> 2024 | B121: ='Tabela I'!$K$2 -> 0 | C121: ='Tabela II'!D167 -> 0 | D121: ='Tabela II'!C169 -> 0 | E121: ='Tabela II'!D169 -> 0 | F121: ='Tabela II'!E169 -> 0 | G121: ='Tabela II'!G169 -> 0 | H121: ='Tabela II'!H169 -> 0 | I121: ='Tabela II'!I169 -> 0 | J121: ='Tabela II'!J169 -> 0 | K121: ='Tabela II'!K169 -> 0 | L121: ='Tabela II'!L169 -> 0 | M121: ='Tabela II'!M169 -> 0 | N121: ='Tabela II'!N169 -> 0 | ... V121: ='Tabela II'!V169 -> 0 | W121: ='Tabela II'!A169 -> Sud 2
A122: ='Tabela I'!$K$1 -> 2024 | B122: ='Tabela I'!$K$2 -> 0 | C122: ='Tabela II'!D170 -> 0 | D122: ='Tabela II'!C171 -> 0 | E122: ='Tabela II'!D171 -> 0 | F122: ='Tabela II'!E171 -> 0 | G122: ='Tabela II'!G171 -> 0 | H122: ='Tabela II'!H171 -> 0 | I122: ='Tabela II'!I171 -> 0 | J122: ='Tabela II'!J171 -> 0 | K122: ='Tabela II'!K171 -> 0 | L122: ='Tabela II'!L171 -> 0 | M122: ='Tabela II'!M171 -> 0 | N122: ='Tabela II'!N171 -> 0 | ... V122: ='Tabela II'!V171 -> 0 | W122: ='Tabela II'!A171 -> Sud 1
A123: ='Tabela I'!$K$1 -> 2024 | B123: ='Tabela I'!$K$2 -> 0 | C123: ='Tabela II'!D170 -> 0 | D123: ='Tabela II'!C172 -> 0 | E123: ='Tabela II'!D172 -> 0 | F123: ='Tabela II'!E172 -> 0 | G123: ='Tabela II'!G172 -> 0 | H123: ='Tabela II'!H172 -> 0 | I123: ='Tabela II'!I172 -> 0 | J123: ='Tabela II'!J172 -> 0 | K123: ='Tabela II'!K172 -> 0 | L123: ='Tabela II'!L172 -> 0 | M123: ='Tabela II'!M172 -> 0 | N123: ='Tabela II'!N172 -> 0 | ... V123: ='Tabela II'!V172 -> 0 | W123: ='Tabela II'!A172 -> Sud 2
A124: ='Tabela I'!$K$1 -> 2024 | B124: ='Tabela I'!$K$2 -> 0 | C124: ='Tabela II'!D173 -> 0 | D124: ='Tabela II'!C174 -> 0 | E124: ='Tabela II'!D174 -> 0 | F124: ='Tabela II'!E174 -> 0 | G124: ='Tabela II'!G174 -> 0 | H124: ='Tabela II'!H174 -> 0 | I124: ='Tabela II'!I174 -> 0 | J124: ='Tabela II'!J174 -> 0 | K124: ='Tabela II'!K174 -> 0 | L124: ='Tabela II'!L174 -> 0 | M124: ='Tabela II'!M174 -> 0 | N124: ='Tabela II'!N174 -> 0 | ... V124: ='Tabela II'!V174 -> 0 | W124: ='Tabela II'!A174 -> Sud 1
A125: ='Tabela I'!$K$1 -> 2024 | B125: ='Tabela I'!$K$2 -> 0 | C125: ='Tabela II'!D173 -> 0 | D125: ='Tabela II'!C175 -> 0 | E125: ='Tabela II'!D175 -> 0 | F125: ='Tabela II'!E175 -> 0 | G125: ='Tabela II'!G175 -> 0 | H125: ='Tabela II'!H175 -> 0 | I125: ='Tabela II'!I175 -> 0 | J125: ='Tabela II'!J175 -> 0 | K125: ='Tabela II'!K175 -> 0 | L125: ='Tabela II'!L175 -> 0 | M125: ='Tabela II'!M175 -> 0 | N125: ='Tabela II'!N175 -> 0 | ... V125: ='Tabela II'!V175 -> 0 | W125: ='Tabela II'!A175 -> Sud 2
A126: ='Tabela I'!$K$1 -> 2024 | B126: ='Tabela I'!$K$2 -> 0 | C126: ='Tabela II'!D176 -> 0 | D126: ='Tabela II'!C177 -> 0 | E126: ='Tabela II'!D177 -> 0 | F126: ='Tabela II'!E177 -> 0 | G126: ='Tabela II'!G177 -> 0 | H126: ='Tabela II'!H177 -> 0 | I126: ='Tabela II'!I177 -> 0 | J126: ='Tabela II'!J177 -> 0 | K126: ='Tabela II'!K177 -> 0 | L126: ='Tabela II'!L177 -> 0 | M126: ='Tabela II'!M177 -> 0 | N126: ='Tabela II'!N177 -> 0 | ... V126: ='Tabela II'!V177 -> 0 | W126: ='Tabela II'!A177 -> Sud 1
A127: ='Tabela I'!$K$1 -> 2024 | B127: ='Tabela I'!$K$2 -> 0 | C127: ='Tabela II'!D176 -> 0 | D127: ='Tabela II'!C178 -> 0 | E127: ='Tabela II'!D178 -> 0 | F127: ='Tabela II'!E178 -> 0 | G127: ='Tabela II'!G178 -> 0 | H127: ='Tabela II'!H178 -> 0 | I127: ='Tabela II'!I178 -> 0 | J127: ='Tabela II'!J178 -> 0 | K127: ='Tabela II'!K178 -> 0 | L127: ='Tabela II'!L178 -> 0 | M127: ='Tabela II'!M178 -> 0 | N127: ='Tabela II'!N178 -> 0 | ... V127: ='Tabela II'!V178 -> 0 | W127: ='Tabela II'!A178 -> Sud 2
A128: ='Tabela I'!$K$1 -> 2024 | B128: ='Tabela I'!$K$2 -> 0 | C128: ='Tabela II'!D179 -> 0 | D128: ='Tabela II'!C180 -> 0 | E128: ='Tabela II'!D180 -> 0 | F128: ='Tabela II'!E180 -> 0 | G128: ='Tabela II'!G180 -> 0 | H128: ='Tabela II'!H180 -> 0 | I128: ='Tabela II'!I180 -> 0 | J128: ='Tabela II'!J180 -> 0 | K128: ='Tabela II'!K180 -> 0 | L128: ='Tabela II'!L180 -> 0 | M128: ='Tabela II'!M180 -> 0 | N128: ='Tabela II'!N180 -> 0 | ... V128: ='Tabela II'!V180 -> 0 | W128: ='Tabela II'!A180 -> Sud 1
A129: ='Tabela I'!$K$1 -> 2024 | B129: ='Tabela I'!$K$2 -> 0 | C129: ='Tabela II'!D179 -> 0 | D129: ='Tabela II'!C181 -> 0 | E129: ='Tabela II'!D181 -> 0 | F129: ='Tabela II'!E181 -> 0 | G129: ='Tabela II'!G181 -> 0 | H129: ='Tabela II'!H181 -> 0 | I129: ='Tabela II'!I181 -> 0 | J129: ='Tabela II'!J181 -> 0 | K129: ='Tabela II'!K181 -> 0 | L129: ='Tabela II'!L181 -> 0 | M129: ='Tabela II'!M181 -> 0 | N129: ='Tabela II'!N181 -> 0 | ... V129: ='Tabela II'!V181 -> 0 | W129: ='Tabela II'!A181 -> Sud 2
