Workbook

Sheet Uputstvo
B2: KANTONALNI/OKRUŽNI SUDOVI
B3: Kompletni materijali u vezi procesa izvještavanja i ocjenjivanja rada u sudovima za 2024. godinu dostupni su na linku:
B4: https://vstv.pravosudje.ba/vstvfo/B/141/article/134917
B5: Tabele za popunjavanje podataka o radu sudova nije moguće mijenjati, niti dodavati nove redove ili kolone.
B6: Tabele se isključivo popunjavaju predviđenim redoslijedom, po redoslijedu postavljenih tabela.
B9: Podatke je potrebno upisivati samo u polja osjenčena žutom bojom.
B10: U ostala polja nije moguće upisivati vrijednosti, u ovim poljima vrijednosti će biti izračunate automatski.
B11: Molimo Vas da u Tabeli I i naslovu e-maila (subject) kojim ćete poslati popunjene obrasce navedete naziv Vašeg suda.
B14: Popunjene obrasce poslati na e-mail adresu: vstvstatistika@pravosudje.ba do 03.02.2025. godine.
B16: Za sva eventualna pitanja vezano za popunjavanje obrazaca molimo Vas da kontaktirate Odjel za pravosudnu analitiku i izvještavanje, na telefon: 033 704 616 ili 033 707 584.
B19: Tabele za ocjenjivanje NPF u sudu sadrže detaljnije napomene koje je potrebno imati u vidu prilikom popunjavanja tabela.
B20: Pored napomena datih uz tabele, potrebno je imati u vidu i slijedeće:
... B34: TABELA IV – ODLUKE USTAVNOG SUDA BIH U tabeli IV potrebno je prikazati samo podatke o odlukama Ustavnog suda BiH u kojima je izrekom obuhvaćena odluka Vašeg suda, odnosno postupak koji je u toku pred Vašim sudom (kada je riječ o apelacijama sa navodima da postoji kršenje prava na suđenje u razumnom roku). Posebna napomena: Traženi podaci se odnose na odluke iz apelacione nadležnosti Ustavnog suda BiH. Tabela IVa – Odluke kojima se ne usvaja apelacija: potrebno je prikazati podatke o odlukama Ustavnog suda BiH kojima je utvrđeno da nije osnovana apelacija izjavljena u odnosu na odluke Vašeg suda. Molimo da unesete podatake u kolone I-III prema njihovim nazivima. Podaci se automatski preračunavaju u koloni IV. Tabela IVb – Odluke kojima apelacija usvaja: “Pravni osnov” - Odluke kojima se usvaja apelacija potrebno je razvrstati prema izrekama odluka Ustavnog suda BiH kojima su utvrđene povrede Ustava BiH, Evropske konvencije o ljudskim pravima (u tabeli: EK) i njenih protokola (u tabeli:P). Svi pomenuti dokumenti i klasifikacija povreda su dostupni na zvaničnoj web stranici Ustavnog suda BiH (http://www.ccbh.ba/bos/p_stream.php?kat=83). Kolone I - IV “Broj odluka kojim se usvaja apelacija” – Potrebno je razvrstati broj odluka Ustavnog suda kojima se izjavljena apelacija usvaja u odnosu na odluku Vašeg suda, prema odgovarajućim kategorijama, u zavisnosti od izreke odluke Ustavnog suda BiH. Preostale odluke Ustavnog suda, koje ne spadaju u navedene tri kategorije, potrebno je upisati u rubriku “Broj ostalih odluka kojima se usvajaju apelacije” (npr. odluka kojom se usvaja apelacija i konstatuje povreda prava na pravično suđenje, zbog prekoračenja razumnog roka za donošenje odluke, nakon što je sudski postupak završen, a kojom se ne nalaže sudu da okonča predmet bez odlaganja, odnosno ne ukida ili ne preinačuje odluka suda). Ukoliko su izrekom odluke Ustavnog suda BiH ustanovljene dvije ili više povreda ustavom zagarantovanih prava i sloboda, molimo Vas da svaku od povreda evidentirate posebno u tabeli IVb. Molimo Vas da i djelimično usvojene apelacije prikažete u odgovarajućim kolonama tabele IVb. Tabela IVc – Predmeti u kojima se nalaže sudu da okonča predmet bez odlaganja zbog kršenja prava na donošenje odluke u razumnom roku U tabeli IVc potrebno je prikazati predmete u kojima je Ustavni sud BiH naložio sudu da okonča predmet bez odlaganja zbog kršenja prava na donošenje odluke u razumnom roku. Molimo Vas da u ovu tabelu unesete samo podatke o predmetima u kojima je Vašem sudu naloženo da okonča predmet bez odlaganja. U skladu sa obrazloženjem odluke Ustavnog suda BiH, potrebno je da naznačite u kojoj fazi postupka je Vaš sud rješavao predmet za koji je Ustavni sud utvrdio da je Vaš sud u najvećoj mjeri doprinio odugovlačenju postupka. Tabela IVd - Predmeti u kojima je utvrđeno kršenje prava na donošenje odluke u razumnom roku Takođe, potrebno je da popunite i tabelu IVd koja se odnosi na ukupan broj predmeta, u kojima je usvojena apelacija u odnosu na Vaš sud i određena naknada nematerijalne štete zbog kršenja prava na donošenje odluke u razumnom roku, kao i ukupan iznos naknade koji je utvrdio Ustavni sud BiH.

Sheet Tabela I
A1: Kantonalni/Okružni sud: | K1: 2024
A2: Izvještajni period: | B2: 1.1.2024.-31.12.2024.
A4: Ostvarena kolektivna norma za sud u 2024. godini | D4: =+'Tabela II'!P84
A5: Kvalitet sudskih odluka: | B5: =+J30
A7: Tabela I - Kvalitet sudskih odluka po vrstama predmeta
A8: Vrsta predmeta | B8: Broj donesenih odluka na koje se može izjaviti pravni lijek | C8: Ukupan broj ožalbenih odluka | D8: Broj odbačenih pravnih lijekova | E8: Broj potvrđenih odluka | F8: Broj preinačenih odluka | G8: Broj preinačenih odluka donijetih nakon održane glavne rasprave ili pretresa pred drugostepenim sudom | H8: Broj ukinutih odluka | I8: Broj djelimično ukinutih odluka | J8: Kvalitet sudskih odluka | K8: Broj presuda koje su ukinute i predmet je vraćen na ponovno suđenje
E9: Odbijen pravni lijek
B10: I | C10: II=IV+V+VI+ VII+VIII) | D10: III | E10: IV | F10: V | G10: VI | H10: VII | I10: VIII | J10: IX1 | K10: X
A11: Građansko odjeljenje
A12: Gž | C12: =E12+F12+G12+H12+I12 -> 0 | J12: =IF(C12=0,"",IF(B12=0,1,0.75*((C12-H12-I12/2)/C12)+0.25*((B12-G12-H12-I12/2)/B12)))
A13: Pž | C13: =E13+F13+G13+H13+I13 -> 0 | J13: =IF(C13=0,"",IF(B13=0,1,0.75*((C13-H13-I13/2)/C13)+0.25*((B13-G13-H13-I13/2)/B13)))
A14: Rsž | C14: =E14+F14+G14+H14+I14 -> 0 | J14: =IF(C14=0,"",IF(B14=0,1,0.75*((C14-H14-I14/2)/C14)+0.25*((B14-G14-H14-I14/2)/B14)))
A15: Ostalo* | C15: =E15+F15+G15+H15+I15 -> 0 | J15: =IF(C15=0,"",IF(B15=0,1,0.75*((C15-H15-I15/2)/C15)+0.25*((B15-G15-H15-I15/2)/B15)))
A16: Krivično odjeljenje
A17: K | C17: =E17+F17+G17+H17+I17 -> 0 | J17: =IF(C17=0,"",IF(B17=0,1,0.75*((C17-H17-I17/2)/C17)+0.25*((B17-G17-H17-I17/2)/B17)))
A18: Ratni zločini | C18: =E18+F18+G18+H18+I18 -> 0 | J18: =IF(C18=0,"",IF(B18=0,1,0.75*((C18-H18-I18/2)/C18)+0.25*((B18-G18-H18-I18/2)/B18)))
A19: Kž | C19: =E19+F19+G19+H19+I19 -> 0 | J19: =IF(C19=0,"",IF(B19=0,1,0.75*((C19-H19-I19/2)/C19)+0.25*((B19-G19-H19-I19/2)/B19)))
A20: Kžk | C20: =E20+F20+G20+H20+I20 -> 0 | J20: =IF(C20=0,"",IF(B20=0,1,0.75*((C20-H20-I20/2)/C20)+0.25*((B20-G20-H20-I20/2)/B20)))
A21: Kv | C21: =E21+F21+G21+H21+I21 -> 0 | J21: =IF(C21=0,"",IF(B21=0,1,0.75*((C21-H21-I21/2)/C21)+0.25*((B21-G21-H21-I21/2)/B21)))
A22: Kpp | C22: =E22+F22+G22+H22+I22 -> 0 | J22: =IF(C22=0,"",IF(B22=0,1,0.75*((C22-H22-I22/2)/C22)+0.25*((B22-G22-H22-I22/2)/B22)))
A23: Kps | C23: =E23+F23+G23+H23+I23 -> 0 | J23: =IF(C23=0,"",IF(B23=0,1,0.75*((C23-H23-I23/2)/C23)+0.25*((B23-G23-H23-I23/2)/B23)))
A24: Kmž | C24: =E24+F24+G24+H24+I24 -> 0 | J24: =IF(C24=0,"",IF(B24=0,1,0.75*((C24-H24-I24/2)/C24)+0.25*((B24-G24-H24-I24/2)/B24)))
A25: Ostalo* | C25: =E25+F25+G25+H25+I25 -> 0 | J25: =IF(C25=0,"",IF(B25=0,1,0.75*((C25-H25-I25/2)/C25)+0.25*((B25-G25-H25-I25/2)/B25)))
A26: Upravno odjeljenje
A27: U | C27: =E27+F27+G27+H27+I27 -> 0 | J27: =IF(C27=0,"",IF(B27=0,1,0.75*((C27-H27-I27/2)/C27)+0.25*((B27-G27-H27-I27/2)/B27)))
A28: Ostalo | C28: =E28+F28+G28+H28+I28 -> 0 | J28: =IF(C28=0,"",IF(B28=0,1,0.75*((C28-H28-I28/2)/C28)+0.25*((B28-G28-H28-I28/2)/B28)))
A30: Ukupno | B30: =SUM(B12:B15)+SUM(B17:B25)+SUM(B27:B28) -> 0 | C30: =SUM(C12:C15)+SUM(C17:C25)+SUM(C27:C28) -> 0 | D30: =SUM(D12:D15)+SUM(D17:D25)+SUM(D27:D28) -> 0 | E30: =SUM(E12:E15)+SUM(E17:E25)+SUM(E27:E28) -> 0 | F30: =SUM(F12:F15)+SUM(F17:F25)+SUM(F27:F28) -> 0 | G30: =SUM(G12:G15)+SUM(G17:G25)+SUM(G27:G28) -> 0 | H30: =SUM(H12:H15)+SUM(H17:H25)+SUM(H27:H28) -> 0 | I30: =SUM(I12:I15)+SUM(I17:I25)+SUM(I27:I28) -> 0 | J30: =IF(C30=0,"",IF(B30=0,1,0.75*((C30-H30-I30/2)/C30)+0.25*((B30-G30-H30-I30/2)/B30))) | K30: =SUM(K12:K15)+SUM(K17:K25)+SUM(K27:K28) -> 0
A32: Ukupno 2023.* | C32: Obrazloženje:
A33: * Unesite podatak o Ukupnom broju donesenih odluka na koje se može izjaviti pravni lijek iz izvještaja koji ste dostavili za 2023. godinu. Ukoliko je razlika u Ukupnom broju donesenih odluka na koje se može izjaviti pravni lijek u periodu 2024/2023 veća od 20% aktiviraće se kontrolnik i potrebno je da obrazložite uzroke za nastanak te razlike.
A40: 1 Kvalitet rada sudskih odluka se automatski obračunava u skladu sa članom 17. Kriterija za ocjenjivanje rada sudija u BiH. Slijedi tekst za pojašnjenje formule za obračun kvaliteta sudskih odluka: (75% * (Ukupan broj ožalbenih odluka - Broj ukinutih odluka - Broj djelimično ukinutih odluka/2) / Ukupan broj ožalbenih odluka) + (25% * (Broj donesenih odluka na koje se može izjaviti pravni lijek - Broj preinačenih odluka donijetih nakon održane glavne raspave ili pretresa pred drugostepenim sudom - Broj ukinutih odluka - Broj djelimično ukinutih odluka/2) / Broj donesenih odluka na koje se može izjaviti pravni lijek).
A42: NAPOMENA: U Tabelu I se unose podaci o kvalitetu odluka za sve nosilace pravosudne funkcije koji su u toku godine obavljali funkciju u sudu, bez obzira na period obavljanja funkcije u sudu. U Tabelu se unose podaci za sve nosioce pravosudne funkcije: koji su obavljali funkciju u sudu cijelu godinu, koji su imenovani u sud u toku godine, koji su prešli u drugi sud u toku godine (bez obzira na nivo suda), kao i podaci za nosioce pravosudne funkcije koji su prestali obavljati funkciju u sudu zbog odlaska u penziju u 2024. godini ili iz drugih razloga (ostavke, razrješenja), a u 2024. godini su donosili odluke na koje se može izjaviti pravni lijek, i/ili sud je nakon prestanka obavljanja funkcije zaprimio žalbene odluke od strane višeg suda po izjavljenom pravnom lijeku na odluke bivšeg nosioca pravosudne funkcije. Na taj način se pravilno obračunava kolektivni kvalitet odluka u sudu.
A49: NAPOMENA: U broj donesenih odluka na koje se može izjaviti pravni lijek (Kolona I) i broj ukinutih odluka (Kolona VII) prilikom računanja procenta ukinutih odluka iz člana 17. stav (1) tačka a) i b) Kriterija za ocjenjivanje rada sudija u BiH neće se uzimati u obračun odluke koje su ukinute u sadržajno nebitnom dijelu odnosno ako je odluka ukinuta ili se smatra ukinutom zbog toga što je instancioni sud nakon donošenja ispitivane odluke izmijenio sudsku praksu, u skladu s stavom (3) navedenog člana Kriterija.

Sheet Tabela II
A1: ='Tabela I'!A1 -> Kantonalni/Okružni sud: | D1: ='Tabela I'!C1 -> 0
A2: Izvještajni period: | C2: 1.1.2024.-31.12.2024.
A3: Tabela IIa – Ostvarena orijentaciona norma - Elektronski obrazac za obračun ostvarene orijentacione norme (pogledati NAPOMENU 4 i 4a)
A5: Redni broj | B5: Ime i prezime - evidentirani podatak se automatski prenosi u Tabelu IIIa | C5: Ocjenjen u sudu | D5: Naziv odjela | E5: Pravosudna funkcija | G5: Procenat orijentacijske norme koju je nosilac pravosudne funkcije dužan ostvariti - Ukoliko procenat orijenatcijske norme nije predviđen u padajućem meniju pogledati NAPOMENU 3 | H5: Period obavljanja pravosudne funkcije u instituciji koja popunjava tabelu Ia | J5: Ukupan broj dana za obračun norme - pogledati NAPOMENU 2 | K5: Broj dana opravdanog odsustva iz člana 13. Kriterija za ocjenjivanje rada (pogledati NAPOMENU 9) | L5: Ostvarena orijentaciona norma iz CMS-a | M5: Ostvarena orijentaciona norma na predmetima van CMS-a - pogledati NAPOMENU 6 | N5: Procenat ostvarene orijentacione norme prema članu 9. Pravilnika o orijentacijskim mjerilima - pogledati NAPOMENU 7 | O5: Procenat ostvarene propisane godišnje orijentacijske norme u 2024. godini | P5: Ukupno ostvarena orijentacijska norma u 2024. godini | Q5: Nedovoljan broj predmeta u radu - pogledati NAPOMENU 5 | V5: Broj ostvarenih bodova | W5: Sudija | X5: Stručni saradnik | Y5: Predsjednik odjela | Z5: Predsjednik sudskog vijeća vrhovnog suda entiteta | AA5: Član VSTV-a
H6: Datum od | I6: Datum do | Q6: broj predmeta u radu | R6: broj riješenih predmeta | S6: broj neriješenih predmeta sa zakonskim i procesnim smetnjama | T6: broj neriješenih predmeta bez zakonskih i procesnih smetnji | U6: procenat riješenih predmeta
A7: I | B7: II | C7: III | D7: IV | E7: V | G7: VI | H7: VII | I7: VIII | J7: IX | K7: X | L7: XI | M7: XII | N7: XIII | O7: XIV | P7: XV | Q7: XVI | R7: XVII | S7: XVIII | T7: XIX | U7: XX | V7: XXI | W7: 1 | X7: 0.9 | Y7: 0.75 | Z7: 0.7 | AA7: 0.5 | AB7: 0.35 | AC7: 0.25 | AD7: Ne treba raditi na predm.
A8: 1 | E8: Predsjednik suda | J8: 262 | O8: =IF(G8="","",IF(G8="Ne treba raditi na predm.",1+SUM(L8:N8),(SUM(L8:N8)/G8))) | P8: =IF(K8>0,IF(G8="Ne treba raditi na predm.",O8,O8*(J8/(J8-K8))),O8) | U8: =IF(Q8="","",R8/(Q8-S8)) | V8: =IF(P8="","",IF(C8="Ne","",IF(G8="Ne treba raditi na predm.","",IF(P8>1,20,IF(U8="",IF(P8>0.9,18,IF(P8>0.8,16,IF(P8>0.7,12,IF(P8>0.6,8,IF(P8>0.5,4,0))))),IF(U8>0.94,20,IF(U8>0.9,18,IF(U8>0.8,16,IF(U8>0.7,12,IF(U8>0.6,8,IF(U8>0.5,4,0))))))))))) | W8: 0.7 | X8: 0.5 | Y8: 0.4 | Z8: 0.3 | AA8: Ne treba raditi na predm.
E9: Predsjednik suda | J9: 262 | O9: =IF(G9="","",IF(G9="Ne treba raditi na predm.",1+SUM(L9:N9),(SUM(L9:N9)/G9))) | P9: =IF(K9>0,IF(G9="Ne treba raditi na predm.",O9,O9*(J9/(J9-K9))),O9) | U9: =IF(Q9="","",R9/(Q9-S9)) | V9: =IF(P9="","",IF(C8="Ne","",IF(G9="Ne treba raditi na predm.","",IF(P9>1,20,IF(U9="",IF(P9>0.9,18,IF(P9>0.8,16,IF(P9>0.7,12,IF(P9>0.6,8,IF(P9>0.5,4,0))))),IF(U9>0.94,20,IF(U9>0.9,18,IF(U9>0.8,16,IF(U9>0.7,12,IF(U9>0.6,8,IF(U9>0.5,4,0)))))))))))
A10: 2 | F10: =IF(E10="Sudija",1,IF(E10="Stručni saradnik",1,IF(E10="Član VSTV-a",2,""))) | J10: 262 | O10: =IF(G10="","",IF(G10="Ne treba raditi na predm.",1+SUM(L10:N10),(SUM(L10:N10)/G10))) | P10: =IF(K10>0,IF(G10="Ne treba raditi na predm.",O10,O10*(J10/(J10-K10))),O10) | U10: =IF(Q10="","",R10/(Q10-S10)) | V10: =IF(P10="","",IF(C10="Ne","",IF(G10="Ne treba raditi na predm.","",IF(P10>1,40,IF(U10="",IF(P10>0.9,35,IF(P10>0.8,30,IF(P10>0.7,20,IF(P10>0.6,15,IF(P10>0.5,10,0))))),IF(U10>0.94,40,IF(U10>0.9,35,IF(U10>0.8,30,IF(U10>0.7,20,IF(U10>0.6,15,IF(U10>0.5,10,0))))))))))) | W10: Da | X10: Ne
A11: 3 | F11: =IF(E11="Sudija",1,IF(E11="Stručni saradnik",1,IF(E11="Član VSTV-a",2,""))) | J11: 262 | O11: =IF(G11="","",IF(G11="Ne treba raditi na predm.",1+SUM(L11:N11),(SUM(L11:N11)/G11))) | P11: =IF(K11>0,IF(G11="Ne treba raditi na predm.",O11,O11*(J11/(J11-K11))),O11) | U11: =IF(Q11="","",R11/(Q11-S11)) | V11: =IF(P11="","",IF(C11="Ne","",IF(G11="Ne treba raditi na predm.","",IF(P11>1,40,IF(U11="",IF(P11>0.9,35,IF(P11>0.8,30,IF(P11>0.7,20,IF(P11>0.6,15,IF(P11>0.5,10,0))))),IF(U11>0.94,40,IF(U11>0.9,35,IF(U11>0.8,30,IF(U11>0.7,20,IF(U11>0.6,15,IF(U11>0.5,10,0)))))))))))
A12: 4 | F12: =IF(E12="Sudija",1,IF(E12="Stručni saradnik",1,IF(E12="Član VSTV-a",2,""))) | J12: 262 | O12: =IF(G12="","",IF(G12="Ne treba raditi na predm.",1+SUM(L12:N12),(SUM(L12:N12)/G12))) | P12: =IF(K12>0,IF(G12="Ne treba raditi na predm.",O12,O12*(J12/(J12-K12))),O12) | U12: =IF(Q12="","",R12/(Q12-S12)) | V12: =IF(P12="","",IF(C12="Ne","",IF(G12="Ne treba raditi na predm.","",IF(P12>1,40,IF(U12="",IF(P12>0.9,35,IF(P12>0.8,30,IF(P12>0.7,20,IF(P12>0.6,15,IF(P12>0.5,10,0))))),IF(U12>0.94,40,IF(U12>0.9,35,IF(U12>0.8,30,IF(U12>0.7,20,IF(U12>0.6,15,IF(U12>0.5,10,0)))))))))))
A13: 5 | F13: =IF(E13="Sudija",1,IF(E13="Stručni saradnik",1,IF(E13="Član VSTV-a",2,""))) | J13: 262 | O13: =IF(G13="","",IF(G13="Ne treba raditi na predm.",1+SUM(L13:N13),(SUM(L13:N13)/G13))) | P13: =IF(K13>0,IF(G13="Ne treba raditi na predm.",O13,O13*(J13/(J13-K13))),O13) | U13: =IF(Q13="","",R13/(Q13-S13)) | V13: =IF(P13="","",IF(C13="Ne","",IF(G13="Ne treba raditi na predm.","",IF(P13>1,40,IF(U13="",IF(P13>0.9,35,IF(P13>0.8,30,IF(P13>0.7,20,IF(P13>0.6,15,IF(P13>0.5,10,0))))),IF(U13>0.94,40,IF(U13>0.9,35,IF(U13>0.8,30,IF(U13>0.7,20,IF(U13>0.6,15,IF(U13>0.5,10,0)))))))))))
A14: 6 | F14: =IF(E14="Sudija",1,IF(E14="Stručni saradnik",1,IF(E14="Član VSTV-a",2,""))) | J14: 262 | O14: =IF(G14="","",IF(G14="Ne treba raditi na predm.",1+SUM(L14:N14),(SUM(L14:N14)/G14))) | P14: =IF(K14>0,IF(G14="Ne treba raditi na predm.",O14,O14*(J14/(J14-K14))),O14) | U14: =IF(Q14="","",R14/(Q14-S14)) | V14: =IF(P14="","",IF(C14="Ne","",IF(G14="Ne treba raditi na predm.","",IF(P14>1,40,IF(U14="",IF(P14>0.9,35,IF(P14>0.8,30,IF(P14>0.7,20,IF(P14>0.6,15,IF(P14>0.5,10,0))))),IF(U14>0.94,40,IF(U14>0.9,35,IF(U14>0.8,30,IF(U14>0.7,20,IF(U14>0.6,15,IF(U14>0.5,10,0)))))))))))
A15: 7 | F15: =IF(E15="Sudija",1,IF(E15="Stručni saradnik",1,IF(E15="Član VSTV-a",2,""))) | J15: 262 | O15: =IF(G15="","",IF(G15="Ne treba raditi na predm.",1+SUM(L15:N15),(SUM(L15:N15)/G15))) | P15: =IF(K15>0,IF(G15="Ne treba raditi na predm.",O15,O15*(J15/(J15-K15))),O15) | U15: =IF(Q15="","",R15/(Q15-S15)) | V15: =IF(P15="","",IF(C15="Ne","",IF(G15="Ne treba raditi na predm.","",IF(P15>1,40,IF(U15="",IF(P15>0.9,35,IF(P15>0.8,30,IF(P15>0.7,20,IF(P15>0.6,15,IF(P15>0.5,10,0))))),IF(U15>0.94,40,IF(U15>0.9,35,IF(U15>0.8,30,IF(U15>0.7,20,IF(U15>0.6,15,IF(U15>0.5,10,0)))))))))))
A16: 8 | F16: =IF(E16="Sudija",1,IF(E16="Stručni saradnik",1,IF(E16="Član VSTV-a",2,""))) | J16: 262 | O16: =IF(G16="","",IF(G16="Ne treba raditi na predm.",1+SUM(L16:N16),(SUM(L16:N16)/G16))) | P16: =IF(K16>0,IF(G16="Ne treba raditi na predm.",O16,O16*(J16/(J16-K16))),O16) | U16: =IF(Q16="","",R16/(Q16-S16)) | V16: =IF(P16="","",IF(C16="Ne","",IF(G16="Ne treba raditi na predm.","",IF(P16>1,40,IF(U16="",IF(P16>0.9,35,IF(P16>0.8,30,IF(P16>0.7,20,IF(P16>0.6,15,IF(P16>0.5,10,0))))),IF(U16>0.94,40,IF(U16>0.9,35,IF(U16>0.8,30,IF(U16>0.7,20,IF(U16>0.6,15,IF(U16>0.5,10,0)))))))))))
A17: 9 | F17: =IF(E17="Sudija",1,IF(E17="Stručni saradnik",1,IF(E17="Član VSTV-a",2,""))) | J17: 262 | O17: =IF(G17="","",IF(G17="Ne treba raditi na predm.",1+SUM(L17:N17),(SUM(L17:N17)/G17))) | P17: =IF(K17>0,IF(G17="Ne treba raditi na predm.",O17,O17*(J17/(J17-K17))),O17) | U17: =IF(Q17="","",R17/(Q17-S17)) | V17: =IF(P17="","",IF(C17="Ne","",IF(G17="Ne treba raditi na predm.","",IF(P17>1,40,IF(U17="",IF(P17>0.9,35,IF(P17>0.8,30,IF(P17>0.7,20,IF(P17>0.6,15,IF(P17>0.5,10,0))))),IF(U17>0.94,40,IF(U17>0.9,35,IF(U17>0.8,30,IF(U17>0.7,20,IF(U17>0.6,15,IF(U17>0.5,10,0)))))))))))
A18: 10 | F18: =IF(E18="Sudija",1,IF(E18="Stručni saradnik",1,IF(E18="Član VSTV-a",2,""))) | J18: 262 | O18: =IF(G18="","",IF(G18="Ne treba raditi na predm.",1+SUM(L18:N18),(SUM(L18:N18)/G18))) | P18: =IF(K18>0,IF(G18="Ne treba raditi na predm.",O18,O18*(J18/(J18-K18))),O18) | U18: =IF(Q18="","",R18/(Q18-S18)) | V18: =IF(P18="","",IF(C18="Ne","",IF(G18="Ne treba raditi na predm.","",IF(P18>1,40,IF(U18="",IF(P18>0.9,35,IF(P18>0.8,30,IF(P18>0.7,20,IF(P18>0.6,15,IF(P18>0.5,10,0))))),IF(U18>0.94,40,IF(U18>0.9,35,IF(U18>0.8,30,IF(U18>0.7,20,IF(U18>0.6,15,IF(U18>0.5,10,0)))))))))))
A19: 11 | F19: =IF(E19="Sudija",1,IF(E19="Stručni saradnik",1,IF(E19="Član VSTV-a",2,""))) | J19: 262 | O19: =IF(G19="","",IF(G19="Ne treba raditi na predm.",1+SUM(L19:N19),(SUM(L19:N19)/G19))) | P19: =IF(K19>0,IF(G19="Ne treba raditi na predm.",O19,O19*(J19/(J19-K19))),O19) | U19: =IF(Q19="","",R19/(Q19-S19)) | V19: =IF(P19="","",IF(C19="Ne","",IF(G19="Ne treba raditi na predm.","",IF(P19>1,40,IF(U19="",IF(P19>0.9,35,IF(P19>0.8,30,IF(P19>0.7,20,IF(P19>0.6,15,IF(P19>0.5,10,0))))),IF(U19>0.94,40,IF(U19>0.9,35,IF(U19>0.8,30,IF(U19>0.7,20,IF(U19>0.6,15,IF(U19>0.5,10,0)))))))))))
A20: 12 | F20: =IF(E20="Sudija",1,IF(E20="Stručni saradnik",1,IF(E20="Član VSTV-a",2,""))) | J20: 262 | O20: =IF(G20="","",IF(G20="Ne treba raditi na predm.",1+SUM(L20:N20),(SUM(L20:N20)/G20))) | P20: =IF(K20>0,IF(G20="Ne treba raditi na predm.",O20,O20*(J20/(J20-K20))),O20) | U20: =IF(Q20="","",R20/(Q20-S20)) | V20: =IF(P20="","",IF(C20="Ne","",IF(G20="Ne treba raditi na predm.","",IF(P20>1,40,IF(U20="",IF(P20>0.9,35,IF(P20>0.8,30,IF(P20>0.7,20,IF(P20>0.6,15,IF(P20>0.5,10,0))))),IF(U20>0.94,40,IF(U20>0.9,35,IF(U20>0.8,30,IF(U20>0.7,20,IF(U20>0.6,15,IF(U20>0.5,10,0)))))))))))
A21: 13 | F21: =IF(E21="Sudija",1,IF(E21="Stručni saradnik",1,IF(E21="Član VSTV-a",2,""))) | J21: 262 | O21: =IF(G21="","",IF(G21="Ne treba raditi na predm.",1+SUM(L21:N21),(SUM(L21:N21)/G21))) | P21: =IF(K21>0,IF(G21="Ne treba raditi na predm.",O21,O21*(J21/(J21-K21))),O21) | U21: =IF(Q21="","",R21/(Q21-S21)) | V21: =IF(P21="","",IF(C21="Ne","",IF(G21="Ne treba raditi na predm.","",IF(P21>1,40,IF(U21="",IF(P21>0.9,35,IF(P21>0.8,30,IF(P21>0.7,20,IF(P21>0.6,15,IF(P21>0.5,10,0))))),IF(U21>0.94,40,IF(U21>0.9,35,IF(U21>0.8,30,IF(U21>0.7,20,IF(U21>0.6,15,IF(U21>0.5,10,0)))))))))))
A22: 14 | F22: =IF(E22="Sudija",1,IF(E22="Stručni saradnik",1,IF(E22="Član VSTV-a",2,""))) | J22: 262 | O22: =IF(G22="","",IF(G22="Ne treba raditi na predm.",1+SUM(L22:N22),(SUM(L22:N22)/G22))) | P22: =IF(K22>0,IF(G22="Ne treba raditi na predm.",O22,O22*(J22/(J22-K22))),O22) | U22: =IF(Q22="","",R22/(Q22-S22)) | V22: =IF(P22="","",IF(C22="Ne","",IF(G22="Ne treba raditi na predm.","",IF(P22>1,40,IF(U22="",IF(P22>0.9,35,IF(P22>0.8,30,IF(P22>0.7,20,IF(P22>0.6,15,IF(P22>0.5,10,0))))),IF(U22>0.94,40,IF(U22>0.9,35,IF(U22>0.8,30,IF(U22>0.7,20,IF(U22>0.6,15,IF(U22>0.5,10,0)))))))))))
... A73: 65 | F73: =IF(E73="Sudija",1,IF(E73="Stručni saradnik",1,IF(E73="Član VSTV-a",2,""))) | J73: 262 | O73: =IF(G73="","",IF(G73="Ne treba raditi na predm.",1+SUM(L73:N73),(SUM(L73:N73)/G73))) | P73: =IF(K73>0,IF(G73="Ne treba raditi na predm.",O73,O73*(J73/(J73-K73))),O73) | U73: =IF(Q73="","",R73/(Q73-S73)) | V73: =IF(P73="","",IF(C73="Ne","",IF(G73="Ne treba raditi na predm.","",IF(P73>1,40,IF(U73="",IF(P73>0.9,35,IF(P73>0.8,30,IF(P73>0.7,20,IF(P73>0.6,15,IF(P73>0.5,10,0))))),IF(U73>0.94,40,IF(U73>0.9,35,IF(U73>0.8,30,IF(U73>0.7,20,IF(U73>0.6,15,IF(U73>0.5,10,0)))))))))))
F74: =IF(E74="Sudija",1,IF(E74="Stručni saradnik",1,IF(E74="Član VSTV-a",2,""))) | J74: 262 | O74: =IF(G74="","",IF(G74="Ne treba raditi na predm.",1+SUM(L74:N74),(SUM(L74:N74)/G74))) | P74: =IF(K74>0,IF(G74="Ne treba raditi na predm.",O74,O74*(J74/(J74-K74))),O74) | U74: =IF(Q74="","",R74/(Q74-S74)) | V74: =IF(P74="","",IF(C74="Ne","",IF(G74="Ne treba raditi na predm.","",IF(P74>1,40,IF(U74="",IF(P74>0.9,35,IF(P74>0.8,30,IF(P74>0.7,20,IF(P74>0.6,15,IF(P74>0.5,10,0))))),IF(U74>0.94,40,IF(U74>0.9,35,IF(U74>0.8,30,IF(U74>0.7,20,IF(U74>0.6,15,IF(U74>0.5,10,0)))))))))))
F75: =IF(E75="Sudija",1,IF(E75="Stručni saradnik",1,IF(E75="Član VSTV-a",2,""))) | J75: 262 | O75: =IF(G75="","",IF(G75="Ne treba raditi na predm.",1+SUM(L75:N75),(SUM(L75:N75)/G75))) | P75: =IF(K75>0,IF(G75="Ne treba raditi na predm.",O75,O75*(J75/(J75-K75))),O75) | U75: =IF(Q75="","",R75/(Q75-S75)) | V75: =IF(P75="","",IF(C75="Ne","",IF(G75="Ne treba raditi na predm.","",IF(P75>1,40,IF(U75="",IF(P75>0.9,35,IF(P75>0.8,30,IF(P75>0.7,20,IF(P75>0.6,15,IF(P75>0.5,10,0))))),IF(U75>0.94,40,IF(U75>0.9,35,IF(U75>0.8,30,IF(U75>0.7,20,IF(U75>0.6,15,IF(U75>0.5,10,0)))))))))))
F76: =IF(E76="Sudija",1,IF(E76="Stručni saradnik",1,IF(E76="Član VSTV-a",2,""))) | J76: 262 | O76: =IF(G76="","",IF(G76="Ne treba raditi na predm.",1+SUM(L76:N76),(SUM(L76:N76)/G76))) | P76: =IF(K76>0,IF(G76="Ne treba raditi na predm.",O76,O76*(J76/(J76-K76))),O76) | U76: =IF(Q76="","",R76/(Q76-S76)) | V76: =IF(P76="","",IF(C76="Ne","",IF(G76="Ne treba raditi na predm.","",IF(P76>1,40,IF(U76="",IF(P76>0.9,35,IF(P76>0.8,30,IF(P76>0.7,20,IF(P76>0.6,15,IF(P76>0.5,10,0))))),IF(U76>0.94,40,IF(U76>0.9,35,IF(U76>0.8,30,IF(U76>0.7,20,IF(U76>0.6,15,IF(U76>0.5,10,0)))))))))))
F77: =IF(E77="Sudija",1,IF(E77="Stručni saradnik",1,IF(E77="Član VSTV-a",2,""))) | J77: 262 | O77: =IF(G77="","",IF(G77="Ne treba raditi na predm.",1+SUM(L77:N77),(SUM(L77:N77)/G77))) | P77: =IF(K77>0,IF(G77="Ne treba raditi na predm.",O77,O77*(J77/(J77-K77))),O77) | U77: =IF(Q77="","",R77/(Q77-S77)) | V77: =IF(P77="","",IF(C77="Ne","",IF(G77="Ne treba raditi na predm.","",IF(P77>1,40,IF(U77="",IF(P77>0.9,35,IF(P77>0.8,30,IF(P77>0.7,20,IF(P77>0.6,15,IF(P77>0.5,10,0))))),IF(U77>0.94,40,IF(U77>0.9,35,IF(U77>0.8,30,IF(U77>0.7,20,IF(U77>0.6,15,IF(U77>0.5,10,0)))))))))))
F78: =IF(E78="Sudija",1,IF(E78="Stručni saradnik",1,IF(E78="Član VSTV-a",2,""))) | J78: 262 | O78: =IF(G78="","",IF(G78="Ne treba raditi na predm.",1+SUM(L78:N78),(SUM(L78:N78)/G78))) | P78: =IF(K78>0,IF(G78="Ne treba raditi na predm.",O78,O78*(J78/(J78-K78))),O78) | U78: =IF(Q78="","",R78/(Q78-S78)) | V78: =IF(P78="","",IF(C78="Ne","",IF(G78="Ne treba raditi na predm.","",IF(P78>1,40,IF(U78="",IF(P78>0.9,35,IF(P78>0.8,30,IF(P78>0.7,20,IF(P78>0.6,15,IF(P78>0.5,10,0))))),IF(U78>0.94,40,IF(U78>0.9,35,IF(U78>0.8,30,IF(U78>0.7,20,IF(U78>0.6,15,IF(U78>0.5,10,0)))))))))))
F79: =IF(E79="Sudija",1,IF(E79="Stručni saradnik",1,IF(E79="Član VSTV-a",2,""))) | J79: 262 | O79: =IF(G79="","",IF(G79="Ne treba raditi na predm.",1+SUM(L79:N79),(SUM(L79:N79)/G79))) | P79: =IF(K79>0,IF(G79="Ne treba raditi na predm.",O79,O79*(J79/(J79-K79))),O79) | U79: =IF(Q79="","",R79/(Q79-S79)) | V79: =IF(P79="","",IF(C79="Ne","",IF(G79="Ne treba raditi na predm.","",IF(P79>1,40,IF(U79="",IF(P79>0.9,35,IF(P79>0.8,30,IF(P79>0.7,20,IF(P79>0.6,15,IF(P79>0.5,10,0))))),IF(U79>0.94,40,IF(U79>0.9,35,IF(U79>0.8,30,IF(U79>0.7,20,IF(U79>0.6,15,IF(U79>0.5,10,0)))))))))))
F80: =IF(E80="Sudija",1,IF(E80="Stručni saradnik",1,IF(E80="Član VSTV-a",2,""))) | J80: 262 | O80: =IF(G80="","",IF(G80="Ne treba raditi na predm.",1+SUM(L80:N80),(SUM(L80:N80)/G80))) | P80: =IF(K80>0,IF(G80="Ne treba raditi na predm.",O80,O80*(J80/(J80-K80))),O80) | U80: =IF(Q80="","",R80/(Q80-S80)) | V80: =IF(P80="","",IF(C80="Ne","",IF(G80="Ne treba raditi na predm.","",IF(P80>1,40,IF(U80="",IF(P80>0.9,35,IF(P80>0.8,30,IF(P80>0.7,20,IF(P80>0.6,15,IF(P80>0.5,10,0))))),IF(U80>0.94,40,IF(U80>0.9,35,IF(U80>0.8,30,IF(U80>0.7,20,IF(U80>0.6,15,IF(U80>0.5,10,0)))))))))))
F81: =IF(E81="Sudija",1,IF(E81="Stručni saradnik",1,IF(E81="Član VSTV-a",2,""))) | J81: 262 | O81: =IF(G81="","",IF(G81="Ne treba raditi na predm.",1+SUM(L81:N81),(SUM(L81:N81)/G81))) | P81: =IF(K81>0,IF(G81="Ne treba raditi na predm.",O81,O81*(J81/(J81-K81))),O81) | U81: =IF(Q81="","",R81/(Q81-S81)) | V81: =IF(P81="","",IF(C81="Ne","",IF(G81="Ne treba raditi na predm.","",IF(P81>1,40,IF(U81="",IF(P81>0.9,35,IF(P81>0.8,30,IF(P81>0.7,20,IF(P81>0.6,15,IF(P81>0.5,10,0))))),IF(U81>0.94,40,IF(U81>0.9,35,IF(U81>0.8,30,IF(U81>0.7,20,IF(U81>0.6,15,IF(U81>0.5,10,0)))))))))))
F82: =IF(E82="Sudija",1,IF(E82="Stručni saradnik",1,IF(E82="Član VSTV-a",2,""))) | J82: 262 | O82: =IF(G82="","",IF(G82="Ne treba raditi na predm.",1+SUM(L82:N82),(SUM(L82:N82)/G82))) | P82: =IF(K82>0,IF(G82="Ne treba raditi na predm.",O82,O82*(J82/(J82-K82))),O82) | U82: =IF(Q82="","",R82/(Q82-S82)) | V82: =IF(P82="","",IF(C82="Ne","",IF(G82="Ne treba raditi na predm.","",IF(P82>1,40,IF(U82="",IF(P82>0.9,35,IF(P82>0.8,30,IF(P82>0.7,20,IF(P82>0.6,15,IF(P82>0.5,10,0))))),IF(U82>0.94,40,IF(U82>0.9,35,IF(U82>0.8,30,IF(U82>0.7,20,IF(U82>0.6,15,IF(U82>0.5,10,0)))))))))))
F83: =IF(E83="Sudija",1,IF(E83="Stručni saradnik",1,IF(E83="Član VSTV-a",2,""))) | J83: 262 | O83: =IF(G83="","",IF(G83="Ne treba raditi na predm.",1+SUM(L83:N83),(SUM(L83:N83)/G83))) | P83: =IF(K83>0,IF(G83="Ne treba raditi na predm.",O83,O83*(J83/(J83-K83))),O83) | U83: =IF(Q83="","",R83/(Q83-S83)) | V83: =IF(P83="","",IF(C83="Ne","",IF(G83="Ne treba raditi na predm.","",IF(P83>1,40,IF(U83="",IF(P83>0.9,35,IF(P83>0.8,30,IF(P83>0.7,20,IF(P83>0.6,15,IF(P83>0.5,10,0))))),IF(U83>0.94,40,IF(U83>0.9,35,IF(U83>0.8,30,IF(U83>0.7,20,IF(U83>0.6,15,IF(U83>0.5,10,0)))))))))))
O84: KOLEKTIVNA NORMA SUDA | P84: =IF(P8="",IF(P9="","",AVERAGEIF(P8:P83,">0,2")),AVERAGEIF(P8:P83,">0,2")) | Q84: =SUM(Q8:Q83) -> 0 | R84: =SUM(R8:R83) -> 0 | S84: =SUM(S8:S83) -> 0 | T84: =SUM(T8:T83) -> 0 | U84: =IF(Q84=0,"",R84/(Q84-S84))
O85: BODOVANJE ZA OSTVARENU KOLEKTIVNU NORMU SUDA U SKLADU SA ČLANOM 22. KRITERIJA ZA OCJENJIVANJE RADA PREDSJEDNIKA SUDOVA | P85: =IF(P84="","",IF(P84>1,20,IF(P84>0.9,18,IF(P84>0.8,16,IF(P84>0.7,12,IF(P84>0.6,8,IF(P84>0.5,4,0)))))))
B87: Obrazloženje norme NPF-a unesene u plava polja
B88: Primjer - Sudija 1 | C88: 8 mjeseci sudija, 4 mjeseca šef odjela (90% norme sudije) | G88: 0.97
Q100: Nedovoljan broj predmeta u radu
A101: NAPOMENA 1: U Tabelu IIa se unose podaci o ostvarenoj orijentacijskoj normi za sve nosioce pravosudnih funkcija, uključujući i one kod kojih je ukupno ostvarenje norme ispod 20%: novoimenovane sudije/stručni saradnici, sudije/stručni saradnici koji su imenovani u drugu instituciju, kao i sudije/stručni saradnici koji su prestali sa radom zbog: penzionisanja, podnošenja ostavke, smrti, gubitka radne sposobnosti, razrješenja od dužnosti, privremenog ili trajnog udaljenja od vršenja dužnosti itd. (član 14. Kriterija za ocjenjivanje rada predsjednika sudova u Bosni i Hercegovini). Ostvarena kolektivna norma suda automatski će se obračunati i predsjedniku suda će se dodijeliti odgovarajući broj bodova u skladu sa članom 22. Kriterija za ocjenjivanje rada predsjednika sudova u Bosni i Hercegovini. Ukoliko sud nije imao dovoljan broj predmeta u radu za ostvarenje orijentacijske norme, potrebno je manuelno unijeti ukupan broj predmeta koji su bili u radu u sudu kao i ukupan broj riješenih predmeta u sudu u periodu izvještavanja, kao i podatke o broju neriješenih predmeta sa zakonskim i procesnim smetnjama i broju neriješenih predmeta bez zakonskih i procesnih smetnji. Procenat riješenih predmeta automatski će se obračunati, te predsjedniku suda dodijeliti odgovarajući broj bodova u skladu sa članom 23. Kriterija za ocjenjivanje rada predsjednika sudova u Bosni i Hercegovini. | Q101: broj predmeta u radu | R101: broj riješenih predmeta | S101: broj neriješenih predmeta sa zakonskim i procesnim smetnjama | T101: broj neriješenih predmeta bez zakonskih i procesnih smetnji | U101: procenat riješenih predmeta
U102: =IF(Q102="","",R102/(Q102-S102))
T103: BODOVANJE ZA BROJ RIJEŠENIH PREDMETA U SUDU U SKLADU SA ČLANOM 23. KRITERIJA ZA OCJENJIVANJE RADA PREDSJEDNIKA SUDOVA | U103: =IF(U102="","",IF(U102>0.94,20,IF(U102>0.9,18,IF(U102>0.8,16,IF(U102>0.7,12,IF(U102>0.6,8,IF(U102>0.5,4,0)))))))
...

Sheet Tabela III
A1: =+'Tabela I'!A1 -> Kantonalni/Okružni sud: | D1: =+'Tabela I'!C1 -> 0
A2: Izvještajni period: | D2: =+'Tabela I'!B2 -> 1.1.2024.-31.12.2024.
A3: Tabela IIIa - Kvalitet sudskih odluka po nosiocima pravosudnih funkcija - Elektronski obrazac za obračun kvaliteta odluka (pogledati NAPOMENU 2 i 3)
A6: Redni broj | B6: Ime i prezime - podatak je automatski prenesen iz Tabele IIa - OBAVEZNO ZADRŽATI REDOSLIJED NPF-a iz Tabele IIa | C6: Pravosudna funkcija | D6: Ocijenjen / Nije ocijenjen u sudu | E6: Ukupan broj donesenih odluka na koje se može izjaviti pravni lijek | F6: Ukupan broj ožalbenih odluka | G6: Broj odbačenih pravnih lijekova*** | H6: Broj potvrđenih odluka | I6: Broj preinačenih odluka | J6: Broj preinačenih odluka donijetih nakon održane glavne rasprave ili pretresa pred drugostepenim sudom | K6: Broj ukinutih odluka | L6: Broj djelimično ukinutih odluka | M6: Kvalitet sudskih odluka prema članu 17. stav 1. tačka a) | N6: Broj ostvarenih bodova za kvalitet prema članu 17. stav 1. tačka a) | O6: Kvalitet sudskih odluka prema članu 17. stav 1. tačka b) | P6: Broj ostvarenih bodova za kvalitet prema članu 17. stav 1. tačka b) | Q6: UKUPAN broj ostvarenih bodova za kvalitet sudskih odluka
H7: Odbijen pravni lijek
A8: I | B8: II | C8: III | D8: IV | E8: V | F8: VI | G8: VII | H8: VIII | I8: IX | J8: X | K8: XI | L8: XII | M8: XIII | N8: XIV | O8: XV | P8: XVI | Q8: XVII
A10: 1 | B10: =IF('Tabela II'!B8="","",'Tabela II'!B8) | C10: Predsjednik suda * | F10: =SUM(H10:L10) -> 0 | M10: =IF(D10="","",IF(D10="Nije ocijenjen ili Ne treba raditi na predmetima","",IF(D10="Ocijenjen",IF(F10<10,"Član 20. stav 7. Kriterija",(K10+(L10/2))/(F10))))) | N10: =IF(D10="","",IF(D10="Nije ocijenjen ili Ne treba raditi na predmetima","",IF(D10="Ocijenjen",IF(M10="Član 20. stav 7. Kriterija","",IF(M10>0.4,0,IF(M10>0.3,4,IF(M10>0.2,8,IF(M10>0.1,12,IF(M10<=0.1,15,))))))))) | O10: =IF(D10="","",IF(D10="Nije ocijenjen ili Ne treba raditi na predmetima","",IF(D10="Ocijenjen",IF(E10=0,"",((K10+J10+(L10/2))/(E10)))))) | P10: =IF(D10="","",IF(D10="Nije ocijenjen ili Ne treba raditi na predmetima","",IF(D10="Ocijenjen",IF(O10>0.2,0,IF(O10>0.15,1,IF(O10>0.1,2,IF(O10>0.06,3,IF(O10>0.03,4,IF(O10<=0.03,5,))))))))) | Q10: =IF(D10="","",IF(D10="Nije ocijenjen ili Ne treba raditi na predmetima","",IF(D10="Ocijenjen",IF(M10="Član 20. stav 7. Kriterija",P10,N10+P10)))) | U10: Ocijenjen
A11: 2 | B11: =IF('Tabela II'!B10="","",'Tabela II'!B10) | F11: =SUM(H11:L11) -> 0 | M11: =IF(D11="","",IF(D11="Nije ocijenjen","",IF(D11="Ocijenjen",IF(F11<10,"Član 17. stav 7. Kriterija",(K11+(L11/2))/(F11))))) | N11: =IF(D11="","",IF(D11="Nije ocijenjen","",IF(D11="Ocijenjen",IF(M11="Član 17. stav 7. Kriterija","",IF(M11>0.4,0,IF(M11>0.3,8,IF(M11>0.2,16,IF(M11>0.1,24,IF(M11<=0.1,30,))))))))) | O11: =IF(D11="","",IF(D11="Nije ocijenjen","",IF(D11="Ocijenjen",IF(E11=0,"",((K11+J11+(L11/2))/(E11)))))) | P11: =IF(D11="","",IF(D11="Nije ocijenjen","",IF(D11="Ocijenjen",IF(O11>0.2,0,IF(O11>0.15,2,IF(O11>0.1,4,IF(O11>0.06,6,IF(O11>0.03,8,IF(O11<=0.03,10,))))))))) | Q11: =IF(D11="","",IF(D11="Nije ocijenjen","",IF(D11="Ocijenjen",IF(M11="Član 17. stav 7. Kriterija",P11,N11+P11)))) | S11: Sudija | U11: Nije ocijenjen
A12: 3 | B12: =IF('Tabela II'!B11="","",'Tabela II'!B11) | F12: =SUM(H12:L12) -> 0 | M12: =IF(D12="","",IF(D12="Nije ocijenjen","",IF(D12="Ocijenjen",IF(F12<10,"Član 17. stav 7. Kriterija",(K12+(L12/2))/(F12))))) | N12: =IF(D12="","",IF(D12="Nije ocijenjen","",IF(D12="Ocijenjen",IF(M12="Član 17. stav 7. Kriterija","",IF(M12>0.4,0,IF(M12>0.3,8,IF(M12>0.2,16,IF(M12>0.1,24,IF(M12<=0.1,30,))))))))) | O12: =IF(D12="","",IF(D12="Nije ocijenjen","",IF(D12="Ocijenjen",IF(E12=0,"",((K12+J12+(L12/2))/(E12)))))) | P12: =IF(D12="","",IF(D12="Nije ocijenjen","",IF(D12="Ocijenjen",IF(O12>0.2,0,IF(O12>0.15,2,IF(O12>0.1,4,IF(O12>0.06,6,IF(O12>0.03,8,IF(O12<=0.03,10,))))))))) | Q12: =IF(D12="","",IF(D12="Nije ocijenjen","",IF(D12="Ocijenjen",IF(M12="Član 17. stav 7. Kriterija",P12,N12+P12)))) | S12: Stručni saradnik
A13: 4 | B13: =IF('Tabela II'!B12="","",'Tabela II'!B12) | F13: =SUM(H13:L13) -> 0 | M13: =IF(D13="","",IF(D13="Nije ocijenjen","",IF(D13="Ocijenjen",IF(F13<10,"Član 17. stav 7. Kriterija",(K13+(L13/2))/(F13))))) | N13: =IF(D13="","",IF(D13="Nije ocijenjen","",IF(D13="Ocijenjen",IF(M13="Član 17. stav 7. Kriterija","",IF(M13>0.4,0,IF(M13>0.3,8,IF(M13>0.2,16,IF(M13>0.1,24,IF(M13<=0.1,30,))))))))) | O13: =IF(D13="","",IF(D13="Nije ocijenjen","",IF(D13="Ocijenjen",IF(E13=0,"",((K13+J13+(L13/2))/(E13)))))) | P13: =IF(D13="","",IF(D13="Nije ocijenjen","",IF(D13="Ocijenjen",IF(O13>0.2,0,IF(O13>0.15,2,IF(O13>0.1,4,IF(O13>0.06,6,IF(O13>0.03,8,IF(O13<=0.03,10,))))))))) | Q13: =IF(D13="","",IF(D13="Nije ocijenjen","",IF(D13="Ocijenjen",IF(M13="Član 17. stav 7. Kriterija",P13,N13+P13)))) | S13: Predsjednik odjela
A14: 5 | B14: =IF('Tabela II'!B13="","",'Tabela II'!B13) | F14: =SUM(H14:L14) -> 0 | M14: =IF(D14="","",IF(D14="Nije ocijenjen","",IF(D14="Ocijenjen",IF(F14<10,"Član 17. stav 7. Kriterija",(K14+(L14/2))/(F14))))) | N14: =IF(D14="","",IF(D14="Nije ocijenjen","",IF(D14="Ocijenjen",IF(M14="Član 17. stav 7. Kriterija","",IF(M14>0.4,0,IF(M14>0.3,8,IF(M14>0.2,16,IF(M14>0.1,24,IF(M14<=0.1,30,))))))))) | O14: =IF(D14="","",IF(D14="Nije ocijenjen","",IF(D14="Ocijenjen",IF(E14=0,"",((K14+J14+(L14/2))/(E14)))))) | P14: =IF(D14="","",IF(D14="Nije ocijenjen","",IF(D14="Ocijenjen",IF(O14>0.2,0,IF(O14>0.15,2,IF(O14>0.1,4,IF(O14>0.06,6,IF(O14>0.03,8,IF(O14<=0.03,10,))))))))) | Q14: =IF(D14="","",IF(D14="Nije ocijenjen","",IF(D14="Ocijenjen",IF(M14="Član 17. stav 7. Kriterija",P14,N14+P14)))) | S14: Predsjednik sudskog vijeća vrhovnog suda entiteta
A15: 6 | B15: =IF('Tabela II'!B14="","",'Tabela II'!B14) | F15: =SUM(H15:L15) -> 0 | M15: =IF(D15="","",IF(D15="Nije ocijenjen","",IF(D15="Ocijenjen",IF(F15<10,"Član 17. stav 7. Kriterija",(K15+(L15/2))/(F15))))) | N15: =IF(D15="","",IF(D15="Nije ocijenjen","",IF(D15="Ocijenjen",IF(M15="Član 17. stav 7. Kriterija","",IF(M15>0.4,0,IF(M15>0.3,8,IF(M15>0.2,16,IF(M15>0.1,24,IF(M15<=0.1,30,))))))))) | O15: =IF(D15="","",IF(D15="Nije ocijenjen","",IF(D15="Ocijenjen",IF(E15=0,"",((K15+J15+(L15/2))/(E15)))))) | P15: =IF(D15="","",IF(D15="Nije ocijenjen","",IF(D15="Ocijenjen",IF(O15>0.2,0,IF(O15>0.15,2,IF(O15>0.1,4,IF(O15>0.06,6,IF(O15>0.03,8,IF(O15<=0.03,10,))))))))) | Q15: =IF(D15="","",IF(D15="Nije ocijenjen","",IF(D15="Ocijenjen",IF(M15="Član 17. stav 7. Kriterija",P15,N15+P15))))
A16: 7 | B16: =IF('Tabela II'!B15="","",'Tabela II'!B15) | F16: =SUM(H16:L16) -> 0 | M16: =IF(D16="","",IF(D16="Nije ocijenjen","",IF(D16="Ocijenjen",IF(F16<10,"Član 17. stav 7. Kriterija",(K16+(L16/2))/(F16))))) | N16: =IF(D16="","",IF(D16="Nije ocijenjen","",IF(D16="Ocijenjen",IF(M16="Član 17. stav 7. Kriterija","",IF(M16>0.4,0,IF(M16>0.3,8,IF(M16>0.2,16,IF(M16>0.1,24,IF(M16<=0.1,30,))))))))) | O16: =IF(D16="","",IF(D16="Nije ocijenjen","",IF(D16="Ocijenjen",IF(E16=0,"",((K16+J16+(L16/2))/(E16)))))) | P16: =IF(D16="","",IF(D16="Nije ocijenjen","",IF(D16="Ocijenjen",IF(O16>0.2,0,IF(O16>0.15,2,IF(O16>0.1,4,IF(O16>0.06,6,IF(O16>0.03,8,IF(O16<=0.03,10,))))))))) | Q16: =IF(D16="","",IF(D16="Nije ocijenjen","",IF(D16="Ocijenjen",IF(M16="Član 17. stav 7. Kriterija",P16,N16+P16))))
A17: 8 | B17: =IF('Tabela II'!B16="","",'Tabela II'!B16) | F17: =SUM(H17:L17) -> 0 | M17: =IF(D17="","",IF(D17="Nije ocijenjen","",IF(D17="Ocijenjen",IF(F17<10,"Član 17. stav 7. Kriterija",(K17+(L17/2))/(F17))))) | N17: =IF(D17="","",IF(D17="Nije ocijenjen","",IF(D17="Ocijenjen",IF(M17="Član 17. stav 7. Kriterija","",IF(M17>0.4,0,IF(M17>0.3,8,IF(M17>0.2,16,IF(M17>0.1,24,IF(M17<=0.1,30,))))))))) | O17: =IF(D17="","",IF(D17="Nije ocijenjen","",IF(D17="Ocijenjen",IF(E17=0,"",((K17+J17+(L17/2))/(E17)))))) | P17: =IF(D17="","",IF(D17="Nije ocijenjen","",IF(D17="Ocijenjen",IF(O17>0.2,0,IF(O17>0.15,2,IF(O17>0.1,4,IF(O17>0.06,6,IF(O17>0.03,8,IF(O17<=0.03,10,))))))))) | Q17: =IF(D17="","",IF(D17="Nije ocijenjen","",IF(D17="Ocijenjen",IF(M17="Član 17. stav 7. Kriterija",P17,N17+P17)))) | U17: Ocijenjen
A18: 9 | B18: =IF('Tabela II'!B17="","",'Tabela II'!B17) | F18: =SUM(H18:L18) -> 0 | M18: =IF(D18="","",IF(D18="Nije ocijenjen","",IF(D18="Ocijenjen",IF(F18<10,"Član 17. stav 7. Kriterija",(K18+(L18/2))/(F18))))) | N18: =IF(D18="","",IF(D18="Nije ocijenjen","",IF(D18="Ocijenjen",IF(M18="Član 17. stav 7. Kriterija","",IF(M18>0.4,0,IF(M18>0.3,8,IF(M18>0.2,16,IF(M18>0.1,24,IF(M18<=0.1,30,))))))))) | O18: =IF(D18="","",IF(D18="Nije ocijenjen","",IF(D18="Ocijenjen",IF(E18=0,"",((K18+J18+(L18/2))/(E18)))))) | P18: =IF(D18="","",IF(D18="Nije ocijenjen","",IF(D18="Ocijenjen",IF(O18>0.2,0,IF(O18>0.15,2,IF(O18>0.1,4,IF(O18>0.06,6,IF(O18>0.03,8,IF(O18<=0.03,10,))))))))) | Q18: =IF(D18="","",IF(D18="Nije ocijenjen","",IF(D18="Ocijenjen",IF(M18="Član 17. stav 7. Kriterija",P18,N18+P18)))) | U18: Nije ocijenjen ili Ne treba raditi na predmetima
A19: 10 | B19: =IF('Tabela II'!B18="","",'Tabela II'!B18) | F19: =SUM(H19:L19) -> 0 | M19: =IF(D19="","",IF(D19="Nije ocijenjen","",IF(D19="Ocijenjen",IF(F19<10,"Član 17. stav 7. Kriterija",(K19+(L19/2))/(F19))))) | N19: =IF(D19="","",IF(D19="Nije ocijenjen","",IF(D19="Ocijenjen",IF(M19="Član 17. stav 7. Kriterija","",IF(M19>0.4,0,IF(M19>0.3,8,IF(M19>0.2,16,IF(M19>0.1,24,IF(M19<=0.1,30,))))))))) | O19: =IF(D19="","",IF(D19="Nije ocijenjen","",IF(D19="Ocijenjen",IF(E19=0,"",((K19+J19+(L19/2))/(E19)))))) | P19: =IF(D19="","",IF(D19="Nije ocijenjen","",IF(D19="Ocijenjen",IF(O19>0.2,0,IF(O19>0.15,2,IF(O19>0.1,4,IF(O19>0.06,6,IF(O19>0.03,8,IF(O19<=0.03,10,))))))))) | Q19: =IF(D19="","",IF(D19="Nije ocijenjen","",IF(D19="Ocijenjen",IF(M19="Član 17. stav 7. Kriterija",P19,N19+P19))))
A20: 11 | B20: =IF('Tabela II'!B19="","",'Tabela II'!B19) | F20: =SUM(H20:L20) -> 0 | M20: =IF(D20="","",IF(D20="Nije ocijenjen","",IF(D20="Ocijenjen",IF(F20<10,"Član 17. stav 7. Kriterija",(K20+(L20/2))/(F20))))) | N20: =IF(D20="","",IF(D20="Nije ocijenjen","",IF(D20="Ocijenjen",IF(M20="Član 17. stav 7. Kriterija","",IF(M20>0.4,0,IF(M20>0.3,8,IF(M20>0.2,16,IF(M20>0.1,24,IF(M20<=0.1,30,))))))))) | O20: =IF(D20="","",IF(D20="Nije ocijenjen","",IF(D20="Ocijenjen",IF(E20=0,"",((K20+J20+(L20/2))/(E20)))))) | P20: =IF(D20="","",IF(D20="Nije ocijenjen","",IF(D20="Ocijenjen",IF(O20>0.2,0,IF(O20>0.15,2,IF(O20>0.1,4,IF(O20>0.06,6,IF(O20>0.03,8,IF(O20<=0.03,10,))))))))) | Q20: =IF(D20="","",IF(D20="Nije ocijenjen","",IF(D20="Ocijenjen",IF(M20="Član 17. stav 7. Kriterija",P20,N20+P20))))
A21: 12 | B21: =IF('Tabela II'!B20="","",'Tabela II'!B20) | F21: =SUM(H21:L21) -> 0 | M21: =IF(D21="","",IF(D21="Nije ocijenjen","",IF(D21="Ocijenjen",IF(F21<10,"Član 17. stav 7. Kriterija",(K21+(L21/2))/(F21))))) | N21: =IF(D21="","",IF(D21="Nije ocijenjen","",IF(D21="Ocijenjen",IF(M21="Član 17. stav 7. Kriterija","",IF(M21>0.4,0,IF(M21>0.3,8,IF(M21>0.2,16,IF(M21>0.1,24,IF(M21<=0.1,30,))))))))) | O21: =IF(D21="","",IF(D21="Nije ocijenjen","",IF(D21="Ocijenjen",IF(E21=0,"",((K21+J21+(L21/2))/(E21)))))) | P21: =IF(D21="","",IF(D21="Nije ocijenjen","",IF(D21="Ocijenjen",IF(O21>0.2,0,IF(O21>0.15,2,IF(O21>0.1,4,IF(O21>0.06,6,IF(O21>0.03,8,IF(O21<=0.03,10,))))))))) | Q21: =IF(D21="","",IF(D21="Nije ocijenjen","",IF(D21="Ocijenjen",IF(M21="Član 17. stav 7. Kriterija",P21,N21+P21))))
A22: 13 | B22: =IF('Tabela II'!B21="","",'Tabela II'!B21) | F22: =SUM(H22:L22) -> 0 | M22: =IF(D22="","",IF(D22="Nije ocijenjen","",IF(D22="Ocijenjen",IF(F22<10,"Član 17. stav 7. Kriterija",(K22+(L22/2))/(F22))))) | N22: =IF(D22="","",IF(D22="Nije ocijenjen","",IF(D22="Ocijenjen",IF(M22="Član 17. stav 7. Kriterija","",IF(M22>0.4,0,IF(M22>0.3,8,IF(M22>0.2,16,IF(M22>0.1,24,IF(M22<=0.1,30,))))))))) | O22: =IF(D22="","",IF(D22="Nije ocijenjen","",IF(D22="Ocijenjen",IF(E22=0,"",((K22+J22+(L22/2))/(E22)))))) | P22: =IF(D22="","",IF(D22="Nije ocijenjen","",IF(D22="Ocijenjen",IF(O22>0.2,0,IF(O22>0.15,2,IF(O22>0.1,4,IF(O22>0.06,6,IF(O22>0.03,8,IF(O22<=0.03,10,))))))))) | Q22: =IF(D22="","",IF(D22="Nije ocijenjen","",IF(D22="Ocijenjen",IF(M22="Član 17. stav 7. Kriterija",P22,N22+P22))))
A23: 14 | B23: =IF('Tabela II'!B22="","",'Tabela II'!B22) | F23: =SUM(H23:L23) -> 0 | M23: =IF(D23="","",IF(D23="Nije ocijenjen","",IF(D23="Ocijenjen",IF(F23<10,"Član 17. stav 7. Kriterija",(K23+(L23/2))/(F23))))) | N23: =IF(D23="","",IF(D23="Nije ocijenjen","",IF(D23="Ocijenjen",IF(M23="Član 17. stav 7. Kriterija","",IF(M23>0.4,0,IF(M23>0.3,8,IF(M23>0.2,16,IF(M23>0.1,24,IF(M23<=0.1,30,))))))))) | O23: =IF(D23="","",IF(D23="Nije ocijenjen","",IF(D23="Ocijenjen",IF(E23=0,"",((K23+J23+(L23/2))/(E23)))))) | P23: =IF(D23="","",IF(D23="Nije ocijenjen","",IF(D23="Ocijenjen",IF(O23>0.2,0,IF(O23>0.15,2,IF(O23>0.1,4,IF(O23>0.06,6,IF(O23>0.03,8,IF(O23<=0.03,10,))))))))) | Q23: =IF(D23="","",IF(D23="Nije ocijenjen","",IF(D23="Ocijenjen",IF(M23="Član 17. stav 7. Kriterija",P23,N23+P23))))
A24: 15 | B24: =IF('Tabela II'!B23="","",'Tabela II'!B23) | F24: =SUM(H24:L24) -> 0 | M24: =IF(D24="","",IF(D24="Nije ocijenjen","",IF(D24="Ocijenjen",IF(F24<10,"Član 17. stav 7. Kriterija",(K24+(L24/2))/(F24))))) | N24: =IF(D24="","",IF(D24="Nije ocijenjen","",IF(D24="Ocijenjen",IF(M24="Član 17. stav 7. Kriterija","",IF(M24>0.4,0,IF(M24>0.3,8,IF(M24>0.2,16,IF(M24>0.1,24,IF(M24<=0.1,30,))))))))) | O24: =IF(D24="","",IF(D24="Nije ocijenjen","",IF(D24="Ocijenjen",IF(E24=0,"",((K24+J24+(L24/2))/(E24)))))) | P24: =IF(D24="","",IF(D24="Nije ocijenjen","",IF(D24="Ocijenjen",IF(O24>0.2,0,IF(O24>0.15,2,IF(O24>0.1,4,IF(O24>0.06,6,IF(O24>0.03,8,IF(O24<=0.03,10,))))))))) | Q24: =IF(D24="","",IF(D24="Nije ocijenjen","",IF(D24="Ocijenjen",IF(M24="Član 17. stav 7. Kriterija",P24,N24+P24))))
A25: 16 | B25: =IF('Tabela II'!B24="","",'Tabela II'!B24) | F25: =SUM(H25:L25) -> 0 | M25: =IF(D25="","",IF(D25="Nije ocijenjen","",IF(D25="Ocijenjen",IF(F25<10,"Član 17. stav 7. Kriterija",(K25+(L25/2))/(F25))))) | N25: =IF(D25="","",IF(D25="Nije ocijenjen","",IF(D25="Ocijenjen",IF(M25="Član 17. stav 7. Kriterija","",IF(M25>0.4,0,IF(M25>0.3,8,IF(M25>0.2,16,IF(M25>0.1,24,IF(M25<=0.1,30,))))))))) | O25: =IF(D25="","",IF(D25="Nije ocijenjen","",IF(D25="Ocijenjen",IF(E25=0,"",((K25+J25+(L25/2))/(E25)))))) | P25: =IF(D25="","",IF(D25="Nije ocijenjen","",IF(D25="Ocijenjen",IF(O25>0.2,0,IF(O25>0.15,2,IF(O25>0.1,4,IF(O25>0.06,6,IF(O25>0.03,8,IF(O25<=0.03,10,))))))))) | Q25: =IF(D25="","",IF(D25="Nije ocijenjen","",IF(D25="Ocijenjen",IF(M25="Član 17. stav 7. Kriterija",P25,N25+P25))))
A26: 17 | B26: =IF('Tabela II'!B25="","",'Tabela II'!B25) | F26: =SUM(H26:L26) -> 0 | M26: =IF(D26="","",IF(D26="Nije ocijenjen","",IF(D26="Ocijenjen",IF(F26<10,"Član 17. stav 7. Kriterija",(K26+(L26/2))/(F26))))) | N26: =IF(D26="","",IF(D26="Nije ocijenjen","",IF(D26="Ocijenjen",IF(M26="Član 17. stav 7. Kriterija","",IF(M26>0.4,0,IF(M26>0.3,8,IF(M26>0.2,16,IF(M26>0.1,24,IF(M26<=0.1,30,))))))))) | O26: =IF(D26="","",IF(D26="Nije ocijenjen","",IF(D26="Ocijenjen",IF(E26=0,"",((K26+J26+(L26/2))/(E26)))))) | P26: =IF(D26="","",IF(D26="Nije ocijenjen","",IF(D26="Ocijenjen",IF(O26>0.2,0,IF(O26>0.15,2,IF(O26>0.1,4,IF(O26>0.06,6,IF(O26>0.03,8,IF(O26<=0.03,10,))))))))) | Q26: =IF(D26="","",IF(D26="Nije ocijenjen","",IF(D26="Ocijenjen",IF(M26="Član 17. stav 7. Kriterija",P26,N26+P26))))
A27: 18 | B27: =IF('Tabela II'!B26="","",'Tabela II'!B26) | F27: =SUM(H27:L27) -> 0 | M27: =IF(D27="","",IF(D27="Nije ocijenjen","",IF(D27="Ocijenjen",IF(F27<10,"Član 17. stav 7. Kriterija",(K27+(L27/2))/(F27))))) | N27: =IF(D27="","",IF(D27="Nije ocijenjen","",IF(D27="Ocijenjen",IF(M27="Član 17. stav 7. Kriterija","",IF(M27>0.4,0,IF(M27>0.3,8,IF(M27>0.2,16,IF(M27>0.1,24,IF(M27<=0.1,30,))))))))) | O27: =IF(D27="","",IF(D27="Nije ocijenjen","",IF(D27="Ocijenjen",IF(E27=0,"",((K27+J27+(L27/2))/(E27)))))) | P27: =IF(D27="","",IF(D27="Nije ocijenjen","",IF(D27="Ocijenjen",IF(O27>0.2,0,IF(O27>0.15,2,IF(O27>0.1,4,IF(O27>0.06,6,IF(O27>0.03,8,IF(O27<=0.03,10,))))))))) | Q27: =IF(D27="","",IF(D27="Nije ocijenjen","",IF(D27="Ocijenjen",IF(M27="Član 17. stav 7. Kriterija",P27,N27+P27))))
A28: 19 | B28: =IF('Tabela II'!B27="","",'Tabela II'!B27) | F28: =SUM(H28:L28) -> 0 | M28: =IF(D28="","",IF(D28="Nije ocijenjen","",IF(D28="Ocijenjen",IF(F28<10,"Član 17. stav 7. Kriterija",(K28+(L28/2))/(F28))))) | N28: =IF(D28="","",IF(D28="Nije ocijenjen","",IF(D28="Ocijenjen",IF(M28="Član 17. stav 7. Kriterija","",IF(M28>0.4,0,IF(M28>0.3,8,IF(M28>0.2,16,IF(M28>0.1,24,IF(M28<=0.1,30,))))))))) | O28: =IF(D28="","",IF(D28="Nije ocijenjen","",IF(D28="Ocijenjen",IF(E28=0,"",((K28+J28+(L28/2))/(E28)))))) | P28: =IF(D28="","",IF(D28="Nije ocijenjen","",IF(D28="Ocijenjen",IF(O28>0.2,0,IF(O28>0.15,2,IF(O28>0.1,4,IF(O28>0.06,6,IF(O28>0.03,8,IF(O28<=0.03,10,))))))))) | Q28: =IF(D28="","",IF(D28="Nije ocijenjen","",IF(D28="Ocijenjen",IF(M28="Član 17. stav 7. Kriterija",P28,N28+P28))))
A29: 20 | B29: =IF('Tabela II'!B28="","",'Tabela II'!B28) | F29: =SUM(H29:L29) -> 0 | M29: =IF(D29="","",IF(D29="Nije ocijenjen","",IF(D29="Ocijenjen",IF(F29<10,"Član 17. stav 7. Kriterija",(K29+(L29/2))/(F29))))) | N29: =IF(D29="","",IF(D29="Nije ocijenjen","",IF(D29="Ocijenjen",IF(M29="Član 17. stav 7. Kriterija","",IF(M29>0.4,0,IF(M29>0.3,8,IF(M29>0.2,16,IF(M29>0.1,24,IF(M29<=0.1,30,))))))))) | O29: =IF(D29="","",IF(D29="Nije ocijenjen","",IF(D29="Ocijenjen",IF(E29=0,"",((K29+J29+(L29/2))/(E29)))))) | P29: =IF(D29="","",IF(D29="Nije ocijenjen","",IF(D29="Ocijenjen",IF(O29>0.2,0,IF(O29>0.15,2,IF(O29>0.1,4,IF(O29>0.06,6,IF(O29>0.03,8,IF(O29<=0.03,10,))))))))) | Q29: =IF(D29="","",IF(D29="Nije ocijenjen","",IF(D29="Ocijenjen",IF(M29="Član 17. stav 7. Kriterija",P29,N29+P29))))
A30: 21 | B30: =IF('Tabela II'!B29="","",'Tabela II'!B29) | F30: =SUM(H30:L30) -> 0 | M30: =IF(D30="","",IF(D30="Nije ocijenjen","",IF(D30="Ocijenjen",IF(F30<10,"Član 17. stav 7. Kriterija",(K30+(L30/2))/(F30))))) | N30: =IF(D30="","",IF(D30="Nije ocijenjen","",IF(D30="Ocijenjen",IF(M30="Član 17. stav 7. Kriterija","",IF(M30>0.4,0,IF(M30>0.3,8,IF(M30>0.2,16,IF(M30>0.1,24,IF(M30<=0.1,30,))))))))) | O30: =IF(D30="","",IF(D30="Nije ocijenjen","",IF(D30="Ocijenjen",IF(E30=0,"",((K30+J30+(L30/2))/(E30)))))) | P30: =IF(D30="","",IF(D30="Nije ocijenjen","",IF(D30="Ocijenjen",IF(O30>0.2,0,IF(O30>0.15,2,IF(O30>0.1,4,IF(O30>0.06,6,IF(O30>0.03,8,IF(O30<=0.03,10,))))))))) | Q30: =IF(D30="","",IF(D30="Nije ocijenjen","",IF(D30="Ocijenjen",IF(M30="Član 17. stav 7. Kriterija",P30,N30+P30))))
... A69: 60 | B69: =IF('Tabela II'!B68="","",'Tabela II'!B68) | F69: =SUM(H69:L69) -> 0 | M69: =IF(D69="","",IF(D69="Nije ocijenjen","",IF(D69="Ocijenjen",IF(F69<10,"Član 17. stav 7. Kriterija",(K69+(L69/2))/(F69))))) | N69: =IF(D69="","",IF(D69="Nije ocijenjen","",IF(D69="Ocijenjen",IF(M69="Član 17. stav 7. Kriterija","",IF(M69>0.4,0,IF(M69>0.3,8,IF(M69>0.2,16,IF(M69>0.1,24,IF(M69<=0.1,30,))))))))) | O69: =IF(D69="","",IF(D69="Nije ocijenjen","",IF(D69="Ocijenjen",IF(E69=0,"",((K69+J69+(L69/2))/(E69)))))) | P69: =IF(D69="","",IF(D69="Nije ocijenjen","",IF(D69="Ocijenjen",IF(O69>0.2,0,IF(O69>0.15,2,IF(O69>0.1,4,IF(O69>0.06,6,IF(O69>0.03,8,IF(O69<=0.03,10,))))))))) | Q69: =IF(D69="","",IF(D69="Nije ocijenjen","",IF(D69="Ocijenjen",IF(M69="Član 17. stav 7. Kriterija",P69,N69+P69))))
A70: 61 | F70: =SUM(H70:L70) -> 0 | M70: =IF(D70="","",IF(D70="Nije ocijenjen","",IF(D70="Ocijenjen",IF(F70<10,"Član 17. stav 7. Kriterija",(K70+(L70/2))/(F70))))) | N70: =IF(D70="","",IF(D70="Nije ocijenjen","",IF(D70="Ocijenjen",IF(M70="Član 17. stav 7. Kriterija","",IF(M70>0.4,0,IF(M70>0.3,8,IF(M70>0.2,16,IF(M70>0.1,24,IF(M70<=0.1,30,))))))))) | O70: =IF(D70="","",IF(D70="Nije ocijenjen","",IF(D70="Ocijenjen",IF(E70=0,"",((K70+J70+(L70/2))/(E70)))))) | P70: =IF(D70="","",IF(D70="Nije ocijenjen","",IF(D70="Ocijenjen",IF(O70>0.2,0,IF(O70>0.15,2,IF(O70>0.1,4,IF(O70>0.06,6,IF(O70>0.03,8,IF(O70<=0.03,10,))))))))) | Q70: =IF(D70="","",IF(D70="Nije ocijenjen","",IF(D70="Ocijenjen",IF(M70="Član 17. stav 7. Kriterija",P70,N70+P70))))
A71: 62 | F71: =SUM(H71:L71) -> 0 | M71: =IF(D71="","",IF(D71="Nije ocijenjen","",IF(D71="Ocijenjen",IF(F71<10,"Član 17. stav 7. Kriterija",(K71+(L71/2))/(F71))))) | N71: =IF(D71="","",IF(D71="Nije ocijenjen","",IF(D71="Ocijenjen",IF(M71="Član 17. stav 7. Kriterija","",IF(M71>0.4,0,IF(M71>0.3,8,IF(M71>0.2,16,IF(M71>0.1,24,IF(M71<=0.1,30,))))))))) | O71: =IF(D71="","",IF(D71="Nije ocijenjen","",IF(D71="Ocijenjen",IF(E71=0,"",((K71+J71+(L71/2))/(E71)))))) | P71: =IF(D71="","",IF(D71="Nije ocijenjen","",IF(D71="Ocijenjen",IF(O71>0.2,0,IF(O71>0.15,2,IF(O71>0.1,4,IF(O71>0.06,6,IF(O71>0.03,8,IF(O71<=0.03,10,))))))))) | Q71: =IF(D71="","",IF(D71="Nije ocijenjen","",IF(D71="Ocijenjen",IF(M71="Član 17. stav 7. Kriterija",P71,N71+P71))))
A72: 63 | F72: =SUM(H72:L72) -> 0 | M72: =IF(D72="","",IF(D72="Nije ocijenjen","",IF(D72="Ocijenjen",IF(F72<10,"Član 17. stav 7. Kriterija",(K72+(L72/2))/(F72))))) | N72: =IF(D72="","",IF(D72="Nije ocijenjen","",IF(D72="Ocijenjen",IF(M72="Član 17. stav 7. Kriterija","",IF(M72>0.4,0,IF(M72>0.3,8,IF(M72>0.2,16,IF(M72>0.1,24,IF(M72<=0.1,30,))))))))) | O72: =IF(D72="","",IF(D72="Nije ocijenjen","",IF(D72="Ocijenjen",IF(E72=0,"",((K72+J72+(L72/2))/(E72)))))) | P72: =IF(D72="","",IF(D72="Nije ocijenjen","",IF(D72="Ocijenjen",IF(O72>0.2,0,IF(O72>0.15,2,IF(O72>0.1,4,IF(O72>0.06,6,IF(O72>0.03,8,IF(O72<=0.03,10,))))))))) | Q72: =IF(D72="","",IF(D72="Nije ocijenjen","",IF(D72="Ocijenjen",IF(M72="Član 17. stav 7. Kriterija",P72,N72+P72))))
A73: 64 | F73: =SUM(H73:L73) -> 0 | M73: =IF(D73="","",IF(D73="Nije ocijenjen","",IF(D73="Ocijenjen",IF(F73<10,"Član 17. stav 7. Kriterija",(K73+(L73/2))/(F73))))) | N73: =IF(D73="","",IF(D73="Nije ocijenjen","",IF(D73="Ocijenjen",IF(M73="Član 17. stav 7. Kriterija","",IF(M73>0.4,0,IF(M73>0.3,8,IF(M73>0.2,16,IF(M73>0.1,24,IF(M73<=0.1,30,))))))))) | O73: =IF(D73="","",IF(D73="Nije ocijenjen","",IF(D73="Ocijenjen",IF(E73=0,"",((K73+J73+(L73/2))/(E73)))))) | P73: =IF(D73="","",IF(D73="Nije ocijenjen","",IF(D73="Ocijenjen",IF(O73>0.2,0,IF(O73>0.15,2,IF(O73>0.1,4,IF(O73>0.06,6,IF(O73>0.03,8,IF(O73<=0.03,10,))))))))) | Q73: =IF(D73="","",IF(D73="Nije ocijenjen","",IF(D73="Ocijenjen",IF(M73="Član 17. stav 7. Kriterija",P73,N73+P73))))
A74: 65 | F74: =SUM(H74:L74) -> 0 | M74: =IF(D74="","",IF(D74="Nije ocijenjen","",IF(D74="Ocijenjen",IF(F74<10,"Član 17. stav 7. Kriterija",(K74+(L74/2))/(F74))))) | N74: =IF(D74="","",IF(D74="Nije ocijenjen","",IF(D74="Ocijenjen",IF(M74="Član 17. stav 7. Kriterija","",IF(M74>0.4,0,IF(M74>0.3,8,IF(M74>0.2,16,IF(M74>0.1,24,IF(M74<=0.1,30,))))))))) | O74: =IF(D74="","",IF(D74="Nije ocijenjen","",IF(D74="Ocijenjen",IF(E74=0,"",((K74+J74+(L74/2))/(E74)))))) | P74: =IF(D74="","",IF(D74="Nije ocijenjen","",IF(D74="Ocijenjen",IF(O74>0.2,0,IF(O74>0.15,2,IF(O74>0.1,4,IF(O74>0.06,6,IF(O74>0.03,8,IF(O74<=0.03,10,))))))))) | Q74: =IF(D74="","",IF(D74="Nije ocijenjen","",IF(D74="Ocijenjen",IF(M74="Član 17. stav 7. Kriterija",P74,N74+P74))))
A76: KVALITET SUDSKIH ODLUKA ** | E76: =SUM(E10:E74) -> 0 | F76: =SUM(F10:F74) -> 0 | G76: =SUM(G10:G74) -> 0 | H76: =SUM(H10:H74) -> 0 | I76: =SUM(I10:I74) -> 0 | J76: =SUM(J10:J74) -> 0 | K76: =SUM(K10:K74) -> 0 | L76: =SUM(L10:L74) -> 0 | M76: =IF(F76=0,"",0.75*((F76-K76-(L76/2))/F76)+0.25*((E76-J76-K76-(L76/2))/E76))
A79: Tabela IIIb - Obračun individualnog kvaliteta odluka za proces ocjenjivanja nosilaca pravosudnih funkcija koji su u periodu ocjenjivanja radili u dva suda (pogledati NAPOMENU 2) i koji su odlukom VSTV BiH privremeno upućeni na obavljanje sudijske dužnosti u drugi sud (pogledati NAPOMENU 2a)
A81: Upisati naziv Suda 1
A82: 1 | B82: Ime i prezime | C82: Predsjednik suda | F82: =SUM(H82:L82) -> 0
A83: Upisati naziv Suda 2
A84: =+A82 -> 1 | B84: =+B82 -> Ime i prezime | F84: =SUM(H84:L84) -> 0
A85: Individualni kvalitet NPF-a koji je radio u dva suda u toku perioda ocjenjivanja
...

Sheet Tabela IV
A1: =+'Tabela I'!A1 -> Kantonalni/Okružni sud: | B1: =+'Tabela I'!C1 -> 0
A2: Izvještajni period: | B2: =+'Tabela I'!B2 -> 1.1.2024.-31.12.2024.
A3: Tabela IV - Odluke Ustavnog suda BiH
A4: Tabela IVa - Odluke kojima se ne usvaja apelacija
A5: Broj odluka kojima se odbacuje apelacija | B5: Broj odluka kojima se obustavlja postupak pred Ustavnim sudom BiH | C5: Broj odluka kojima se odbija apelacija | D5: Ukupno
A6: I | B6: II | C6: III | D6: IV=I+II+III
D7: =IF(SUM(A7:C7)=0," ",SUM(A7:C7))
A8: Tabela IVb - Odluke kojima se usvaja apelacija
A9: Pravni osnov | B9: Broj odluka kojima se usvaja apelacija | E9: Ukupno
B10: Broj odluka kojima se preinačuju odluke suda | C10: Broj odluka kojima se ukidaju odluke suda | D10: Broj ostalih odluka kojima se usvaja apelacija
B11: I | C11: II | D11: III | E11: IV=I+II+III
A12: Čl. 13. EK (pravo na djelotvorni pravni lijek) | E12: =IF(SUM(B12:D12)=0," ",SUM(B12:D12))
A13: Čl. 3. P7 (naknada za pogrešnu presudu) | E13: =IF(SUM(B13:D13)=0," ",SUM(B13:D13))
A14: Čl. 6. EK i II/3.e) Ustava BiH (pravo na pravično suđenje) | E14: =IF(SUM(B14:D14)=0," ",SUM(B14:D14))
A15: Čl. 5.EK i II/3d Ustava (pravo na ličnu slobodu) | E15: =IF(SUM(B15:D15)=0," ",SUM(B15:D15))
A16: Čl. 1. P.1. i II/3.k) Ustava BiH (pravo na imovinu) | E16: =IF(SUM(B16:D16)=0," ",SUM(B16:D16))
A17: Čl. 1. P.7. (Proceduralne zaštite u vezi sa protjerivanjem stranaca) | E17: =IF(SUM(B17:D17)=0," ",SUM(B17:D17))
A18: Ostalo | E18: =IF(SUM(B18:D18)=0," ",SUM(B18:D18))
A19: Tabela IVc – Predmeti u kojima se nalaže sudu da okonča predmet bez odlaganja zbog kršenja prava na donošenje odluke u razumnom roku
A20: Pravni osnov | B20: Broj odluka kojima se nalaže sudu da okonča predmet bez odlaganja zbog kršenja prava na donošenje odluke u razumnom roku jer je Ustavni sud BiH zaključio da je odugovlačenju postupka najviše doprinio
B21: prvostepeni sud | C21: drugostepeni sud | D21: sud koji rješava predmet po uloženom vanrednom pravnom lijeku | E21: Ostalo | F21: Ukupno
B22: I | C22: II | D22: III | E22: IV | F22: V=I+II+III+IV
A23: Čl. 6 EK i II/3.e) Ustava BiH (pravo na pravično suđenje) | F23: =IF(SUM(B23:E23)=0," ",SUM(B23:E23))
A24: Tabela IVd - Predmeti u kojima je utvrđeno kršenje prava na donošenje odluke u razumnom roku*
A25: Broj predmeta u kojima je određena naknada nematerijalne štete zbog kršenja prava na donošenje odluke u razumnom roku
A26: Ukupan iznos određene naknade
A28: * U Tabelu IVd unose se podaci o predmetima u kojima je usvojena apelacija u odnosu na odluke Vašeg suda i određena naknada nematerijalne štete zbog kršenja prava na donošenje odluke u razumnom roku, kao i ukupan iznos naknade koji je utvrdio Ustavni sud BiH.

Sheet tbl1_kvalitet_rada
A1: for_key | B1: godina | C1: lista_referata | D1: DonesOdluke | E1: OdbPrLijek | F1: PotvOdluke | G1: PreinOdluke | H1: PreinOdlukeNakonRasp | I1: UkinOdluke | J1: DjelimUkin | K1: UkinVracPonSud
A2: =+'Tabela I'!$K$2 -> 0 | B2: =+'Tabela I'!$K$1 -> 2024 | C2: 34 | D2: ='Tabela I'!B12 -> 0 | E2: ='Tabela I'!D12 -> 0 | F2: ='Tabela I'!E12 -> 0 | G2: ='Tabela I'!F12 -> 0 | H2: ='Tabela I'!G12 -> 0 | I2: ='Tabela I'!H12 -> 0 | J2: ='Tabela I'!I12 -> 0 | K2: ='Tabela I'!K12 -> 0
A3: =+'Tabela I'!$K$2 -> 0 | B3: =+'Tabela I'!$K$1 -> 2024 | C3: 35 | D3: ='Tabela I'!B13 -> 0 | E3: ='Tabela I'!D13 -> 0 | F3: ='Tabela I'!E13 -> 0 | G3: ='Tabela I'!F13 -> 0 | H3: ='Tabela I'!G13 -> 0 | I3: ='Tabela I'!H13 -> 0 | J3: ='Tabela I'!I13 -> 0 | K3: ='Tabela I'!K13 -> 0
A4: =+'Tabela I'!$K$2 -> 0 | B4: =+'Tabela I'!$K$1 -> 2024 | C4: 90 | D4: ='Tabela I'!B14 -> 0 | E4: ='Tabela I'!D14 -> 0 | F4: ='Tabela I'!E14 -> 0 | G4: ='Tabela I'!F14 -> 0 | H4: ='Tabela I'!G14 -> 0 | I4: ='Tabela I'!H14 -> 0 | J4: ='Tabela I'!I14 -> 0 | K4: ='Tabela I'!K14 -> 0
A5: =+'Tabela I'!$K$2 -> 0 | B5: =+'Tabela I'!$K$1 -> 2024 | C5: 36 | D5: ='Tabela I'!B15 -> 0 | E5: ='Tabela I'!D15 -> 0 | F5: ='Tabela I'!E15 -> 0 | G5: ='Tabela I'!F15 -> 0 | H5: ='Tabela I'!G15 -> 0 | I5: ='Tabela I'!H15 -> 0 | J5: ='Tabela I'!I15 -> 0 | K5: ='Tabela I'!K15 -> 0
A6: =+'Tabela I'!$K$2 -> 0 | B6: =+'Tabela I'!$K$1 -> 2024 | C6: 11 | D6: ='Tabela I'!B17 -> 0 | E6: ='Tabela I'!D17 -> 0 | F6: ='Tabela I'!E17 -> 0 | G6: ='Tabela I'!F17 -> 0 | H6: ='Tabela I'!G17 -> 0 | I6: ='Tabela I'!H17 -> 0 | J6: ='Tabela I'!I17 -> 0 | K6: ='Tabela I'!K17 -> 0
A7: =+'Tabela I'!$K$2 -> 0 | B7: =+'Tabela I'!$K$1 -> 2024 | C7: 37 | D7: ='Tabela I'!B18 -> 0 | E7: ='Tabela I'!D18 -> 0 | F7: ='Tabela I'!E18 -> 0 | G7: ='Tabela I'!F18 -> 0 | H7: ='Tabela I'!G18 -> 0 | I7: ='Tabela I'!H18 -> 0 | J7: ='Tabela I'!I18 -> 0 | K7: ='Tabela I'!K18 -> 0
A8: =+'Tabela I'!$K$2 -> 0 | B8: =+'Tabela I'!$K$1 -> 2024 | C8: 38 | D8: ='Tabela I'!B19 -> 0 | E8: ='Tabela I'!D19 -> 0 | F8: ='Tabela I'!E19 -> 0 | G8: ='Tabela I'!F19 -> 0 | H8: ='Tabela I'!G19 -> 0 | I8: ='Tabela I'!H19 -> 0 | J8: ='Tabela I'!I19 -> 0 | K8: ='Tabela I'!K19 -> 0
A9: =+'Tabela I'!$K$2 -> 0 | B9: =+'Tabela I'!$K$1 -> 2024 | C9: 40 | D9: ='Tabela I'!B20 -> 0 | E9: ='Tabela I'!D20 -> 0 | F9: ='Tabela I'!E20 -> 0 | G9: ='Tabela I'!F20 -> 0 | H9: ='Tabela I'!G20 -> 0 | I9: ='Tabela I'!H20 -> 0 | J9: ='Tabela I'!I20 -> 0 | K9: ='Tabela I'!K20 -> 0
A10: =+'Tabela I'!$K$2 -> 0 | B10: =+'Tabela I'!$K$1 -> 2024 | C10: 16 | D10: ='Tabela I'!B21 -> 0 | E10: ='Tabela I'!D21 -> 0 | F10: ='Tabela I'!E21 -> 0 | G10: ='Tabela I'!F21 -> 0 | H10: ='Tabela I'!G21 -> 0 | I10: ='Tabela I'!H21 -> 0 | J10: ='Tabela I'!I21 -> 0 | K10: ='Tabela I'!K21 -> 0
A11: =+'Tabela I'!$K$2 -> 0 | B11: =+'Tabela I'!$K$1 -> 2024 | C11: 13 | D11: ='Tabela I'!B22 -> 0 | E11: ='Tabela I'!D22 -> 0 | F11: ='Tabela I'!E22 -> 0 | G11: ='Tabela I'!F22 -> 0 | H11: ='Tabela I'!G22 -> 0 | I11: ='Tabela I'!H22 -> 0 | J11: ='Tabela I'!I22 -> 0 | K11: ='Tabela I'!K22 -> 0
A12: =+'Tabela I'!$K$2 -> 0 | B12: =+'Tabela I'!$K$1 -> 2024 | C12: 12 | D12: ='Tabela I'!B23 -> 0 | E12: ='Tabela I'!D23 -> 0 | F12: ='Tabela I'!E23 -> 0 | G12: ='Tabela I'!F23 -> 0 | H12: ='Tabela I'!G23 -> 0 | I12: ='Tabela I'!H23 -> 0 | J12: ='Tabela I'!I23 -> 0 | K12: ='Tabela I'!K23 -> 0
