Workbook

Sheet Uputstvo
B2: VRHOVNI SUD REPUBLIKE SRPSKE
B4: Kompletni materijali u vezi procesa izvještavanja i ocjenjivanja rada u sudovima za 2022. godinu dostupni su na linku:
B5: https://vstv.pravosudje.ba/vstvfo/B/141/article/106391
B6: Tabele za popunjavanje podataka o radu sudova nije moguće mijenjati, niti dodavati nove redove ili kolone.
B7: Tabele se isključivo popunjavaju predviđenim redoslijedom, po redoslijedu postavljenih tabela.
B10: Podatke je potrebno upisivati samo u polja osjenčena žutom bojom.
B11: U ostala polja nije moguće upisivati vrijednosti, u ovim poljima vrijednosti će biti izračunate automatski.
B12: Popunjene obrasce poslati na e-mail adresu: vstvstatistika@pravosudje.ba do 01.02.2023. godine.
B14: Za sva eventualna pitanja vezano za popunjavanje obrazaca molimo Vas da kontaktirate
B15: Odjel za pravosudnu analitiku i izvještavanje, na telefon: 033 704 616 ili 033 707 584.
B17: Tabele za ocjenjivanje NPF u sudu sadrže detaljnije napomene koje je potrebno imati u vidu prilikom popunjavanja tabela.
B21: Pored napomena datih uz tabele, potrebno je imati u vidu i slijedeće:
... B34: TABELA IV – ODLUKE USTAVNOG SUDA BIH U tabeli IV potrebno je prikazati samo podatke o odlukama Ustavnog suda BiH u kojima je izrekom obuhvaćena odluka Vašeg suda, odnosno postupak koji je u toku pred Vašim sudom (kada je riječ o apelacijama sa navodima da postoji kršenje prava na suđenje u razumnom roku). Posebna napomena: Traženi podaci se odnose na odluke iz apelacione nadležnosti Ustavnog suda BiH. Tabela IVa – Odluke kojima se ne usvaja apelacija: potrebno je prikazati podatke o odlukama Ustavnog suda BiH kojima je utvrđeno da nije osnovana apelacija izjavljena u odnosu na odluke Vašeg suda. Molimo da unesete podatake u kolone I-III prema njihovim nazivima. Podaci se automatski preračunavaju u koloni IV. Tabela IVb – Odluke kojima apelacija usvaja: “Pravni osnov” - Odluke kojima se usvaja apelacija potrebno je razvrstati prema izrekama odluka Ustavnog suda BiH kojima su utvrđene povrede Ustava BiH, Evropske konvencije o ljudskim pravima (u tabeli: EK) i njenih protokola (u tabeli:P). Svi pomenuti dokumenti i klasifikacija povreda su dostupni na zvaničnoj web stranici Ustavnog suda BiH (http://www.ccbh.ba/bos/p_stream.php?kat=83). Kolone I - IV “Broj odluka kojim se usvaja apelacija” – Potrebno je razvrstati broj odluka Ustavnog suda kojima se izjavljena apelacija usvaja u odnosu na odluku Vašeg suda, prema odgovarajućim kategorijama, u zavisnosti od izreke odluke Ustavnog suda BiH. Preostale odluke Ustavnog suda, koje ne spadaju u navedene tri kategorije, potrebno je upisati u rubriku “Broj ostalih odluka kojima se usvajaju apelacije” (npr. odluka kojom se usvaja apelacija i konstatuje povreda prava na pravično suđenje, zbog prekoračenja razumnog roka za donošenje odluke, nakon što je sudski postupak završen, a kojom se ne nalaže sudu da okonča predmet bez odlaganja, odnosno ne ukida ili ne preinačuje odluka suda). Ukoliko su izrekom odluke Ustavnog suda BiH ustanovljene dvije ili više povreda ustavom zagarantovanih prava i sloboda, molimo Vas da svaku od povreda evidentirate posebno u tabeli IVb. Molimo Vas da i djelimično usvojene apelacije prikažete u odgovarajućim kolonama tabele IVb. Tabela IVc – Predmeti u kojima se nalaže sudu da okonča predmet bez odlaganja zbog kršenja prava na donošenje odluke u razumnom roku U tabeli IVc potrebno je prikazati predmete u kojima je Ustavni sud BiH naložio sudu da okonča predmet bez odlaganja zbog kršenja prava na donošenje odluke u razumnom roku. Molimo Vas da u ovu tabelu unesete samo podatke o predmetima u kojima je Vašem sudu naloženo da okonča predmet bez odlaganja. U skladu sa obrazloženjem odluke Ustavnog suda BiH, potrebno je da naznačite u kojoj fazi postupka je Vaš sud rješavao predmet za koji je Ustavni sud utvrdio da je Vaš sud u najvećoj mjeri doprinio odugovlačenju postupka. Tabela IVd - Predmeti u kojima je utvrđeno kršenje prava na donošenje odluke u razumnom roku Takođe, potrebno je da popunite i tabelu IVd koja se odnosi na ukupan broj predmeta, u kojima je usvojena apelacija u odnosu na Vaš sud i određena naknada nematerijalne štete zbog kršenja prava na donošenje odluke u razumnom roku, kao i ukupan iznos naknade koji je utvrdio Ustavni sud BiH.

Sheet Tabela I, II
A1: Vrhovni sud Republike Srpske | H1: 2022
A2: Izvještajni period: | C2: 1.1.2022.- 31.12.2022. | H2: 118
A3: Ostvarena kolektivna norma za sud u 2022. godini: | E3: =+'Tabela III'!P79
A4: Tabela I - Podaci o potvrđujućim, preinačujućim i ukidajućim odlukama vrhovnih sudova
A5: Vrsta predmeta | B5: Broj odbacujućih odluka | C5: Broj potvrđujućih odluka | D5: Broj preinačujućih odluka | E5: Broj ukidajućih odluka | F5: Riješeno na drugi način | H5: Broj presuda koje su ukinute i predmet je vraćen na ponovno suđenje
B6: Odbijen pravni lijek | C6: Odbijen pravni lijek
B7: I | C7: II | D7: III | E7: IV | F7: V | H7: VI
A8: Građansko odjeljenje
A9: Rev
A10: Gž
A11: R
A12: Gvl
A13: Ostalo
A14: Krivično odjeljenje
A15: Kž
A16: Kvl
A17: Ostalo
A18: Upravno odjeljenje
A19: U
... A24: Ostalo
A26: Ukupno | B26: =SUM(B9:B13)+SUM(B15:B17)+SUM(B19:B24) -> 0 | C26: =SUM(C9:C13)+SUM(C15:C17)+SUM(C19:C24) -> 0 | D26: =SUM(D9:D13)+SUM(D15:D17)+SUM(D19:D24) -> 0 | E26: =SUM(E9:E13)+SUM(E15:E17)+SUM(E19:E24) -> 0 | F26: =SUM(F9:F13)+SUM(F15:F17)+SUM(F19:F24) -> 0 | H26: =SUM(H9:H13)+SUM(H15:H17)+SUM(H19:H24) -> 0
A27: Tabela IIa - Podaci o odlukama po žalbi na drugostepenu presudu Vrhovnog suda RS
A28: Vrsta predmeta | B28: Broj odbacujućih odluka | C28: Broj potvrđujućih odluka | D28: Broj preinačujućih odluka | E28: Broj ukidajućih odluka | F28: Riješeno na drugi način
B29: I | C29: II | D29: III | E29: IV | F29: V
A30: Krivično odjeljenje
A31: Kžž
A32: Tabela IIb - Podaci o odlukama po žalbi na drugostepenu presudu okružnih sudova
A33: Vrsta predmeta | B33: Broj odbacujućih odluka | C33: Broj potvrđujućih odluka | D33: Broj preinačujućih odluka | E33: Broj ukidajućih odluka | F33: Riješeno na drugi način
B34: I | C34: II | D34: III | E34: IV | F34: V
A35: Krivično odjeljenje
A36: Kžž
A37: Tabela IIc - Podaci o predmetima u kojima je otvorena rasprava pred Vrhovnim sudom
A38: Vrsta predmeta | B38: Osuđujuće presude | C38: Oslobađajuće presude | D38: Odbijajuće presude | E38: Riješeno na drugi način
B39: I | C39: II | D39: III | E39: IV
A40: Krivično odjeljenje
A41: Kžk

Sheet Tabela III
A1: ='Tabela I, II'!A1 -> Vrhovni sud Republike Srpske
A2: Izvještajni period: | C2: 01.01.2022.-31.12.2022.
A3: Tabela IIIa – Ostvarena orijentaciona norma - Elektronski obrazac za obračun ostvarene orijentacione norme (pogledati NAPOMENU 4)
A5: Redni broj | B5: Ime i prezime | C5: Ocjenjen u sudu | D5: Naziv odjela | E5: Pravosudna funkcija | G5: Procenat orijentacijske norme koju je nosilac pravosudne funkcije dužan ostvariti - Ukoliko procenat orijenatcijske norme nije predviđen u padajućem meniju pogledati NAPOMENU 3 | H5: Period obavljanja pravosudne funkcije u instituciji koja popunjava tabelu Ia | J5: Ukupan broj dana za obračun norme - pogledati NAPOMENU 2 | K5: Broj dana opravdanog odsustva iz člana 13. Kriterija za ocjenjivanje rada (pogledati NAPOMENU 9) | L5: Ostvarena orijentaciona norma iz CMS-a | M5: Ostvarena orijentaciona norma na predmetima van CMS-a - pogledati NAPOMENU 6 | N5: Procenat ostvarene orijentacione norme prema članu 9. Pravilnika o orijentacijskim mjerilima - pogledati NAPOMENU 7 | O5: Procenat ostvarene propisane godišnje orijentacijske norme u 2022. godini | P5: Ukupno ostvarena orijentacijska norma u 2022. godini | Q5: Nedovoljan broj predmeta u radu - pogledati NAPOMENU 5 | V5: Broj ostvarenih bodova | W5: Sudija | X5: Stručni saradnik | Y5: Predsjednik odjela | Z5: Predsjednik sudskog vijeća vrhovnog suda entiteta | AA5: Član VSTV-a
H6: Datum od | I6: Datum do | Q6: broj predmeta u radu | R6: broj riješenih predmeta | S6: broj neriješenih predmeta sa zakonskim i procesnim smetnjama | T6: broj neriješenih predmeta bez zakonskih i procesnih smetnji | U6: procenat riješenih predmeta
A7: I | B7: II | C7: III | D7: IV | E7: V | G7: VI | H7: VII | I7: VIII | J7: IX | K7: X | L7: XI | M7: XII | N7: XIII | O7: XIV | P7: XV | Q7: XVI | R7: XVII | S7: XVIII | T7: XIX | U7: XX | V7: XXI | W7: 1 | X7: 0.9 | Y7: 0.8 | Z7: 0.5 | AA7: 0.25 | AB7: Ne treba raditi na predm.
A8: 1 | E8: Predsjednik suda | J8: 260 | O8: =IF(G8="","",IF(G8="Ne treba raditi na predm.",1+SUM(L8:N8),(SUM(L8:N8)/G8))) | P8: =IF(K8>0,IF(G8="Ne treba raditi na predm.",O8,O8*(J8/(J8-K8))),O8) | U8: =IF(Q8="","",R8/(Q8-S8)) | V8: =IF(P8="","",IF(C8="Ne","",IF(G8="Ne treba raditi na predm.","",IF(P8>1,20,IF(U8="",IF(P8>0.95,18,IF(P8>0.9,15,IF(P8>0.85,13,IF(P8>0.8,10,IF(P8>0.75,8,IF(P8>0.7,5,IF(P8>0.5,3,0))))))),IF(U8=1,20,IF(U8>0.95,18,IF(U8>0.9,15,IF(U8>0.85,13,IF(U8>0.8,10,IF(U8>0.75,8,IF(U8>0.7,5,IF(U8>0.5,3,0))))))))))))) | W8: 0.7 | X8: 0.5 | Y8: 0.4 | Z8: 0.3 | AA8: Ne treba raditi na predm.
E9: Predsjednik suda | J9: 260 | O9: =IF(G9="","",IF(G9="Ne treba raditi na predm.",1+SUM(L9:N9),(SUM(L9:N9)/G9))) | P9: =IF(K9>0,IF(G9="Ne treba raditi na predm.",O9,O9*(J9/(J9-K9))),O9) | U9: =IF(Q9="","",R9/(Q9-S9)) | V9: =IF(P9="","",IF(C9="Ne","",IF(G9="Ne treba raditi na predm.","",IF(P9>1,20,IF(U9="",IF(P9>0.95,18,IF(P9>0.9,15,IF(P9>0.85,13,IF(P9>0.8,10,IF(P9>0.75,8,IF(P9>0.7,5,IF(P9>0.5,3,0))))))),IF(U9=1,20,IF(U9>0.95,18,IF(U9>0.9,15,IF(U9>0.85,13,IF(U9>0.8,10,IF(U9>0.75,8,IF(U9>0.7,5,IF(U9>0.5,3,0)))))))))))))
A10: 2 | F10: =IF(E10="Sudija",1,IF(E10="Stručni saradnik",1,IF(E10="Član VSTV-a",2,""))) | J10: 260 | O10: =IF(G10="","",IF(G10="Ne treba raditi na predm.",1+SUM(L10:N10),(SUM(L10:N10)/G10))) | P10: =IF(K10>0,IF(G10="Ne treba raditi na predm.",O10,O10*(J10/(J10-K10))),O10) | U10: =IF(Q10="","",R10/(Q10-S10)) | V10: =IF(P10="","",IF(C10="Ne","",IF(G10="Ne treba raditi na predm.","",IF(P10>1,40,IF(U10="",IF(P10>0.95,35,IF(P10>0.9,30,IF(P10>0.85,25,IF(P10>0.8,20,IF(P10>0.75,15,IF(P10>0.7,10,IF(P10>0.5,5,0))))))),IF(U10=1,40,IF(U10>0.95,35,IF(U10>0.9,30,IF(U10>0.85,25,IF(U10>0.8,20,IF(U10>0.75,15,IF(U10>0.7,10,IF(U10>0.5,5,0))))))))))))) | W10: Da | X10: Ne
A11: 3 | F11: =IF(E11="Sudija",1,IF(E11="Stručni saradnik",1,IF(E11="Član VSTV-a",2,""))) | J11: 260 | O11: =IF(G11="","",IF(G11="Ne treba raditi na predm.",1+SUM(L11:N11),(SUM(L11:N11)/G11))) | P11: =IF(K11>0,IF(G11="Ne treba raditi na predm.",O11,O11*(J11/(J11-K11))),O11) | U11: =IF(Q11="","",R11/(Q11-S11)) | V11: =IF(P11="","",IF(C11="Ne","",IF(G11="Ne treba raditi na predm.","",IF(P11>1,40,IF(U11="",IF(P11>0.95,35,IF(P11>0.9,30,IF(P11>0.85,25,IF(P11>0.8,20,IF(P11>0.75,15,IF(P11>0.7,10,IF(P11>0.5,5,0))))))),IF(U11=1,40,IF(U11>0.95,35,IF(U11>0.9,30,IF(U11>0.85,25,IF(U11>0.8,20,IF(U11>0.75,15,IF(U11>0.7,10,IF(U11>0.5,5,0)))))))))))))
A12: 4 | F12: =IF(E12="Sudija",1,IF(E12="Stručni saradnik",1,IF(E12="Član VSTV-a",2,""))) | J12: 260 | O12: =IF(G12="","",IF(G12="Ne treba raditi na predm.",1+SUM(L12:N12),(SUM(L12:N12)/G12))) | P12: =IF(K12>0,IF(G12="Ne treba raditi na predm.",O12,O12*(J12/(J12-K12))),O12) | U12: =IF(Q12="","",R12/(Q12-S12)) | V12: =IF(P12="","",IF(C12="Ne","",IF(G12="Ne treba raditi na predm.","",IF(P12>1,40,IF(U12="",IF(P12>0.95,35,IF(P12>0.9,30,IF(P12>0.85,25,IF(P12>0.8,20,IF(P12>0.75,15,IF(P12>0.7,10,IF(P12>0.5,5,0))))))),IF(U12=1,40,IF(U12>0.95,35,IF(U12>0.9,30,IF(U12>0.85,25,IF(U12>0.8,20,IF(U12>0.75,15,IF(U12>0.7,10,IF(U12>0.5,5,0)))))))))))))
A13: 5 | F13: =IF(E13="Sudija",1,IF(E13="Stručni saradnik",1,IF(E13="Član VSTV-a",2,""))) | J13: 260 | O13: =IF(G13="","",IF(G13="Ne treba raditi na predm.",1+SUM(L13:N13),(SUM(L13:N13)/G13))) | P13: =IF(K13>0,IF(G13="Ne treba raditi na predm.",O13,O13*(J13/(J13-K13))),O13) | U13: =IF(Q13="","",R13/(Q13-S13)) | V13: =IF(P13="","",IF(C13="Ne","",IF(G13="Ne treba raditi na predm.","",IF(P13>1,40,IF(U13="",IF(P13>0.95,35,IF(P13>0.9,30,IF(P13>0.85,25,IF(P13>0.8,20,IF(P13>0.75,15,IF(P13>0.7,10,IF(P13>0.5,5,0))))))),IF(U13=1,40,IF(U13>0.95,35,IF(U13>0.9,30,IF(U13>0.85,25,IF(U13>0.8,20,IF(U13>0.75,15,IF(U13>0.7,10,IF(U13>0.5,5,0)))))))))))))
A14: 6 | F14: =IF(E14="Sudija",1,IF(E14="Stručni saradnik",1,IF(E14="Član VSTV-a",2,""))) | J14: 260 | O14: =IF(G14="","",IF(G14="Ne treba raditi na predm.",1+SUM(L14:N14),(SUM(L14:N14)/G14))) | P14: =IF(K14>0,IF(G14="Ne treba raditi na predm.",O14,O14*(J14/(J14-K14))),O14) | U14: =IF(Q14="","",R14/(Q14-S14)) | V14: =IF(P14="","",IF(C14="Ne","",IF(G14="Ne treba raditi na predm.","",IF(P14>1,40,IF(U14="",IF(P14>0.95,35,IF(P14>0.9,30,IF(P14>0.85,25,IF(P14>0.8,20,IF(P14>0.75,15,IF(P14>0.7,10,IF(P14>0.5,5,0))))))),IF(U14=1,40,IF(U14>0.95,35,IF(U14>0.9,30,IF(U14>0.85,25,IF(U14>0.8,20,IF(U14>0.75,15,IF(U14>0.7,10,IF(U14>0.5,5,0)))))))))))))
A15: 7 | F15: =IF(E15="Sudija",1,IF(E15="Stručni saradnik",1,IF(E15="Član VSTV-a",2,""))) | J15: 260 | O15: =IF(G15="","",IF(G15="Ne treba raditi na predm.",1+SUM(L15:N15),(SUM(L15:N15)/G15))) | P15: =IF(K15>0,IF(G15="Ne treba raditi na predm.",O15,O15*(J15/(J15-K15))),O15) | U15: =IF(Q15="","",R15/(Q15-S15)) | V15: =IF(P15="","",IF(C15="Ne","",IF(G15="Ne treba raditi na predm.","",IF(P15>1,40,IF(U15="",IF(P15>0.95,35,IF(P15>0.9,30,IF(P15>0.85,25,IF(P15>0.8,20,IF(P15>0.75,15,IF(P15>0.7,10,IF(P15>0.5,5,0))))))),IF(U15=1,40,IF(U15>0.95,35,IF(U15>0.9,30,IF(U15>0.85,25,IF(U15>0.8,20,IF(U15>0.75,15,IF(U15>0.7,10,IF(U15>0.5,5,0)))))))))))))
A16: 8 | F16: =IF(E16="Sudija",1,IF(E16="Stručni saradnik",1,IF(E16="Član VSTV-a",2,""))) | J16: 260 | O16: =IF(G16="","",IF(G16="Ne treba raditi na predm.",1+SUM(L16:N16),(SUM(L16:N16)/G16))) | P16: =IF(K16>0,IF(G16="Ne treba raditi na predm.",O16,O16*(J16/(J16-K16))),O16) | U16: =IF(Q16="","",R16/(Q16-S16)) | V16: =IF(P16="","",IF(C16="Ne","",IF(G16="Ne treba raditi na predm.","",IF(P16>1,40,IF(U16="",IF(P16>0.95,35,IF(P16>0.9,30,IF(P16>0.85,25,IF(P16>0.8,20,IF(P16>0.75,15,IF(P16>0.7,10,IF(P16>0.5,5,0))))))),IF(U16=1,40,IF(U16>0.95,35,IF(U16>0.9,30,IF(U16>0.85,25,IF(U16>0.8,20,IF(U16>0.75,15,IF(U16>0.7,10,IF(U16>0.5,5,0)))))))))))))
A17: 9 | F17: =IF(E17="Sudija",1,IF(E17="Stručni saradnik",1,IF(E17="Član VSTV-a",2,""))) | J17: 260 | O17: =IF(G17="","",IF(G17="Ne treba raditi na predm.",1+SUM(L17:N17),(SUM(L17:N17)/G17))) | P17: =IF(K17>0,IF(G17="Ne treba raditi na predm.",O17,O17*(J17/(J17-K17))),O17) | U17: =IF(Q17="","",R17/(Q17-S17)) | V17: =IF(P17="","",IF(C17="Ne","",IF(G17="Ne treba raditi na predm.","",IF(P17>1,40,IF(U17="",IF(P17>0.95,35,IF(P17>0.9,30,IF(P17>0.85,25,IF(P17>0.8,20,IF(P17>0.75,15,IF(P17>0.7,10,IF(P17>0.5,5,0))))))),IF(U17=1,40,IF(U17>0.95,35,IF(U17>0.9,30,IF(U17>0.85,25,IF(U17>0.8,20,IF(U17>0.75,15,IF(U17>0.7,10,IF(U17>0.5,5,0)))))))))))))
A18: 10 | F18: =IF(E18="Sudija",1,IF(E18="Stručni saradnik",1,IF(E18="Član VSTV-a",2,""))) | J18: 260 | O18: =IF(G18="","",IF(G18="Ne treba raditi na predm.",1+SUM(L18:N18),(SUM(L18:N18)/G18))) | P18: =IF(K18>0,IF(G18="Ne treba raditi na predm.",O18,O18*(J18/(J18-K18))),O18) | U18: =IF(Q18="","",R18/(Q18-S18)) | V18: =IF(P18="","",IF(C18="Ne","",IF(G18="Ne treba raditi na predm.","",IF(P18>1,40,IF(U18="",IF(P18>0.95,35,IF(P18>0.9,30,IF(P18>0.85,25,IF(P18>0.8,20,IF(P18>0.75,15,IF(P18>0.7,10,IF(P18>0.5,5,0))))))),IF(U18=1,40,IF(U18>0.95,35,IF(U18>0.9,30,IF(U18>0.85,25,IF(U18>0.8,20,IF(U18>0.75,15,IF(U18>0.7,10,IF(U18>0.5,5,0)))))))))))))
A19: 11 | F19: =IF(E19="Sudija",1,IF(E19="Stručni saradnik",1,IF(E19="Član VSTV-a",2,""))) | J19: 260 | O19: =IF(G19="","",IF(G19="Ne treba raditi na predm.",1+SUM(L19:N19),(SUM(L19:N19)/G19))) | P19: =IF(K19>0,IF(G19="Ne treba raditi na predm.",O19,O19*(J19/(J19-K19))),O19) | U19: =IF(Q19="","",R19/(Q19-S19)) | V19: =IF(P19="","",IF(C19="Ne","",IF(G19="Ne treba raditi na predm.","",IF(P19>1,40,IF(U19="",IF(P19>0.95,35,IF(P19>0.9,30,IF(P19>0.85,25,IF(P19>0.8,20,IF(P19>0.75,15,IF(P19>0.7,10,IF(P19>0.5,5,0))))))),IF(U19=1,40,IF(U19>0.95,35,IF(U19>0.9,30,IF(U19>0.85,25,IF(U19>0.8,20,IF(U19>0.75,15,IF(U19>0.7,10,IF(U19>0.5,5,0)))))))))))))
A20: 12 | F20: =IF(E20="Sudija",1,IF(E20="Stručni saradnik",1,IF(E20="Član VSTV-a",2,""))) | J20: 260 | O20: =IF(G20="","",IF(G20="Ne treba raditi na predm.",1+SUM(L20:N20),(SUM(L20:N20)/G20))) | P20: =IF(K20>0,IF(G20="Ne treba raditi na predm.",O20,O20*(J20/(J20-K20))),O20) | U20: =IF(Q20="","",R20/(Q20-S20)) | V20: =IF(P20="","",IF(C20="Ne","",IF(G20="Ne treba raditi na predm.","",IF(P20>1,40,IF(U20="",IF(P20>0.95,35,IF(P20>0.9,30,IF(P20>0.85,25,IF(P20>0.8,20,IF(P20>0.75,15,IF(P20>0.7,10,IF(P20>0.5,5,0))))))),IF(U20=1,40,IF(U20>0.95,35,IF(U20>0.9,30,IF(U20>0.85,25,IF(U20>0.8,20,IF(U20>0.75,15,IF(U20>0.7,10,IF(U20>0.5,5,0)))))))))))))
A21: 13 | F21: =IF(E21="Sudija",1,IF(E21="Stručni saradnik",1,IF(E21="Član VSTV-a",2,""))) | J21: 260 | O21: =IF(G21="","",IF(G21="Ne treba raditi na predm.",1+SUM(L21:N21),(SUM(L21:N21)/G21))) | P21: =IF(K21>0,IF(G21="Ne treba raditi na predm.",O21,O21*(J21/(J21-K21))),O21) | U21: =IF(Q21="","",R21/(Q21-S21)) | V21: =IF(P21="","",IF(C21="Ne","",IF(G21="Ne treba raditi na predm.","",IF(P21>1,40,IF(U21="",IF(P21>0.95,35,IF(P21>0.9,30,IF(P21>0.85,25,IF(P21>0.8,20,IF(P21>0.75,15,IF(P21>0.7,10,IF(P21>0.5,5,0))))))),IF(U21=1,40,IF(U21>0.95,35,IF(U21>0.9,30,IF(U21>0.85,25,IF(U21>0.8,20,IF(U21>0.75,15,IF(U21>0.7,10,IF(U21>0.5,5,0)))))))))))))
A22: 14 | F22: =IF(E22="Sudija",1,IF(E22="Stručni saradnik",1,IF(E22="Član VSTV-a",2,""))) | J22: 260 | O22: =IF(G22="","",IF(G22="Ne treba raditi na predm.",1+SUM(L22:N22),(SUM(L22:N22)/G22))) | P22: =IF(K22>0,IF(G22="Ne treba raditi na predm.",O22,O22*(J22/(J22-K22))),O22) | U22: =IF(Q22="","",R22/(Q22-S22)) | V22: =IF(P22="","",IF(C22="Ne","",IF(G22="Ne treba raditi na predm.","",IF(P22>1,40,IF(U22="",IF(P22>0.95,35,IF(P22>0.9,30,IF(P22>0.85,25,IF(P22>0.8,20,IF(P22>0.75,15,IF(P22>0.7,10,IF(P22>0.5,5,0))))))),IF(U22=1,40,IF(U22>0.95,35,IF(U22>0.9,30,IF(U22>0.85,25,IF(U22>0.8,20,IF(U22>0.75,15,IF(U22>0.7,10,IF(U22>0.5,5,0)))))))))))))
... A73: 65 | F73: =IF(E73="Sudija",1,IF(E73="Stručni saradnik",1,IF(E73="Član VSTV-a",2,""))) | J73: 260 | O73: =IF(G73="","",IF(G73="Ne treba raditi na predm.",1+SUM(L73:N73),(SUM(L73:N73)/G73))) | P73: =IF(K73>0,IF(G73="Ne treba raditi na predm.",O73,O73*(J73/(J73-K73))),O73) | U73: =IF(Q73="","",R73/(Q73-S73)) | V73: =IF(P73="","",IF(C73="Ne","",IF(G73="Ne treba raditi na predm.","",IF(P73>1,40,IF(U73="",IF(P73>0.95,35,IF(P73>0.9,30,IF(P73>0.85,25,IF(P73>0.8,20,IF(P73>0.75,15,IF(P73>0.7,10,IF(P73>0.5,5,0))))))),IF(U73=1,40,IF(U73>0.95,35,IF(U73>0.9,30,IF(U73>0.85,25,IF(U73>0.8,20,IF(U73>0.75,15,IF(U73>0.7,10,IF(U73>0.5,5,0)))))))))))))
F74: =IF(E74="Sudija",1,IF(E74="Stručni saradnik",1,IF(E74="Član VSTV-a",2,""))) | J74: 260 | O74: =IF(G74="","",IF(G74="Ne treba raditi na predm.",1+SUM(L74:N74),(SUM(L74:N74)/G74))) | P74: =IF(K74>0,IF(G74="Ne treba raditi na predm.",O74,O74*(J74/(J74-K74))),O74) | U74: =IF(Q74="","",R74/(Q74-S74)) | V74: =IF(P74="","",IF(C74="Ne","",IF(G74="Ne treba raditi na predm.","",IF(P74>1,40,IF(U74="",IF(P74>0.95,35,IF(P74>0.9,30,IF(P74>0.85,25,IF(P74>0.8,20,IF(P74>0.75,15,IF(P74>0.7,10,IF(P74>0.5,5,0))))))),IF(U74=1,40,IF(U74>0.95,35,IF(U74>0.9,30,IF(U74>0.85,25,IF(U74>0.8,20,IF(U74>0.75,15,IF(U74>0.7,10,IF(U74>0.5,5,0)))))))))))))
F75: =IF(E75="Sudija",1,IF(E75="Stručni saradnik",1,IF(E75="Član VSTV-a",2,""))) | J75: 260 | O75: =IF(G75="","",IF(G75="Ne treba raditi na predm.",1+SUM(L75:N75),(SUM(L75:N75)/G75))) | P75: =IF(K75>0,IF(G75="Ne treba raditi na predm.",O75,O75*(J75/(J75-K75))),O75) | U75: =IF(Q75="","",R75/(Q75-S75)) | V75: =IF(P75="","",IF(C75="Ne","",IF(G75="Ne treba raditi na predm.","",IF(P75>1,40,IF(U75="",IF(P75>0.95,35,IF(P75>0.9,30,IF(P75>0.85,25,IF(P75>0.8,20,IF(P75>0.75,15,IF(P75>0.7,10,IF(P75>0.5,5,0))))))),IF(U75=1,40,IF(U75>0.95,35,IF(U75>0.9,30,IF(U75>0.85,25,IF(U75>0.8,20,IF(U75>0.75,15,IF(U75>0.7,10,IF(U75>0.5,5,0)))))))))))))
F76: =IF(E76="Sudija",1,IF(E76="Stručni saradnik",1,IF(E76="Član VSTV-a",2,""))) | J76: 260 | O76: =IF(G76="","",IF(G76="Ne treba raditi na predm.",1+SUM(L76:N76),(SUM(L76:N76)/G76))) | P76: =IF(K76>0,IF(G76="Ne treba raditi na predm.",O76,O76*(J76/(J76-K76))),O76) | U76: =IF(Q76="","",R76/(Q76-S76)) | V76: =IF(P76="","",IF(C76="Ne","",IF(G76="Ne treba raditi na predm.","",IF(P76>1,40,IF(U76="",IF(P76>0.95,35,IF(P76>0.9,30,IF(P76>0.85,25,IF(P76>0.8,20,IF(P76>0.75,15,IF(P76>0.7,10,IF(P76>0.5,5,0))))))),IF(U76=1,40,IF(U76>0.95,35,IF(U76>0.9,30,IF(U76>0.85,25,IF(U76>0.8,20,IF(U76>0.75,15,IF(U76>0.7,10,IF(U76>0.5,5,0)))))))))))))
F77: =IF(E77="Sudija",1,IF(E77="Stručni saradnik",1,IF(E77="Član VSTV-a",2,""))) | J77: 260 | O77: =IF(G77="","",IF(G77="Ne treba raditi na predm.",1+SUM(L77:N77),(SUM(L77:N77)/G77))) | P77: =IF(K77>0,IF(G77="Ne treba raditi na predm.",O77,O77*(J77/(J77-K77))),O77) | U77: =IF(Q77="","",R77/(Q77-S77)) | V77: =IF(P77="","",IF(C77="Ne","",IF(G77="Ne treba raditi na predm.","",IF(P77>1,40,IF(U77="",IF(P77>0.95,35,IF(P77>0.9,30,IF(P77>0.85,25,IF(P77>0.8,20,IF(P77>0.75,15,IF(P77>0.7,10,IF(P77>0.5,5,0))))))),IF(U77=1,40,IF(U77>0.95,35,IF(U77>0.9,30,IF(U77>0.85,25,IF(U77>0.8,20,IF(U77>0.75,15,IF(U77>0.7,10,IF(U77>0.5,5,0)))))))))))))
F78: =IF(E78="Sudija",1,IF(E78="Stručni saradnik",1,IF(E78="Član VSTV-a",2,""))) | J78: 260 | O78: =IF(G78="","",IF(G78="Ne treba raditi na predm.",1+SUM(L78:N78),(SUM(L78:N78)/G78))) | P78: =IF(K78>0,IF(G78="Ne treba raditi na predm.",O78,O78*(J78/(J78-K78))),O78) | U78: =IF(Q78="","",R78/(Q78-S78)) | V78: =IF(P78="","",IF(C78="Ne","",IF(G78="Ne treba raditi na predm.","",IF(P78>1,40,IF(U78="",IF(P78>0.95,35,IF(P78>0.9,30,IF(P78>0.85,25,IF(P78>0.8,20,IF(P78>0.75,15,IF(P78>0.7,10,IF(P78>0.5,5,0))))))),IF(U78=1,40,IF(U78>0.95,35,IF(U78>0.9,30,IF(U78>0.85,25,IF(U78>0.8,20,IF(U78>0.75,15,IF(U78>0.7,10,IF(U78>0.5,5,0)))))))))))))
O79: KOLEKTIVNA NORMA SUDA | P79: =IF(P8="",IF(P9="","",AVERAGEIF(P8:P78,">0,2")),AVERAGEIF(P8:P78,">0,2")) | Q79: =SUM(Q8:Q78) -> 0 | R79: =SUM(R8:R78) -> 0 | S79: =SUM(S8:S78) -> 0 | T79: =SUM(T8:T78) -> 0 | U79: =IF(Q79=0,"",R79/(Q79-S79))
O80: BODOVANJE ZA OSTVARENU KOLEKTIVNU NORMU SUDA U SKLADU SA ČLANOM 22. KRITERIJA ZA OCJENJIVANJE RADA PREDSJEDNIKA SUDOVA | P80: =IF(P79="","",IF(P79>1,20,IF(P79>0.95,18,IF(P79>0.9,15,IF(P79>0.85,13,IF(P79>0.8,10,IF(P79>0.75,8,IF(P79>0.7,5,IF(P79>0.5,3,0)))))))))
B82: Obrazloženje norme NPF-a unesene u plava polja
B83: Primjer - Sudija 1 | C83: 8 mjeseci sudija, 4 mjeseca šef odjela (90% norme sudije) | G83: 0.97
Q90: Nedovoljan broj predmeta u radu
A91: NAPOMENA 1: U Tabelu IIIa se unose podaci o ostvarenoj orijentacijskoj normi za sve nosioce pravosudnih funkcija, uključujući i one kod kojih je ukupno ostvarenje norme ispod 20%: novoimenovane sudije/stručni saradnici, sudije/stručni saradnici koji su imenovani u drugu instituciju, kao i sudije/stručni saradnici koji su prestali sa radom zbog: penzionisanja, podnošenja ostavke, smrti, gubitka radne sposobnosti, razrješenja od dužnosti, privremenog ili trajnog udaljenja od vršenja dužnosti itd. (član 5. Uputstva za primjenu Kriterija za ocjenjivanje rada predsjednika sudova u Bosni i Hercegovini i Kriterija za ocjenjivanje rada sudija u Bosni i Hercegovini). Ostvarena kolektivna norma suda automatski će se obračunati i predsjedniku suda će se dodijeliti odgovarajući broj bodova u skladu sa članom 22. Kriterija za ocjenjivanje rada predsjednika sudova u Bosni i Hercegovini. Ukoliko sud nije imao dovoljan broj predmeta u radu za ostvarenje orijentacijske norme, potrebno je manuelno unijeti ukupan broj predmeta koji su bili u radu u sudu kao i ukupan broj riješenih predmeta u sudu u periodu izvještavanja, kao i podatke o broju neriješenih predmeta sa zakonskim i procesnim smetnjama i broju neriješenih predmeta bez zakonskih i procesnih smetnji. Procenat riješenih predmeta automatski će se obračunati, te predsjedniku suda dodijeliti odgovarajući broj bodova u skladu sa članom 23. Kriterija za ocjenjivanje rada predsjednika sudova u Bosni i Hercegovini. | Q91: broj predmeta u radu | R91: broj riješenih predmeta | S91: broj neriješenih predmeta sa zakonskim i procesnim smetnjama | T91: broj neriješenih predmeta bez zakonskih i procesnih smetnji | U91: procenat riješenih predmeta
U92: =IF(Q92="","",R92/(Q92-S92))
T93: BODOVANJE ZA BROJ RIJEŠENIH PREDMETA U SUDU U SKLADU SA ČLANOM 23. KRITERIJA ZA OCJENJIVANJE RADA PREDSJEDNIKA SUDOVA | U93: =IF(U92="","",IF(U92=1,20,IF(U92>0.95,18,IF(U92>0.9,15,IF(U92>0.85,13,IF(U92>0.8,10,IF(U92>0.75,8,IF(U92>0.7,5,IF(U92>0.5,3,0)))))))))
A95: Tabela IIIb -Obračun norme za proces ocjenjivanja za nosioce pravosudne funkcije koji su u toku godine prešli iz jednog suda u drugi sud - Obračun prema Instrukciji dio: II POSEBNI SLUČAJEVI OCJENJIVANJA 3) a) (pogledati NAPOMENU 4)
A96: Ime i prezime predsjednika suda | O96: Ukupna ostvarena orijentacijska norma koja se unosi u Obrazac za ocjenjivanje = | P96: =P97+P98 -> 0
A97: Sud 1 | E97: Predsjednik suda | O97: =IF(G97="",0,IF(G97="Ne treba raditi na predm.",1+SUM(L97:N97),(SUM(L97:N97)/G97))) -> 0 | P97: =IF(K97>0,O97*(J97/(J97-K97)),O97) -> 0 | U97: =IF(Q97="","",R97/(Q97-S97)) | V97: =IF(P97="","",IF(C97="Ne","",IF(G97="Ne treba raditi na predm.","",IF((P97+P98)>1,20,IF(U97="",IF((P97+P98)>0.95,18,IF((P97+P98)>0.9,15,IF((P97+P98)>0.85,13,IF((P97+P98)>0.8,10,IF((P97+P98)>0.75,8,IF((P97+P98)>0.7,5,IF((P97+P98)>0.5,3,0))))))),IF((U97+U98)=1,20,IF((U97+U98)>0.95,18,IF((U97+U98)>0.9,15,IF((U97+U98)>0.85,13,IF((U97+U98)>0.8,10,IF((U97+U98)>0.75,8,IF((U97+U98)>0.7,5,IF((U97+U98)>0.5,3,0))))))))))))) -> 0
A98: Sud 2 | F98: =IF(E98="Sudija",1,IF(E98="Stručni saradnik",1,IF(E98="Član VSTV-a",2,""))) | O98: =IF(G98="",0,IF(G98="Ne treba raditi na predm.",1+SUM(L98:N98),(SUM(L98:N98)/G98))) -> 0 | P98: =IF(K98>0,O98*(J98/(J98-K98)),O98) -> 0 | U98: =IF(Q98="","",R98/(Q98-S98)) | V98: =IF(P98="","",IF(C98="Ne","",IF(G98="Ne treba raditi na predm.","",IF((P97+P98)>1,40,IF(U98="",IF((P97+P98)>0.95,35,IF((P97+P98)>0.9,30,IF((P97+P98)>0.85,25,IF((P97+P98)>0.8,20,IF((P97+P98)>0.75,15,IF((P97+P98)>0.7,10,IF((P97+P98)>0.5,5,0))))))),IF((U97+U98)=1,40,IF((U97+U98)>0.95,35,IF((U97+U98)>0.9,30,IF((U97+U98)>0.85,25,IF((U97+U98)>0.8,20,IF((U97+U98)>0.75,15,IF((U97+U98)>0.7,10,IF((U97+U98)>0.5,5,0))))))))))))) -> 0
A99: Ime i prezime nosioca pravosudne funkcije | O99: Ukupna ostvarena orijentacijska norma koja se unosi u Obrazac za ocjenjivanje = | P99: =P100+P101 -> 0
...

Sheet Tabela IV
A1: =+'Tabela I, II'!A1 -> Vrhovni sud Republike Srpske
A2: Izvještajni period: | B2: ='Tabela I, II'!C2 -> 1.1.2022.- 31.12.2022.
A3: Tabela IV - Odluke Ustavnog suda BiH
A4: Tabela IVa - Odluke kojima se ne usvaja apelacija
A5: Broj odluka kojima se odbacuje apelacija | B5: Broj odluka kojima se obustavlja postupak pred Ustavnim sudom BiH | C5: Broj odluka kojima se odbija apelacija | D5: Ukupno
A6: I | B6: II | C6: III | D6: IV=I+II+III
D7: =IF(SUM(A7:C7)=0," ",SUM(A7:C7))
A8: Tabela IVb - Odluke kojima se usvaja apelacija
A9: Pravni osnov | B9: Broj odluka kojima se usvaja apelacija | E9: Ukupno
B10: Broj odluka kojima se preinačuju odluke suda | C10: Broj odluka kojima se ukidaju odluke suda | D10: Broj ostalih odluka kojima se usvaja apelacija
B11: I | C11: II | D11: III | E11: IV=I+II+III
A12: Čl. 13. EK (pravo na djelotvorni pravni lijek) | E12: =IF(SUM(B12:D12)=0," ",SUM(B12:D12))
A13: Čl. 3. P7 (naknada za pogrešnu presudu) | E13: =IF(SUM(B13:D13)=0," ",SUM(B13:D13))
A14: Čl. 6. EK i II/3.e) Ustava BiH (pravo na pravično suđenje) | E14: =IF(SUM(B14:D14)=0," ",SUM(B14:D14))
A15: Čl. 5.EK i II/3d Ustava (pravo na ličnu slobodu) | E15: =IF(SUM(B15:D15)=0," ",SUM(B15:D15))
A16: Čl. 1. P.1. i II/3.k) Ustava BiH (pravo na imovinu) | E16: =IF(SUM(B16:D16)=0," ",SUM(B16:D16))
A17: Čl. 1. P.7. (Proceduralne zaštite u vezi sa protjerivanjem stranaca) | E17: =IF(SUM(B17:D17)=0," ",SUM(B17:D17))
A18: Ostalo | E18: =IF(SUM(B18:D18)=0," ",SUM(B18:D18))
A19: Tabela IVc – Predmeti u kojima se nalaže sudu da okonča predmet bez odlaganja zbog kršenja prava na donošenje odluke u razumnom roku
A20: Pravni osnov | B20: Broj odluka kojima se nalaže sudu da okonča predmet bez odlaganja zbog kršenja prava na donošenje odluke u razumnom roku jer je Ustavni sud BiH zaključio da je odugovlačenju postupka najviše doprinio
B21: prvostepeni sud | C21: drugostepeni sud | D21: sud koji rješava predmet po uloženom vanrednom pravnom lijeku | E21: Ostalo | F21: Ukupno
B22: I | C22: II | D22: III | E22: IV | F22: V=I+II+III+IV
A23: Čl. 6 EK i II/3.e) Ustava BiH (pravo na pravično suđenje) | F23: =IF(SUM(B23:E23)=0," ",SUM(B23:E23))
A24: Tabela IVd - Predmeti u kojima je utvrđeno kršenje prava na donošenje odluke u razumnom roku
A25: Broj predmeta u kojima je određena naknada nematerijalne štete zbog kršenja prava na donošenje odluke u razumnom roku
A26: Ukupan iznos određene naknade
A28: * U Tabelu IVd unose se podaci o predmetima u kojima je usvojena apelacija u odnosu na odluke Vašeg suda i određena naknada nematerijalne štete zbog kršenja prava na donošenje odluke u razumnom roku, kao i ukupan iznos naknade koji je utvrdio Ustavni sud BiH.

Sheet tbl III
A1: Godina | B1: Sud | C1: ImePrezime | D1: Ocjenjen | E1: Odjel | F1: Funkcija | G1: NormaPravilnik | H1: DatumOd | I1: DatumDo | J1: BroDanaZa Normu | K1: Odsustvo | L1: NormaCMS | M1: NormaVanCMS | N1: VeceVrenovanje | O1: OstvarenaNorma | P1: PreracunataNorma | Q1: BrPredURadu | R1: BrRijPred | S1: BrNerijPredSaZakProcSmet | T1: BrNerijPredBezZakProcSmet | U1: ProcRijePred | V1: BrOStBod
A2: ='Tabela I, II'!$H$1 -> 2022 | B2: ='Tabela I, II'!$H$2 -> 118 | C2: ='Tabela III'!B8 -> 0 | D2: ='Tabela III'!C8 -> 0 | E2: ='Tabela III'!D8 -> 0 | F2: ='Tabela III'!E8 -> Predsjednik suda | G2: ='Tabela III'!G8 -> 0 | H2: ='Tabela III'!H8 -> 0 | I2: ='Tabela III'!I8 -> 0 | J2: ='Tabela III'!J8 -> 260 | K2: ='Tabela III'!K8 -> 0 | L2: ='Tabela III'!L8 -> 0 | M2: ='Tabela III'!M8 -> 0 | N2: ='Tabela III'!N8 -> 0 | ... V2: ='Tabela III'!V8
A3: ='Tabela I, II'!$H$1 -> 2022 | B3: ='Tabela I, II'!$H$2 -> 118 | C3: ='Tabela III'!B8 -> 0 | D3: ='Tabela III'!C9 -> 0 | E3: ='Tabela III'!D9 -> 0 | F3: ='Tabela III'!E9 -> Predsjednik suda | G3: ='Tabela III'!G9 -> 0 | H3: ='Tabela III'!H9 -> 0 | I3: ='Tabela III'!I9 -> 0 | J3: ='Tabela III'!J9 -> 260 | K3: ='Tabela III'!K9 -> 0 | L3: ='Tabela III'!L9 -> 0 | M3: ='Tabela III'!M9 -> 0 | N3: ='Tabela III'!N9 -> 0 | ... V3: ='Tabela III'!V9
A4: ='Tabela I, II'!$H$1 -> 2022 | B4: ='Tabela I, II'!$H$2 -> 118 | C4: ='Tabela III'!B10 -> 0 | D4: ='Tabela III'!C10 -> 0 | E4: ='Tabela III'!D10 -> 0 | F4: ='Tabela III'!E10 -> 0 | G4: ='Tabela III'!G10 -> 0 | H4: ='Tabela III'!H10 -> 0 | I4: ='Tabela III'!I10 -> 0 | J4: ='Tabela III'!J10 -> 260 | K4: ='Tabela III'!K10 -> 0 | L4: ='Tabela III'!L10 -> 0 | M4: ='Tabela III'!M10 -> 0 | N4: ='Tabela III'!N10 -> 0 | ... V4: ='Tabela III'!V10
A5: ='Tabela I, II'!$H$1 -> 2022 | B5: ='Tabela I, II'!$H$2 -> 118 | C5: ='Tabela III'!B11 -> 0 | D5: ='Tabela III'!C11 -> 0 | E5: ='Tabela III'!D11 -> 0 | F5: ='Tabela III'!E11 -> 0 | G5: ='Tabela III'!G11 -> 0 | H5: ='Tabela III'!H11 -> 0 | I5: ='Tabela III'!I11 -> 0 | J5: ='Tabela III'!J11 -> 260 | K5: ='Tabela III'!K11 -> 0 | L5: ='Tabela III'!L11 -> 0 | M5: ='Tabela III'!M11 -> 0 | N5: ='Tabela III'!N11 -> 0 | ... V5: ='Tabela III'!V11
A6: ='Tabela I, II'!$H$1 -> 2022 | B6: ='Tabela I, II'!$H$2 -> 118 | C6: ='Tabela III'!B12 -> 0 | D6: ='Tabela III'!C12 -> 0 | E6: ='Tabela III'!D12 -> 0 | F6: ='Tabela III'!E12 -> 0 | G6: ='Tabela III'!G12 -> 0 | H6: ='Tabela III'!H12 -> 0 | I6: ='Tabela III'!I12 -> 0 | J6: ='Tabela III'!J12 -> 260 | K6: ='Tabela III'!K12 -> 0 | L6: ='Tabela III'!L12 -> 0 | M6: ='Tabela III'!M12 -> 0 | N6: ='Tabela III'!N12 -> 0 | ... V6: ='Tabela III'!V12
A7: ='Tabela I, II'!$H$1 -> 2022 | B7: ='Tabela I, II'!$H$2 -> 118 | C7: ='Tabela III'!B13 -> 0 | D7: ='Tabela III'!C13 -> 0 | E7: ='Tabela III'!D13 -> 0 | F7: ='Tabela III'!E13 -> 0 | G7: ='Tabela III'!G13 -> 0 | H7: ='Tabela III'!H13 -> 0 | I7: ='Tabela III'!I13 -> 0 | J7: ='Tabela III'!J13 -> 260 | K7: ='Tabela III'!K13 -> 0 | L7: ='Tabela III'!L13 -> 0 | M7: ='Tabela III'!M13 -> 0 | N7: ='Tabela III'!N13 -> 0 | ... V7: ='Tabela III'!V13
A8: ='Tabela I, II'!$H$1 -> 2022 | B8: ='Tabela I, II'!$H$2 -> 118 | C8: ='Tabela III'!B14 -> 0 | D8: ='Tabela III'!C14 -> 0 | E8: ='Tabela III'!D14 -> 0 | F8: ='Tabela III'!E14 -> 0 | G8: ='Tabela III'!G14 -> 0 | H8: ='Tabela III'!H14 -> 0 | I8: ='Tabela III'!I14 -> 0 | J8: ='Tabela III'!J14 -> 260 | K8: ='Tabela III'!K14 -> 0 | L8: ='Tabela III'!L14 -> 0 | M8: ='Tabela III'!M14 -> 0 | N8: ='Tabela III'!N14 -> 0 | ... V8: ='Tabela III'!V14
A9: ='Tabela I, II'!$H$1 -> 2022 | B9: ='Tabela I, II'!$H$2 -> 118 | C9: ='Tabela III'!B15 -> 0 | D9: ='Tabela III'!C15 -> 0 | E9: ='Tabela III'!D15 -> 0 | F9: ='Tabela III'!E15 -> 0 | G9: ='Tabela III'!G15 -> 0 | H9: ='Tabela III'!H15 -> 0 | I9: ='Tabela III'!I15 -> 0 | J9: ='Tabela III'!J15 -> 260 | K9: ='Tabela III'!K15 -> 0 | L9: ='Tabela III'!L15 -> 0 | M9: ='Tabela III'!M15 -> 0 | N9: ='Tabela III'!N15 -> 0 | ... V9: ='Tabela III'!V15
A10: ='Tabela I, II'!$H$1 -> 2022 | B10: ='Tabela I, II'!$H$2 -> 118 | C10: ='Tabela III'!B16 -> 0 | D10: ='Tabela III'!C16 -> 0 | E10: ='Tabela III'!D16 -> 0 | F10: ='Tabela III'!E16 -> 0 | G10: ='Tabela III'!G16 -> 0 | H10: ='Tabela III'!H16 -> 0 | I10: ='Tabela III'!I16 -> 0 | J10: ='Tabela III'!J16 -> 260 | K10: ='Tabela III'!K16 -> 0 | L10: ='Tabela III'!L16 -> 0 | M10: ='Tabela III'!M16 -> 0 | N10: ='Tabela III'!N16 -> 0 | ... V10: ='Tabela III'!V16
A11: ='Tabela I, II'!$H$1 -> 2022 | B11: ='Tabela I, II'!$H$2 -> 118 | C11: ='Tabela III'!B17 -> 0 | D11: ='Tabela III'!C17 -> 0 | E11: ='Tabela III'!D17 -> 0 | F11: ='Tabela III'!E17 -> 0 | G11: ='Tabela III'!G17 -> 0 | H11: ='Tabela III'!H17 -> 0 | I11: ='Tabela III'!I17 -> 0 | J11: ='Tabela III'!J17 -> 260 | K11: ='Tabela III'!K17 -> 0 | L11: ='Tabela III'!L17 -> 0 | M11: ='Tabela III'!M17 -> 0 | N11: ='Tabela III'!N17 -> 0 | ... V11: ='Tabela III'!V17
A12: ='Tabela I, II'!$H$1 -> 2022 | B12: ='Tabela I, II'!$H$2 -> 118 | C12: ='Tabela III'!B18 -> 0 | D12: ='Tabela III'!C18 -> 0 | E12: ='Tabela III'!D18 -> 0 | F12: ='Tabela III'!E18 -> 0 | G12: ='Tabela III'!G18 -> 0 | H12: ='Tabela III'!H18 -> 0 | I12: ='Tabela III'!I18 -> 0 | J12: ='Tabela III'!J18 -> 260 | K12: ='Tabela III'!K18 -> 0 | L12: ='Tabela III'!L18 -> 0 | M12: ='Tabela III'!M18 -> 0 | N12: ='Tabela III'!N18 -> 0 | ... V12: ='Tabela III'!V18
A13: ='Tabela I, II'!$H$1 -> 2022 | B13: ='Tabela I, II'!$H$2 -> 118 | C13: ='Tabela III'!B19 -> 0 | D13: ='Tabela III'!C19 -> 0 | E13: ='Tabela III'!D19 -> 0 | F13: ='Tabela III'!E19 -> 0 | G13: ='Tabela III'!G19 -> 0 | H13: ='Tabela III'!H19 -> 0 | I13: ='Tabela III'!I19 -> 0 | J13: ='Tabela III'!J19 -> 260 | K13: ='Tabela III'!K19 -> 0 | L13: ='Tabela III'!L19 -> 0 | M13: ='Tabela III'!M19 -> 0 | N13: ='Tabela III'!N19 -> 0 | ... V13: ='Tabela III'!V19
A14: ='Tabela I, II'!$H$1 -> 2022 | B14: ='Tabela I, II'!$H$2 -> 118 | C14: ='Tabela III'!B20 -> 0 | D14: ='Tabela III'!C20 -> 0 | E14: ='Tabela III'!D20 -> 0 | F14: ='Tabela III'!E20 -> 0 | G14: ='Tabela III'!G20 -> 0 | H14: ='Tabela III'!H20 -> 0 | I14: ='Tabela III'!I20 -> 0 | J14: ='Tabela III'!J20 -> 260 | K14: ='Tabela III'!K20 -> 0 | L14: ='Tabela III'!L20 -> 0 | M14: ='Tabela III'!M20 -> 0 | N14: ='Tabela III'!N20 -> 0 | ... V14: ='Tabela III'!V20
A15: ='Tabela I, II'!$H$1 -> 2022 | B15: ='Tabela I, II'!$H$2 -> 118 | C15: ='Tabela III'!B21 -> 0 | D15: ='Tabela III'!C21 -> 0 | E15: ='Tabela III'!D21 -> 0 | F15: ='Tabela III'!E21 -> 0 | G15: ='Tabela III'!G21 -> 0 | H15: ='Tabela III'!H21 -> 0 | I15: ='Tabela III'!I21 -> 0 | J15: ='Tabela III'!J21 -> 260 | K15: ='Tabela III'!K21 -> 0 | L15: ='Tabela III'!L21 -> 0 | M15: ='Tabela III'!M21 -> 0 | N15: ='Tabela III'!N21 -> 0 | ... V15: ='Tabela III'!V21
... A72: ='Tabela I, II'!$H$1 -> 2022 | B72: ='Tabela I, II'!$H$2 -> 118 | C72: ='Tabela III'!B78 -> 0 | D72: ='Tabela III'!C78 -> 0 | E72: ='Tabela III'!D78 -> 0 | F72: ='Tabela III'!E78 -> 0 | G72: ='Tabela III'!G78 -> 0 | H72: ='Tabela III'!H78 -> 0 | I72: ='Tabela III'!I78 -> 0 | J72: ='Tabela III'!J78 -> 260 | K72: ='Tabela III'!K78 -> 0 | L72: ='Tabela III'!L78 -> 0 | M72: ='Tabela III'!M78 -> 0 | N72: ='Tabela III'!N78 -> 0 | ... V72: ='Tabela III'!V78
A74: Godina | B74: Sud | C74: ImePrezime | D74: Ocjenjen | E74: Odjel | F74: Funkcija | G74: NormaPravilnik | H74: DatumOd | I74: DatumDo | J74: BroDanaZa Normu | K74: Odsustvo | L74: NormaCMS | M74: NormaVanCMS | N74: VeceVrenovanje | O74: OstvarenaNorma | P74: PreracunataNorma | Q74: BrPredURadu | R74: BrRijPred | S74: BrNerijPredSaZakProcSmet | T74: BrNerijPredBezZakProcSmet | U74: ProcRijePred | V74: BrOStBod | W74: Sud
A75: ='Tabela I, II'!$H$1 -> 2022 | B75: ='Tabela I, II'!$H$2 -> 118 | C75: ='Tabela III'!D96 -> 0 | D75: ='Tabela III'!C97 -> 0 | E75: ='Tabela III'!D97 -> 0 | F75: ='Tabela III'!E97 -> Predsjednik suda | G75: ='Tabela III'!G97 -> 0 | H75: ='Tabela III'!H97 -> 0 | I75: ='Tabela III'!I97 -> 0 | J75: ='Tabela III'!J97 -> 0 | K75: ='Tabela III'!K97 -> 0 | L75: ='Tabela III'!L97 -> 0 | M75: ='Tabela III'!M97 -> 0 | N75: ='Tabela III'!N97 -> 0 | ... V75: ='Tabela III'!V97 -> 0 | W75: ='Tabela III'!A97 -> Sud 1
A76: ='Tabela I, II'!$H$1 -> 2022 | B76: ='Tabela I, II'!$H$2 -> 118 | C76: =C75 -> 0 | D76: ='Tabela III'!C98 -> 0 | E76: ='Tabela III'!D98 -> 0 | F76: ='Tabela III'!E98 -> 0 | G76: ='Tabela III'!G98 -> 0 | H76: ='Tabela III'!H98 -> 0 | I76: ='Tabela III'!I98 -> 0 | J76: ='Tabela III'!J98 -> 0 | K76: ='Tabela III'!K98 -> 0 | L76: ='Tabela III'!L98 -> 0 | M76: ='Tabela III'!M98 -> 0 | N76: ='Tabela III'!N98 -> 0 | ... V76: ='Tabela III'!V98 -> 0 | W76: ='Tabela III'!A98 -> Sud 2
A77: ='Tabela I, II'!$H$1 -> 2022 | B77: ='Tabela I, II'!$H$2 -> 118 | C77: ='Tabela III'!D99 -> 0 | D77: ='Tabela III'!C100 -> 0 | E77: ='Tabela III'!D100 -> 0 | F77: ='Tabela III'!E100 -> 0 | G77: ='Tabela III'!G100 -> 0 | H77: ='Tabela III'!H100 -> 0 | I77: ='Tabela III'!I100 -> 0 | J77: ='Tabela III'!J100 -> 0 | K77: ='Tabela III'!K100 -> 0 | L77: ='Tabela III'!L100 -> 0 | M77: ='Tabela III'!M100 -> 0 | N77: ='Tabela III'!N100 -> 0 | ... V77: ='Tabela III'!V100 -> 0 | W77: ='Tabela III'!A100 -> Sud 1
A78: ='Tabela I, II'!$H$1 -> 2022 | B78: ='Tabela I, II'!$H$2 -> 118 | C78: =C77 -> 0 | D78: ='Tabela III'!C101 -> 0 | E78: ='Tabela III'!D101 -> 0 | F78: ='Tabela III'!E101 -> 0 | G78: ='Tabela III'!G101 -> 0 | H78: ='Tabela III'!H101 -> 0 | I78: ='Tabela III'!I101 -> 0 | J78: ='Tabela III'!J101 -> 0 | K78: ='Tabela III'!K101 -> 0 | L78: ='Tabela III'!L101 -> 0 | M78: ='Tabela III'!M101 -> 0 | N78: ='Tabela III'!N101 -> 0 | ... V78: ='Tabela III'!V101 -> 0 | W78: ='Tabela III'!A101 -> Sud 2
A79: ='Tabela I, II'!$H$1 -> 2022 | B79: ='Tabela I, II'!$H$2 -> 118 | C79: ='Tabela III'!D102 -> 0 | D79: ='Tabela III'!C103 -> 0 | E79: ='Tabela III'!D103 -> 0 | F79: ='Tabela III'!E103 -> 0 | G79: ='Tabela III'!G103 -> 0 | H79: ='Tabela III'!H103 -> 0 | I79: ='Tabela III'!I103 -> 0 | J79: ='Tabela III'!J103 -> 0 | K79: ='Tabela III'!K103 -> 0 | L79: ='Tabela III'!L103 -> 0 | M79: ='Tabela III'!M103 -> 0 | N79: ='Tabela III'!N103 -> 0 | ... V79: ='Tabela III'!V103 -> 0 | W79: ='Tabela III'!A103 -> Sud 1
A80: ='Tabela I, II'!$H$1 -> 2022 | B80: ='Tabela I, II'!$H$2 -> 118 | C80: =C79 -> 0 | D80: ='Tabela III'!C104 -> 0 | E80: ='Tabela III'!D104 -> 0 | F80: ='Tabela III'!E104 -> 0 | G80: ='Tabela III'!G104 -> 0 | H80: ='Tabela III'!H104 -> 0 | I80: ='Tabela III'!I104 -> 0 | J80: ='Tabela III'!J104 -> 0 | K80: ='Tabela III'!K104 -> 0 | L80: ='Tabela III'!L104 -> 0 | M80: ='Tabela III'!M104 -> 0 | N80: ='Tabela III'!N104 -> 0 | ... V80: ='Tabela III'!V104 -> 0 | W80: ='Tabela III'!A104 -> Sud 2
A81: ='Tabela I, II'!$H$1 -> 2022 | B81: ='Tabela I, II'!$H$2 -> 118 | C81: ='Tabela III'!D105 -> 0 | D81: ='Tabela III'!C106 -> 0 | E81: ='Tabela III'!D106 -> 0 | F81: ='Tabela III'!E106 -> 0 | G81: ='Tabela III'!G106 -> 0 | H81: ='Tabela III'!H106 -> 0 | I81: ='Tabela III'!I106 -> 0 | J81: ='Tabela III'!J106 -> 0 | K81: ='Tabela III'!K106 -> 0 | L81: ='Tabela III'!L106 -> 0 | M81: ='Tabela III'!M106 -> 0 | N81: ='Tabela III'!N106 -> 0 | ... V81: ='Tabela III'!V106 -> 0 | W81: ='Tabela III'!A106 -> Sud 1
A82: ='Tabela I, II'!$H$1 -> 2022 | B82: ='Tabela I, II'!$H$2 -> 118 | C82: =C81 -> 0 | D82: ='Tabela III'!C107 -> 0 | E82: ='Tabela III'!D107 -> 0 | F82: ='Tabela III'!E107 -> 0 | G82: ='Tabela III'!G107 -> 0 | H82: ='Tabela III'!H107 -> 0 | I82: ='Tabela III'!I107 -> 0 | J82: ='Tabela III'!J107 -> 0 | K82: ='Tabela III'!K107 -> 0 | L82: ='Tabela III'!L107 -> 0 | M82: ='Tabela III'!M107 -> 0 | N82: ='Tabela III'!N107 -> 0 | ... V82: ='Tabela III'!V107 -> 0 | W82: ='Tabela III'!A107 -> Sud 2
A83: ='Tabela I, II'!$H$1 -> 2022 | B83: ='Tabela I, II'!$H$2 -> 118 | C83: ='Tabela III'!D108 -> 0 | D83: ='Tabela III'!C109 -> 0 | E83: ='Tabela III'!D109 -> 0 | F83: ='Tabela III'!E109 -> 0 | G83: ='Tabela III'!G109 -> 0 | H83: ='Tabela III'!H109 -> 0 | I83: ='Tabela III'!I109 -> 0 | J83: ='Tabela III'!J109 -> 0 | K83: ='Tabela III'!K109 -> 0 | L83: ='Tabela III'!L109 -> 0 | M83: ='Tabela III'!M109 -> 0 | N83: ='Tabela III'!N109 -> 0 | ... V83: ='Tabela III'!V109 -> 0 | W83: ='Tabela III'!A109 -> Sud 1
A84: ='Tabela I, II'!$H$1 -> 2022 | B84: ='Tabela I, II'!$H$2 -> 118 | C84: =C83 -> 0 | D84: ='Tabela III'!C110 -> 0 | E84: ='Tabela III'!D110 -> 0 | F84: ='Tabela III'!E110 -> 0 | G84: ='Tabela III'!G110 -> 0 | H84: ='Tabela III'!H110 -> 0 | I84: ='Tabela III'!I110 -> 0 | J84: ='Tabela III'!J110 -> 0 | K84: ='Tabela III'!K110 -> 0 | L84: ='Tabela III'!L110 -> 0 | M84: ='Tabela III'!M110 -> 0 | N84: ='Tabela III'!N110 -> 0 | ... V84: ='Tabela III'!V110 -> 0 | W84: ='Tabela III'!A110 -> Sud 2
A85: ='Tabela I, II'!$H$1 -> 2022 | B85: ='Tabela I, II'!$H$2 -> 118 | C85: ='Tabela III'!D111 -> 0 | D85: ='Tabela III'!C112 -> 0 | E85: ='Tabela III'!D112 -> 0 | F85: ='Tabela III'!E112 -> 0 | G85: ='Tabela III'!G112 -> 0 | H85: ='Tabela III'!H112 -> 0 | I85: ='Tabela III'!I112 -> 0 | J85: ='Tabela III'!J112 -> 0 | K85: ='Tabela III'!K112 -> 0 | L85: ='Tabela III'!L112 -> 0 | M85: ='Tabela III'!M112 -> 0 | N85: ='Tabela III'!N112 -> 0 | ... V85: ='Tabela III'!V112 -> 0 | W85: ='Tabela III'!A112 -> Sud 1
A86: ='Tabela I, II'!$H$1 -> 2022 | B86: ='Tabela I, II'!$H$2 -> 118 | C86: =C85 -> 0 | D86: ='Tabela III'!C113 -> 0 | E86: ='Tabela III'!D113 -> 0 | F86: ='Tabela III'!E113 -> 0 | G86: ='Tabela III'!G113 -> 0 | H86: ='Tabela III'!H113 -> 0 | I86: ='Tabela III'!I113 -> 0 | J86: ='Tabela III'!J113 -> 0 | K86: ='Tabela III'!K113 -> 0 | L86: ='Tabela III'!L113 -> 0 | M86: ='Tabela III'!M113 -> 0 | N86: ='Tabela III'!N113 -> 0 | ... V86: ='Tabela III'!V113 -> 0 | W86: ='Tabela III'!A113 -> Sud 2
A87: ='Tabela I, II'!$H$1 -> 2022 | B87: ='Tabela I, II'!$H$2 -> 118 | C87: ='Tabela III'!D114 -> 0 | D87: ='Tabela III'!C115 -> 0 | E87: ='Tabela III'!D115 -> 0 | F87: ='Tabela III'!E115 -> 0 | G87: ='Tabela III'!G115 -> 0 | H87: ='Tabela III'!H115 -> 0 | I87: ='Tabela III'!I115 -> 0 | J87: ='Tabela III'!J115 -> 0 | K87: ='Tabela III'!K115 -> 0 | L87: ='Tabela III'!L115 -> 0 | M87: ='Tabela III'!M115 -> 0 | N87: ='Tabela III'!N115 -> 0 | ... V87: ='Tabela III'!V115 -> 0 | W87: ='Tabela III'!A115 -> Sud 1
A88: ='Tabela I, II'!$H$1 -> 2022 | B88: ='Tabela I, II'!$H$2 -> 118 | C88: =C87 -> 0 | D88: ='Tabela III'!C116 -> 0 | E88: ='Tabela III'!D116 -> 0 | F88: ='Tabela III'!E116 -> 0 | G88: ='Tabela III'!G116 -> 0 | H88: ='Tabela III'!H116 -> 0 | I88: ='Tabela III'!I116 -> 0 | J88: ='Tabela III'!J116 -> 0 | K88: ='Tabela III'!K116 -> 0 | L88: ='Tabela III'!L116 -> 0 | M88: ='Tabela III'!M116 -> 0 | N88: ='Tabela III'!N116 -> 0 | ... V88: ='Tabela III'!V116 -> 0 | W88: ='Tabela III'!A116 -> Sud 2
A89: ='Tabela I, II'!$H$1 -> 2022 | B89: ='Tabela I, II'!$H$2 -> 118 | C89: ='Tabela III'!D117 -> 0 | D89: ='Tabela III'!C118 -> 0 | E89: ='Tabela III'!D118 -> 0 | F89: ='Tabela III'!E118 -> 0 | G89: ='Tabela III'!G118 -> 0 | H89: ='Tabela III'!H118 -> 0 | I89: ='Tabela III'!I118 -> 0 | J89: ='Tabela III'!J118 -> 0 | K89: ='Tabela III'!K118 -> 0 | L89: ='Tabela III'!L118 -> 0 | M89: ='Tabela III'!M118 -> 0 | N89: ='Tabela III'!N118 -> 0 | ... V89: ='Tabela III'!V118 -> 0 | W89: ='Tabela III'!A118 -> Sud 1
A90: ='Tabela I, II'!$H$1 -> 2022 | B90: ='Tabela I, II'!$H$2 -> 118 | C90: =C89 -> 0 | D90: ='Tabela III'!C119 -> 0 | E90: ='Tabela III'!D119 -> 0 | F90: ='Tabela III'!E119 -> 0 | G90: ='Tabela III'!G119 -> 0 | H90: ='Tabela III'!H119 -> 0 | I90: ='Tabela III'!I119 -> 0 | J90: ='Tabela III'!J119 -> 0 | K90: ='Tabela III'!K119 -> 0 | L90: ='Tabela III'!L119 -> 0 | M90: ='Tabela III'!M119 -> 0 | N90: ='Tabela III'!N119 -> 0 | ... V90: ='Tabela III'!V119 -> 0 | W90: ='Tabela III'!A119 -> Sud 2
A91: ='Tabela I, II'!$H$1 -> 2022 | B91: ='Tabela I, II'!$H$2 -> 118 | C91: ='Tabela III'!D120 -> 0 | D91: ='Tabela III'!C121 -> 0 | E91: ='Tabela III'!D121 -> 0 | F91: ='Tabela III'!E121 -> 0 | G91: ='Tabela III'!G121 -> 0 | H91: ='Tabela III'!H121 -> 0 | I91: ='Tabela III'!I121 -> 0 | J91: ='Tabela III'!J121 -> 0 | K91: ='Tabela III'!K121 -> 0 | L91: ='Tabela III'!L121 -> 0 | M91: ='Tabela III'!M121 -> 0 | N91: ='Tabela III'!N121 -> 0 | ... V91: ='Tabela III'!V121 -> 0 | W91: ='Tabela III'!A121 -> Sud 1
A92: ='Tabela I, II'!$H$1 -> 2022 | B92: ='Tabela I, II'!$H$2 -> 118 | C92: =C91 -> 0 | D92: ='Tabela III'!C122 -> 0 | E92: ='Tabela III'!D122 -> 0 | F92: ='Tabela III'!E122 -> 0 | G92: ='Tabela III'!G122 -> 0 | H92: ='Tabela III'!H122 -> 0 | I92: ='Tabela III'!I122 -> 0 | J92: ='Tabela III'!J122 -> 0 | K92: ='Tabela III'!K122 -> 0 | L92: ='Tabela III'!L122 -> 0 | M92: ='Tabela III'!M122 -> 0 | N92: ='Tabela III'!N122 -> 0 | ... V92: ='Tabela III'!V122 -> 0 | W92: ='Tabela III'!A122 -> Sud 2
A93: ='Tabela I, II'!$H$1 -> 2022 | B93: ='Tabela I, II'!$H$2 -> 118 | C93: ='Tabela III'!D123 -> 0 | D93: ='Tabela III'!C124 -> 0 | E93: ='Tabela III'!D124 -> 0 | F93: ='Tabela III'!E124 -> 0 | G93: ='Tabela III'!G124 -> 0 | H93: ='Tabela III'!H124 -> 0 | I93: ='Tabela III'!I124 -> 0 | J93: ='Tabela III'!J124 -> 0 | K93: ='Tabela III'!K124 -> 0 | L93: ='Tabela III'!L124 -> 0 | M93: ='Tabela III'!M124 -> 0 | N93: ='Tabela III'!N124 -> 0 | ... V93: ='Tabela III'!V124 -> 0 | W93: ='Tabela III'!A124 -> Sud 1
A94: ='Tabela I, II'!$H$1 -> 2022 | B94: ='Tabela I, II'!$H$2 -> 118 | C94: =C93 -> 0 | D94: ='Tabela III'!C125 -> 0 | E94: ='Tabela III'!D125 -> 0 | F94: ='Tabela III'!E125 -> 0 | G94: ='Tabela III'!G125 -> 0 | H94: ='Tabela III'!H125 -> 0 | I94: ='Tabela III'!I125 -> 0 | J94: ='Tabela III'!J125 -> 0 | K94: ='Tabela III'!K125 -> 0 | L94: ='Tabela III'!L125 -> 0 | M94: ='Tabela III'!M125 -> 0 | N94: ='Tabela III'!N125 -> 0 | ... V94: ='Tabela III'!V125 -> 0 | W94: ='Tabela III'!A125 -> Sud 2

Sheet tbl_I_kant_potvr_prein_odb
A1: For_key | B1: godina | C1: predmeti_odjeljenja | D1: OdbaOdlu | E1: PotvrOdlu | F1: PreinaOdlu | G1: UkidaOdlu | H1: RjeDrNacin | I1: PrPredmUloPravLijek | J1: UkPresNovSud
A2: ='Tabela I, II'!$H$2 -> 118 | B2: ='Tabela I, II'!$H$1 -> 2022 | C2: 66 | D2: ='Tabela I, II'!B9 -> 0 | E2: ='Tabela I, II'!C9 -> 0 | F2: ='Tabela I, II'!D9 -> 0 | G2: ='Tabela I, II'!E9 -> 0 | H2: ='Tabela I, II'!F9 -> 0 | I2: 0 | J2: ='Tabela I, II'!H9 -> 0
A3: ='Tabela I, II'!$H$2 -> 118 | B3: ='Tabela I, II'!$H$1 -> 2022 | C3: 34 | D3: ='Tabela I, II'!B10 -> 0 | E3: ='Tabela I, II'!C10 -> 0 | F3: ='Tabela I, II'!D10 -> 0 | G3: ='Tabela I, II'!E10 -> 0 | H3: ='Tabela I, II'!F10 -> 0 | I3: 0 | J3: ='Tabela I, II'!H10 -> 0
A4: ='Tabela I, II'!$H$2 -> 118 | B4: ='Tabela I, II'!$H$1 -> 2022 | C4: 133 | D4: ='Tabela I, II'!B11 -> 0 | E4: ='Tabela I, II'!C11 -> 0 | F4: ='Tabela I, II'!D11 -> 0 | G4: ='Tabela I, II'!E11 -> 0 | H4: ='Tabela I, II'!F11 -> 0 | I4: 0 | J4: ='Tabela I, II'!H11 -> 0
A5: ='Tabela I, II'!$H$2 -> 118 | B5: ='Tabela I, II'!$H$1 -> 2022 | C5: 67 | D5: ='Tabela I, II'!B12 -> 0 | E5: ='Tabela I, II'!C12 -> 0 | F5: ='Tabela I, II'!D12 -> 0 | G5: ='Tabela I, II'!E12 -> 0 | H5: ='Tabela I, II'!F12 -> 0 | I5: 0 | J5: ='Tabela I, II'!H12 -> 0
A6: ='Tabela I, II'!$H$2 -> 118 | B6: ='Tabela I, II'!$H$1 -> 2022 | C6: 36 | D6: ='Tabela I, II'!B13 -> 0 | E6: ='Tabela I, II'!C13 -> 0 | F6: ='Tabela I, II'!D13 -> 0 | G6: ='Tabela I, II'!E13 -> 0 | H6: ='Tabela I, II'!F13 -> 0 | I6: 0 | J6: ='Tabela I, II'!H13 -> 0
A7: ='Tabela I, II'!$H$2 -> 118 | B7: ='Tabela I, II'!$H$1 -> 2022 | C7: 38 | D7: ='Tabela I, II'!B15 -> 0 | E7: ='Tabela I, II'!C15 -> 0 | F7: ='Tabela I, II'!D15 -> 0 | G7: ='Tabela I, II'!E15 -> 0 | H7: ='Tabela I, II'!F15 -> 0 | I7: 0 | J7: ='Tabela I, II'!H15 -> 0
A8: ='Tabela I, II'!$H$2 -> 118 | B8: ='Tabela I, II'!$H$1 -> 2022 | C8: 69 | D8: ='Tabela I, II'!B16 -> 0 | E8: ='Tabela I, II'!C16 -> 0 | F8: ='Tabela I, II'!D16 -> 0 | G8: ='Tabela I, II'!E16 -> 0 | H8: ='Tabela I, II'!F16 -> 0 | I8: 0 | J8: ='Tabela I, II'!H16 -> 0
A9: ='Tabela I, II'!$H$2 -> 118 | B9: ='Tabela I, II'!$H$1 -> 2022 | C9: 19 | D9: ='Tabela I, II'!B17 -> 0 | E9: ='Tabela I, II'!C17 -> 0 | F9: ='Tabela I, II'!D17 -> 0 | G9: ='Tabela I, II'!E17 -> 0 | H9: ='Tabela I, II'!F17 -> 0 | I9: 0 | J9: ='Tabela I, II'!H17 -> 0
A10: ='Tabela I, II'!$H$2 -> 118 | B10: ='Tabela I, II'!$H$1 -> 2022 | C10: 52 | D10: ='Tabela I, II'!B19 -> 0 | E10: ='Tabela I, II'!C19 -> 0 | F10: ='Tabela I, II'!D19 -> 0 | G10: ='Tabela I, II'!E19 -> 0 | H10: ='Tabela I, II'!F19 -> 0 | I10: 0 | J10: ='Tabela I, II'!H19 -> 0
A11: ='Tabela I, II'!$H$2 -> 118 | B11: ='Tabela I, II'!$H$1 -> 2022 | C11: 70 | D11: ='Tabela I, II'!B20 -> 0 | E11: ='Tabela I, II'!C20 -> 0 | F11: ='Tabela I, II'!D20 -> 0 | G11: ='Tabela I, II'!E20 -> 0 | H11: ='Tabela I, II'!F20 -> 0 | I11: 0 | J11: ='Tabela I, II'!H20 -> 0
A12: ='Tabela I, II'!$H$2 -> 118 | B12: ='Tabela I, II'!$H$1 -> 2022 | C12: 53 | D12: ='Tabela I, II'!B21 -> 0 | E12: ='Tabela I, II'!C21 -> 0 | F12: ='Tabela I, II'!D21 -> 0 | G12: ='Tabela I, II'!E21 -> 0 | H12: ='Tabela I, II'!F21 -> 0 | I12: 0 | J12: ='Tabela I, II'!H21 -> 0
A13: ='Tabela I, II'!$H$2 -> 118 | B13: ='Tabela I, II'!$H$1 -> 2022 | C13: 125 | D13: ='Tabela I, II'!B22 -> 0 | E13: ='Tabela I, II'!C22 -> 0 | F13: ='Tabela I, II'!D22 -> 0 | G13: ='Tabela I, II'!E22 -> 0 | H13: ='Tabela I, II'!F22 -> 0 | I13: 0 | J13: ='Tabela I, II'!H22 -> 0
A14: ='Tabela I, II'!$H$2 -> 118 | B14: ='Tabela I, II'!$H$1 -> 2022 | C14: 55 | D14: ='Tabela I, II'!B23 -> 0 | E14: ='Tabela I, II'!C23 -> 0 | F14: ='Tabela I, II'!D23 -> 0 | G14: ='Tabela I, II'!E23 -> 0 | H14: ='Tabela I, II'!F23 -> 0 | I14: 0 | J14: ='Tabela I, II'!H23 -> 0
A15: ='Tabela I, II'!$H$2 -> 118 | B15: ='Tabela I, II'!$H$1 -> 2022 | C15: 56 | D15: ='Tabela I, II'!B24 -> 0 | E15: ='Tabela I, II'!C24 -> 0 | F15: ='Tabela I, II'!D24 -> 0 | G15: ='Tabela I, II'!E24 -> 0 | H15: ='Tabela I, II'!F24 -> 0 | I15: 0 | J15: ='Tabela I, II'!H24 -> 0
D16: =SUM(D2:D15) -> 0 | E16: =SUM(E2:E15) -> 0 | F16: =SUM(F2:F15) -> 0 | G16: =SUM(G2:G15) -> 0 | H16: =SUM(H2:H15) -> 0 | I16: =SUM(I2:I15) -> 0 | J16: =SUM(J2:J15) -> 0
A19: PrPredmUloPravLijek | C19: nema u tabeli za 2009.g.

Sheet 0_tbl_IIa_IIb_vrhovniSudovi
A1: For_key | B1: godina | C1: predmeti | D1: Presuda vrh. ili kant. suda | E1: OdbaOdlu | F1: PotvrOdlu | G1: PreinaOdlu | H1: UkidaOdlu | I1: RjeDrNacin
A2: ='Tabela I, II'!$H$2 -> 118 | B2: ='Tabela I, II'!$H$1 -> 2022 | C2: 68 | D2: 1 | E2: ='Tabela I, II'!B31 -> 0 | F2: ='Tabela I, II'!C31 -> 0 | G2: ='Tabela I, II'!D31 -> 0 | H2: ='Tabela I, II'!E31 -> 0 | I2: ='Tabela I, II'!F31 -> 0
A3: ='Tabela I, II'!$H$2 -> 118 | B3: ='Tabela I, II'!$H$1 -> 2022 | C3: 68 | D3: 2 | E3: ='Tabela I, II'!B36 -> 0 | F3: ='Tabela I, II'!C36 -> 0 | G3: ='Tabela I, II'!D36 -> 0 | H3: ='Tabela I, II'!E36 -> 0 | I3: ='Tabela I, II'!F36 -> 0
A8: Presuda vrh. ili kant. suda
A9: 1 | B9: odluka po žalbi na drugostepenu presudu Vrhovnog suda
A10: 2 | B10: odluka po žalbi na drugostepenu presudu okružnog suda

Sheet tbl10_ust_sud
A1: for_key | B1: godina | C1: BrOdbacApel | D1: BrObustPost | E1: BrOdbijApel
A2: ='Tabela I, II'!$H$2 -> 118 | B2: ='Tabela I, II'!$H$1 -> 2022 | C2: ='Tabela IV'!A7 -> 0 | D2: ='Tabela IV'!B7 -> 0 | E2: ='Tabela IV'!C7 -> 0
A5: for_key | B5: godina | C5: Pravni osnov | D5: BrPreinOdl | E5: BrUkidOdl | F5: BrUsvApel
A6: ='Tabela I, II'!$H$2 -> 118 | B6: ='Tabela I, II'!$H$1 -> 2022 | C6: 1 | D6: ='Tabela IV'!B12 -> 0 | E6: ='Tabela IV'!C12 -> 0 | F6: ='Tabela IV'!D12 -> 0
A7: ='Tabela I, II'!$H$2 -> 118 | B7: ='Tabela I, II'!$H$1 -> 2022 | C7: 2 | D7: ='Tabela IV'!B13 -> 0 | E7: ='Tabela IV'!C13 -> 0 | F7: ='Tabela IV'!D13 -> 0
A8: ='Tabela I, II'!$H$2 -> 118 | B8: ='Tabela I, II'!$H$1 -> 2022 | C8: 3 | D8: ='Tabela IV'!B14 -> 0 | E8: ='Tabela IV'!C14 -> 0 | F8: ='Tabela IV'!D14 -> 0
A9: ='Tabela I, II'!$H$2 -> 118 | B9: ='Tabela I, II'!$H$1 -> 2022 | C9: 4 | D9: ='Tabela IV'!B15 -> 0 | E9: ='Tabela IV'!C15 -> 0 | F9: ='Tabela IV'!D15 -> 0
A10: ='Tabela I, II'!$H$2 -> 118 | B10: ='Tabela I, II'!$H$1 -> 2022 | C10: 5 | D10: ='Tabela IV'!B16 -> 0 | E10: ='Tabela IV'!C16 -> 0 | F10: ='Tabela IV'!D16 -> 0
A11: ='Tabela I, II'!$H$2 -> 118 | B11: ='Tabela I, II'!$H$1 -> 2022 | C11: 6 | D11: ='Tabela IV'!B17 -> 0 | E11: ='Tabela IV'!C17 -> 0 | F11: ='Tabela IV'!D17 -> 0
A12: ='Tabela I, II'!$H$2 -> 118 | B12: ='Tabela I, II'!$H$1 -> 2022 | C12: 7 | D12: ='Tabela IV'!B18 -> 0 | E12: ='Tabela IV'!C18 -> 0 | F12: ='Tabela IV'!D18 -> 0
A15: for_key | B15: godina | C15: Pravni osnov | D15: PrvostSud | E15: DrugostSud | F15: SudPoUlPrLij | G15: Ostalo
A16: ='Tabela I, II'!$H$2 -> 118 | B16: ='Tabela I, II'!$H$1 -> 2022 | C16: 3 | D16: ='Tabela IV'!B23 -> 0 | E16: ='Tabela IV'!C23 -> 0 | F16: ='Tabela IV'!D23 -> 0 | G16: ='Tabela IV'!E23 -> 0
A19: for_key | B19: godina | C19: BrNaknNematStete | D19: UkIznosNaknade
A20: ='Tabela I, II'!$H$2 -> 118 | B20: ='Tabela I, II'!$H$1 -> 2022 | C20: ='Tabela IV'!B25 -> 0 | D20: ='Tabela IV'!B26 -> 0

Sheet 0_tbI_IIc_vrhSudovi
A1: For_key | B1: godina | C1: predmeti | D1: OsudjPresude | E1: OslobPresude | F1: OdbijPresude | G1: RjeDrNacin
A2: ='Tabela I, II'!$H$2 -> 118 | B2: ='Tabela I, II'!$H$1 -> 2022 | C2: 40 | D2: ='Tabela I, II'!B41 -> 0 | E2: ='Tabela I, II'!C41 -> 0 | F2: ='Tabela I, II'!D41 -> 0 | G2: ='Tabela I, II'!E41 -> 0
