Workbook

Sheet Uputstvo
B2: OSNOVNI SUD BRČKO DISTRIKTA
B4: Kompletni materijali u vezi procesa izvještavanja i ocjenjivanja rada u sudovima za 2022. godinu dostupni su na linku:
B5: https://vstv.pravosudje.ba/vstvfo/B/141/article/106391
B6: Tabele za popunjavanje podataka o radu sudova nije moguće mijenjati, niti dodavati nove redove ili kolone.
B7: Tabele se isključivo popunjavaju predviđenim redoslijedom, po redoslijedu postavljenih tabela.
B10: Podatke je potrebno upisivati samo u polja osjenčena žutom bojom.
B11: U ostala polja nije moguće upisivati vrijednosti, u ovim poljima vrijednosti će biti izračunate automatski.
B12: Molimo Vas da u Tabeli I i naslovu e-maila (subject) kojim ćete poslati popunjene obrasce navedete naziv Vašeg suda.
B15: Popunjene obrasce poslati na e-mail adresu: vstvstatistika@pravosudje.ba do 01.02.2023. godine.
B17: Za sva eventualna pitanja vezano za popunjavanje obrazaca molimo Vas da kontaktirate
B18: Odjel za pravosudnu analitiku i izvještavanje, na telefon: 033 704 616 ili 033 707 584.
B20: Tabele za ocjenjivanje NPF u sudu sadrže detaljnije napomene koje je potrebno imati u vidu prilikom popunjavanja tabela.
... B36: TABELA I – PROTOK PREDMETA U SUDU KOJI NISU EVIDENTIRANI U CMS-U Napomena za prikazivanje podataka o tzv. komunalnim predmetima: Prema pojašnjenju ove kategorije predmeta, koja je Vijeće pružilo u dopisu broj VSTV-08-0027-10012007 od 10.01.2007.godine, pod komunalnim predmetima se smatraju svi predmeti u kojima su povjerilac preduzeća, a odnose se na neplaćene komunalne usluge. Prema tome, u ovu kategoriju predmeta spadaju predmeti koji se odnose na naplatu potraživanja nastalih na osnovu isporuke vode, toplotne energije, odvoza smeća, električne energije, telefonskih usluga, održavanje zajedničkih prostorija, RTV takse i slično.

Sheet Tabela I
A1: Osnovni sud Brčko Distrikta | F1: 2022
A2: Izvještajni period: | C2: 1.1.2022.- 31.12.2022. | F2: 116
A3: Ostvarena kolektivna norma za sud u 2022. godini: | E3: =+'Tabela II'!P79
A4: Kvalitet rada suda: | C4: ='Tabela III'!J51
A5: Tabela I - Protok predmeta u sudu koji nisu evidentirani u sistemu CMS (pogledati NAPOMENU 1)
A6: Vrsta predmeta | B6: Broj neriješenih predmeta na početku izvještajnog perioda | C6: Broj primljenih predmeta | D6: Ukupan broj svih predmeta u radu | E6: Broj riješenih predmeta | F6: Broj neriješenih predmeta na kraju izvještajnog perioda
B7: I | C7: II | D7: III=I+II | E7: IV | F7: V=III-IV
A8: Predmeti za naplatu komunalnih usluga
A9: Mal | D9: =IF((B9+C9)=0," ",(B9+C9)) | F9: =IF((B9+C9-E9)=0," ",(B9+C9-E9))
A10: Mals | D10: =IF((B10+C10)=0," ",(B10+C10)) | F10: =IF((B10+C10-E10)=0," ",(B10+C10-E10))
A11: I | D11: =IF((B11+C11)=0," ",(B11+C11)) | F11: =IF((B11+C11-E11)=0," ",(B11+C11-E11))
A12: Ip | D12: =IF((B12+C12)=0," ",(B12+C12)) | F12: =IF((B12+C12-E12)=0," ",(B12+C12-E12))
A13: Ukupno | B13: =SUM(B9:B12) -> 0 | C13: =SUM(C9:C12) -> 0 | D13: =SUM(D9:D12) -> 0 | E13: =SUM(E9:E12) -> 0 | F13: =SUM(F9:F12) -> 0
A14: Predmeti registracije
A15: Reg | D15: =IF((B15+C15)=0," ",(B15+C15)) | F15: =IF((B15+C15-E15)=0," ",(B15+C15-E15))
A16: RegZ | D16: =IF((B16+C16)=0," ",(B16+C16)) | F16: =IF((B16+C16-E16)=0," ",(B16+C16-E16))
A17: F1 | D17: =IF((B17+C17)=0," ",(B17+C17)) | F17: =IF((B17+C17-E17)=0," ",(B17+C17-E17))
A18: F2 | D18: =IF((B18+C18)=0," ",(B18+C18)) | F18: =IF((B18+C18-E18)=0," ",(B18+C18-E18))
A19: F3 | D19: =IF((B19+C19)=0," ",(B19+C19)) | F19: =IF((B19+C19-E19)=0," ",(B19+C19-E19))
A20: Ostalo | D20: =IF((B20+C20)=0," ",(B20+C20)) | F20: =IF((B20+C20-E20)=0," ",(B20+C20-E20))
A21: Ukupno | B21: =SUM(B15:B20) -> 0 | C21: =SUM(C15:C20) -> 0 | D21: =SUM(D15:D20) -> 0 | E21: =SUM(E15:E20) -> 0 | F21: =SUM(F15:F20) -> 0
A22: ZK predmeti
A23: Dn | D23: =IF((B23+C23)=0," ",(B23+C23)) | F23: =IF((B23+C23-E23)=0," ",(B23+C23-E23))
A24: Nar | D24: =IF((B24+C24)=0," ",(B24+C24)) | F24: =IF((B24+C24-E24)=0," ",(B24+C24-E24))
A25: Rz | D25: =IF((B25+C25)=0," ",(B25+C25)) | F25: =IF((B25+C25-E25)=0," ",(B25+C25-E25))
A26: Kpu | D26: =IF((B26+C26)=0," ",(B26+C26)) | F26: =IF((B26+C26-E26)=0," ",(B26+C26-E26))
A27: Ostalo | D27: =IF((B27+C27)=0," ",(B27+C27)) | F27: =IF((B27+C27-E27)=0," ",(B27+C27-E27))
A28: Ukupno | B28: =SUM(B23:B27) -> 0 | C28: =SUM(C23:C27) -> 0 | D28: =SUM(D23:D27) -> 0 | E28: =SUM(E23:E27) -> 0 | F28: =SUM(F23:F27) -> 0
A30: Medijacija | D30: =B30+C30 -> 0 | F30: =D30-E30 -> 0
A32: UKUPNO | B32: =B13+B21+B28+B30 -> 0 | C32: =C13+C21+C28+C30 -> 0 | D32: =D13+D21+D28+D30 -> 0 | E32: =E13+E21+E28+E30 -> 0 | F32: =F13+F21+F28+F30 -> 0
A34: Napomena 1: Molimo Vas da obratite pažnju da podaci koji se iskazuju u Tabeli I - Protok predmeta u sudu koji nisu evidentirani u CMS Kolona I – Broj neriješenih predmeta na početku izvještajnog perioda trebaju biti jednaki podacima o broju neriješenih predmeta na kraju izvještajnog perioda koje ste iskazali u Tabeli za izvještavanje o radu suda za 2021. godinu (Tabela I - Protok predmeta u sudu koji nisu evidentirani u CMS Kolona V – Broj neriješenih predmeta na kraju izvještajnog perioda). | D34: Ukoliko, ipak, postoji razlika u broju neriješenih predmeta na početku 2022. godine u odnosu na kraj 2021. godine, molimo da unesete detaljno obrazloženje te razlike. Takođe, ukoliko je tokom godine došlo do značajnog povećanja priliva neke vrste predmeta navedene u ovoj izvještajnoj tabeli, molimo da unesete obrazloženje.
A36: Pomoći radi, na linku iz sheet-a "Uputstvo" nalazi se tabela "4. Pomoćna tabela: Ukupan broj neriješenih predmeta VAN CMS-a na kraju 2021.godine" sa podacima o ukupnom broju neriješenih predmeta koji nisu evidentirani u CMS-u na kraju 2021. godine, koje ste VSTV-u BiH dostavili putem Tabele za izvještavanje o radu suda za 2021. godinu (Tabela I - Protok predmeta u sudu koji nisu evidentirani u CMS Kolona V – Broj neriješenih predmeta na kraju izvještajnog perioda).

Sheet Tabela Ia
A1: =+'Tabela I'!A1 -> Osnovni sud Brčko Distrikta
A2: Izvještajni period: | B2: ='Tabela I'!C2 -> 1.1.2022.- 31.12.2022.
A3: Tabela Ia - Protok ZK predmeta
A4: Vrsta predmeta | B4: Broj neriješenih predmeta na početku izvještajnog perioda | C4: Broj primljenih predmeta | D4: Ukupan broj svih predmeta u radu | E4: Broj riješenih predmeta | F4: Broj neriješenih predmeta na kraju izvještajnog perioda
B5: I | C5: II | D5: III=I+II | E5: IV | F5: V=III-IV
A6: ZK predmeti
A7: Zahtjevi za upis | D7: =IF(B7+C7=0," ",(B7+C7)) | F7: =IF((B7+C7-E7)=0," ",(B7+C7-E7))
A8: Zahtjevi za ZK izvadke | D8: =IF(B8+C8=0," ",(B8+C8)) | F8: =IF((B8+C8-E8)=0," ",(B8+C8-E8))
A9: Zahtjevi za uspostavljanje ZK uložaka | D9: =IF(B9+C9=0," ",(B9+C9)) | F9: =IF((B9+C9-E9)=0," ",(B9+C9-E9))
A10: Ostalo (uvjerenja, potvrde i dr.) | D10: =IF(B10+C10=0," ",(B10+C10)) | F10: =IF((B10+C10-E10)=0," ",(B10+C10-E10))
A11: Ukupno | B11: =(B7+B8+B9+B10) -> 0 | C11: =(C7+C8+C9+C10) -> 0 | D11: =SUM(B7:C10) -> 0 | E11: =(E7+E8+E9+E10) -> 0 | F11: =(SUM(B7:C10)-SUM(E7:E10)) -> 0

Sheet Tabela II
A1: ='Tabela I'!A1 -> Osnovni sud Brčko Distrikta
A2: Izvještajni period: | C2: 1.1.2022.-31.12.2022.
A3: Tabela IIa – Ostvarena orijentaciona norma - Elektronski obrazac za obračun ostvarene orijentacione norme (pogledati NAPOMENU 4)
A5: Redni broj | B5: Ime i prezime - evidentirani podatak se automatski prenosi u Tabelu IIIa | C5: Ocjenjen u sudu | D5: Naziv odjela | E5: Pravosudna funkcija | G5: Procenat orijentacijske norme koju je nosilac pravosudne funkcije dužan ostvariti - Ukoliko procenat orijenatcijske norme nije predviđen u padajućem meniju pogledati NAPOMENU 3 | H5: Period obavljanja pravosudne funkcije u instituciji koja popunjava tabelu Ia | J5: Ukupan broj dana za obračun norme - pogledati NAPOMENU 2 | K5: Broj dana opravdanog odsustva iz člana 13. Kriterija za ocjenjivanje rada (pogledati NAPOMENU 9) | L5: Ostvarena orijentaciona norma iz CMS-a | M5: Ostvarena orijentaciona norma na predmetima van CMS-a - pogledati NAPOMENU 6 | N5: Procenat ostvarene orijentacione norme prema članu 9. Pravilnika o orijentacijskim mjerilima - pogledati NAPOMENU 7 | O5: Procenat ostvarene propisane godišnje orijentacijske norme u 2022. godini | P5: Ukupno ostvarena orijentacijska norma u 2022. godini | Q5: Nedovoljan broj predmeta u radu - pogledati NAPOMENU 5 | V5: Broj ostvarenih bodova | W5: Sudija | X5: Stručni saradnik | Y5: Predsjednik odjela | Z5: Predsjednik sudskog vijeća vrhovnog suda entiteta | AA5: Član VSTV-a
H6: Datum od | I6: Datum do | Q6: broj predmeta u radu | R6: broj riješenih predmeta | S6: broj neriješenih predmeta sa zakonskim i procesnim smetnjama | T6: broj neriješenih predmeta bez zakonskih i procesnih smetnji | U6: procenat riješenih predmeta
A7: I | B7: II | C7: III | D7: IV | E7: V | G7: VI | H7: VII | I7: VIII | J7: IX | K7: X | L7: XI | M7: XII | N7: XIII | O7: XIV | P7: XV | Q7: XVI | R7: XVII | S7: XVIII | T7: XIX | U7: XX | V7: XXI | W7: 1 | X7: 0.9 | Y7: 0.8 | Z7: 0.5 | AA7: 0.25 | AB7: Ne treba raditi na predm.
A8: 1 | E8: Predsjednik suda | J8: 260 | O8: =IF(G8="","",IF(G8="Ne treba raditi na predm.",1+SUM(L8:N8),(SUM(L8:N8)/G8))) | P8: =IF(K8>0,IF(G8="Ne treba raditi na predm.",O8,O8*(J8/(J8-K8))),O8) | U8: =IF(Q8="","",R8/(Q8-S8)) | V8: =IF(P8="","",IF(C8="Ne","",IF(G8="Ne treba raditi na predm.","",IF(P8>1,20,IF(U8="",IF(P8>0.95,18,IF(P8>0.9,15,IF(P8>0.85,13,IF(P8>0.8,10,IF(P8>0.75,8,IF(P8>0.7,5,IF(P8>0.5,3,0))))))),IF(U8=1,20,IF(U8>0.95,18,IF(U8>0.9,15,IF(U8>0.85,13,IF(U8>0.8,10,IF(U8>0.75,8,IF(U8>0.7,5,IF(U8>0.5,3,0))))))))))))) | W8: 0.7 | X8: 0.5 | Y8: 0.4 | Z8: 0.3 | AA8: Ne treba raditi na predm.
E9: Predsjednik suda | J9: 260 | O9: =IF(G9="","",IF(G9="Ne treba raditi na predm.",1+SUM(L9:N9),(SUM(L9:N9)/G9))) | P9: =IF(K9>0,IF(G9="Ne treba raditi na predm.",O9,O9*(J9/(J9-K9))),O9) | U9: =IF(Q9="","",R9/(Q9-S9)) | V9: =IF(P9="","",IF(C9="Ne","",IF(G9="Ne treba raditi na predm.","",IF(P9>1,20,IF(U9="",IF(P9>0.95,18,IF(P9>0.9,15,IF(P9>0.85,13,IF(P9>0.8,10,IF(P9>0.75,8,IF(P9>0.7,5,IF(P9>0.5,3,0))))))),IF(U9=1,20,IF(U9>0.95,18,IF(U9>0.9,15,IF(U9>0.85,13,IF(U9>0.8,10,IF(U9>0.75,8,IF(U9>0.7,5,IF(U9>0.5,3,0)))))))))))))
A10: 2 | F10: =IF(E10="Sudija",1,IF(E10="Stručni saradnik",1,IF(E10="Član VSTV-a",2,""))) | J10: 260 | O10: =IF(G10="","",IF(G10="Ne treba raditi na predm.",1+SUM(L10:N10),(SUM(L10:N10)/G10))) | P10: =IF(K10>0,IF(G10="Ne treba raditi na predm.",O10,O10*(J10/(J10-K10))),O10) | U10: =IF(Q10="","",R10/(Q10-S10)) | V10: =IF(P10="","",IF(C10="Ne","",IF(G10="Ne treba raditi na predm.","",IF(P10>1,40,IF(U10="",IF(P10>0.95,35,IF(P10>0.9,30,IF(P10>0.85,25,IF(P10>0.8,20,IF(P10>0.75,15,IF(P10>0.7,10,IF(P10>0.5,5,0))))))),IF(U10=1,40,IF(U10>0.95,35,IF(U10>0.9,30,IF(U10>0.85,25,IF(U10>0.8,20,IF(U10>0.75,15,IF(U10>0.7,10,IF(U10>0.5,5,0))))))))))))) | W10: Da | X10: Ne
A11: 3 | F11: =IF(E11="Sudija",1,IF(E11="Stručni saradnik",1,IF(E11="Član VSTV-a",2,""))) | J11: 260 | O11: =IF(G11="","",IF(G11="Ne treba raditi na predm.",1+SUM(L11:N11),(SUM(L11:N11)/G11))) | P11: =IF(K11>0,IF(G11="Ne treba raditi na predm.",O11,O11*(J11/(J11-K11))),O11) | U11: =IF(Q11="","",R11/(Q11-S11)) | V11: =IF(P11="","",IF(C11="Ne","",IF(G11="Ne treba raditi na predm.","",IF(P11>1,40,IF(U11="",IF(P11>0.95,35,IF(P11>0.9,30,IF(P11>0.85,25,IF(P11>0.8,20,IF(P11>0.75,15,IF(P11>0.7,10,IF(P11>0.5,5,0))))))),IF(U11=1,40,IF(U11>0.95,35,IF(U11>0.9,30,IF(U11>0.85,25,IF(U11>0.8,20,IF(U11>0.75,15,IF(U11>0.7,10,IF(U11>0.5,5,0)))))))))))))
A12: 4 | F12: =IF(E12="Sudija",1,IF(E12="Stručni saradnik",1,IF(E12="Član VSTV-a",2,""))) | J12: 260 | O12: =IF(G12="","",IF(G12="Ne treba raditi na predm.",1+SUM(L12:N12),(SUM(L12:N12)/G12))) | P12: =IF(K12>0,IF(G12="Ne treba raditi na predm.",O12,O12*(J12/(J12-K12))),O12) | U12: =IF(Q12="","",R12/(Q12-S12)) | V12: =IF(P12="","",IF(C12="Ne","",IF(G12="Ne treba raditi na predm.","",IF(P12>1,40,IF(U12="",IF(P12>0.95,35,IF(P12>0.9,30,IF(P12>0.85,25,IF(P12>0.8,20,IF(P12>0.75,15,IF(P12>0.7,10,IF(P12>0.5,5,0))))))),IF(U12=1,40,IF(U12>0.95,35,IF(U12>0.9,30,IF(U12>0.85,25,IF(U12>0.8,20,IF(U12>0.75,15,IF(U12>0.7,10,IF(U12>0.5,5,0)))))))))))))
A13: 5 | F13: =IF(E13="Sudija",1,IF(E13="Stručni saradnik",1,IF(E13="Član VSTV-a",2,""))) | J13: 260 | O13: =IF(G13="","",IF(G13="Ne treba raditi na predm.",1+SUM(L13:N13),(SUM(L13:N13)/G13))) | P13: =IF(K13>0,IF(G13="Ne treba raditi na predm.",O13,O13*(J13/(J13-K13))),O13) | U13: =IF(Q13="","",R13/(Q13-S13)) | V13: =IF(P13="","",IF(C13="Ne","",IF(G13="Ne treba raditi na predm.","",IF(P13>1,40,IF(U13="",IF(P13>0.95,35,IF(P13>0.9,30,IF(P13>0.85,25,IF(P13>0.8,20,IF(P13>0.75,15,IF(P13>0.7,10,IF(P13>0.5,5,0))))))),IF(U13=1,40,IF(U13>0.95,35,IF(U13>0.9,30,IF(U13>0.85,25,IF(U13>0.8,20,IF(U13>0.75,15,IF(U13>0.7,10,IF(U13>0.5,5,0)))))))))))))
A14: 6 | F14: =IF(E14="Sudija",1,IF(E14="Stručni saradnik",1,IF(E14="Član VSTV-a",2,""))) | J14: 260 | O14: =IF(G14="","",IF(G14="Ne treba raditi na predm.",1+SUM(L14:N14),(SUM(L14:N14)/G14))) | P14: =IF(K14>0,IF(G14="Ne treba raditi na predm.",O14,O14*(J14/(J14-K14))),O14) | U14: =IF(Q14="","",R14/(Q14-S14)) | V14: =IF(P14="","",IF(C14="Ne","",IF(G14="Ne treba raditi na predm.","",IF(P14>1,40,IF(U14="",IF(P14>0.95,35,IF(P14>0.9,30,IF(P14>0.85,25,IF(P14>0.8,20,IF(P14>0.75,15,IF(P14>0.7,10,IF(P14>0.5,5,0))))))),IF(U14=1,40,IF(U14>0.95,35,IF(U14>0.9,30,IF(U14>0.85,25,IF(U14>0.8,20,IF(U14>0.75,15,IF(U14>0.7,10,IF(U14>0.5,5,0)))))))))))))
A15: 7 | F15: =IF(E15="Sudija",1,IF(E15="Stručni saradnik",1,IF(E15="Član VSTV-a",2,""))) | J15: 260 | O15: =IF(G15="","",IF(G15="Ne treba raditi na predm.",1+SUM(L15:N15),(SUM(L15:N15)/G15))) | P15: =IF(K15>0,IF(G15="Ne treba raditi na predm.",O15,O15*(J15/(J15-K15))),O15) | U15: =IF(Q15="","",R15/(Q15-S15)) | V15: =IF(P15="","",IF(C15="Ne","",IF(G15="Ne treba raditi na predm.","",IF(P15>1,40,IF(U15="",IF(P15>0.95,35,IF(P15>0.9,30,IF(P15>0.85,25,IF(P15>0.8,20,IF(P15>0.75,15,IF(P15>0.7,10,IF(P15>0.5,5,0))))))),IF(U15=1,40,IF(U15>0.95,35,IF(U15>0.9,30,IF(U15>0.85,25,IF(U15>0.8,20,IF(U15>0.75,15,IF(U15>0.7,10,IF(U15>0.5,5,0)))))))))))))
A16: 8 | F16: =IF(E16="Sudija",1,IF(E16="Stručni saradnik",1,IF(E16="Član VSTV-a",2,""))) | J16: 260 | O16: =IF(G16="","",IF(G16="Ne treba raditi na predm.",1+SUM(L16:N16),(SUM(L16:N16)/G16))) | P16: =IF(K16>0,IF(G16="Ne treba raditi na predm.",O16,O16*(J16/(J16-K16))),O16) | U16: =IF(Q16="","",R16/(Q16-S16)) | V16: =IF(P16="","",IF(C16="Ne","",IF(G16="Ne treba raditi na predm.","",IF(P16>1,40,IF(U16="",IF(P16>0.95,35,IF(P16>0.9,30,IF(P16>0.85,25,IF(P16>0.8,20,IF(P16>0.75,15,IF(P16>0.7,10,IF(P16>0.5,5,0))))))),IF(U16=1,40,IF(U16>0.95,35,IF(U16>0.9,30,IF(U16>0.85,25,IF(U16>0.8,20,IF(U16>0.75,15,IF(U16>0.7,10,IF(U16>0.5,5,0)))))))))))))
A17: 9 | F17: =IF(E17="Sudija",1,IF(E17="Stručni saradnik",1,IF(E17="Član VSTV-a",2,""))) | J17: 260 | O17: =IF(G17="","",IF(G17="Ne treba raditi na predm.",1+SUM(L17:N17),(SUM(L17:N17)/G17))) | P17: =IF(K17>0,IF(G17="Ne treba raditi na predm.",O17,O17*(J17/(J17-K17))),O17) | U17: =IF(Q17="","",R17/(Q17-S17)) | V17: =IF(P17="","",IF(C17="Ne","",IF(G17="Ne treba raditi na predm.","",IF(P17>1,40,IF(U17="",IF(P17>0.95,35,IF(P17>0.9,30,IF(P17>0.85,25,IF(P17>0.8,20,IF(P17>0.75,15,IF(P17>0.7,10,IF(P17>0.5,5,0))))))),IF(U17=1,40,IF(U17>0.95,35,IF(U17>0.9,30,IF(U17>0.85,25,IF(U17>0.8,20,IF(U17>0.75,15,IF(U17>0.7,10,IF(U17>0.5,5,0)))))))))))))
A18: 10 | F18: =IF(E18="Sudija",1,IF(E18="Stručni saradnik",1,IF(E18="Član VSTV-a",2,""))) | J18: 260 | O18: =IF(G18="","",IF(G18="Ne treba raditi na predm.",1+SUM(L18:N18),(SUM(L18:N18)/G18))) | P18: =IF(K18>0,IF(G18="Ne treba raditi na predm.",O18,O18*(J18/(J18-K18))),O18) | U18: =IF(Q18="","",R18/(Q18-S18)) | V18: =IF(P18="","",IF(C18="Ne","",IF(G18="Ne treba raditi na predm.","",IF(P18>1,40,IF(U18="",IF(P18>0.95,35,IF(P18>0.9,30,IF(P18>0.85,25,IF(P18>0.8,20,IF(P18>0.75,15,IF(P18>0.7,10,IF(P18>0.5,5,0))))))),IF(U18=1,40,IF(U18>0.95,35,IF(U18>0.9,30,IF(U18>0.85,25,IF(U18>0.8,20,IF(U18>0.75,15,IF(U18>0.7,10,IF(U18>0.5,5,0)))))))))))))
A19: 11 | F19: =IF(E19="Sudija",1,IF(E19="Stručni saradnik",1,IF(E19="Član VSTV-a",2,""))) | J19: 260 | O19: =IF(G19="","",IF(G19="Ne treba raditi na predm.",1+SUM(L19:N19),(SUM(L19:N19)/G19))) | P19: =IF(K19>0,IF(G19="Ne treba raditi na predm.",O19,O19*(J19/(J19-K19))),O19) | U19: =IF(Q19="","",R19/(Q19-S19)) | V19: =IF(P19="","",IF(C19="Ne","",IF(G19="Ne treba raditi na predm.","",IF(P19>1,40,IF(U19="",IF(P19>0.95,35,IF(P19>0.9,30,IF(P19>0.85,25,IF(P19>0.8,20,IF(P19>0.75,15,IF(P19>0.7,10,IF(P19>0.5,5,0))))))),IF(U19=1,40,IF(U19>0.95,35,IF(U19>0.9,30,IF(U19>0.85,25,IF(U19>0.8,20,IF(U19>0.75,15,IF(U19>0.7,10,IF(U19>0.5,5,0)))))))))))))
A20: 12 | F20: =IF(E20="Sudija",1,IF(E20="Stručni saradnik",1,IF(E20="Član VSTV-a",2,""))) | J20: 260 | O20: =IF(G20="","",IF(G20="Ne treba raditi na predm.",1+SUM(L20:N20),(SUM(L20:N20)/G20))) | P20: =IF(K20>0,IF(G20="Ne treba raditi na predm.",O20,O20*(J20/(J20-K20))),O20) | U20: =IF(Q20="","",R20/(Q20-S20)) | V20: =IF(P20="","",IF(C20="Ne","",IF(G20="Ne treba raditi na predm.","",IF(P20>1,40,IF(U20="",IF(P20>0.95,35,IF(P20>0.9,30,IF(P20>0.85,25,IF(P20>0.8,20,IF(P20>0.75,15,IF(P20>0.7,10,IF(P20>0.5,5,0))))))),IF(U20=1,40,IF(U20>0.95,35,IF(U20>0.9,30,IF(U20>0.85,25,IF(U20>0.8,20,IF(U20>0.75,15,IF(U20>0.7,10,IF(U20>0.5,5,0)))))))))))))
A21: 13 | F21: =IF(E21="Sudija",1,IF(E21="Stručni saradnik",1,IF(E21="Član VSTV-a",2,""))) | J21: 260 | O21: =IF(G21="","",IF(G21="Ne treba raditi na predm.",1+SUM(L21:N21),(SUM(L21:N21)/G21))) | P21: =IF(K21>0,IF(G21="Ne treba raditi na predm.",O21,O21*(J21/(J21-K21))),O21) | U21: =IF(Q21="","",R21/(Q21-S21)) | V21: =IF(P21="","",IF(C21="Ne","",IF(G21="Ne treba raditi na predm.","",IF(P21>1,40,IF(U21="",IF(P21>0.95,35,IF(P21>0.9,30,IF(P21>0.85,25,IF(P21>0.8,20,IF(P21>0.75,15,IF(P21>0.7,10,IF(P21>0.5,5,0))))))),IF(U21=1,40,IF(U21>0.95,35,IF(U21>0.9,30,IF(U21>0.85,25,IF(U21>0.8,20,IF(U21>0.75,15,IF(U21>0.7,10,IF(U21>0.5,5,0)))))))))))))
A22: 14 | F22: =IF(E22="Sudija",1,IF(E22="Stručni saradnik",1,IF(E22="Član VSTV-a",2,""))) | J22: 260 | O22: =IF(G22="","",IF(G22="Ne treba raditi na predm.",1+SUM(L22:N22),(SUM(L22:N22)/G22))) | P22: =IF(K22>0,IF(G22="Ne treba raditi na predm.",O22,O22*(J22/(J22-K22))),O22) | U22: =IF(Q22="","",R22/(Q22-S22)) | V22: =IF(P22="","",IF(C22="Ne","",IF(G22="Ne treba raditi na predm.","",IF(P22>1,40,IF(U22="",IF(P22>0.95,35,IF(P22>0.9,30,IF(P22>0.85,25,IF(P22>0.8,20,IF(P22>0.75,15,IF(P22>0.7,10,IF(P22>0.5,5,0))))))),IF(U22=1,40,IF(U22>0.95,35,IF(U22>0.9,30,IF(U22>0.85,25,IF(U22>0.8,20,IF(U22>0.75,15,IF(U22>0.7,10,IF(U22>0.5,5,0)))))))))))))
... A73: 65 | F73: =IF(E73="Sudija",1,IF(E73="Stručni saradnik",1,IF(E73="Član VSTV-a",2,""))) | J73: 260 | O73: =IF(G73="","",IF(G73="Ne treba raditi na predm.",1+SUM(L73:N73),(SUM(L73:N73)/G73))) | P73: =IF(K73>0,IF(G73="Ne treba raditi na predm.",O73,O73*(J73/(J73-K73))),O73) | U73: =IF(Q73="","",R73/(Q73-S73)) | V73: =IF(P73="","",IF(C73="Ne","",IF(G73="Ne treba raditi na predm.","",IF(P73>1,40,IF(U73="",IF(P73>0.95,35,IF(P73>0.9,30,IF(P73>0.85,25,IF(P73>0.8,20,IF(P73>0.75,15,IF(P73>0.7,10,IF(P73>0.5,5,0))))))),IF(U73=1,40,IF(U73>0.95,35,IF(U73>0.9,30,IF(U73>0.85,25,IF(U73>0.8,20,IF(U73>0.75,15,IF(U73>0.7,10,IF(U73>0.5,5,0)))))))))))))
F74: =IF(E74="Sudija",1,IF(E74="Stručni saradnik",1,IF(E74="Član VSTV-a",2,""))) | J74: 260 | O74: =IF(G74="","",IF(G74="Ne treba raditi na predm.",1+SUM(L74:N74),(SUM(L74:N74)/G74))) | P74: =IF(K74>0,IF(G74="Ne treba raditi na predm.",O74,O74*(J74/(J74-K74))),O74) | U74: =IF(Q74="","",R74/(Q74-S74)) | V74: =IF(P74="","",IF(C74="Ne","",IF(G74="Ne treba raditi na predm.","",IF(P74>1,40,IF(U74="",IF(P74>0.95,35,IF(P74>0.9,30,IF(P74>0.85,25,IF(P74>0.8,20,IF(P74>0.75,15,IF(P74>0.7,10,IF(P74>0.5,5,0))))))),IF(U74=1,40,IF(U74>0.95,35,IF(U74>0.9,30,IF(U74>0.85,25,IF(U74>0.8,20,IF(U74>0.75,15,IF(U74>0.7,10,IF(U74>0.5,5,0)))))))))))))
F75: =IF(E75="Sudija",1,IF(E75="Stručni saradnik",1,IF(E75="Član VSTV-a",2,""))) | J75: 260 | O75: =IF(G75="","",IF(G75="Ne treba raditi na predm.",1+SUM(L75:N75),(SUM(L75:N75)/G75))) | P75: =IF(K75>0,IF(G75="Ne treba raditi na predm.",O75,O75*(J75/(J75-K75))),O75) | U75: =IF(Q75="","",R75/(Q75-S75)) | V75: =IF(P75="","",IF(C75="Ne","",IF(G75="Ne treba raditi na predm.","",IF(P75>1,40,IF(U75="",IF(P75>0.95,35,IF(P75>0.9,30,IF(P75>0.85,25,IF(P75>0.8,20,IF(P75>0.75,15,IF(P75>0.7,10,IF(P75>0.5,5,0))))))),IF(U75=1,40,IF(U75>0.95,35,IF(U75>0.9,30,IF(U75>0.85,25,IF(U75>0.8,20,IF(U75>0.75,15,IF(U75>0.7,10,IF(U75>0.5,5,0)))))))))))))
F76: =IF(E76="Sudija",1,IF(E76="Stručni saradnik",1,IF(E76="Član VSTV-a",2,""))) | J76: 260 | O76: =IF(G76="","",IF(G76="Ne treba raditi na predm.",1+SUM(L76:N76),(SUM(L76:N76)/G76))) | P76: =IF(K76>0,IF(G76="Ne treba raditi na predm.",O76,O76*(J76/(J76-K76))),O76) | U76: =IF(Q76="","",R76/(Q76-S76)) | V76: =IF(P76="","",IF(C76="Ne","",IF(G76="Ne treba raditi na predm.","",IF(P76>1,40,IF(U76="",IF(P76>0.95,35,IF(P76>0.9,30,IF(P76>0.85,25,IF(P76>0.8,20,IF(P76>0.75,15,IF(P76>0.7,10,IF(P76>0.5,5,0))))))),IF(U76=1,40,IF(U76>0.95,35,IF(U76>0.9,30,IF(U76>0.85,25,IF(U76>0.8,20,IF(U76>0.75,15,IF(U76>0.7,10,IF(U76>0.5,5,0)))))))))))))
F77: =IF(E77="Sudija",1,IF(E77="Stručni saradnik",1,IF(E77="Član VSTV-a",2,""))) | J77: 260 | O77: =IF(G77="","",IF(G77="Ne treba raditi na predm.",1+SUM(L77:N77),(SUM(L77:N77)/G77))) | P77: =IF(K77>0,IF(G77="Ne treba raditi na predm.",O77,O77*(J77/(J77-K77))),O77) | U77: =IF(Q77="","",R77/(Q77-S77)) | V77: =IF(P77="","",IF(C77="Ne","",IF(G77="Ne treba raditi na predm.","",IF(P77>1,40,IF(U77="",IF(P77>0.95,35,IF(P77>0.9,30,IF(P77>0.85,25,IF(P77>0.8,20,IF(P77>0.75,15,IF(P77>0.7,10,IF(P77>0.5,5,0))))))),IF(U77=1,40,IF(U77>0.95,35,IF(U77>0.9,30,IF(U77>0.85,25,IF(U77>0.8,20,IF(U77>0.75,15,IF(U77>0.7,10,IF(U77>0.5,5,0)))))))))))))
F78: =IF(E78="Sudija",1,IF(E78="Stručni saradnik",1,IF(E78="Član VSTV-a",2,""))) | J78: 260 | O78: =IF(G78="","",IF(G78="Ne treba raditi na predm.",1+SUM(L78:N78),(SUM(L78:N78)/G78))) | P78: =IF(K78>0,IF(G78="Ne treba raditi na predm.",O78,O78*(J78/(J78-K78))),O78) | U78: =IF(Q78="","",R78/(Q78-S78)) | V78: =IF(P78="","",IF(C78="Ne","",IF(G78="Ne treba raditi na predm.","",IF(P78>1,40,IF(U78="",IF(P78>0.95,35,IF(P78>0.9,30,IF(P78>0.85,25,IF(P78>0.8,20,IF(P78>0.75,15,IF(P78>0.7,10,IF(P78>0.5,5,0))))))),IF(U78=1,40,IF(U78>0.95,35,IF(U78>0.9,30,IF(U78>0.85,25,IF(U78>0.8,20,IF(U78>0.75,15,IF(U78>0.7,10,IF(U78>0.5,5,0)))))))))))))
O79: KOLEKTIVNA NORMA SUDA | P79: =IF(P8="",IF(P9="","",AVERAGEIF(P8:P78,">0,2")),AVERAGEIF(P8:P78,">0,2")) | Q79: =SUM(Q8:Q78) -> 0 | R79: =SUM(R8:R78) -> 0 | S79: =SUM(S8:S78) -> 0 | T79: =SUM(T8:T78) -> 0 | U79: =IF(Q79=0,"",R79/(Q79-S79))
O80: BODOVANJE ZA OSTVARENU KOLEKTIVNU NORMU SUDA U SKLADU SA ČLANOM 22. KRITERIJA ZA OCJENJIVANJE RADA PREDSJEDNIKA SUDOVA | P80: =IF(P79="","",IF(P79>1,20,IF(P79>0.95,18,IF(P79>0.9,15,IF(P79>0.85,13,IF(P79>0.8,10,IF(P79>0.75,8,IF(P79>0.7,5,IF(P79>0.5,3,0)))))))))
B82: Obrazloženje norme NPF-a unesene u plava polja
B83: Primjer - Sudija 1 | C83: 8 mjeseci sudija, 4 mjeseca šef odjela (90% norme sudije) | G83: 0.97
Q90: Nedovoljan broj predmeta u radu
A91: NAPOMENA 1: U Tabelu IIa se unose podaci o ostvarenoj orijentacijskoj normi za sve nosioce pravosudnih funkcija, uključujući i one kod kojih je ukupno ostvarenje norme ispod 20%: novoimenovane sudije/stručni saradnici, sudije/stručni saradnici koji su imenovani u drugu instituciju, kao i sudije/stručni saradnici koji su prestali sa radom zbog: penzionisanja, podnošenja ostavke, smrti, gubitka radne sposobnosti, razrješenja od dužnosti, privremenog ili trajnog udaljenja od vršenja dužnosti itd. (član 5. Uputstva za primjenu Kriterija za ocjenjivanje rada predsjednika sudova u Bosni i Hercegovini i Kriterija za ocjenjivanje rada sudija u Bosni i Hercegovini). Ostvarena kolektivna norma suda automatski će se obračunati i predsjedniku suda će se dodijeliti odgovarajući broj bodova u skladu sa članom 22. Kriterija za ocjenjivanje rada predsjednika sudova u Bosni i Hercegovini. Ukoliko sud nije imao dovoljan broj predmeta u radu za ostvarenje orijentacijske norme, potrebno je manuelno unijeti ukupan broj predmeta koji su bili u radu u sudu kao i ukupan broj riješenih predmeta u sudu u periodu izvještavanja, kao i podatke o broju neriješenih predmeta sa zakonskim i procesnim smetnjama i broju neriješenih predmeta bez zakonskih i procesnih smetnji. Procenat riješenih predmeta automatski će se obračunati, te predsjedniku suda dodijeliti odgovarajući broj bodova u skladu sa članom 23. Kriterija za ocjenjivanje rada predsjednika sudova u Bosni i Hercegovini. | Q91: broj predmeta u radu | R91: broj riješenih predmeta | S91: broj neriješenih predmeta sa zakonskim i procesnim smetnjama | T91: broj neriješenih predmeta bez zakonskih i procesnih smetnji | U91: procenat riješenih predmeta
U92: =IF(Q92="","",R92/(Q92-S92))
T93: BODOVANJE ZA BROJ RIJEŠENIH PREDMETA U SUDU U SKLADU SA ČLANOM 23. KRITERIJA ZA OCJENJIVANJE RADA PREDSJEDNIKA SUDOVA | U93: =IF(U92="","",IF(U92=1,20,IF(U92>0.95,18,IF(U92>0.9,15,IF(U92>0.85,13,IF(U92>0.8,10,IF(U92>0.75,8,IF(U92>0.7,5,IF(U92>0.5,3,0)))))))))
A96: Tabela IIb -Obračun norme za proces ocjenjivaja za nosioce pravosudne funkcije koji su u toku godine prešli iz jednog suda u drugi sud - Obračun prema Instrukciji dio: II POSEBNI SLUČAJEVI OCJENJIVANJA 3) a) (pogledati NAPOMENU 4)
A97: Ime i prezime predsjednika suda | O97: Ukupna ostvarena orijentacijska norma koja se unosi u Obrazac za ocjenjivanje = | P97: =P98+P99 -> 0
A98: Sud 1 | E98: Predsjednik suda | O98: =IF(G98="",0,IF(G98="Ne treba raditi na predm.",1+SUM(L98:N98),(SUM(L98:N98)/G98))) -> 0 | P98: =IF(K98>0,O98*(J98/(J98-K98)),O98) -> 0 | U98: =IF(Q98="","",R98/(Q98-S98)) | V98: =IF(P98="","",IF(C98="Ne","",IF(G98="Ne treba raditi na predm.","",IF((P98+P99)>1,20,IF(U98="",IF((P98+P99)>0.95,18,IF((P98+P99)>0.9,15,IF((P98+P99)>0.85,13,IF((P98+P99)>0.8,10,IF((P98+P99)>0.75,8,IF((P98+P99)>0.7,5,IF((P98+P99)>0.5,3,0))))))),IF((U98+U99)=1,20,IF((U98+U99)>0.95,18,IF((U98+U99)>0.9,15,IF((U98+U99)>0.85,13,IF((U98+U99)>0.8,10,IF((U98+U99)>0.75,8,IF((U98+U99)>0.7,5,IF((U98+U99)>0.5,3,0))))))))))))) -> 0
A99: Sud 2 | F99: =IF(E99="Sudija",1,IF(E99="Stručni saradnik",1,IF(E99="Član VSTV-a",2,""))) | O99: =IF(G99="",0,IF(G99="Ne treba raditi na predm.",1+SUM(L99:N99),(SUM(L99:N99)/G99))) -> 0 | P99: =IF(K99>0,O99*(J99/(J99-K99)),O99) -> 0 | U99: =IF(Q99="","",R99/(Q99-S99)) | V99: =IF(P99="","",IF(C99="Ne","",IF(G99="Ne treba raditi na predm.","",IF((P98+P99)>1,40,IF(U99="",IF((P98+P99)>0.95,35,IF((P98+P99)>0.9,30,IF((P98+P99)>0.85,25,IF((P98+P99)>0.8,20,IF((P98+P99)>0.75,15,IF((P98+P99)>0.7,10,IF((P98+P99)>0.5,5,0))))))),IF((U98+U99)=1,40,IF((U98+U99)>0.95,35,IF((U98+U99)>0.9,30,IF((U98+U99)>0.85,25,IF((U98+U99)>0.8,20,IF((U98+U99)>0.75,15,IF((U98+U99)>0.7,10,IF((U98+U99)>0.5,5,0))))))))))))) -> 0
A100: Ime i prezime nosioca pravosudne funkcije | O100: Ukupna ostvarena orijentacijska norma koja se unosi u Obrazac za ocjenjivanje = | P100: =P101+P102 -> 0
A101: Sud 1 | F101: =IF(E101="Sudija",1,IF(E101="Stručni saradnik",1,IF(E101="Član VSTV-a",2,""))) | O101: =IF(G101="",0,IF(G101="Ne treba raditi na predm.",1+SUM(L101:N101),(SUM(L101:N101)/G101))) -> 0 | P101: =IF(K101>0,O101*(J101/(J101-K101)),O101) -> 0 | U101: =IF(Q101="","",R101/(Q101-S101)) | V101: =IF(P101="","",IF(C101="Ne","",IF(G101="Ne treba raditi na predm.","",IF((P101+P102)>1,40,IF(U101="",IF((P101+P102)>0.95,35,IF((P101+P102)>0.9,30,IF((P101+P102)>0.85,25,IF((P101+P102)>0.8,20,IF((P101+P102)>0.75,15,IF((P101+P102)>0.7,10,IF((P101+P102)>0.5,5,0))))))),IF((U101+U102)=1,40,IF((U101+U102)>0.95,35,IF((U101+U102)>0.9,30,IF((U101+U102)>0.85,25,IF((U101+U102)>0.8,20,IF((U101+U102)>0.75,15,IF((U101+U102)>0.7,10,IF((U101+U102)>0.5,5,0))))))))))))) -> 0
A102: Sud 2 | F102: =IF(E102="Sudija",1,IF(E102="Stručni saradnik",1,IF(E102="Član VSTV-a",2,""))) | O102: =IF(G102="",0,IF(G102="Ne treba raditi na predm.",1+SUM(L102:N102),(SUM(L102:N102)/G102))) -> 0 | P102: =IF(K102>0,O102*(J102/(J102-K102)),O102) -> 0 | U102: =IF(Q102="","",R102/(Q102-S102)) | V102: =IF(P102="","",IF(C102="Ne","",IF(G102="Ne treba raditi na predm.","",IF((P101+P102)>1,40,IF(U102="",IF((P101+P102)>0.95,35,IF((P101+P102)>0.9,30,IF((P101+P102)>0.85,25,IF((P101+P102)>0.8,20,IF((P101+P102)>0.75,15,IF((P101+P102)>0.7,10,IF((P101+P102)>0.5,5,0))))))),IF((U101+U102)=1,40,IF((U101+U102)>0.95,35,IF((U101+U102)>0.9,30,IF((U101+U102)>0.85,25,IF((U101+U102)>0.8,20,IF((U101+U102)>0.75,15,IF((U101+U102)>0.7,10,IF((U101+U102)>0.5,5,0))))))))))))) -> 0
A103: Ime i prezime nosioca pravosudne funkcije | O103: Ukupna ostvarena orijentacijska norma koja se unosi u Obrazac za ocjenjivanje = | P103: =P104+P105 -> 0
A104: Sud 1 | F104: =IF(E104="Sudija",1,IF(E104="Stručni saradnik",1,IF(E104="Član VSTV-a",2,""))) | O104: =IF(G104="",0,IF(G104="Ne treba raditi na predm.",1+SUM(L104:N104),(SUM(L104:N104)/G104))) -> 0 | P104: =IF(K104>0,O104*(J104/(J104-K104)),O104) -> 0 | U104: =IF(Q104="","",R104/(Q104-S104)) | V104: =IF(P104="","",IF(C104="Ne","",IF(G104="Ne treba raditi na predm.","",IF((P104+P105)>1,40,IF(U104="",IF((P104+P105)>0.95,35,IF((P104+P105)>0.9,30,IF((P104+P105)>0.85,25,IF((P104+P105)>0.8,20,IF((P104+P105)>0.75,15,IF((P104+P105)>0.7,10,IF((P104+P105)>0.5,5,0))))))),IF((U104+U105)=1,40,IF((U104+U105)>0.95,35,IF((U104+U105)>0.9,30,IF((U104+U105)>0.85,25,IF((U104+U105)>0.8,20,IF((U104+U105)>0.75,15,IF((U104+U105)>0.7,10,IF((U104+U105)>0.5,5,0))))))))))))) -> 0
A105: Sud 2 | F105: =IF(E105="Sudija",1,IF(E105="Stručni saradnik",1,IF(E105="Član VSTV-a",2,""))) | O105: =IF(G105="",0,IF(G105="Ne treba raditi na predm.",1+SUM(L105:N105),(SUM(L105:N105)/G105))) -> 0 | P105: =IF(K105>0,O105*(J105/(J105-K105)),O105) -> 0 | U105: =IF(Q105="","",R105/(Q105-S105)) | V105: =IF(P105="","",IF(C105="Ne","",IF(G105="Ne treba raditi na predm.","",IF((P104+P105)>1,40,IF(U105="",IF((P104+P105)>0.95,35,IF((P104+P105)>0.9,30,IF((P104+P105)>0.85,25,IF((P104+P105)>0.8,20,IF((P104+P105)>0.75,15,IF((P104+P105)>0.7,10,IF((P104+P105)>0.5,5,0))))))),IF((U104+U105)=1,40,IF((U104+U105)>0.95,35,IF((U104+U105)>0.9,30,IF((U104+U105)>0.85,25,IF((U104+U105)>0.8,20,IF((U104+U105)>0.75,15,IF((U104+U105)>0.7,10,IF((U104+U105)>0.5,5,0))))))))))))) -> 0
A106: Ime i prezime nosioca pravosudne funkcije | O106: Ukupna ostvarena orijentacijska norma koja se unosi u Obrazac za ocjenjivanje = | P106: =P107+P108 -> 0
A107: Sud 1 | F107: =IF(E107="Sudija",1,IF(E107="Stručni saradnik",1,IF(E107="Član VSTV-a",2,""))) | O107: =IF(G107="",0,IF(G107="Ne treba raditi na predm.",1+SUM(L107:N107),(SUM(L107:N107)/G107))) -> 0 | P107: =IF(K107>0,O107*(J107/(J107-K107)),O107) -> 0 | U107: =IF(Q107="","",R107/(Q107-S107)) | V107: =IF(P107="","",IF(C107="Ne","",IF(G107="Ne treba raditi na predm.","",IF((P107+P108)>1,40,IF(U107="",IF((P107+P108)>0.95,35,IF((P107+P108)>0.9,30,IF((P107+P108)>0.85,25,IF((P107+P108)>0.8,20,IF((P107+P108)>0.75,15,IF((P107+P108)>0.7,10,IF((P107+P108)>0.5,5,0))))))),IF((U107+U108)=1,40,IF((U107+U108)>0.95,35,IF((U107+U108)>0.9,30,IF((U107+U108)>0.85,25,IF((U107+U108)>0.8,20,IF((U107+U108)>0.75,15,IF((U107+U108)>0.7,10,IF((U107+U108)>0.5,5,0))))))))))))) -> 0
A108: Sud 2 | F108: =IF(E108="Sudija",1,IF(E108="Stručni saradnik",1,IF(E108="Član VSTV-a",2,""))) | O108: =IF(G108="",0,IF(G108="Ne treba raditi na predm.",1+SUM(L108:N108),(SUM(L108:N108)/G108))) -> 0 | P108: =IF(K108>0,O108*(J108/(J108-K108)),O108) -> 0 | U108: =IF(Q108="","",R108/(Q108-S108)) | V108: =IF(P108="","",IF(C108="Ne","",IF(G108="Ne treba raditi na predm.","",IF((P107+P108)>1,40,IF(U108="",IF((P107+P108)>0.95,35,IF((P107+P108)>0.9,30,IF((P107+P108)>0.85,25,IF((P107+P108)>0.8,20,IF((P107+P108)>0.75,15,IF((P107+P108)>0.7,10,IF((P107+P108)>0.5,5,0))))))),IF((U107+U108)=1,40,IF((U107+U108)>0.95,35,IF((U107+U108)>0.9,30,IF((U107+U108)>0.85,25,IF((U107+U108)>0.8,20,IF((U107+U108)>0.75,15,IF((U107+U108)>0.7,10,IF((U107+U108)>0.5,5,0))))))))))))) -> 0
A109: Ime i prezime nosioca pravosudne funkcije | O109: Ukupna ostvarena orijentacijska norma koja se unosi u Obrazac za ocjenjivanje = | P109: =P110+P111 -> 0
A110: Sud 1 | F110: =IF(E110="Sudija",1,IF(E110="Stručni saradnik",1,IF(E110="Član VSTV-a",2,""))) | O110: =IF(G110="",0,IF(G110="Ne treba raditi na predm.",1+SUM(L110:N110),(SUM(L110:N110)/G110))) -> 0 | P110: =IF(K110>0,O110*(J110/(J110-K110)),O110) -> 0 | U110: =IF(Q110="","",R110/(Q110-S110)) | V110: =IF(P110="","",IF(C110="Ne","",IF(G110="Ne treba raditi na predm.","",IF((P110+P111)>1,40,IF(U110="",IF((P110+P111)>0.95,35,IF((P110+P111)>0.9,30,IF((P110+P111)>0.85,25,IF((P110+P111)>0.8,20,IF((P110+P111)>0.75,15,IF((P110+P111)>0.7,10,IF((P110+P111)>0.5,5,0))))))),IF((U110+U111)=1,40,IF((U110+U111)>0.95,35,IF((U110+U111)>0.9,30,IF((U110+U111)>0.85,25,IF((U110+U111)>0.8,20,IF((U110+U111)>0.75,15,IF((U110+U111)>0.7,10,IF((U110+U111)>0.5,5,0))))))))))))) -> 0
A111: Sud 2 | F111: =IF(E111="Sudija",1,IF(E111="Stručni saradnik",1,IF(E111="Član VSTV-a",2,""))) | O111: =IF(G111="",0,IF(G111="Ne treba raditi na predm.",1+SUM(L111:N111),(SUM(L111:N111)/G111))) -> 0 | P111: =IF(K111>0,O111*(J111/(J111-K111)),O111) -> 0 | U111: =IF(Q111="","",R111/(Q111-S111)) | V111: =IF(P111="","",IF(C111="Ne","",IF(G111="Ne treba raditi na predm.","",IF((P110+P111)>1,40,IF(U111="",IF((P110+P111)>0.95,35,IF((P110+P111)>0.9,30,IF((P110+P111)>0.85,25,IF((P110+P111)>0.8,20,IF((P110+P111)>0.75,15,IF((P110+P111)>0.7,10,IF((P110+P111)>0.5,5,0))))))),IF((U110+U111)=1,40,IF((U110+U111)>0.95,35,IF((U110+U111)>0.9,30,IF((U110+U111)>0.85,25,IF((U110+U111)>0.8,20,IF((U110+U111)>0.75,15,IF((U110+U111)>0.7,10,IF((U110+U111)>0.5,5,0))))))))))))) -> 0
A112: Ime i prezime nosioca pravosudne funkcije | O112: Ukupna ostvarena orijentacijska norma koja se unosi u Obrazac za ocjenjivanje = | P112: =P113+P114 -> 0
A113: Sud 1 | F113: =IF(E113="Sudija",1,IF(E113="Stručni saradnik",1,IF(E113="Član VSTV-a",2,""))) | O113: =IF(G113="",0,IF(G113="Ne treba raditi na predm.",1+SUM(L113:N113),(SUM(L113:N113)/G113))) -> 0 | P113: =IF(K113>0,O113*(J113/(J113-K113)),O113) -> 0 | U113: =IF(Q113="","",R113/(Q113-S113)) | V113: =IF(P113="","",IF(C113="Ne","",IF(G113="Ne treba raditi na predm.","",IF((P113+P114)>1,40,IF(U113="",IF((P113+P114)>0.95,35,IF((P113+P114)>0.9,30,IF((P113+P114)>0.85,25,IF((P113+P114)>0.8,20,IF((P113+P114)>0.75,15,IF((P113+P114)>0.7,10,IF((P113+P114)>0.5,5,0))))))),IF((U113+U114)=1,40,IF((U113+U114)>0.95,35,IF((U113+U114)>0.9,30,IF((U113+U114)>0.85,25,IF((U113+U114)>0.8,20,IF((U113+U114)>0.75,15,IF((U113+U114)>0.7,10,IF((U113+U114)>0.5,5,0))))))))))))) -> 0
A114: Sud 2 | F114: =IF(E114="Sudija",1,IF(E114="Stručni saradnik",1,IF(E114="Član VSTV-a",2,""))) | O114: =IF(G114="",0,IF(G114="Ne treba raditi na predm.",1+SUM(L114:N114),(SUM(L114:N114)/G114))) -> 0 | P114: =IF(K114>0,O114*(J114/(J114-K114)),O114) -> 0 | U114: =IF(Q114="","",R114/(Q114-S114)) | V114: =IF(P114="","",IF(C114="Ne","",IF(G114="Ne treba raditi na predm.","",IF((P113+P114)>1,40,IF(U114="",IF((P113+P114)>0.95,35,IF((P113+P114)>0.9,30,IF((P113+P114)>0.85,25,IF((P113+P114)>0.8,20,IF((P113+P114)>0.75,15,IF((P113+P114)>0.7,10,IF((P113+P114)>0.5,5,0))))))),IF((U113+U114)=1,40,IF((U113+U114)>0.95,35,IF((U113+U114)>0.9,30,IF((U113+U114)>0.85,25,IF((U113+U114)>0.8,20,IF((U113+U114)>0.75,15,IF((U113+U114)>0.7,10,IF((U113+U114)>0.5,5,0))))))))))))) -> 0
A115: Ime i prezime nosioca pravosudne funkcije | O115: Ukupna ostvarena orijentacijska norma koja se unosi u Obrazac za ocjenjivanje = | P115: =P116+P117 -> 0
A116: Sud 1 | F116: =IF(E116="Sudija",1,IF(E116="Stručni saradnik",1,IF(E116="Član VSTV-a",2,""))) | O116: =IF(G116="",0,IF(G116="Ne treba raditi na predm.",1+SUM(L116:N116),(SUM(L116:N116)/G116))) -> 0 | P116: =IF(K116>0,O116*(J116/(J116-K116)),O116) -> 0 | U116: =IF(Q116="","",R116/(Q116-S116)) | V116: =IF(P116="","",IF(C116="Ne","",IF(G116="Ne treba raditi na predm.","",IF((P116+P117)>1,40,IF(U116="",IF((P116+P117)>0.95,35,IF((P116+P117)>0.9,30,IF((P116+P117)>0.85,25,IF((P116+P117)>0.8,20,IF((P116+P117)>0.75,15,IF((P116+P117)>0.7,10,IF((P116+P117)>0.5,5,0))))))),IF((U116+U117)=1,40,IF((U116+U117)>0.95,35,IF((U116+U117)>0.9,30,IF((U116+U117)>0.85,25,IF((U116+U117)>0.8,20,IF((U116+U117)>0.75,15,IF((U116+U117)>0.7,10,IF((U116+U117)>0.5,5,0))))))))))))) -> 0
A117: Sud 2 | F117: =IF(E117="Sudija",1,IF(E117="Stručni saradnik",1,IF(E117="Član VSTV-a",2,""))) | O117: =IF(G117="",0,IF(G117="Ne treba raditi na predm.",1+SUM(L117:N117),(SUM(L117:N117)/G117))) -> 0 | P117: =IF(K117>0,O117*(J117/(J117-K117)),O117) -> 0 | U117: =IF(Q117="","",R117/(Q117-S117)) | V117: =IF(P117="","",IF(C117="Ne","",IF(G117="Ne treba raditi na predm.","",IF((P116+P117)>1,40,IF(U117="",IF((P116+P117)>0.95,35,IF((P116+P117)>0.9,30,IF((P116+P117)>0.85,25,IF((P116+P117)>0.8,20,IF((P116+P117)>0.75,15,IF((P116+P117)>0.7,10,IF((P116+P117)>0.5,5,0))))))),IF((U116+U117)=1,40,IF((U116+U117)>0.95,35,IF((U116+U117)>0.9,30,IF((U116+U117)>0.85,25,IF((U116+U117)>0.8,20,IF((U116+U117)>0.75,15,IF((U116+U117)>0.7,10,IF((U116+U117)>0.5,5,0))))))))))))) -> 0
A118: Ime i prezime nosioca pravosudne funkcije | O118: Ukupna ostvarena orijentacijska norma koja se unosi u Obrazac za ocjenjivanje = | P118: =P119+P120 -> 0
A119: Sud 1 | F119: =IF(E119="Sudija",1,IF(E119="Stručni saradnik",1,IF(E119="Član VSTV-a",2,""))) | O119: =IF(G119="",0,IF(G119="Ne treba raditi na predm.",1+SUM(L119:N119),(SUM(L119:N119)/G119))) -> 0 | P119: =IF(K119>0,O119*(J119/(J119-K119)),O119) -> 0 | U119: =IF(Q119="","",R119/(Q119-S119)) | V119: =IF(P119="","",IF(C119="Ne","",IF(G119="Ne treba raditi na predm.","",IF((P119+P120)>1,40,IF(U119="",IF((P119+P120)>0.95,35,IF((P119+P120)>0.9,30,IF((P119+P120)>0.85,25,IF((P119+P120)>0.8,20,IF((P119+P120)>0.75,15,IF((P119+P120)>0.7,10,IF((P119+P120)>0.5,5,0))))))),IF((U119+U120)=1,40,IF((U119+U120)>0.95,35,IF((U119+U120)>0.9,30,IF((U119+U120)>0.85,25,IF((U119+U120)>0.8,20,IF((U119+U120)>0.75,15,IF((U119+U120)>0.7,10,IF((U119+U120)>0.5,5,0))))))))))))) -> 0
A120: Sud 2 | F120: =IF(E120="Sudija",1,IF(E120="Stručni saradnik",1,IF(E120="Član VSTV-a",2,""))) | O120: =IF(G120="",0,IF(G120="Ne treba raditi na predm.",1+SUM(L120:N120),(SUM(L120:N120)/G120))) -> 0 | P120: =IF(K120>0,O120*(J120/(J120-K120)),O120) -> 0 | U120: =IF(Q120="","",R120/(Q120-S120)) | V120: =IF(P120="","",IF(C120="Ne","",IF(G120="Ne treba raditi na predm.","",IF((P119+P120)>1,40,IF(U120="",IF((P119+P120)>0.95,35,IF((P119+P120)>0.9,30,IF((P119+P120)>0.85,25,IF((P119+P120)>0.8,20,IF((P119+P120)>0.75,15,IF((P119+P120)>0.7,10,IF((P119+P120)>0.5,5,0))))))),IF((U119+U120)=1,40,IF((U119+U120)>0.95,35,IF((U119+U120)>0.9,30,IF((U119+U120)>0.85,25,IF((U119+U120)>0.8,20,IF((U119+U120)>0.75,15,IF((U119+U120)>0.7,10,IF((U119+U120)>0.5,5,0))))))))))))) -> 0
A121: Ime i prezime nosioca pravosudne funkcije | O121: Ukupna ostvarena orijentacijska norma koja se unosi u Obrazac za ocjenjivanje = | P121: =P122+P123 -> 0
A122: Sud 1 | F122: =IF(E122="Sudija",1,IF(E122="Stručni saradnik",1,IF(E122="Član VSTV-a",2,""))) | O122: =IF(G122="",0,IF(G122="Ne treba raditi na predm.",1+SUM(L122:N122),(SUM(L122:N122)/G122))) -> 0 | P122: =IF(K122>0,O122*(J122/(J122-K122)),O122) -> 0 | U122: =IF(Q122="","",R122/(Q122-S122)) | V122: =IF(P122="","",IF(C122="Ne","",IF(G122="Ne treba raditi na predm.","",IF((P122+P123)>1,40,IF(U122="",IF((P122+P123)>0.95,35,IF((P122+P123)>0.9,30,IF((P122+P123)>0.85,25,IF((P122+P123)>0.8,20,IF((P122+P123)>0.75,15,IF((P122+P123)>0.7,10,IF((P122+P123)>0.5,5,0))))))),IF((U122+U123)=1,40,IF((U122+U123)>0.95,35,IF((U122+U123)>0.9,30,IF((U122+U123)>0.85,25,IF((U122+U123)>0.8,20,IF((U122+U123)>0.75,15,IF((U122+U123)>0.7,10,IF((U122+U123)>0.5,5,0))))))))))))) -> 0
A123: Sud 2 | F123: =IF(E123="Sudija",1,IF(E123="Stručni saradnik",1,IF(E123="Član VSTV-a",2,""))) | O123: =IF(G123="",0,IF(G123="Ne treba raditi na predm.",1+SUM(L123:N123),(SUM(L123:N123)/G123))) -> 0 | P123: =IF(K123>0,O123*(J123/(J123-K123)),O123) -> 0 | U123: =IF(Q123="","",R123/(Q123-S123)) | V123: =IF(P123="","",IF(C123="Ne","",IF(G123="Ne treba raditi na predm.","",IF((P122+P123)>1,40,IF(U123="",IF((P122+P123)>0.95,35,IF((P122+P123)>0.9,30,IF((P122+P123)>0.85,25,IF((P122+P123)>0.8,20,IF((P122+P123)>0.75,15,IF((P122+P123)>0.7,10,IF((P122+P123)>0.5,5,0))))))),IF((U122+U123)=1,40,IF((U122+U123)>0.95,35,IF((U122+U123)>0.9,30,IF((U122+U123)>0.85,25,IF((U122+U123)>0.8,20,IF((U122+U123)>0.75,15,IF((U122+U123)>0.7,10,IF((U122+U123)>0.5,5,0))))))))))))) -> 0
A124: Ime i prezime nosioca pravosudne funkcije | O124: Ukupna ostvarena orijentacijska norma koja se unosi u Obrazac za ocjenjivanje = | P124: =P125+P126 -> 0
A125: Sud 1 | F125: =IF(E125="Sudija",1,IF(E125="Stručni saradnik",1,IF(E125="Član VSTV-a",2,""))) | O125: =IF(G125="",0,IF(G125="Ne treba raditi na predm.",1+SUM(L125:N125),(SUM(L125:N125)/G125))) -> 0 | P125: =IF(K125>0,O125*(J125/(J125-K125)),O125) -> 0 | U125: =IF(Q125="","",R125/(Q125-S125)) | V125: =IF(P125="","",IF(C125="Ne","",IF(G125="Ne treba raditi na predm.","",IF((P125+P126)>1,40,IF(U125="",IF((P125+P126)>0.95,35,IF((P125+P126)>0.9,30,IF((P125+P126)>0.85,25,IF((P125+P126)>0.8,20,IF((P125+P126)>0.75,15,IF((P125+P126)>0.7,10,IF((P125+P126)>0.5,5,0))))))),IF((U125+U126)=1,40,IF((U125+U126)>0.95,35,IF((U125+U126)>0.9,30,IF((U125+U126)>0.85,25,IF((U125+U126)>0.8,20,IF((U125+U126)>0.75,15,IF((U125+U126)>0.7,10,IF((U125+U126)>0.5,5,0))))))))))))) -> 0
A126: Sud 2 | F126: =IF(E126="Sudija",1,IF(E126="Stručni saradnik",1,IF(E126="Član VSTV-a",2,""))) | O126: =IF(G126="",0,IF(G126="Ne treba raditi na predm.",1+SUM(L126:N126),(SUM(L126:N126)/G126))) -> 0 | P126: =IF(K126>0,O126*(J126/(J126-K126)),O126) -> 0 | U126: =IF(Q126="","",R126/(Q126-S126)) | V126: =IF(P126="","",IF(C126="Ne","",IF(G126="Ne treba raditi na predm.","",IF((P125+P126)>1,40,IF(U126="",IF((P125+P126)>0.95,35,IF((P125+P126)>0.9,30,IF((P125+P126)>0.85,25,IF((P125+P126)>0.8,20,IF((P125+P126)>0.75,15,IF((P125+P126)>0.7,10,IF((P125+P126)>0.5,5,0))))))),IF((U125+U126)=1,40,IF((U125+U126)>0.95,35,IF((U125+U126)>0.9,30,IF((U125+U126)>0.85,25,IF((U125+U126)>0.8,20,IF((U125+U126)>0.75,15,IF((U125+U126)>0.7,10,IF((U125+U126)>0.5,5,0))))))))))))) -> 0
B129: NAPOMENA 2: Kolona IX (Ukupan broj dana za obračun norme) je popunjena (260) i odnosi se na NPF-e koji su radili cijelu godinu u jednoj instituciji. Ukoliko NPF nije obavljao funkciju u pravosudnoj instituciji tokom cijele godine (Novoimenovani NPF ili NPF koji je u toku godine prestao obavljati pravosudnu funkciju) vrši se preračun broja radnih dana. Npr. Sudija počeo sa radom 1.4.2022. Ukupan broj dana za obračun norme = (365 – 31 – 28 – 31) / 7 * 5 = 196
B131: NAPOMENA 3: Ukoliko je nosilac pravosudne funkcije dužan ostvariti procenat orijentacijske norme koji nije ponuđen u padajućem meniju u poljima iz kolone VI, podaci o ostvarenoj orijentacijskoj normi takvog nosioca pravosudne funkcije se unose u dio obrasca u kojem su polja kolone VI označena plavom bojom. Ostvarena orijentaciona norma se obračunava u skladu sa tačkom II 1). Instrukcije za obračun individualne i kolektivne orijentacione norme u sudovima, primjena člana 15. stav 4. Pravilnika o orijentacionim mjerilima za rad sudija i stručnih saradnika u sudovima u BiH.
B133: NAPOMENA 4: U Tabelu IIa se unose podaci za sve nosioce pravosudne funkcije koji su u toku godine obavljali funkciju u sudu. Ukoliko je nosilac pravosudne funkcije u toku godine prvi put imenovan u sud, ili je obavljao funkciju u dva suda (bez obzira na nivo suda), ili je napustio pravosuđe u Tabelu IIa se unose podaci koje je nosilac pravosudne funkcije ostvario u sudu koji popunjava Tabelu IIa, a podaci o ostvarenoj normi se obračunavaju u skladu Instrukcijom za obračun individualne i kolektivne orijentacione norme u sudovima (II dio - tačka 3a - za obračun kolektivne norme). Tabelu IIb popunjava sud koje provodi postupak ocjenjivanja rezultata rada nosioca pravosudne funkcije koji je tokom godine obavljao funkciju u dva suda (bez obzira na nivo suda). Podaci o ostvarenoj normi se obračunavaju u skladu sa Instrukcijom za obračun individualne i kolektivne orijentacione norme u sudovima (II dio – tačka 2 i tačka 3a - za proces ocjenjivanja). U obrazac za ocjenjivanje rada unosi se podatak o broju ostvarenih bodova iz Tabele IIb.
B136: NAPOMENA 5: Posebno obratiti pažnju na dio Uputstva uz ovu tabelu koji propisuje način prikazivanja podataka o ostvarenoj orijentacionoj normi i broju riješenih predmeta u okolnostima kada nosilac pravosudne funkcije nije imao dovoljan broj predmeta u radu za ostvarenje propisane godišnje norme, kao i na odgovarajuće odredbe Uputstva za primjenu Kriterija za ocjenjivanje rada predsjednika sudova u Bosni i Hercegovini i Kriterija za ocjenjivanje rada sudija u Bosni i Hercegovini
B138: NAPOMENA 6: Podatak o ostvarenoj orijentacionoj normi na predmetima van CMS-a se preuzima iz POMOĆNE TABELE ZA OBRAČUN NORME OSTVARENE NA PREDMETIMA VAN CMS-a
B140: NAPOMENA 7: Podatak o Procentu ostvarene orijentacijske norme prema čl 9. Pravilnika o orijentacijskim mjerilima se preuzima iz POMOĆNE TABELE ZA VEĆE VREDNOVANJE PREDMETA
B142: NAPOMENA 8: Pomoćne tabele navedene u NAPOMENAMA 6 i 7 kao i ostale materijale u vezi postupka ocjenjivanja rada NPF za 2022. godinu možete preuzeti putem linka:
B143: https://vstv.pravosudje.ba/vstvfo/B/141/article/106391
B144: NAPOMENA 9: Podatak o broju dana opravdanog odsustva iz člana 13. Kriterija za ocjenjivanje rada obavezno preuzeti iz pomoćne tabele.

Sheet Tabela III
A1: =+'Tabela I'!A1 -> Osnovni sud Brčko Distrikta
A2: Izvještajni period: | B2: ='Tabela I'!C2 -> 1.1.2022.- 31.12.2022.
A3: Tabela III - Kvalitet sudskih odluka po vrstama predmeta
A4: Vrsta predmeta | B4: Broj donesenih odluka na koje se može izjaviti pravni lijek | C4: Ukupan broj ožalbenih odluka | D4: Broj odbačenih pravnih lijekova | E4: Broj potvrđenih odluka | F4: Broj preinačenih odluka | G4: Broj preinačenih odluka donijetih nakon održane glavne rasprave ili pretresa pred drugostepenim sudom | H4: Broj ukinutih odluka | I4: Broj djelimično ukinutih odluka | J4: Kvalitet sudskih odluka | K4: Broj presuda koje su ukinute i predmet je vraćen na ponovno suđenje
E5: Odbijen pravni lijek
B6: I | C6: II=IV+V+VI+ VII+VIII) | D6: III | E6: IV | F6: V | G6: VI | H6: VII | I6: VIII | J6: IX1 | K6: X
A7: Parnični referat
A8: P | C8: =E8+F8+G8+H8+I8 -> 0 | J8: =IF(C8=0,"",IF(B8=0,1,0.75*((C8-H8-I8/2)/C8)+0.25*((B8-G8-H8-I8/2)/B8)))
A9: Mal | C9: =E9+F9+G9+H9+I9 -> 0 | J9: =IF(C9=0,"",IF(B9=0,1,0.75*((C9-H9-I9/2)/C9)+0.25*((B9-G9-H9-I9/2)/B9)))
A10: Radni sporovi | C10: =E10+F10+G10+H10+I10 -> 0 | J10: =IF(C10=0,"",IF(B10=0,1,0.75*((C10-H10-I10/2)/C10)+0.25*((B10-G10-H10-I10/2)/B10)))
A11: Pom | C11: =E11+F11+G11+H11+I11 -> 0 | J11: =IF(C11=0,"",IF(B11=0,1,0.75*((C11-H11-I11/2)/C11)+0.25*((B11-G11-H11-I11/2)/B11)))
A12: Ostalo | C12: =E12+F12+G12+H12+I12 -> 0 | J12: =IF(C12=0,"",IF(B12=0,1,0.75*((C12-H12-I12/2)/C12)+0.25*((B12-G12-H12-I12/2)/B12)))
A13: Privredni referat
A14: Ps | C14: =E14+F14+G14+H14+I14 -> 0 | J14: =IF(C14=0,"",IF(B14=0,1,0.75*((C14-H14-I14/2)/C14)+0.25*((B14-G14-H14-I14/2)/B14)))
A15: Mals | C15: =E15+F15+G15+H15+I15 -> 0 | J15: =IF(C15=0,"",IF(B15=0,1,0.75*((C15-H15-I15/2)/C15)+0.25*((B15-G15-H15-I15/2)/B15)))
A16: L | C16: =E16+F16+G16+H16+I16 -> 0 | J16: =IF(C16=0,"",IF(B16=0,1,0.75*((C16-H16-I16/2)/C16)+0.25*((B16-G16-H16-I16/2)/B16)))
A17: Ls | C17: =E17+F17+G17+H17+I17 -> 0 | J17: =IF(C17=0,"",IF(B17=0,1,0.75*((C17-H17-I17/2)/C17)+0.25*((B17-G17-H17-I17/2)/B17)))
A18: St | C18: =E18+F18+G18+H18+I18 -> 0 | J18: =IF(C18=0,"",IF(B18=0,1,0.75*((C18-H18-I18/2)/C18)+0.25*((B18-G18-H18-I18/2)/B18)))
A19: Ostalo | C19: =E19+F19+G19+H19+I19 -> 0 | J19: =IF(C19=0,"",IF(B19=0,1,0.75*((C19-H19-I19/2)/C19)+0.25*((B19-G19-H19-I19/2)/B19)))
A20: Krivični referat
A21: K | C21: =E21+F21+G21+H21+I21 -> 0 | J21: =IF(C21=0,"",IF(B21=0,1,0.75*((C21-H21-I21/2)/C21)+0.25*((B21-G21-H21-I21/2)/B21)))
A22: Kpp | C22: =E22+F22+G22+H22+I22 -> 0 | J22: =IF(C22=0,"",IF(B22=0,1,0.75*((C22-H22-I22/2)/C22)+0.25*((B22-G22-H22-I22/2)/B22)))
A23: Kps | C23: =E23+F23+G23+H23+I23 -> 0 | J23: =IF(C23=0,"",IF(B23=0,1,0.75*((C23-H23-I23/2)/C23)+0.25*((B23-G23-H23-I23/2)/B23)))
A24: Kzs | C24: =E24+F24+G24+H24+I24 -> 0 | J24: =IF(C24=0,"",IF(B24=0,1,0.75*((C24-H24-I24/2)/C24)+0.25*((B24-G24-H24-I24/2)/B24)))
A25: Kbs | C25: =E25+F25+G25+H25+I25 -> 0 | J25: =IF(C25=0,"",IF(B25=0,1,0.75*((C25-H25-I25/2)/C25)+0.25*((B25-G25-H25-I25/2)/B25)))
A26: Km | C26: =E26+F26+G26+H26+I26 -> 0 | J26: =IF(C26=0,"",IF(B26=0,1,0.75*((C26-H26-I26/2)/C26)+0.25*((B26-G26-H26-I26/2)/B26)))
A27: Kv | C27: =E27+F27+G27+H27+I27 -> 0 | J27: =IF(C27=0,"",IF(B27=0,1,0.75*((C27-H27-I27/2)/C27)+0.25*((B27-G27-H27-I27/2)/B27)))
A28: Kvl | C28: =E28+F28+G28+H28+I28 -> 0 | J28: =IF(C28=0,"",IF(B28=0,1,0.75*((C28-H28-I28/2)/C28)+0.25*((B28-G28-H28-I28/2)/B28)))
A29: Kp | C29: =E29+F29+G29+H29+I29 -> 0 | J29: =IF(C29=0,"",IF(B29=0,1,0.75*((C29-H29-I29/2)/C29)+0.25*((B29-G29-H29-I29/2)/B29)))
A30: Iks | C30: =E30+F30+G30+H30+I30 -> 0 | J30: =IF(C30=0,"",IF(B30=0,1,0.75*((C30-H30-I30/2)/C30)+0.25*((B30-G30-H30-I30/2)/B30)))
A31: Pom | C31: =E31+F31+G31+H31+I31 -> 0 | J31: =IF(C31=0,"",IF(B31=0,1,0.75*((C31-H31-I31/2)/C31)+0.25*((B31-G31-H31-I31/2)/B31)))
A32: Ostalo | C32: =E32+F32+G32+H32+I32 -> 0 | J32: =IF(C32=0,"",IF(B32=0,1,0.75*((C32-H32-I32/2)/C32)+0.25*((B32-G32-H32-I32/2)/B32)))
A33: Izvršni referat
A34: I | C34: =E34+F34+G34+H34+I34 -> 0 | J34: =IF(C34=0,"",IF(B34=0,1,0.75*((C34-H34-I34/2)/C34)+0.25*((B34-G34-H34-I34/2)/B34)))
A35: Ip | C35: =E35+F35+G35+H35+I35 -> 0 | J35: =IF(C35=0,"",IF(B35=0,1,0.75*((C35-H35-I35/2)/C35)+0.25*((B35-G35-H35-I35/2)/B35)))
A36: Ostalo | C36: =E36+F36+G36+H36+I36 -> 0 | J36: =IF(C36=0,"",IF(B36=0,1,0.75*((C36-H36-I36/2)/C36)+0.25*((B36-G36-H36-I36/2)/B36)))
A37: Upravni referat | J37: =IF(C37=0,"",0.75*((C37-H37-I37/2)/C37)+0.25*((B37-G37-H37-I37/2)/B37))
A38: U | C38: =E38+F38+G38+H38+I38 -> 0 | J38: =IF(C38=0,"",IF(B38=0,1,0.75*((C38-H38-I38/2)/C38)+0.25*((B38-G38-H38-I38/2)/B38)))
A39: Uz | C39: =E39+F39+G39+H39+I39 -> 0 | J39: =IF(C39=0,"",IF(B39=0,1,0.75*((C39-H39-I39/2)/C39)+0.25*((B39-G39-H39-I39/2)/B39)))
A40: Ostalo | C40: =E40+F40+G40+H40+I40 -> 0 | J40: =IF(C40=0,"",IF(B40=0,1,0.75*((C40-H40-I40/2)/C40)+0.25*((B40-G40-H40-I40/2)/B40)))
A41: Vanparnični referat
A42: V | C42: =E42+F42+G42+H42+I42 -> 0 | J42: =IF(C42=0,"",IF(B42=0,1,0.75*((C42-H42-I42/2)/C42)+0.25*((B42-G42-H42-I42/2)/B42)))
A43: O | C43: =E43+F43+G43+H43+I43 -> 0 | J43: =IF(C43=0,"",IF(B43=0,1,0.75*((C43-H43-I43/2)/C43)+0.25*((B43-G43-H43-I43/2)/B43)))
A44: Ostalo | C44: =E44+F44+G44+H44+I44 -> 0 | J44: =IF(C44=0,"",IF(B44=0,1,0.75*((C44-H44-I44/2)/C44)+0.25*((B44-G44-H44-I44/2)/B44)))
A45: Prekršajno odjeljenje
A46: Pr | C46: =E46+F46+G46+H46+I46 -> 0 | J46: =IF(C46=0,"",IF(B46=0,1,0.75*((C46-H46-I46/2)/C46)+0.25*((B46-G46-H46-I46/2)/B46)))
A47: Ostalo | C47: =E47+F47+G47+H47+I47 -> 0 | J47: =IF(C47=0,"",IF(B47=0,1,0.75*((C47-H47-I47/2)/C47)+0.25*((B47-G47-H47-I47/2)/B47)))
A49: Registracija poslovnih subjekata | C49: =E49+F49+G49+H49+I49 -> 0 | J49: =IF(C49=0,"",IF(B49=0,1,0.75*((C49-H49-I49/2)/C49)+0.25*((B49-G49-H49-I49/2)/B49)))
A51: Ukupno | B51: =SUM(B8:B12)+SUM(B14:B19)+SUM(B21:B32)+SUM(B34:B36)+SUM(B42:B44)+B46+B47+B49+SUM(B38:B40) -> 0 | C51: =SUM(C8:C12)+SUM(C14:C19)+SUM(C21:C32)+SUM(C34:C36)+SUM(C42:C44)+C46+C47+C49+SUM(C38:C40) -> 0 | D51: =SUM(D8:D12)+SUM(D14:D19)+SUM(D21:D32)+SUM(D34:D36)+SUM(D42:D44)+D46+D47+D49+SUM(D38:D40) -> 0 | E51: =SUM(E8:E12)+SUM(E14:E19)+SUM(E21:E32)+SUM(E34:E36)+SUM(E42:E44)+E46+E47+E49+SUM(E38:E40) -> 0 | F51: =SUM(F8:F12)+SUM(F14:F19)+SUM(F21:F32)+SUM(F34:F36)+SUM(F42:F44)+F46+F47+F49+SUM(F38:F40) -> 0 | G51: =SUM(G8:G12)+SUM(G14:G19)+SUM(G21:G32)+SUM(G34:G36)+SUM(G42:G44)+G46+G47+G49+SUM(G38:G40) -> 0 | H51: =SUM(H8:H12)+SUM(H14:H19)+SUM(H21:H32)+SUM(H34:H36)+SUM(H42:H44)+H46+H47+H49+SUM(H38:H40) -> 0 | I51: =SUM(I8:I12)+SUM(I14:I19)+SUM(I21:I32)+SUM(I34:I36)+SUM(I42:I44)+I46+I47+I49+SUM(I38:I40) -> 0 | J51: =IF(C51=0,"",IF(B51=0,1,0.75*((C51-H51-I51/2)/C51)+0.25*((B51-G51-H51-I51/2)/B51))) | K51: =SUM(K8:K12)+SUM(K14:K19)+SUM(K21:K32)+SUM(K34:K36)+SUM(K42:K44)+K46+K47+K49+SUM(K38:K40) -> 0
A53: Ukupno 2021.* | C53: Obrazloženje:
A54: * Unesite podatak o Ukupnom broju donesenih odluka na koje se može izjaviti pravni lijek iz izvještaja koji ste dostavili za 2021. godinu. Ukoliko je razlika u Ukupnom broju donesenih odluka na koje se može izjaviti pravni lijek u periodu 2022/2021 veća od 20% aktiviraće se kontrolnik i potrebno je da obrazložite uzroke za nastanak te razlike.
A61: 1 Kvalitet rada sudskih odluka se automatski obračunava u skladu sa članom 17. Kriterija za ocjenjivanje rada sudija u BiH. Slijedi tekst za pojašnjenje formule za obračun kvaliteta sudskih odluka: (75% * (Ukupan broj ožalbenih odluka - Broj ukinutih odluka - Broj djelimično ukinutih odluka/2) / Ukupan broj ožalbenih odluka) + (25% * (Broj donesenih odluka na koje se može izjaviti pravni lijek - Broj preinačenih odluka donijetih nakon održane glavne raspave ili pretresa pred drugostepenim sudom - Broj ukinutih odluka - Broj djelimično ukinutih odluka/2) / Broj donesenih odluka na koje se može izjaviti pravni lijek).
A63: NAPOMENA: U Tabelu III se unose podaci o kvalitetu odluka za sve nosioce pravosudne funkcije koji su u toku godine obavljali funkciju u sudu, bez obzira na period obavljanja funkcije u sudu. U Tabelu se unose podaci za sve nosioce pravosudne funkcije: koji su obavljali funkciju u sudu cijelu godinu, koji su imenovani u sud u toku godine, koji su prešli u drugi sud u toku godine (bez obzira na nivo suda), kao i podaci za nosioce pravosudne funkcije koji su prestali obavljati funkciju u sudu zbog odlaska u penziju u 2022. godini ili iz drugih razloga (ostavke, razrješenja), a u 2022. godini su donosili odluke na koje se može izjaviti pravni lijek, i/ili sud je nakon prestanka obavljanja funkcije zaprimio žalbene odluke od strane višeg suda po izjavljenom pravnom lijeku na odluke bivšeg nosioca pravosudne funckije. Na taj način se pravilno obračunava kolektivni kvalitet odluka u sudu.
A70: NAPOMENA: U broj donesenih odluka na koje se može izjaviti pravni lijek (Kolona I) i broj ukinutih odluka (Kolona VII) prilikom računanja procenta ukinutih odluka iz člana 17. stav (1) tačka a) i b) Kriterija za ocjenjivanje rada sudija u BiH neće se uzimati u obračun odluke koje su ukinute u sadržajno nebitnom dijelu odnosno ako je odluka ukinuta ili se smatra ukinutom zbog toga što je instancioni sud nakon donošenja ispitivane odluke izmijenio sudsku praksu, u skladu s stavom (3) navedenog člana Kriterija.

Sheet Tabela IIIa
A1: =+'Tabela I'!A1 -> Osnovni sud Brčko Distrikta
A2: Izvještajni period: | D2: =+'Tabela I'!C2 -> 1.1.2022.- 31.12.2022.
A3: Tabela IIIa - Kvalitet sudskih odluka po nosiocima pravosudnih funkcija - Elektronski obrazac za obračun kvaliteta odluka (pogledati NAPOMENU 2 i 3)
A6: Redni broj | B6: Ime i prezime - podatak je automatski prenesen iz Tabele IIa - OBAVEZNO ZADRŽATI REDOSLIJED NPF-a iz Tabele IIa | C6: Pravosudna funkcija | D6: Ocijenjen / Nije ocijenjen u sudu | E6: Ukupan broj donesenih odluka na koje se može izjaviti pravni lijek | F6: Ukupan broj ožalbenih odluka | G6: Broj odbačenih pravnih lijekova*** | H6: Broj potvrđenih odluka | I6: Broj preinačenih odluka | J6: Broj preinačenih odluka donijetih nakon održane glavne rasprave ili pretresa pred drugostepenim sudom | K6: Broj ukinutih odluka | L6: Broj djelimično ukinutih odluka | M6: Kvalitet sudskih odluka prema članu 17. stav 1. tačka a) | N6: Broj ostvarenih bodova za kvalitet prema članu 17. stav 1. tačka a) | O6: Kvalitet sudskih odluka prema članu 17. stav 1. tačka b) | P6: Broj ostvarenih bodova za kvalitet prema članu 17. stav 1. tačka b) | Q6: UKUPAN broj ostvarenih bodova za kvalitet sudskih odluka
H7: Odbijen pravni lijek
A8: I | B8: II | C8: III | D8: IV | E8: V | F8: VI | G8: VII | H8: VIII | I8: IX | J8: X | K8: XI | L8: XII | M8: XIII | N8: XIV | O8: XV | P8: XVI | Q8: XVII
A10: 1 | B10: =IF('Tabela II'!B8="","",'Tabela II'!B8) | C10: Predsjednik suda * | F10: =SUM(H10:L10) -> 0 | M10: =IF(D10="","",IF(D10="Nije ocijenjen ili Ne treba raditi na predmetima","",IF(D10="Ocijenjen",IF(F10<10,"Član 20. stav 7. Kriterija",(K10+(L10/2))/(F10))))) | N10: =IF(D10="","",IF(D10="Nije ocijenjen ili Ne treba raditi na predmetima","",IF(D10="Ocijenjen",IF(M10="Član 20. stav 7. Kriterija","",IF(M10>0.4,0,IF(M10>0.3,4,IF(M10>0.2,8,IF(M10>0.1,12,IF(M10<=0.1,15,))))))))) | O10: =IF(D10="","",IF(D10="Nije ocijenjen ili Ne treba raditi na predmetima","",IF(D10="Ocijenjen",IF(E10=0,"",((K10+J10+(L10/2))/(E10)))))) | P10: =IF(D10="","",IF(D10="Nije ocijenjen ili Ne treba raditi na predmetima","",IF(D10="Ocijenjen",IF(O10>0.2,0,IF(O10>0.15,1,IF(O10>0.1,2,IF(O10>0.06,3,IF(O10>0.03,4,IF(O10<=0.03,5,))))))))) | Q10: =IF(D10="","",IF(D10="Nije ocijenjen ili Ne treba raditi na predmetima","",IF(D10="Ocijenjen",IF(M10="Član 20. stav 7. Kriterija",P10,N10+P10)))) | U10: Ocijenjen
A11: 2 | B11: =IF('Tabela II'!B10="","",'Tabela II'!B10) | F11: =SUM(H11:L11) -> 0 | M11: =IF(D11="","",IF(D11="Nije ocijenjen","",IF(D11="Ocijenjen",IF(F11<10,"Član 17. stav 7. Kriterija",(K11+(L11/2))/(F11))))) | N11: =IF(D11="","",IF(D11="Nije ocijenjen","",IF(D11="Ocijenjen",IF(M11="Član 17. stav 7. Kriterija","",IF(M11>0.4,0,IF(M11>0.3,8,IF(M11>0.2,16,IF(M11>0.1,24,IF(M11<=0.1,30,))))))))) | O11: =IF(D11="","",IF(D11="Nije ocijenjen","",IF(D11="Ocijenjen",IF(E11=0,"",((K11+J11+(L11/2))/(E11)))))) | P11: =IF(D11="","",IF(D11="Nije ocijenjen","",IF(D11="Ocijenjen",IF(O11>0.2,0,IF(O11>0.15,2,IF(O11>0.1,4,IF(O11>0.06,6,IF(O11>0.03,8,IF(O11<=0.03,10,))))))))) | Q11: =IF(D11="","",IF(D11="Nije ocijenjen","",IF(D11="Ocijenjen",IF(M11="Član 17. stav 7. Kriterija",P11,N11+P11)))) | S11: Sudija | U11: Nije ocijenjen
A12: 3 | B12: =IF('Tabela II'!B11="","",'Tabela II'!B11) | F12: =SUM(H12:L12) -> 0 | M12: =IF(D12="","",IF(D12="Nije ocijenjen","",IF(D12="Ocijenjen",IF(F12<10,"Član 17. stav 7. Kriterija",(K12+(L12/2))/(F12))))) | N12: =IF(D12="","",IF(D12="Nije ocijenjen","",IF(D12="Ocijenjen",IF(M12="Član 17. stav 7. Kriterija","",IF(M12>0.4,0,IF(M12>0.3,8,IF(M12>0.2,16,IF(M12>0.1,24,IF(M12<=0.1,30,))))))))) | O12: =IF(D12="","",IF(D12="Nije ocijenjen","",IF(D12="Ocijenjen",IF(E12=0,"",((K12+J12+(L12/2))/(E12)))))) | P12: =IF(D12="","",IF(D12="Nije ocijenjen","",IF(D12="Ocijenjen",IF(O12>0.2,0,IF(O12>0.15,2,IF(O12>0.1,4,IF(O12>0.06,6,IF(O12>0.03,8,IF(O12<=0.03,10,))))))))) | Q12: =IF(D12="","",IF(D12="Nije ocijenjen","",IF(D12="Ocijenjen",IF(M12="Član 17. stav 7. Kriterija",P12,N12+P12)))) | S12: Stručni saradnik
A13: 4 | B13: =IF('Tabela II'!B12="","",'Tabela II'!B12) | F13: =SUM(H13:L13) -> 0 | M13: =IF(D13="","",IF(D13="Nije ocijenjen","",IF(D13="Ocijenjen",IF(F13<10,"Član 17. stav 7. Kriterija",(K13+(L13/2))/(F13))))) | N13: =IF(D13="","",IF(D13="Nije ocijenjen","",IF(D13="Ocijenjen",IF(M13="Član 17. stav 7. Kriterija","",IF(M13>0.4,0,IF(M13>0.3,8,IF(M13>0.2,16,IF(M13>0.1,24,IF(M13<=0.1,30,))))))))) | O13: =IF(D13="","",IF(D13="Nije ocijenjen","",IF(D13="Ocijenjen",IF(E13=0,"",((K13+J13+(L13/2))/(E13)))))) | P13: =IF(D13="","",IF(D13="Nije ocijenjen","",IF(D13="Ocijenjen",IF(O13>0.2,0,IF(O13>0.15,2,IF(O13>0.1,4,IF(O13>0.06,6,IF(O13>0.03,8,IF(O13<=0.03,10,))))))))) | Q13: =IF(D13="","",IF(D13="Nije ocijenjen","",IF(D13="Ocijenjen",IF(M13="Član 17. stav 7. Kriterija",P13,N13+P13)))) | S13: Predsjednik odjela
A14: 5 | B14: =IF('Tabela II'!B13="","",'Tabela II'!B13) | F14: =SUM(H14:L14) -> 0 | M14: =IF(D14="","",IF(D14="Nije ocijenjen","",IF(D14="Ocijenjen",IF(F14<10,"Član 17. stav 7. Kriterija",(K14+(L14/2))/(F14))))) | N14: =IF(D14="","",IF(D14="Nije ocijenjen","",IF(D14="Ocijenjen",IF(M14="Član 17. stav 7. Kriterija","",IF(M14>0.4,0,IF(M14>0.3,8,IF(M14>0.2,16,IF(M14>0.1,24,IF(M14<=0.1,30,))))))))) | O14: =IF(D14="","",IF(D14="Nije ocijenjen","",IF(D14="Ocijenjen",IF(E14=0,"",((K14+J14+(L14/2))/(E14)))))) | P14: =IF(D14="","",IF(D14="Nije ocijenjen","",IF(D14="Ocijenjen",IF(O14>0.2,0,IF(O14>0.15,2,IF(O14>0.1,4,IF(O14>0.06,6,IF(O14>0.03,8,IF(O14<=0.03,10,))))))))) | Q14: =IF(D14="","",IF(D14="Nije ocijenjen","",IF(D14="Ocijenjen",IF(M14="Član 17. stav 7. Kriterija",P14,N14+P14)))) | S14: Predsjednik sudskog vijeća vrhovnog suda entiteta
A15: 6 | B15: =IF('Tabela II'!B14="","",'Tabela II'!B14) | F15: =SUM(H15:L15) -> 0 | M15: =IF(D15="","",IF(D15="Nije ocijenjen","",IF(D15="Ocijenjen",IF(F15<10,"Član 17. stav 7. Kriterija",(K15+(L15/2))/(F15))))) | N15: =IF(D15="","",IF(D15="Nije ocijenjen","",IF(D15="Ocijenjen",IF(M15="Član 17. stav 7. Kriterija","",IF(M15>0.4,0,IF(M15>0.3,8,IF(M15>0.2,16,IF(M15>0.1,24,IF(M15<=0.1,30,))))))))) | O15: =IF(D15="","",IF(D15="Nije ocijenjen","",IF(D15="Ocijenjen",IF(E15=0,"",((K15+J15+(L15/2))/(E15)))))) | P15: =IF(D15="","",IF(D15="Nije ocijenjen","",IF(D15="Ocijenjen",IF(O15>0.2,0,IF(O15>0.15,2,IF(O15>0.1,4,IF(O15>0.06,6,IF(O15>0.03,8,IF(O15<=0.03,10,))))))))) | Q15: =IF(D15="","",IF(D15="Nije ocijenjen","",IF(D15="Ocijenjen",IF(M15="Član 17. stav 7. Kriterija",P15,N15+P15))))
A16: 7 | B16: =IF('Tabela II'!B15="","",'Tabela II'!B15) | F16: =SUM(H16:L16) -> 0 | M16: =IF(D16="","",IF(D16="Nije ocijenjen","",IF(D16="Ocijenjen",IF(F16<10,"Član 17. stav 7. Kriterija",(K16+(L16/2))/(F16))))) | N16: =IF(D16="","",IF(D16="Nije ocijenjen","",IF(D16="Ocijenjen",IF(M16="Član 17. stav 7. Kriterija","",IF(M16>0.4,0,IF(M16>0.3,8,IF(M16>0.2,16,IF(M16>0.1,24,IF(M16<=0.1,30,))))))))) | O16: =IF(D16="","",IF(D16="Nije ocijenjen","",IF(D16="Ocijenjen",IF(E16=0,"",((K16+J16+(L16/2))/(E16)))))) | P16: =IF(D16="","",IF(D16="Nije ocijenjen","",IF(D16="Ocijenjen",IF(O16>0.2,0,IF(O16>0.15,2,IF(O16>0.1,4,IF(O16>0.06,6,IF(O16>0.03,8,IF(O16<=0.03,10,))))))))) | Q16: =IF(D16="","",IF(D16="Nije ocijenjen","",IF(D16="Ocijenjen",IF(M16="Član 17. stav 7. Kriterija",P16,N16+P16))))
A17: 8 | B17: =IF('Tabela II'!B16="","",'Tabela II'!B16) | F17: =SUM(H17:L17) -> 0 | M17: =IF(D17="","",IF(D17="Nije ocijenjen","",IF(D17="Ocijenjen",IF(F17<10,"Član 17. stav 7. Kriterija",(K17+(L17/2))/(F17))))) | N17: =IF(D17="","",IF(D17="Nije ocijenjen","",IF(D17="Ocijenjen",IF(M17="Član 17. stav 7. Kriterija","",IF(M17>0.4,0,IF(M17>0.3,8,IF(M17>0.2,16,IF(M17>0.1,24,IF(M17<=0.1,30,))))))))) | O17: =IF(D17="","",IF(D17="Nije ocijenjen","",IF(D17="Ocijenjen",IF(E17=0,"",((K17+J17+(L17/2))/(E17)))))) | P17: =IF(D17="","",IF(D17="Nije ocijenjen","",IF(D17="Ocijenjen",IF(O17>0.2,0,IF(O17>0.15,2,IF(O17>0.1,4,IF(O17>0.06,6,IF(O17>0.03,8,IF(O17<=0.03,10,))))))))) | Q17: =IF(D17="","",IF(D17="Nije ocijenjen","",IF(D17="Ocijenjen",IF(M17="Član 17. stav 7. Kriterija",P17,N17+P17)))) | U17: Ocijenjen
A18: 9 | B18: =IF('Tabela II'!B17="","",'Tabela II'!B17) | F18: =SUM(H18:L18) -> 0 | M18: =IF(D18="","",IF(D18="Nije ocijenjen","",IF(D18="Ocijenjen",IF(F18<10,"Član 17. stav 7. Kriterija",(K18+(L18/2))/(F18))))) | N18: =IF(D18="","",IF(D18="Nije ocijenjen","",IF(D18="Ocijenjen",IF(M18="Član 17. stav 7. Kriterija","",IF(M18>0.4,0,IF(M18>0.3,8,IF(M18>0.2,16,IF(M18>0.1,24,IF(M18<=0.1,30,))))))))) | O18: =IF(D18="","",IF(D18="Nije ocijenjen","",IF(D18="Ocijenjen",IF(E18=0,"",((K18+J18+(L18/2))/(E18)))))) | P18: =IF(D18="","",IF(D18="Nije ocijenjen","",IF(D18="Ocijenjen",IF(O18>0.2,0,IF(O18>0.15,2,IF(O18>0.1,4,IF(O18>0.06,6,IF(O18>0.03,8,IF(O18<=0.03,10,))))))))) | Q18: =IF(D18="","",IF(D18="Nije ocijenjen","",IF(D18="Ocijenjen",IF(M18="Član 17. stav 7. Kriterija",P18,N18+P18)))) | U18: Nije ocijenjen ili Ne treba raditi na predmetima
A19: 10 | B19: =IF('Tabela II'!B18="","",'Tabela II'!B18) | F19: =SUM(H19:L19) -> 0 | M19: =IF(D19="","",IF(D19="Nije ocijenjen","",IF(D19="Ocijenjen",IF(F19<10,"Član 17. stav 7. Kriterija",(K19+(L19/2))/(F19))))) | N19: =IF(D19="","",IF(D19="Nije ocijenjen","",IF(D19="Ocijenjen",IF(M19="Član 17. stav 7. Kriterija","",IF(M19>0.4,0,IF(M19>0.3,8,IF(M19>0.2,16,IF(M19>0.1,24,IF(M19<=0.1,30,))))))))) | O19: =IF(D19="","",IF(D19="Nije ocijenjen","",IF(D19="Ocijenjen",IF(E19=0,"",((K19+J19+(L19/2))/(E19)))))) | P19: =IF(D19="","",IF(D19="Nije ocijenjen","",IF(D19="Ocijenjen",IF(O19>0.2,0,IF(O19>0.15,2,IF(O19>0.1,4,IF(O19>0.06,6,IF(O19>0.03,8,IF(O19<=0.03,10,))))))))) | Q19: =IF(D19="","",IF(D19="Nije ocijenjen","",IF(D19="Ocijenjen",IF(M19="Član 17. stav 7. Kriterija",P19,N19+P19))))
A20: 11 | B20: =IF('Tabela II'!B19="","",'Tabela II'!B19) | F20: =SUM(H20:L20) -> 0 | M20: =IF(D20="","",IF(D20="Nije ocijenjen","",IF(D20="Ocijenjen",IF(F20<10,"Član 17. stav 7. Kriterija",(K20+(L20/2))/(F20))))) | N20: =IF(D20="","",IF(D20="Nije ocijenjen","",IF(D20="Ocijenjen",IF(M20="Član 17. stav 7. Kriterija","",IF(M20>0.4,0,IF(M20>0.3,8,IF(M20>0.2,16,IF(M20>0.1,24,IF(M20<=0.1,30,))))))))) | O20: =IF(D20="","",IF(D20="Nije ocijenjen","",IF(D20="Ocijenjen",IF(E20=0,"",((K20+J20+(L20/2))/(E20)))))) | P20: =IF(D20="","",IF(D20="Nije ocijenjen","",IF(D20="Ocijenjen",IF(O20>0.2,0,IF(O20>0.15,2,IF(O20>0.1,4,IF(O20>0.06,6,IF(O20>0.03,8,IF(O20<=0.03,10,))))))))) | Q20: =IF(D20="","",IF(D20="Nije ocijenjen","",IF(D20="Ocijenjen",IF(M20="Član 17. stav 7. Kriterija",P20,N20+P20))))
A21: 12 | B21: =IF('Tabela II'!B20="","",'Tabela II'!B20) | F21: =SUM(H21:L21) -> 0 | M21: =IF(D21="","",IF(D21="Nije ocijenjen","",IF(D21="Ocijenjen",IF(F21<10,"Član 17. stav 7. Kriterija",(K21+(L21/2))/(F21))))) | N21: =IF(D21="","",IF(D21="Nije ocijenjen","",IF(D21="Ocijenjen",IF(M21="Član 17. stav 7. Kriterija","",IF(M21>0.4,0,IF(M21>0.3,8,IF(M21>0.2,16,IF(M21>0.1,24,IF(M21<=0.1,30,))))))))) | O21: =IF(D21="","",IF(D21="Nije ocijenjen","",IF(D21="Ocijenjen",IF(E21=0,"",((K21+J21+(L21/2))/(E21)))))) | P21: =IF(D21="","",IF(D21="Nije ocijenjen","",IF(D21="Ocijenjen",IF(O21>0.2,0,IF(O21>0.15,2,IF(O21>0.1,4,IF(O21>0.06,6,IF(O21>0.03,8,IF(O21<=0.03,10,))))))))) | Q21: =IF(D21="","",IF(D21="Nije ocijenjen","",IF(D21="Ocijenjen",IF(M21="Član 17. stav 7. Kriterija",P21,N21+P21))))
A22: 13 | B22: =IF('Tabela II'!B21="","",'Tabela II'!B21) | F22: =SUM(H22:L22) -> 0 | M22: =IF(D22="","",IF(D22="Nije ocijenjen","",IF(D22="Ocijenjen",IF(F22<10,"Član 17. stav 7. Kriterija",(K22+(L22/2))/(F22))))) | N22: =IF(D22="","",IF(D22="Nije ocijenjen","",IF(D22="Ocijenjen",IF(M22="Član 17. stav 7. Kriterija","",IF(M22>0.4,0,IF(M22>0.3,8,IF(M22>0.2,16,IF(M22>0.1,24,IF(M22<=0.1,30,))))))))) | O22: =IF(D22="","",IF(D22="Nije ocijenjen","",IF(D22="Ocijenjen",IF(E22=0,"",((K22+J22+(L22/2))/(E22)))))) | P22: =IF(D22="","",IF(D22="Nije ocijenjen","",IF(D22="Ocijenjen",IF(O22>0.2,0,IF(O22>0.15,2,IF(O22>0.1,4,IF(O22>0.06,6,IF(O22>0.03,8,IF(O22<=0.03,10,))))))))) | Q22: =IF(D22="","",IF(D22="Nije ocijenjen","",IF(D22="Ocijenjen",IF(M22="Član 17. stav 7. Kriterija",P22,N22+P22))))
A23: 14 | B23: =IF('Tabela II'!B22="","",'Tabela II'!B22) | F23: =SUM(H23:L23) -> 0 | M23: =IF(D23="","",IF(D23="Nije ocijenjen","",IF(D23="Ocijenjen",IF(F23<10,"Član 17. stav 7. Kriterija",(K23+(L23/2))/(F23))))) | N23: =IF(D23="","",IF(D23="Nije ocijenjen","",IF(D23="Ocijenjen",IF(M23="Član 17. stav 7. Kriterija","",IF(M23>0.4,0,IF(M23>0.3,8,IF(M23>0.2,16,IF(M23>0.1,24,IF(M23<=0.1,30,))))))))) | O23: =IF(D23="","",IF(D23="Nije ocijenjen","",IF(D23="Ocijenjen",IF(E23=0,"",((K23+J23+(L23/2))/(E23)))))) | P23: =IF(D23="","",IF(D23="Nije ocijenjen","",IF(D23="Ocijenjen",IF(O23>0.2,0,IF(O23>0.15,2,IF(O23>0.1,4,IF(O23>0.06,6,IF(O23>0.03,8,IF(O23<=0.03,10,))))))))) | Q23: =IF(D23="","",IF(D23="Nije ocijenjen","",IF(D23="Ocijenjen",IF(M23="Član 17. stav 7. Kriterija",P23,N23+P23))))
A24: 15 | B24: =IF('Tabela II'!B23="","",'Tabela II'!B23) | F24: =SUM(H24:L24) -> 0 | M24: =IF(D24="","",IF(D24="Nije ocijenjen","",IF(D24="Ocijenjen",IF(F24<10,"Član 17. stav 7. Kriterija",(K24+(L24/2))/(F24))))) | N24: =IF(D24="","",IF(D24="Nije ocijenjen","",IF(D24="Ocijenjen",IF(M24="Član 17. stav 7. Kriterija","",IF(M24>0.4,0,IF(M24>0.3,8,IF(M24>0.2,16,IF(M24>0.1,24,IF(M24<=0.1,30,))))))))) | O24: =IF(D24="","",IF(D24="Nije ocijenjen","",IF(D24="Ocijenjen",IF(E24=0,"",((K24+J24+(L24/2))/(E24)))))) | P24: =IF(D24="","",IF(D24="Nije ocijenjen","",IF(D24="Ocijenjen",IF(O24>0.2,0,IF(O24>0.15,2,IF(O24>0.1,4,IF(O24>0.06,6,IF(O24>0.03,8,IF(O24<=0.03,10,))))))))) | Q24: =IF(D24="","",IF(D24="Nije ocijenjen","",IF(D24="Ocijenjen",IF(M24="Član 17. stav 7. Kriterija",P24,N24+P24))))
A25: 16 | B25: =IF('Tabela II'!B24="","",'Tabela II'!B24) | F25: =SUM(H25:L25) -> 0 | M25: =IF(D25="","",IF(D25="Nije ocijenjen","",IF(D25="Ocijenjen",IF(F25<10,"Član 17. stav 7. Kriterija",(K25+(L25/2))/(F25))))) | N25: =IF(D25="","",IF(D25="Nije ocijenjen","",IF(D25="Ocijenjen",IF(M25="Član 17. stav 7. Kriterija","",IF(M25>0.4,0,IF(M25>0.3,8,IF(M25>0.2,16,IF(M25>0.1,24,IF(M25<=0.1,30,))))))))) | O25: =IF(D25="","",IF(D25="Nije ocijenjen","",IF(D25="Ocijenjen",IF(E25=0,"",((K25+J25+(L25/2))/(E25)))))) | P25: =IF(D25="","",IF(D25="Nije ocijenjen","",IF(D25="Ocijenjen",IF(O25>0.2,0,IF(O25>0.15,2,IF(O25>0.1,4,IF(O25>0.06,6,IF(O25>0.03,8,IF(O25<=0.03,10,))))))))) | Q25: =IF(D25="","",IF(D25="Nije ocijenjen","",IF(D25="Ocijenjen",IF(M25="Član 17. stav 7. Kriterija",P25,N25+P25))))
A26: 17 | B26: =IF('Tabela II'!B25="","",'Tabela II'!B25) | F26: =SUM(H26:L26) -> 0 | M26: =IF(D26="","",IF(D26="Nije ocijenjen","",IF(D26="Ocijenjen",IF(F26<10,"Član 17. stav 7. Kriterija",(K26+(L26/2))/(F26))))) | N26: =IF(D26="","",IF(D26="Nije ocijenjen","",IF(D26="Ocijenjen",IF(M26="Član 17. stav 7. Kriterija","",IF(M26>0.4,0,IF(M26>0.3,8,IF(M26>0.2,16,IF(M26>0.1,24,IF(M26<=0.1,30,))))))))) | O26: =IF(D26="","",IF(D26="Nije ocijenjen","",IF(D26="Ocijenjen",IF(E26=0,"",((K26+J26+(L26/2))/(E26)))))) | P26: =IF(D26="","",IF(D26="Nije ocijenjen","",IF(D26="Ocijenjen",IF(O26>0.2,0,IF(O26>0.15,2,IF(O26>0.1,4,IF(O26>0.06,6,IF(O26>0.03,8,IF(O26<=0.03,10,))))))))) | Q26: =IF(D26="","",IF(D26="Nije ocijenjen","",IF(D26="Ocijenjen",IF(M26="Član 17. stav 7. Kriterija",P26,N26+P26))))
A27: 18 | B27: =IF('Tabela II'!B26="","",'Tabela II'!B26) | F27: =SUM(H27:L27) -> 0 | M27: =IF(D27="","",IF(D27="Nije ocijenjen","",IF(D27="Ocijenjen",IF(F27<10,"Član 17. stav 7. Kriterija",(K27+(L27/2))/(F27))))) | N27: =IF(D27="","",IF(D27="Nije ocijenjen","",IF(D27="Ocijenjen",IF(M27="Član 17. stav 7. Kriterija","",IF(M27>0.4,0,IF(M27>0.3,8,IF(M27>0.2,16,IF(M27>0.1,24,IF(M27<=0.1,30,))))))))) | O27: =IF(D27="","",IF(D27="Nije ocijenjen","",IF(D27="Ocijenjen",IF(E27=0,"",((K27+J27+(L27/2))/(E27)))))) | P27: =IF(D27="","",IF(D27="Nije ocijenjen","",IF(D27="Ocijenjen",IF(O27>0.2,0,IF(O27>0.15,2,IF(O27>0.1,4,IF(O27>0.06,6,IF(O27>0.03,8,IF(O27<=0.03,10,))))))))) | Q27: =IF(D27="","",IF(D27="Nije ocijenjen","",IF(D27="Ocijenjen",IF(M27="Član 17. stav 7. Kriterija",P27,N27+P27))))
A28: 19 | B28: =IF('Tabela II'!B27="","",'Tabela II'!B27) | F28: =SUM(H28:L28) -> 0 | M28: =IF(D28="","",IF(D28="Nije ocijenjen","",IF(D28="Ocijenjen",IF(F28<10,"Član 17. stav 7. Kriterija",(K28+(L28/2))/(F28))))) | N28: =IF(D28="","",IF(D28="Nije ocijenjen","",IF(D28="Ocijenjen",IF(M28="Član 17. stav 7. Kriterija","",IF(M28>0.4,0,IF(M28>0.3,8,IF(M28>0.2,16,IF(M28>0.1,24,IF(M28<=0.1,30,))))))))) | O28: =IF(D28="","",IF(D28="Nije ocijenjen","",IF(D28="Ocijenjen",IF(E28=0,"",((K28+J28+(L28/2))/(E28)))))) | P28: =IF(D28="","",IF(D28="Nije ocijenjen","",IF(D28="Ocijenjen",IF(O28>0.2,0,IF(O28>0.15,2,IF(O28>0.1,4,IF(O28>0.06,6,IF(O28>0.03,8,IF(O28<=0.03,10,))))))))) | Q28: =IF(D28="","",IF(D28="Nije ocijenjen","",IF(D28="Ocijenjen",IF(M28="Član 17. stav 7. Kriterija",P28,N28+P28))))
A29: 20 | B29: =IF('Tabela II'!B28="","",'Tabela II'!B28) | F29: =SUM(H29:L29) -> 0 | M29: =IF(D29="","",IF(D29="Nije ocijenjen","",IF(D29="Ocijenjen",IF(F29<10,"Član 17. stav 7. Kriterija",(K29+(L29/2))/(F29))))) | N29: =IF(D29="","",IF(D29="Nije ocijenjen","",IF(D29="Ocijenjen",IF(M29="Član 17. stav 7. Kriterija","",IF(M29>0.4,0,IF(M29>0.3,8,IF(M29>0.2,16,IF(M29>0.1,24,IF(M29<=0.1,30,))))))))) | O29: =IF(D29="","",IF(D29="Nije ocijenjen","",IF(D29="Ocijenjen",IF(E29=0,"",((K29+J29+(L29/2))/(E29)))))) | P29: =IF(D29="","",IF(D29="Nije ocijenjen","",IF(D29="Ocijenjen",IF(O29>0.2,0,IF(O29>0.15,2,IF(O29>0.1,4,IF(O29>0.06,6,IF(O29>0.03,8,IF(O29<=0.03,10,))))))))) | Q29: =IF(D29="","",IF(D29="Nije ocijenjen","",IF(D29="Ocijenjen",IF(M29="Član 17. stav 7. Kriterija",P29,N29+P29))))
A30: 21 | B30: =IF('Tabela II'!B29="","",'Tabela II'!B29) | F30: =SUM(H30:L30) -> 0 | M30: =IF(D30="","",IF(D30="Nije ocijenjen","",IF(D30="Ocijenjen",IF(F30<10,"Član 17. stav 7. Kriterija",(K30+(L30/2))/(F30))))) | N30: =IF(D30="","",IF(D30="Nije ocijenjen","",IF(D30="Ocijenjen",IF(M30="Član 17. stav 7. Kriterija","",IF(M30>0.4,0,IF(M30>0.3,8,IF(M30>0.2,16,IF(M30>0.1,24,IF(M30<=0.1,30,))))))))) | O30: =IF(D30="","",IF(D30="Nije ocijenjen","",IF(D30="Ocijenjen",IF(E30=0,"",((K30+J30+(L30/2))/(E30)))))) | P30: =IF(D30="","",IF(D30="Nije ocijenjen","",IF(D30="Ocijenjen",IF(O30>0.2,0,IF(O30>0.15,2,IF(O30>0.1,4,IF(O30>0.06,6,IF(O30>0.03,8,IF(O30<=0.03,10,))))))))) | Q30: =IF(D30="","",IF(D30="Nije ocijenjen","",IF(D30="Ocijenjen",IF(M30="Član 17. stav 7. Kriterija",P30,N30+P30))))
... A69: 60 | B69: =IF('Tabela II'!B68="","",'Tabela II'!B68) | F69: =SUM(H69:L69) -> 0 | M69: =IF(D69="","",IF(D69="Nije ocijenjen","",IF(D69="Ocijenjen",IF(F69<10,"Član 17. stav 7. Kriterija",(K69+(L69/2))/(F69))))) | N69: =IF(D69="","",IF(D69="Nije ocijenjen","",IF(D69="Ocijenjen",IF(M69="Član 17. stav 7. Kriterija","",IF(M69>0.4,0,IF(M69>0.3,8,IF(M69>0.2,16,IF(M69>0.1,24,IF(M69<=0.1,30,))))))))) | O69: =IF(D69="","",IF(D69="Nije ocijenjen","",IF(D69="Ocijenjen",IF(E69=0,"",((K69+J69+(L69/2))/(E69)))))) | P69: =IF(D69="","",IF(D69="Nije ocijenjen","",IF(D69="Ocijenjen",IF(O69>0.2,0,IF(O69>0.15,2,IF(O69>0.1,4,IF(O69>0.06,6,IF(O69>0.03,8,IF(O69<=0.03,10,))))))))) | Q69: =IF(D69="","",IF(D69="Nije ocijenjen","",IF(D69="Ocijenjen",IF(M69="Član 17. stav 7. Kriterija",P69,N69+P69))))
A70: 61 | F70: =SUM(H70:L70) -> 0 | M70: =IF(D70="","",IF(D70="Nije ocijenjen","",IF(D70="Ocijenjen",IF(F70<10,"Član 17. stav 7. Kriterija",(K70+(L70/2))/(F70))))) | N70: =IF(D70="","",IF(D70="Nije ocijenjen","",IF(D70="Ocijenjen",IF(M70="Član 17. stav 7. Kriterija","",IF(M70>0.4,0,IF(M70>0.3,8,IF(M70>0.2,16,IF(M70>0.1,24,IF(M70<=0.1,30,))))))))) | O70: =IF(D70="","",IF(D70="Nije ocijenjen","",IF(D70="Ocijenjen",IF(E70=0,"",((K70+J70+(L70/2))/(E70)))))) | P70: =IF(D70="","",IF(D70="Nije ocijenjen","",IF(D70="Ocijenjen",IF(O70>0.2,0,IF(O70>0.15,2,IF(O70>0.1,4,IF(O70>0.06,6,IF(O70>0.03,8,IF(O70<=0.03,10,))))))))) | Q70: =IF(D70="","",IF(D70="Nije ocijenjen","",IF(D70="Ocijenjen",IF(M70="Član 17. stav 7. Kriterija",P70,N70+P70))))
A71: 62 | F71: =SUM(H71:L71) -> 0 | M71: =IF(D71="","",IF(D71="Nije ocijenjen","",IF(D71="Ocijenjen",IF(F71<10,"Član 17. stav 7. Kriterija",(K71+(L71/2))/(F71))))) | N71: =IF(D71="","",IF(D71="Nije ocijenjen","",IF(D71="Ocijenjen",IF(M71="Član 17. stav 7. Kriterija","",IF(M71>0.4,0,IF(M71>0.3,8,IF(M71>0.2,16,IF(M71>0.1,24,IF(M71<=0.1,30,))))))))) | O71: =IF(D71="","",IF(D71="Nije ocijenjen","",IF(D71="Ocijenjen",IF(E71=0,"",((K71+J71+(L71/2))/(E71)))))) | P71: =IF(D71="","",IF(D71="Nije ocijenjen","",IF(D71="Ocijenjen",IF(O71>0.2,0,IF(O71>0.15,2,IF(O71>0.1,4,IF(O71>0.06,6,IF(O71>0.03,8,IF(O71<=0.03,10,))))))))) | Q71: =IF(D71="","",IF(D71="Nije ocijenjen","",IF(D71="Ocijenjen",IF(M71="Član 17. stav 7. Kriterija",P71,N71+P71))))
A72: 63 | F72: =SUM(H72:L72) -> 0 | M72: =IF(D72="","",IF(D72="Nije ocijenjen","",IF(D72="Ocijenjen",IF(F72<10,"Član 17. stav 7. Kriterija",(K72+(L72/2))/(F72))))) | N72: =IF(D72="","",IF(D72="Nije ocijenjen","",IF(D72="Ocijenjen",IF(M72="Član 17. stav 7. Kriterija","",IF(M72>0.4,0,IF(M72>0.3,8,IF(M72>0.2,16,IF(M72>0.1,24,IF(M72<=0.1,30,))))))))) | O72: =IF(D72="","",IF(D72="Nije ocijenjen","",IF(D72="Ocijenjen",IF(E72=0,"",((K72+J72+(L72/2))/(E72)))))) | P72: =IF(D72="","",IF(D72="Nije ocijenjen","",IF(D72="Ocijenjen",IF(O72>0.2,0,IF(O72>0.15,2,IF(O72>0.1,4,IF(O72>0.06,6,IF(O72>0.03,8,IF(O72<=0.03,10,))))))))) | Q72: =IF(D72="","",IF(D72="Nije ocijenjen","",IF(D72="Ocijenjen",IF(M72="Član 17. stav 7. Kriterija",P72,N72+P72))))
A73: 64 | F73: =SUM(H73:L73) -> 0 | M73: =IF(D73="","",IF(D73="Nije ocijenjen","",IF(D73="Ocijenjen",IF(F73<10,"Član 17. stav 7. Kriterija",(K73+(L73/2))/(F73))))) | N73: =IF(D73="","",IF(D73="Nije ocijenjen","",IF(D73="Ocijenjen",IF(M73="Član 17. stav 7. Kriterija","",IF(M73>0.4,0,IF(M73>0.3,8,IF(M73>0.2,16,IF(M73>0.1,24,IF(M73<=0.1,30,))))))))) | O73: =IF(D73="","",IF(D73="Nije ocijenjen","",IF(D73="Ocijenjen",IF(E73=0,"",((K73+J73+(L73/2))/(E73)))))) | P73: =IF(D73="","",IF(D73="Nije ocijenjen","",IF(D73="Ocijenjen",IF(O73>0.2,0,IF(O73>0.15,2,IF(O73>0.1,4,IF(O73>0.06,6,IF(O73>0.03,8,IF(O73<=0.03,10,))))))))) | Q73: =IF(D73="","",IF(D73="Nije ocijenjen","",IF(D73="Ocijenjen",IF(M73="Član 17. stav 7. Kriterija",P73,N73+P73))))
A74: 65 | F74: =SUM(H74:L74) -> 0 | M74: =IF(D74="","",IF(D74="Nije ocijenjen","",IF(D74="Ocijenjen",IF(F74<10,"Član 17. stav 7. Kriterija",(K74+(L74/2))/(F74))))) | N74: =IF(D74="","",IF(D74="Nije ocijenjen","",IF(D74="Ocijenjen",IF(M74="Član 17. stav 7. Kriterija","",IF(M74>0.4,0,IF(M74>0.3,8,IF(M74>0.2,16,IF(M74>0.1,24,IF(M74<=0.1,30,))))))))) | O74: =IF(D74="","",IF(D74="Nije ocijenjen","",IF(D74="Ocijenjen",IF(E74=0,"",((K74+J74+(L74/2))/(E74)))))) | P74: =IF(D74="","",IF(D74="Nije ocijenjen","",IF(D74="Ocijenjen",IF(O74>0.2,0,IF(O74>0.15,2,IF(O74>0.1,4,IF(O74>0.06,6,IF(O74>0.03,8,IF(O74<=0.03,10,))))))))) | Q74: =IF(D74="","",IF(D74="Nije ocijenjen","",IF(D74="Ocijenjen",IF(M74="Član 17. stav 7. Kriterija",P74,N74+P74))))
A76: KVALITET SUDSKIH ODLUKA ** | E76: =SUM(E10:E74) -> 0 | F76: =SUM(F10:F74) -> 0 | G76: =SUM(G10:G74) -> 0 | H76: =SUM(H10:H74) -> 0 | I76: =SUM(I10:I74) -> 0 | J76: =SUM(J10:J74) -> 0 | K76: =SUM(K10:K74) -> 0 | L76: =SUM(L10:L74) -> 0 | M76: =IF(F76=0,"",0.75*((F76-K76-(L76/2))/F76)+0.25*((E76-J76-K76-(L76/2))/E76))
A79: Tabela IIIb - Obračun individualnog kvaliteta odluka za proces ocjenjivanja nosilaca pravosudnih funkcija koji su u periodu ocjenjivanja radili u dva suda (pogledati NAPOMENU 2)
A81: Upisati naziv Suda 1
A82: 1 | B82: Ime i prezime | C82: Predsjednik suda | F82: =SUM(H82:L82) -> 0
A83: Upisati naziv Suda 2
A84: =+A82 -> 1 | B84: =+B82 -> Ime i prezime | F84: =SUM(H84:L84) -> 0
A85: Individualni kvalitet NPF-a koji je radio u dva suda u toku perioda ocjenjivanja
A86: =+A82 -> 1 | B86: =+B82 -> Ime i prezime | C86: Predsjednik suda | E86: =+E82+E84 -> 0 | F86: =SUM(H86:L86) -> 0 | G86: =+G82+G84 -> 0 | H86: =+H82+H84 -> 0 | I86: =+I82+I84 -> 0 | J86: =+J82+J84 -> 0 | K86: =+K82+K84 -> 0 | L86: =+L82+L84 -> 0 | M86: =IF(D86="","",IF(D86="Nije ocijenjen ili Ne treba raditi na predmetima","",IF(D86="Ocijenjen",IF(F86<10,"Član 20. stav 7. Kriterija",(K86+(L86/2))/(F86))))) | N86: =IF(D86="","",IF(D86="Nije ocijenjen ili Ne treba raditi na predmetima","",IF(D86="Ocijenjen",IF(M86="Član 20. stav 7. Kriterija","",IF(M86>0.4,0,IF(M86>0.3,4,IF(M86>0.2,8,IF(M86>0.1,12,IF(M86<=0.1,15,))))))))) | O86: =IF(D86="","",IF(D86="Nije ocijenjen ili Ne treba raditi na predmetima","",IF(D86="Ocijenjen",IF(E86=0,"",((K86+J86+(L86/2))/(E86)))))) | P86: =IF(D86="","",IF(D86="Nije ocijenjen ili Ne treba raditi na predmetima","",IF(D86="Ocijenjen",IF(O86>0.2,0,IF(O86>0.15,1,IF(O86>0.1,2,IF(O86>0.06,3,IF(O86>0.03,4,IF(O86<=0.03,5,))))))))) | Q86: =IF(D86="","",IF(D86="Nije ocijenjen ili Ne treba raditi na predmetima","",IF(D86="Ocijenjen",IF(M86="Član 20. stav 7. Kriterija",P86,N86+P86))))
A88: Upisati naziv Suda 1
A89: 2 | B89: Ime i prezime | F89: =SUM(H89:L89) -> 0
A90: Upisati naziv Suda 2
A91: =+A89 -> 2 | B91: =+B89 -> Ime i prezime | F91: =SUM(H91:L91) -> 0
A92: Individualni kvalitet NPF-a koji je radio u dva suda u toku perioda ocjenjivanja
A93: =+A89 -> 2 | B93: =+B89 -> Ime i prezime | E93: =+E89+E91 -> 0 | F93: =SUM(H93:L93) -> 0 | G93: =+G89+G91 -> 0 | H93: =+H89+H91 -> 0 | I93: =+I89+I91 -> 0 | J93: =+J89+J91 -> 0 | K93: =+K89+K91 -> 0 | L93: =+L89+L91 -> 0 | M93: =IF(D93="","",IF(D93="Nije ocijenjen","",IF(D93="Ocijenjen",IF(F93<10,"Član 17. stav 7. Kriterija",(K93+(L93/2))/(F93))))) | N93: =IF(D93="","",IF(D93="Nije ocijenjen","",IF(D93="Ocijenjen",IF(M93="Član 17. stav 7. Kriterija","",IF(M93>0.4,0,IF(M93>0.3,8,IF(M93>0.2,16,IF(M93>0.1,24,IF(M93<=0.1,30,))))))))) | O93: =IF(D93="","",IF(D93="Nije ocijenjen","",IF(D93="Ocijenjen",IF(E93=0,"",((K93+J93+(L93/2))/(E93)))))) | P93: =IF(D93="","",IF(D93="Nije ocijenjen","",IF(D93="Ocijenjen",IF(O93>0.2,0,IF(O93>0.15,2,IF(O93>0.1,4,IF(O93>0.06,6,IF(O93>0.03,8,IF(O93<=0.03,10,))))))))) | Q93: =IF(D93="","",IF(D93="Nije ocijenjen","",IF(D93="Ocijenjen",IF(M93="Član 17. stav 7. Kriterija",P93,N93+P93))))
A95: Upisati naziv Suda 1
A96: 3 | B96: Ime i prezime | F96: =SUM(H96:L96) -> 0
A97: Upisati naziv Suda 2
A98: =+A96 -> 3 | B98: =+B96 -> Ime i prezime | F98: =SUM(H98:L98) -> 0
A99: Individualni kvalitet NPF-a koji je radio u dva suda u toku perioda ocjenjivanja
A100: =+A96 -> 3 | B100: =+B96 -> Ime i prezime | E100: =+E96+E98 -> 0 | F100: =SUM(H100:L100) -> 0 | G100: =+G96+G98 -> 0 | H100: =+H96+H98 -> 0 | I100: =+I96+I98 -> 0 | J100: =+J96+J98 -> 0 | K100: =+K96+K98 -> 0 | L100: =+L96+L98 -> 0 | M100: =IF(D100="","",IF(D100="Nije ocijenjen","",IF(D100="Ocijenjen",IF(F100<10,"Član 17. stav 7. Kriterija",(K100+(L100/2))/(F100))))) | N100: =IF(D100="","",IF(D100="Nije ocijenjen","",IF(D100="Ocijenjen",IF(M100="Član 17. stav 7. Kriterija","",IF(M100>0.4,0,IF(M100>0.3,8,IF(M100>0.2,16,IF(M100>0.1,24,IF(M100<=0.1,30,))))))))) | O100: =IF(D100="","",IF(D100="Nije ocijenjen","",IF(D100="Ocijenjen",IF(E100=0,"",((K100+J100+(L100/2))/(E100)))))) | P100: =IF(D100="","",IF(D100="Nije ocijenjen","",IF(D100="Ocijenjen",IF(O100>0.2,0,IF(O100>0.15,2,IF(O100>0.1,4,IF(O100>0.06,6,IF(O100>0.03,8,IF(O100<=0.03,10,))))))))) | Q100: =IF(D100="","",IF(D100="Nije ocijenjen","",IF(D100="Ocijenjen",IF(M100="Član 17. stav 7. Kriterija",P100,N100+P100))))
A102: Upisati naziv Suda 1
A103: 4 | B103: Ime i prezime | F103: =SUM(H103:L103) -> 0
A104: Upisati naziv Suda 2
A105: =+A103 -> 4 | B105: =+B103 -> Ime i prezime | F105: =SUM(H105:L105) -> 0
A106: Individualni kvalitet NPF-a koji je radio u dva suda u toku perioda ocjenjivanja
A107: =+A103 -> 4 | B107: =+B103 -> Ime i prezime | E107: =+E103+E105 -> 0 | F107: =SUM(H107:L107) -> 0 | G107: =+G103+G105 -> 0 | H107: =+H103+H105 -> 0 | I107: =+I103+I105 -> 0 | J107: =+J103+J105 -> 0 | K107: =+K103+K105 -> 0 | L107: =+L103+L105 -> 0 | M107: =IF(D107="","",IF(D107="Nije ocijenjen","",IF(D107="Ocijenjen",IF(F107<10,"Član 17. stav 7. Kriterija",(K107+(L107/2))/(F107))))) | N107: =IF(D107="","",IF(D107="Nije ocijenjen","",IF(D107="Ocijenjen",IF(M107="Član 17. stav 7. Kriterija","",IF(M107>0.4,0,IF(M107>0.3,8,IF(M107>0.2,16,IF(M107>0.1,24,IF(M107<=0.1,30,))))))))) | O107: =IF(D107="","",IF(D107="Nije ocijenjen","",IF(D107="Ocijenjen",IF(E107=0,"",((K107+J107+(L107/2))/(E107)))))) | P107: =IF(D107="","",IF(D107="Nije ocijenjen","",IF(D107="Ocijenjen",IF(O107>0.2,0,IF(O107>0.15,2,IF(O107>0.1,4,IF(O107>0.06,6,IF(O107>0.03,8,IF(O107<=0.03,10,))))))))) | Q107: =IF(D107="","",IF(D107="Nije ocijenjen","",IF(D107="Ocijenjen",IF(M107="Član 17. stav 7. Kriterija",P107,N107+P107))))
A109: Upisati naziv Suda 1
A110: 5 | B110: Ime i prezime | F110: =SUM(H110:L110) -> 0
A111: Upisati naziv Suda 2
A112: =+A110 -> 5 | B112: =+B110 -> Ime i prezime | F112: =SUM(H112:L112) -> 0
A113: Individualni kvalitet NPF-a koji je radio u dva suda u toku perioda ocjenjivanja
A114: =+A110 -> 5 | B114: =+B110 -> Ime i prezime | E114: =+E110+E112 -> 0 | F114: =SUM(H114:L114) -> 0 | G114: =+G110+G112 -> 0 | H114: =+H110+H112 -> 0 | I114: =+I110+I112 -> 0 | J114: =+J110+J112 -> 0 | K114: =+K110+K112 -> 0 | L114: =+L110+L112 -> 0 | M114: =IF(D114="","",IF(D114="Nije ocijenjen","",IF(D114="Ocijenjen",IF(F114<10,"Član 17. stav 7. Kriterija",(K114+(L114/2))/(F114))))) | N114: =IF(D114="","",IF(D114="Nije ocijenjen","",IF(D114="Ocijenjen",IF(M114="Član 17. stav 7. Kriterija","",IF(M114>0.4,0,IF(M114>0.3,8,IF(M114>0.2,16,IF(M114>0.1,24,IF(M114<=0.1,30,))))))))) | O114: =IF(D114="","",IF(D114="Nije ocijenjen","",IF(D114="Ocijenjen",IF(E114=0,"",((K114+J114+(L114/2))/(E114)))))) | P114: =IF(D114="","",IF(D114="Nije ocijenjen","",IF(D114="Ocijenjen",IF(O114>0.2,0,IF(O114>0.15,2,IF(O114>0.1,4,IF(O114>0.06,6,IF(O114>0.03,8,IF(O114<=0.03,10,))))))))) | Q114: =IF(D114="","",IF(D114="Nije ocijenjen","",IF(D114="Ocijenjen",IF(M114="Član 17. stav 7. Kriterija",P114,N114+P114))))
A116: Upisati naziv Suda 1
A117: 6 | B117: Ime i prezime | F117: =SUM(H117:L117) -> 0
A118: Upisati naziv Suda 2
A119: =+A117 -> 6 | B119: =+B117 -> Ime i prezime | F119: =SUM(H119:L119) -> 0
A120: Individualni kvalitet NPF-a koji je radio u dva suda u toku perioda ocjenjivanja
A121: =+A117 -> 6 | B121: =+B117 -> Ime i prezime | E121: =+E117+E119 -> 0 | F121: =SUM(H121:L121) -> 0 | G121: =+G117+G119 -> 0 | H121: =+H117+H119 -> 0 | I121: =+I117+I119 -> 0 | J121: =+J117+J119 -> 0 | K121: =+K117+K119 -> 0 | L121: =+L117+L119 -> 0 | M121: =IF(D121="","",IF(D121="Nije ocijenjen","",IF(D121="Ocijenjen",IF(F121<10,"Član 17. stav 7. Kriterija",(K121+(L121/2))/(F121))))) | N121: =IF(D121="","",IF(D121="Nije ocijenjen","",IF(D121="Ocijenjen",IF(M121="Član 17. stav 7. Kriterija","",IF(M121>0.4,0,IF(M121>0.3,8,IF(M121>0.2,16,IF(M121>0.1,24,IF(M121<=0.1,30,))))))))) | O121: =IF(D121="","",IF(D121="Nije ocijenjen","",IF(D121="Ocijenjen",IF(E121=0,"",((K121+J121+(L121/2))/(E121)))))) | P121: =IF(D121="","",IF(D121="Nije ocijenjen","",IF(D121="Ocijenjen",IF(O121>0.2,0,IF(O121>0.15,2,IF(O121>0.1,4,IF(O121>0.06,6,IF(O121>0.03,8,IF(O121<=0.03,10,))))))))) | Q121: =IF(D121="","",IF(D121="Nije ocijenjen","",IF(D121="Ocijenjen",IF(M121="Član 17. stav 7. Kriterija",P121,N121+P121))))
A123: Upisati naziv Suda 1
A124: 7 | B124: Ime i prezime | F124: =SUM(H124:L124) -> 0
A125: Upisati naziv Suda 2
A126: =+A124 -> 7 | B126: =+B124 -> Ime i prezime | F126: =SUM(H126:L126) -> 0
A127: Individualni kvalitet NPF-a koji je radio u dva suda u toku perioda ocjenjivanja
A128: =+A124 -> 7 | B128: =+B124 -> Ime i prezime | E128: =+E124+E126 -> 0 | F128: =SUM(H128:L128) -> 0 | G128: =+G124+G126 -> 0 | H128: =+H124+H126 -> 0 | I128: =+I124+I126 -> 0 | J128: =+J124+J126 -> 0 | K128: =+K124+K126 -> 0 | L128: =+L124+L126 -> 0 | M128: =IF(D128="","",IF(D128="Nije ocijenjen","",IF(D128="Ocijenjen",IF(F128<10,"Član 17. stav 7. Kriterija",(K128+(L128/2))/(F128))))) | N128: =IF(D128="","",IF(D128="Nije ocijenjen","",IF(D128="Ocijenjen",IF(M128="Član 17. stav 7. Kriterija","",IF(M128>0.4,0,IF(M128>0.3,8,IF(M128>0.2,16,IF(M128>0.1,24,IF(M128<=0.1,30,))))))))) | O128: =IF(D128="","",IF(D128="Nije ocijenjen","",IF(D128="Ocijenjen",IF(E128=0,"",((K128+J128+(L128/2))/(E128)))))) | P128: =IF(D128="","",IF(D128="Nije ocijenjen","",IF(D128="Ocijenjen",IF(O128>0.2,0,IF(O128>0.15,2,IF(O128>0.1,4,IF(O128>0.06,6,IF(O128>0.03,8,IF(O128<=0.03,10,))))))))) | Q128: =IF(D128="","",IF(D128="Nije ocijenjen","",IF(D128="Ocijenjen",IF(M128="Član 17. stav 7. Kriterija",P128,N128+P128))))
A130: Upisati naziv Suda 1
A131: 8 | B131: Ime i prezime | F131: =SUM(H131:L131) -> 0
A132: Upisati naziv Suda 2
A133: =+A131 -> 8 | B133: =+B131 -> Ime i prezime | F133: =SUM(H133:L133) -> 0
A134: Individualni kvalitet NPF-a koji je radio u dva suda u toku perioda ocjenjivanja
A135: =+A131 -> 8 | B135: =+B131 -> Ime i prezime | E135: =+E131+E133 -> 0 | F135: =SUM(H135:L135) -> 0 | G135: =+G131+G133 -> 0 | H135: =+H131+H133 -> 0 | I135: =+I131+I133 -> 0 | J135: =+J131+J133 -> 0 | K135: =+K131+K133 -> 0 | L135: =+L131+L133 -> 0 | M135: =IF(D135="","",IF(D135="Nije ocijenjen","",IF(D135="Ocijenjen",IF(F135<10,"Član 17. stav 7. Kriterija",(K135+(L135/2))/(F135))))) | N135: =IF(D135="","",IF(D135="Nije ocijenjen","",IF(D135="Ocijenjen",IF(M135="Član 17. stav 7. Kriterija","",IF(M135>0.4,0,IF(M135>0.3,8,IF(M135>0.2,16,IF(M135>0.1,24,IF(M135<=0.1,30,))))))))) | O135: =IF(D135="","",IF(D135="Nije ocijenjen","",IF(D135="Ocijenjen",IF(E135=0,"",((K135+J135+(L135/2))/(E135)))))) | P135: =IF(D135="","",IF(D135="Nije ocijenjen","",IF(D135="Ocijenjen",IF(O135>0.2,0,IF(O135>0.15,2,IF(O135>0.1,4,IF(O135>0.06,6,IF(O135>0.03,8,IF(O135<=0.03,10,))))))))) | Q135: =IF(D135="","",IF(D135="Nije ocijenjen","",IF(D135="Ocijenjen",IF(M135="Član 17. stav 7. Kriterija",P135,N135+P135))))
A137: Upisati naziv Suda 1
A138: 9 | B138: Ime i prezime | F138: =SUM(H138:L138) -> 0
A139: Upisati naziv Suda 2
A140: =+A138 -> 9 | B140: =+B138 -> Ime i prezime | F140: =SUM(H140:L140) -> 0
A141: Individualni kvalitet NPF-a koji je radio u dva suda u toku perioda ocjenjivanja
A142: =+A138 -> 9 | B142: =+B138 -> Ime i prezime | E142: =+E138+E140 -> 0 | F142: =SUM(H142:L142) -> 0 | G142: =+G138+G140 -> 0 | H142: =+H138+H140 -> 0 | I142: =+I138+I140 -> 0 | J142: =+J138+J140 -> 0 | K142: =+K138+K140 -> 0 | L142: =+L138+L140 -> 0 | M142: =IF(D142="","",IF(D142="Nije ocijenjen","",IF(D142="Ocijenjen",IF(F142<10,"Član 17. stav 7. Kriterija",(K142+(L142/2))/(F142))))) | N142: =IF(D142="","",IF(D142="Nije ocijenjen","",IF(D142="Ocijenjen",IF(M142="Član 17. stav 7. Kriterija","",IF(M142>0.4,0,IF(M142>0.3,8,IF(M142>0.2,16,IF(M142>0.1,24,IF(M142<=0.1,30,))))))))) | O142: =IF(D142="","",IF(D142="Nije ocijenjen","",IF(D142="Ocijenjen",IF(E142=0,"",((K142+J142+(L142/2))/(E142)))))) | P142: =IF(D142="","",IF(D142="Nije ocijenjen","",IF(D142="Ocijenjen",IF(O142>0.2,0,IF(O142>0.15,2,IF(O142>0.1,4,IF(O142>0.06,6,IF(O142>0.03,8,IF(O142<=0.03,10,))))))))) | Q142: =IF(D142="","",IF(D142="Nije ocijenjen","",IF(D142="Ocijenjen",IF(M142="Član 17. stav 7. Kriterija",P142,N142+P142))))
A144: Upisati naziv Suda 1
A145: 10 | B145: Ime i prezime | F145: =SUM(H145:L145) -> 0
A146: Upisati naziv Suda 2
A147: =+A145 -> 10 | B147: =+B145 -> Ime i prezime | F147: =SUM(H147:L147) -> 0
A148: Individualni kvalitet NPF-a koji je radio u dva suda u toku perioda ocjenjivanja
A149: =+A145 -> 10 | B149: =+B145 -> Ime i prezime | E149: =+E145+E147 -> 0 | F149: =SUM(H149:L149) -> 0 | G149: =+G145+G147 -> 0 | H149: =+H145+H147 -> 0 | I149: =+I145+I147 -> 0 | J149: =+J145+J147 -> 0 | K149: =+K145+K147 -> 0 | L149: =+L145+L147 -> 0 | M149: =IF(D149="","",IF(D149="Nije ocijenjen","",IF(D149="Ocijenjen",IF(F149<10,"Član 17. stav 7. Kriterija",(K149+(L149/2))/(F149))))) | N149: =IF(D149="","",IF(D149="Nije ocijenjen","",IF(D149="Ocijenjen",IF(M149="Član 17. stav 7. Kriterija","",IF(M149>0.4,0,IF(M149>0.3,8,IF(M149>0.2,16,IF(M149>0.1,24,IF(M149<=0.1,30,))))))))) | O149: =IF(D149="","",IF(D149="Nije ocijenjen","",IF(D149="Ocijenjen",IF(E149=0,"",((K149+J149+(L149/2))/(E149)))))) | P149: =IF(D149="","",IF(D149="Nije ocijenjen","",IF(D149="Ocijenjen",IF(O149>0.2,0,IF(O149>0.15,2,IF(O149>0.1,4,IF(O149>0.06,6,IF(O149>0.03,8,IF(O149<=0.03,10,))))))))) | Q149: =IF(D149="","",IF(D149="Nije ocijenjen","",IF(D149="Ocijenjen",IF(M149="Član 17. stav 7. Kriterija",P149,N149+P149))))
A152: * Ukoliko predsjednik suda nije obavezan neposredno raditi na predmetima, u skladu sa članom 14. Pravilnika o orijentacionim mjerilima za rad sudija i stručnih saradnika u sudovima u BiH, podaci za predsjednika suda se unose u tabelu radi obračuna kolektivnog kvaliteta odluka suda.
A153: ** Kvalitet rada sudskih odluka se automatski obračunava u skladu sa članom 17. Kriterija za ocjenjivanje rada sudija u BiH. Slijedi tekst za pojašnjenje formule za obračun kvaliteta sudskih odluka: (75% * (Ukupan broj ožalbenih odluka - Broj ukinutih odluka - Broj djelimično ukinutih odluka/2) / Ukupan broj ožalbenih odluka) + (25% * (Broj donesenih odluka na koje se može izjaviti pravni lijek - Broj preinačenih odluka donijetih nakon održane glavne raspave ili pretresa pred drugostepenim sudom - Broj ukinutih odluka - Broj djelimično ukinutih odluka/2) / Broj donesenih odluka na koje se može izjaviti pravni lijek).
A156: *** Statistički podaci o broju odbačenih pravnih lijekova prikupljaju se isključivo u svrhu statističkog izvještavanja o radu sudova.
A158: NAPOMENA 1: Kvalitet odluka predsjednika suda i sudija u Tabeli IIIa i IIIb automatski se obračunava u skladu sa odredbama člana 17. Kriterija za ocjenjivanje rada sudija u Bosni i Hercegovini i člana 20. Kriterija za ocjenjivanje rada predsjednika sudova u Bosni I Hercegovini.
A160: NAPOMENA 2: U Tabelu IIIa se unose podaci o kvalitetu odluka za sve nosioce pravosudne funkcije koji su u toku godine obavljali funkciju u sudu. Ukoliko je nosilac pravosudne funkcije u toku godine prvi put imenovan u sud, ili je obavljao funkciju u dva suda (bez obzira na nivo suda), ili je napustio pravosuđe u Tabelu IIIa se unose podaci koje je nosilac pravosudne funkcije ostvario u sudu koji popunjava Tabelu IIIa. Tabelu IIIb popunjava sud koje provodi postupak ocjenjivanja rezultata rada nosioca pravosudne funkcije koji je tokom godine obavljao funkciju u dva suda (bez obzira na nivo suda). Podaci o ostvarenom individualnom kvalitetu odluka nosilaca pravosudne funkcije se unose pojedinačno za svaki sud u kojem je nosilac pravosudne funkcije obavljao funkciju. U obrazac za ocjenjivanje rada unosi se podatak o procentu ostvarenog kvaliteta odluka i broju ostvarenih bodova iz Tabele IIIb.
...

Sheet Tabela IV
A1: =+'Tabela I'!A1 -> Osnovni sud Brčko Distrikta
A2: Izvještajni period: | C2: ='Tabela I'!C2 -> 1.1.2022.- 31.12.2022.
A3: Tabela IV - Ostali podaci
A5: Godina prijema predmeta | B5: Vrsta predmeta | C5: Broj nezavedenih predmeta | D5: Obrazloženje
A7: I | B7: II | C7: III | D7: IV
A27: U Tabelu IV potrebno je da unesete podatke o broju zaprimljenih predmeta koji nisu zavedeni kroz sudski upisnik (ukoliko imate takvih predmeta), navodeći podatke o godini prijema, vrsti i broju predmeta sa obrazloženjem razloga zbog kojih predmeti nisu zavedeni u sudski upisnik.

Sheet Tabela V
A1: =+'Tabela I'!A1 -> Osnovni sud Brčko Distrikta
A2: Izvještajni period: | H2: ='Tabela I'!C2 -> 1.1.2022.- 31.12.2022.
A3: Tabela V - Pregled starosti neriješenih predmeta sa 31.12.2022. godine
A5: Godina iniciranja predmeta | B5: Broj neriješenih predmeta za naplatu komunalnih usluga | F5: Broj neriješenih predmeta na referatu predmeti registracije | L5: Broj neriješenih ZK predmeta
B6: Mal | C6: Mals | D6: I | E6: Ip | F6: Reg | G6: RegZ | H6: F1 | I6: F2 | J6: F3 | K6: Ostalo | L6: Dn | M6: Nar | N6: Rz | O6: Kpu | P6: Ostalo
B7: I | C7: II | D7: III | E7: IV | F7: I | G7: II | H7: III | I7: IV | J7: V | K7: VI | L7: VII | M7: VIII | N7: IX | O7: X | P7: XI
A8: 2022
A9: 2021
A10: 2020
A11: 2019
A12: 2018
A13: 2017
A14: 2016
A15: 2015
A16: 2014
A17: 2013
A18: 2012
A19: 2011
A20: 2010
A21: =A20-1 -> 2009
A22: =A21-1 -> 2008
A23: =A22-1 -> 2007
A24: =A23-1 -> 2006
A25: =A24-1 -> 2005
A26: =A25-1 -> 2004
A27: =A26-1 -> 2003
A28: =A27-1 -> 2002
A29: =A28-1 -> 2001
A30: =A29-1 -> 2000
A31: =A30-1 -> 1999
A32: =A31-1 -> 1998
... A50: =A49-1 -> 1980
A51: Stariji od 1980.
A52: UKUPNO | B52: =SUM(B8:B51) -> 0 | C52: =SUM(C8:C51) -> 0 | D52: =SUM(D8:D51) -> 0 | E52: =SUM(E8:E51) -> 0 | F52: =SUM(F8:F51) -> 0 | G52: =SUM(G8:G51) -> 0 | H52: =SUM(H8:H51) -> 0 | I52: =SUM(I8:I51) -> 0 | ... P52: =SUM(P8:P51) -> 0
A53: SVEUKUPNO | B53: =SUM(B52:E52) -> 0 | F53: =SUM(F52:K52) -> 0 | L53: =SUM(L52:P52) -> 0
B54: =+'Tabela I'!F13 -> 0 | F54: ='Tabela I'!F21 -> 0 | L54: ='Tabela I'!F28 -> 0
A56: U Tabelu V potrebno je da razvrstate neriješene predmete za naplatu komunalnih usluga, predmete registracije poslovnih subjekata i ZK predmete, zaključno sa 31.12.2022. godine, prema godini iniciranja pred općinskim, osnovnim ili okružnim privrdenim sudom. Podaci iskazani u ovoj tabeli moraju biti konzistentni sa podacima iskazanim u Tabeli I i Tabeli Ia.

Sheet Tabela VI
A1: =+'Tabela I'!A1 -> Osnovni sud Brčko Distrikta
A2: Izvještajni period: | B2: ='Tabela I'!C2 -> 1.1.2022.- 31.12.2022.
A3: Tabela VI - Odluke Ustavnog suda BiH
A4: Tabela VIa - Odluke kojima se ne usvaja apelacija
A5: Broj odluka kojima se odbacuje apelacija | B5: Broj odluka kojima se obustavlja postupak pred Ustavnim sudom BiH | C5: Broj odluka kojima se odbija apelacija | D5: Ukupno
A6: I | B6: II | C6: III | D6: IV=I+II+III
D7: =IF(SUM(A7:C7)=0," ",SUM(A7:C7))
A8: Tabela VIb - Odluke kojima se usvaja apelacija
A9: Pravni osnov | B9: Broj odluka kojima se usvaja apelacija | E9: Ukupno
B10: Broj odluka kojima se preinačuju odluke suda | C10: Broj odluka kojima se ukidaju odluke suda | D10: Broj ostalih odluka kojima se usvaja apelacija
B11: I | C11: II | D11: III | E11: IV=I+II+III
A12: Čl. 13. EK (pravo na djelotvorni pravni lijek) | E12: =IF(SUM(B12:D12)=0," ",SUM(B12:D12))
A13: Čl. 3. P7 (naknada za pogrešnu presudu) | E13: =IF(SUM(B13:D13)=0," ",SUM(B13:D13))
A14: Čl. 6. EK i II/3.e) Ustava BiH (pravo na pravično suđenje) | E14: =IF(SUM(B14:D14)=0," ",SUM(B14:D14))
A15: Čl. 5.EK i II/3d Ustava (pravo na ličnu slobodu) | E15: =IF(SUM(B15:D15)=0," ",SUM(B15:D15))
A16: Čl. 1. P.1. i II/3.k) Ustava BiH (pravo na imovinu) | E16: =IF(SUM(B16:D16)=0," ",SUM(B16:D16))
A17: Čl. 1. P.7. (Proceduralne zaštite u vezi sa protjerivanjem stranaca) | E17: =IF(SUM(B17:D17)=0," ",SUM(B17:D17))
A18: Ostalo | E18: =IF(SUM(B18:D18)=0," ",SUM(B18:D18))
A19: Tabela VIc – Predmeti u kojima se nalaže sudu da okonča predmet bez odlaganja zbog kršenja prava na donošenje odluke u razumnom roku
A20: Pravni osnov | B20: Broj odluka kojima se nalaže sudu da okonča predmet bez odlaganja zbog kršenja prava na donošenje odluke u razumnom roku jer je Ustavni sud BiH zaključio da je odugovlačenju postupka najviše doprinio
B21: prvostepeni sud | C21: drugostepeni sud | D21: sud koji rješava predmet po uloženom vanrednom pravnom lijeku | E21: Ostalo | F21: Ukupno
B22: I | C22: II | D22: III | E22: IV | F22: V=I+II+III+IV
A23: Čl. 6 EK i II/3.e) Ustava BiH (pravo na pravično suđenje) | F23: =IF(SUM(B23:E23)=0," ",SUM(B23:E23))
A24: Tabela VId - Predmeti u kojima je utvrđeno kršenje prava na donošenje odluke u razumnom roku*
A25: Broj predmeta u kojima je određena naknada nematerijalne štete zbog kršenja prava na donošenje odluke u razumnom roku
A26: Ukupan iznos određene naknade
A28: * U Tabelu VId unose se podaci o predmetima u kojima je usvojena apelacija u odnosu na odluke Vašeg suda i određena naknada nematerijalne štete zbog kršenja prava na donošenje odluke u razumnom roku, kao i ukupan iznos naknade koji je utvrdio Ustavni sud BiH.

Sheet tbl1Protok
A1: for_key | B1: godina | C1: idReferata | D1: BrNerPocGod | E1: BrPrimTokGod | F1: BrRijTokGod | G1: KolNorma
A2: ='Tabela I'!$F$2 -> 116 | B2: ='Tabela I'!$F$1 -> 2022 | C2: 127 | D2: ='Tabela I'!B9 -> 0 | E2: ='Tabela I'!C9 -> 0 | F2: ='Tabela I'!E9 -> 0 | G2: ='Tabela I'!E3
A3: ='Tabela I'!$F$2 -> 116 | B3: ='Tabela I'!$F$1 -> 2022 | C3: 128 | D3: ='Tabela I'!B10 -> 0 | E3: ='Tabela I'!C10 -> 0 | F3: ='Tabela I'!E10 -> 0 | G3: 0
A4: ='Tabela I'!$F$2 -> 116 | B4: ='Tabela I'!$F$1 -> 2022 | C4: 129 | D4: ='Tabela I'!B11 -> 0 | E4: ='Tabela I'!C11 -> 0 | F4: ='Tabela I'!E11 -> 0 | G4: 0
A5: ='Tabela I'!$F$2 -> 116 | B5: ='Tabela I'!$F$1 -> 2022 | C5: 131 | D5: ='Tabela I'!B12 -> 0 | E5: ='Tabela I'!C12 -> 0 | F5: ='Tabela I'!E12 -> 0 | G5: 0
A6: ='Tabela I'!$F$2 -> 116 | B6: ='Tabela I'!$F$1 -> 2022 | C6: 26 | D6: ='Tabela I'!B15 -> 0 | E6: ='Tabela I'!C15 -> 0 | F6: ='Tabela I'!E15 -> 0 | G6: 0
A7: ='Tabela I'!$F$2 -> 116 | B7: ='Tabela I'!$F$1 -> 2022 | C7: 104 | D7: ='Tabela I'!B16 -> 0 | E7: ='Tabela I'!C16 -> 0 | F7: ='Tabela I'!E16 -> 0 | G7: 0
A8: ='Tabela I'!$F$2 -> 116 | B8: ='Tabela I'!$F$1 -> 2022 | C8: 99 | D8: ='Tabela I'!B17 -> 0 | E8: ='Tabela I'!C17 -> 0 | F8: ='Tabela I'!E17 -> 0 | G8: 0
A9: ='Tabela I'!$F$2 -> 116 | B9: ='Tabela I'!$F$1 -> 2022 | C9: 100 | D9: ='Tabela I'!B18 -> 0 | E9: ='Tabela I'!C18 -> 0 | F9: ='Tabela I'!E18 -> 0 | G9: 0
A10: ='Tabela I'!$F$2 -> 116 | B10: ='Tabela I'!$F$1 -> 2022 | C10: 101 | D10: ='Tabela I'!B19 -> 0 | E10: ='Tabela I'!C19 -> 0 | F10: ='Tabela I'!E19 -> 0 | G10: 0
A11: ='Tabela I'!$F$2 -> 116 | B11: ='Tabela I'!$F$1 -> 2022 | C11: 123 | D11: ='Tabela I'!B20 -> 0 | E11: ='Tabela I'!C20 -> 0 | F11: ='Tabela I'!E20 -> 0 | G11: 0
A12: ='Tabela I'!$F$2 -> 116 | B12: ='Tabela I'!$F$1 -> 2022 | C12: 105 | D12: ='Tabela I'!B23 -> 0 | E12: ='Tabela I'!C23 -> 0 | F12: ='Tabela I'!E23 -> 0 | G12: 0
A13: ='Tabela I'!$F$2 -> 116 | B13: ='Tabela I'!$F$1 -> 2022 | C13: 106 | D13: ='Tabela I'!B24 -> 0 | E13: ='Tabela I'!C24 -> 0 | F13: ='Tabela I'!E24 -> 0 | G13: 0
A14: ='Tabela I'!$F$2 -> 116 | B14: ='Tabela I'!$F$1 -> 2022 | C14: 107 | D14: ='Tabela I'!B25 -> 0 | E14: ='Tabela I'!C25 -> 0 | F14: ='Tabela I'!E25 -> 0 | G14: 0
A15: ='Tabela I'!$F$2 -> 116 | B15: ='Tabela I'!$F$1 -> 2022 | C15: 108 | D15: ='Tabela I'!B26 -> 0 | E15: ='Tabela I'!C26 -> 0 | F15: ='Tabela I'!E26 -> 0 | G15: 0
A16: ='Tabela I'!$F$2 -> 116 | B16: ='Tabela I'!$F$1 -> 2022 | C16: 60 | D16: ='Tabela I'!B27 -> 0 | E16: ='Tabela I'!C27 -> 0 | F16: ='Tabela I'!E27 -> 0 | G16: 0
A17: ='Tabela I'!$F$2 -> 116 | B17: ='Tabela I'!$F$1 -> 2022 | C17: 65 | D17: ='Tabela I'!B30 -> 0 | E17: ='Tabela I'!C30 -> 0 | F17: ='Tabela I'!E30 -> 0 | G17: 0

Sheet tbl1b_zk_opc_osn
A1: for_key | B1: godina | C1: idReferata | D1: BrNerPocGod | E1: BrPrimTokGod | F1: BrRijTokGod
A2: ='Tabela I'!$F$2 -> 116 | B2: ='Tabela I'!$F$1 -> 2022 | C2: 57 | D2: ='Tabela Ia'!B7 -> 0 | E2: ='Tabela Ia'!C7 -> 0 | F2: ='Tabela Ia'!E7 -> 0
A3: ='Tabela I'!$F$2 -> 116 | B3: ='Tabela I'!$F$1 -> 2022 | C3: 58 | D3: ='Tabela Ia'!B8 -> 0 | E3: ='Tabela Ia'!C8 -> 0 | F3: ='Tabela Ia'!E8 -> 0
A4: ='Tabela I'!$F$2 -> 116 | B4: ='Tabela I'!$F$1 -> 2022 | C4: 59 | D4: ='Tabela Ia'!B9 -> 0 | E4: ='Tabela Ia'!C9 -> 0 | F4: ='Tabela Ia'!E9 -> 0
A5: ='Tabela I'!$F$2 -> 116 | B5: ='Tabela I'!$F$1 -> 2022 | C5: 60 | D5: ='Tabela Ia'!B10 -> 0 | E5: ='Tabela Ia'!C10 -> 0 | F5: ='Tabela Ia'!E10 -> 0
D6: =SUM(D2:D5) -> 0 | E6: =SUM(E2:E5) -> 0 | F6: =SUM(F2:F5) -> 0

Sheet tbl II
A1: Godina | B1: Sud | C1: ImePrezime | D1: Ocjenjen | E1: Odjel | F1: Funkcija | G1: NormaPravilnik | H1: DatumOd | I1: DatumDo | J1: BroDanaZa Normu | K1: Odsustvo | L1: NormaCMS | M1: NormaVanCMS | N1: VeceVrenovanje | O1: OstvarenaNorma | P1: PreracunataNorma | Q1: BrPredURadu | R1: BrRijPred | S1: BrNerijPredSaZakProcSmet | T1: BrNerijPredBezZakProcSmet | U1: ProcRijePred | V1: BrOStBod
A2: ='Tabela I'!$F$1 -> 2022 | B2: ='Tabela I'!$F$2 -> 116 | C2: ='Tabela II'!B8 -> 0 | D2: ='Tabela II'!C8 -> 0 | E2: ='Tabela II'!D8 -> 0 | F2: ='Tabela II'!E8 -> Predsjednik suda | G2: ='Tabela II'!G8 -> 0 | H2: ='Tabela II'!H8 -> 0 | I2: ='Tabela II'!I8 -> 0 | J2: ='Tabela II'!J8 -> 260 | K2: ='Tabela II'!K8 -> 0 | L2: ='Tabela II'!L8 -> 0 | M2: ='Tabela II'!M8 -> 0 | N2: ='Tabela II'!N8 -> 0 | ... V2: ='Tabela II'!V8
A3: ='Tabela I'!$F$1 -> 2022 | B3: ='Tabela I'!$F$2 -> 116 | C3: =C2 -> 0 | D3: =D2 -> 0 | E3: =E2 -> 0 | F3: =F2 -> Predsjednik suda | G3: ='Tabela II'!G9 -> 0 | H3: ='Tabela II'!H9 -> 0 | I3: ='Tabela II'!I9 -> 0 | J3: ='Tabela II'!J9 -> 260 | K3: ='Tabela II'!K9 -> 0 | L3: ='Tabela II'!L9 -> 0 | M3: ='Tabela II'!M9 -> 0 | N3: ='Tabela II'!N9 -> 0 | ... V3: ='Tabela II'!V9
A4: ='Tabela I'!$F$1 -> 2022 | B4: ='Tabela I'!$F$2 -> 116 | C4: ='Tabela II'!B10 -> 0 | D4: ='Tabela II'!C10 -> 0 | E4: ='Tabela II'!D10 -> 0 | F4: ='Tabela II'!E10 -> 0 | G4: ='Tabela II'!G10 -> 0 | H4: ='Tabela II'!H10 -> 0 | I4: ='Tabela II'!I10 -> 0 | J4: ='Tabela II'!J10 -> 260 | K4: ='Tabela II'!K10 -> 0 | L4: ='Tabela II'!L10 -> 0 | M4: ='Tabela II'!M10 -> 0 | N4: ='Tabela II'!N10 -> 0 | ... V4: ='Tabela II'!V10
A5: ='Tabela I'!$F$1 -> 2022 | B5: ='Tabela I'!$F$2 -> 116 | C5: ='Tabela II'!B11 -> 0 | D5: ='Tabela II'!C11 -> 0 | E5: ='Tabela II'!D11 -> 0 | F5: ='Tabela II'!E11 -> 0 | G5: ='Tabela II'!G11 -> 0 | H5: ='Tabela II'!H11 -> 0 | I5: ='Tabela II'!I11 -> 0 | J5: ='Tabela II'!J11 -> 260 | K5: ='Tabela II'!K11 -> 0 | L5: ='Tabela II'!L11 -> 0 | M5: ='Tabela II'!M11 -> 0 | N5: ='Tabela II'!N11 -> 0 | ... V5: ='Tabela II'!V11
A6: ='Tabela I'!$F$1 -> 2022 | B6: ='Tabela I'!$F$2 -> 116 | C6: ='Tabela II'!B12 -> 0 | D6: ='Tabela II'!C12 -> 0 | E6: ='Tabela II'!D12 -> 0 | F6: ='Tabela II'!E12 -> 0 | G6: ='Tabela II'!G12 -> 0 | H6: ='Tabela II'!H12 -> 0 | I6: ='Tabela II'!I12 -> 0 | J6: ='Tabela II'!J12 -> 260 | K6: ='Tabela II'!K12 -> 0 | L6: ='Tabela II'!L12 -> 0 | M6: ='Tabela II'!M12 -> 0 | N6: ='Tabela II'!N12 -> 0 | ... V6: ='Tabela II'!V12
A7: ='Tabela I'!$F$1 -> 2022 | B7: ='Tabela I'!$F$2 -> 116 | C7: ='Tabela II'!B13 -> 0 | D7: ='Tabela II'!C13 -> 0 | E7: ='Tabela II'!D13 -> 0 | F7: ='Tabela II'!E13 -> 0 | G7: ='Tabela II'!G13 -> 0 | H7: ='Tabela II'!H13 -> 0 | I7: ='Tabela II'!I13 -> 0 | J7: ='Tabela II'!J13 -> 260 | K7: ='Tabela II'!K13 -> 0 | L7: ='Tabela II'!L13 -> 0 | M7: ='Tabela II'!M13 -> 0 | N7: ='Tabela II'!N13 -> 0 | ... V7: ='Tabela II'!V13
A8: ='Tabela I'!$F$1 -> 2022 | B8: ='Tabela I'!$F$2 -> 116 | C8: ='Tabela II'!B14 -> 0 | D8: ='Tabela II'!C14 -> 0 | E8: ='Tabela II'!D14 -> 0 | F8: ='Tabela II'!E14 -> 0 | G8: ='Tabela II'!G14 -> 0 | H8: ='Tabela II'!H14 -> 0 | I8: ='Tabela II'!I14 -> 0 | J8: ='Tabela II'!J14 -> 260 | K8: ='Tabela II'!K14 -> 0 | L8: ='Tabela II'!L14 -> 0 | M8: ='Tabela II'!M14 -> 0 | N8: ='Tabela II'!N14 -> 0 | ... V8: ='Tabela II'!V14
A9: ='Tabela I'!$F$1 -> 2022 | B9: ='Tabela I'!$F$2 -> 116 | C9: ='Tabela II'!B15 -> 0 | D9: ='Tabela II'!C15 -> 0 | E9: ='Tabela II'!D15 -> 0 | F9: ='Tabela II'!E15 -> 0 | G9: ='Tabela II'!G15 -> 0 | H9: ='Tabela II'!H15 -> 0 | I9: ='Tabela II'!I15 -> 0 | J9: ='Tabela II'!J15 -> 260 | K9: ='Tabela II'!K15 -> 0 | L9: ='Tabela II'!L15 -> 0 | M9: ='Tabela II'!M15 -> 0 | N9: ='Tabela II'!N15 -> 0 | ... V9: ='Tabela II'!V15
A10: ='Tabela I'!$F$1 -> 2022 | B10: ='Tabela I'!$F$2 -> 116 | C10: ='Tabela II'!B16 -> 0 | D10: ='Tabela II'!C16 -> 0 | E10: ='Tabela II'!D16 -> 0 | F10: ='Tabela II'!E16 -> 0 | G10: ='Tabela II'!G16 -> 0 | H10: ='Tabela II'!H16 -> 0 | I10: ='Tabela II'!I16 -> 0 | J10: ='Tabela II'!J16 -> 260 | K10: ='Tabela II'!K16 -> 0 | L10: ='Tabela II'!L16 -> 0 | M10: ='Tabela II'!M16 -> 0 | N10: ='Tabela II'!N16 -> 0 | ... V10: ='Tabela II'!V16
A11: ='Tabela I'!$F$1 -> 2022 | B11: ='Tabela I'!$F$2 -> 116 | C11: ='Tabela II'!B17 -> 0 | D11: ='Tabela II'!C17 -> 0 | E11: ='Tabela II'!D17 -> 0 | F11: ='Tabela II'!E17 -> 0 | G11: ='Tabela II'!G17 -> 0 | H11: ='Tabela II'!H17 -> 0 | I11: ='Tabela II'!I17 -> 0 | J11: ='Tabela II'!J17 -> 260 | K11: ='Tabela II'!K17 -> 0 | L11: ='Tabela II'!L17 -> 0 | M11: ='Tabela II'!M17 -> 0 | N11: ='Tabela II'!N17 -> 0 | ... V11: ='Tabela II'!V17
A12: ='Tabela I'!$F$1 -> 2022 | B12: ='Tabela I'!$F$2 -> 116 | C12: ='Tabela II'!B18 -> 0 | D12: ='Tabela II'!C18 -> 0 | E12: ='Tabela II'!D18 -> 0 | F12: ='Tabela II'!E18 -> 0 | G12: ='Tabela II'!G18 -> 0 | H12: ='Tabela II'!H18 -> 0 | I12: ='Tabela II'!I18 -> 0 | J12: ='Tabela II'!J18 -> 260 | K12: ='Tabela II'!K18 -> 0 | L12: ='Tabela II'!L18 -> 0 | M12: ='Tabela II'!M18 -> 0 | N12: ='Tabela II'!N18 -> 0 | ... V12: ='Tabela II'!V18
A13: ='Tabela I'!$F$1 -> 2022 | B13: ='Tabela I'!$F$2 -> 116 | C13: ='Tabela II'!B19 -> 0 | D13: ='Tabela II'!C19 -> 0 | E13: ='Tabela II'!D19 -> 0 | F13: ='Tabela II'!E19 -> 0 | G13: ='Tabela II'!G19 -> 0 | H13: ='Tabela II'!H19 -> 0 | I13: ='Tabela II'!I19 -> 0 | J13: ='Tabela II'!J19 -> 260 | K13: ='Tabela II'!K19 -> 0 | L13: ='Tabela II'!L19 -> 0 | M13: ='Tabela II'!M19 -> 0 | N13: ='Tabela II'!N19 -> 0 | ... V13: ='Tabela II'!V19
A14: ='Tabela I'!$F$1 -> 2022 | B14: ='Tabela I'!$F$2 -> 116 | C14: ='Tabela II'!B20 -> 0 | D14: ='Tabela II'!C20 -> 0 | E14: ='Tabela II'!D20 -> 0 | F14: ='Tabela II'!E20 -> 0 | G14: ='Tabela II'!G20 -> 0 | H14: ='Tabela II'!H20 -> 0 | I14: ='Tabela II'!I20 -> 0 | J14: ='Tabela II'!J20 -> 260 | K14: ='Tabela II'!K20 -> 0 | L14: ='Tabela II'!L20 -> 0 | M14: ='Tabela II'!M20 -> 0 | N14: ='Tabela II'!N20 -> 0 | ... V14: ='Tabela II'!V20
A15: ='Tabela I'!$F$1 -> 2022 | B15: ='Tabela I'!$F$2 -> 116 | C15: ='Tabela II'!B21 -> 0 | D15: ='Tabela II'!C21 -> 0 | E15: ='Tabela II'!D21 -> 0 | F15: ='Tabela II'!E21 -> 0 | G15: ='Tabela II'!G21 -> 0 | H15: ='Tabela II'!H21 -> 0 | I15: ='Tabela II'!I21 -> 0 | J15: ='Tabela II'!J21 -> 260 | K15: ='Tabela II'!K21 -> 0 | L15: ='Tabela II'!L21 -> 0 | M15: ='Tabela II'!M21 -> 0 | N15: ='Tabela II'!N21 -> 0 | ... V15: ='Tabela II'!V21
... A68: ='Tabela I'!$F$1 -> 2022 | B68: ='Tabela I'!$F$2 -> 116 | C68: ='Tabela II'!B74 -> 0 | D68: ='Tabela II'!C74 -> 0 | E68: ='Tabela II'!D74 -> 0 | F68: ='Tabela II'!E74 -> 0 | G68: ='Tabela II'!G74 -> 0 | H68: ='Tabela II'!H74 -> 0 | I68: ='Tabela II'!I74 -> 0 | J68: ='Tabela II'!J74 -> 260 | K68: ='Tabela II'!K74 -> 0 | L68: ='Tabela II'!L74 -> 0 | M68: ='Tabela II'!M74 -> 0 | N68: ='Tabela II'!N74 -> 0 | ... V68: ='Tabela II'!V74
A69: ='Tabela I'!$F$1 -> 2022 | B69: ='Tabela I'!$F$2 -> 116 | C69: ='Tabela II'!B76 -> 0 | D69: ='Tabela II'!C76 -> 0 | E69: ='Tabela II'!D76 -> 0 | F69: ='Tabela II'!E76 -> 0 | G69: ='Tabela II'!G76 -> 0 | H69: ='Tabela II'!H76 -> 0 | I69: ='Tabela II'!I76 -> 0 | J69: ='Tabela II'!J76 -> 260 | K69: ='Tabela II'!K76 -> 0 | L69: ='Tabela II'!L76 -> 0 | M69: ='Tabela II'!M76 -> 0 | N69: ='Tabela II'!N76 -> 0 | ... V69: ='Tabela II'!V76
A70: ='Tabela I'!$F$1 -> 2022 | B70: ='Tabela I'!$F$2 -> 116 | C70: ='Tabela II'!B77 -> 0 | D70: ='Tabela II'!C77 -> 0 | E70: ='Tabela II'!D77 -> 0 | F70: ='Tabela II'!E77 -> 0 | G70: ='Tabela II'!G77 -> 0 | H70: ='Tabela II'!H77 -> 0 | I70: ='Tabela II'!I77 -> 0 | J70: ='Tabela II'!J77 -> 260 | K70: ='Tabela II'!K77 -> 0 | L70: ='Tabela II'!L77 -> 0 | M70: ='Tabela II'!M77 -> 0 | N70: ='Tabela II'!N77 -> 0 | ... V70: ='Tabela II'!V77
A71: ='Tabela I'!$F$1 -> 2022 | B71: ='Tabela I'!$F$2 -> 116 | C71: ='Tabela II'!B78 -> 0 | D71: ='Tabela II'!C78 -> 0 | E71: ='Tabela II'!D78 -> 0 | F71: ='Tabela II'!E78 -> 0 | G71: ='Tabela II'!G78 -> 0 | H71: ='Tabela II'!H78 -> 0 | I71: ='Tabela II'!I78 -> 0 | J71: ='Tabela II'!J78 -> 260 | K71: ='Tabela II'!K78 -> 0 | L71: ='Tabela II'!L78 -> 0 | M71: ='Tabela II'!M78 -> 0 | N71: ='Tabela II'!N78 -> 0 | ... V71: ='Tabela II'!V78
A73: Godina | B73: Sud | C73: ImePrezime | D73: Ocjenjen | E73: Odjel | F73: Funkcija | G73: NormaPravilnik | H73: DatumOd | I73: DatumDo | J73: BroDanaZa Normu | K73: Odsustvo | L73: NormaCMS | M73: NormaVanCMS | N73: VeceVrenovanje | O73: OstvarenaNorma | P73: PreracunataNorma | Q73: BrPredURadu | R73: BrRijPred | S73: BrNerijPredSaZakProcSmet | T73: BrNerijPredBezZakProcSmet | U73: ProcRijePred | V73: BrOStBod | W73: Sud
A74: ='Tabela I'!$F$1 -> 2022 | B74: ='Tabela I'!$F$2 -> 116 | C74: ='Tabela II'!D97 -> 0 | D74: ='Tabela II'!C98 -> 0 | E74: ='Tabela II'!D98 -> 0 | F74: ='Tabela II'!E98 -> Predsjednik suda | G74: ='Tabela II'!G98 -> 0 | H74: ='Tabela II'!H98 -> 0 | I74: ='Tabela II'!I98 -> 0 | J74: ='Tabela II'!J98 -> 0 | K74: ='Tabela II'!K98 -> 0 | L74: ='Tabela II'!L98 -> 0 | M74: ='Tabela II'!M98 -> 0 | N74: ='Tabela II'!N98 -> 0 | ... V74: ='Tabela II'!V98 -> 0 | W74: ='Tabela II'!A98 -> Sud 1
A75: ='Tabela I'!$F$1 -> 2022 | B75: ='Tabela I'!$F$2 -> 116 | C75: ='Tabela II'!D97 -> 0 | D75: ='Tabela II'!C99 -> 0 | E75: ='Tabela II'!D99 -> 0 | F75: ='Tabela II'!E99 -> 0 | G75: ='Tabela II'!G99 -> 0 | H75: ='Tabela II'!H99 -> 0 | I75: ='Tabela II'!I99 -> 0 | J75: ='Tabela II'!J99 -> 0 | K75: ='Tabela II'!K99 -> 0 | L75: ='Tabela II'!L99 -> 0 | M75: ='Tabela II'!M99 -> 0 | N75: ='Tabela II'!N99 -> 0 | ... V75: ='Tabela II'!V99 -> 0 | W75: ='Tabela II'!A99 -> Sud 2
A76: ='Tabela I'!$F$1 -> 2022 | B76: ='Tabela I'!$F$2 -> 116 | C76: ='Tabela II'!D100 -> 0 | D76: ='Tabela II'!C101 -> 0 | E76: ='Tabela II'!D101 -> 0 | F76: ='Tabela II'!E101 -> 0 | G76: ='Tabela II'!G101 -> 0 | H76: ='Tabela II'!H101 -> 0 | I76: ='Tabela II'!I101 -> 0 | J76: ='Tabela II'!J101 -> 0 | K76: ='Tabela II'!K101 -> 0 | L76: ='Tabela II'!L101 -> 0 | M76: ='Tabela II'!M101 -> 0 | N76: ='Tabela II'!N101 -> 0 | ... V76: ='Tabela II'!V101 -> 0 | W76: ='Tabela II'!A101 -> Sud 1
A77: ='Tabela I'!$F$1 -> 2022 | B77: ='Tabela I'!$F$2 -> 116 | C77: ='Tabela II'!D100 -> 0 | D77: ='Tabela II'!C102 -> 0 | E77: ='Tabela II'!D102 -> 0 | F77: ='Tabela II'!E102 -> 0 | G77: ='Tabela II'!G102 -> 0 | H77: ='Tabela II'!H102 -> 0 | I77: ='Tabela II'!I102 -> 0 | J77: ='Tabela II'!J102 -> 0 | K77: ='Tabela II'!K102 -> 0 | L77: ='Tabela II'!L102 -> 0 | M77: ='Tabela II'!M102 -> 0 | N77: ='Tabela II'!N102 -> 0 | ... V77: ='Tabela II'!V102 -> 0 | W77: ='Tabela II'!A102 -> Sud 2
A78: ='Tabela I'!$F$1 -> 2022 | B78: ='Tabela I'!$F$2 -> 116 | C78: ='Tabela II'!D103 -> 0 | D78: ='Tabela II'!C104 -> 0 | E78: ='Tabela II'!D104 -> 0 | F78: ='Tabela II'!E104 -> 0 | G78: ='Tabela II'!G104 -> 0 | H78: ='Tabela II'!H104 -> 0 | I78: ='Tabela II'!I104 -> 0 | J78: ='Tabela II'!J104 -> 0 | K78: ='Tabela II'!K104 -> 0 | L78: ='Tabela II'!L104 -> 0 | M78: ='Tabela II'!M104 -> 0 | N78: ='Tabela II'!N104 -> 0 | ... V78: ='Tabela II'!V104 -> 0 | W78: ='Tabela II'!A104 -> Sud 1
A79: ='Tabela I'!$F$1 -> 2022 | B79: ='Tabela I'!$F$2 -> 116 | C79: ='Tabela II'!D103 -> 0 | D79: ='Tabela II'!C105 -> 0 | E79: ='Tabela II'!D105 -> 0 | F79: ='Tabela II'!E105 -> 0 | G79: ='Tabela II'!G105 -> 0 | H79: ='Tabela II'!H105 -> 0 | I79: ='Tabela II'!I105 -> 0 | J79: ='Tabela II'!J105 -> 0 | K79: ='Tabela II'!K105 -> 0 | L79: ='Tabela II'!L105 -> 0 | M79: ='Tabela II'!M105 -> 0 | N79: ='Tabela II'!N105 -> 0 | ... V79: ='Tabela II'!V105 -> 0 | W79: ='Tabela II'!A105 -> Sud 2
A80: ='Tabela I'!$F$1 -> 2022 | B80: ='Tabela I'!$F$2 -> 116 | C80: ='Tabela II'!D106 -> 0 | D80: ='Tabela II'!C107 -> 0 | E80: ='Tabela II'!D107 -> 0 | F80: ='Tabela II'!E107 -> 0 | G80: ='Tabela II'!G107 -> 0 | H80: ='Tabela II'!H107 -> 0 | I80: ='Tabela II'!I107 -> 0 | J80: ='Tabela II'!J107 -> 0 | K80: ='Tabela II'!K107 -> 0 | L80: ='Tabela II'!L107 -> 0 | M80: ='Tabela II'!M107 -> 0 | N80: ='Tabela II'!N107 -> 0 | ... V80: ='Tabela II'!V107 -> 0 | W80: ='Tabela II'!A107 -> Sud 1
A81: ='Tabela I'!$F$1 -> 2022 | B81: ='Tabela I'!$F$2 -> 116 | C81: ='Tabela II'!D106 -> 0 | D81: ='Tabela II'!C108 -> 0 | E81: ='Tabela II'!D108 -> 0 | F81: ='Tabela II'!E108 -> 0 | G81: ='Tabela II'!G108 -> 0 | H81: ='Tabela II'!H108 -> 0 | I81: ='Tabela II'!I108 -> 0 | J81: ='Tabela II'!J108 -> 0 | K81: ='Tabela II'!K108 -> 0 | L81: ='Tabela II'!L108 -> 0 | M81: ='Tabela II'!M108 -> 0 | N81: ='Tabela II'!N108 -> 0 | ... V81: ='Tabela II'!V108 -> 0 | W81: ='Tabela II'!A108 -> Sud 2
A82: ='Tabela I'!$F$1 -> 2022 | B82: ='Tabela I'!$F$2 -> 116 | C82: ='Tabela II'!D109 -> 0 | D82: ='Tabela II'!C110 -> 0 | E82: ='Tabela II'!D110 -> 0 | F82: ='Tabela II'!E110 -> 0 | G82: ='Tabela II'!G110 -> 0 | H82: ='Tabela II'!H110 -> 0 | I82: ='Tabela II'!I110 -> 0 | J82: ='Tabela II'!J110 -> 0 | K82: ='Tabela II'!K110 -> 0 | L82: ='Tabela II'!L110 -> 0 | M82: ='Tabela II'!M110 -> 0 | N82: ='Tabela II'!N110 -> 0 | ... V82: ='Tabela II'!V110 -> 0 | W82: ='Tabela II'!A110 -> Sud 1
A83: ='Tabela I'!$F$1 -> 2022 | B83: ='Tabela I'!$F$2 -> 116 | C83: ='Tabela II'!D109 -> 0 | D83: ='Tabela II'!C111 -> 0 | E83: ='Tabela II'!D111 -> 0 | F83: ='Tabela II'!E111 -> 0 | G83: ='Tabela II'!G111 -> 0 | H83: ='Tabela II'!H111 -> 0 | I83: ='Tabela II'!I111 -> 0 | J83: ='Tabela II'!J111 -> 0 | K83: ='Tabela II'!K111 -> 0 | L83: ='Tabela II'!L111 -> 0 | M83: ='Tabela II'!M111 -> 0 | N83: ='Tabela II'!N111 -> 0 | ... V83: ='Tabela II'!V111 -> 0 | W83: ='Tabela II'!A111 -> Sud 2
A84: ='Tabela I'!$F$1 -> 2022 | B84: ='Tabela I'!$F$2 -> 116 | C84: ='Tabela II'!D112 -> 0 | D84: ='Tabela II'!C113 -> 0 | E84: ='Tabela II'!D113 -> 0 | F84: ='Tabela II'!E113 -> 0 | G84: ='Tabela II'!G113 -> 0 | H84: ='Tabela II'!H113 -> 0 | I84: ='Tabela II'!I113 -> 0 | J84: ='Tabela II'!J113 -> 0 | K84: ='Tabela II'!K113 -> 0 | L84: ='Tabela II'!L113 -> 0 | M84: ='Tabela II'!M113 -> 0 | N84: ='Tabela II'!N113 -> 0 | ... V84: ='Tabela II'!V113 -> 0 | W84: ='Tabela II'!A113 -> Sud 1
A85: ='Tabela I'!$F$1 -> 2022 | B85: ='Tabela I'!$F$2 -> 116 | C85: ='Tabela II'!D112 -> 0 | D85: ='Tabela II'!C114 -> 0 | E85: ='Tabela II'!D114 -> 0 | F85: ='Tabela II'!E114 -> 0 | G85: ='Tabela II'!G114 -> 0 | H85: ='Tabela II'!H114 -> 0 | I85: ='Tabela II'!I114 -> 0 | J85: ='Tabela II'!J114 -> 0 | K85: ='Tabela II'!K114 -> 0 | L85: ='Tabela II'!L114 -> 0 | M85: ='Tabela II'!M114 -> 0 | N85: ='Tabela II'!N114 -> 0 | ... V85: ='Tabela II'!V114 -> 0 | W85: ='Tabela II'!A114 -> Sud 2
A86: ='Tabela I'!$F$1 -> 2022 | B86: ='Tabela I'!$F$2 -> 116 | C86: ='Tabela II'!D115 -> 0 | D86: ='Tabela II'!C116 -> 0 | E86: ='Tabela II'!D116 -> 0 | F86: ='Tabela II'!E116 -> 0 | G86: ='Tabela II'!G116 -> 0 | H86: ='Tabela II'!H116 -> 0 | I86: ='Tabela II'!I116 -> 0 | J86: ='Tabela II'!J116 -> 0 | K86: ='Tabela II'!K116 -> 0 | L86: ='Tabela II'!L116 -> 0 | M86: ='Tabela II'!M116 -> 0 | N86: ='Tabela II'!N116 -> 0 | ... V86: ='Tabela II'!V116 -> 0 | W86: ='Tabela II'!A116 -> Sud 1
A87: ='Tabela I'!$F$1 -> 2022 | B87: ='Tabela I'!$F$2 -> 116 | C87: ='Tabela II'!D115 -> 0 | D87: ='Tabela II'!C117 -> 0 | E87: ='Tabela II'!D117 -> 0 | F87: ='Tabela II'!E117 -> 0 | G87: ='Tabela II'!G117 -> 0 | H87: ='Tabela II'!H117 -> 0 | I87: ='Tabela II'!I117 -> 0 | J87: ='Tabela II'!J117 -> 0 | K87: ='Tabela II'!K117 -> 0 | L87: ='Tabela II'!L117 -> 0 | M87: ='Tabela II'!M117 -> 0 | N87: ='Tabela II'!N117 -> 0 | ... V87: ='Tabela II'!V117 -> 0 | W87: ='Tabela II'!A117 -> Sud 2
A88: ='Tabela I'!$F$1 -> 2022 | B88: ='Tabela I'!$F$2 -> 116 | C88: ='Tabela II'!D118 -> 0 | D88: ='Tabela II'!C119 -> 0 | E88: ='Tabela II'!D119 -> 0 | F88: ='Tabela II'!E119 -> 0 | G88: ='Tabela II'!G119 -> 0 | H88: ='Tabela II'!H119 -> 0 | I88: ='Tabela II'!I119 -> 0 | J88: ='Tabela II'!J119 -> 0 | K88: ='Tabela II'!K119 -> 0 | L88: ='Tabela II'!L119 -> 0 | M88: ='Tabela II'!M119 -> 0 | N88: ='Tabela II'!N119 -> 0 | ... V88: ='Tabela II'!V119 -> 0 | W88: ='Tabela II'!A119 -> Sud 1
A89: ='Tabela I'!$F$1 -> 2022 | B89: ='Tabela I'!$F$2 -> 116 | C89: ='Tabela II'!D118 -> 0 | D89: ='Tabela II'!C120 -> 0 | E89: ='Tabela II'!D120 -> 0 | F89: ='Tabela II'!E120 -> 0 | G89: ='Tabela II'!G120 -> 0 | H89: ='Tabela II'!H120 -> 0 | I89: ='Tabela II'!I120 -> 0 | J89: ='Tabela II'!J120 -> 0 | K89: ='Tabela II'!K120 -> 0 | L89: ='Tabela II'!L120 -> 0 | M89: ='Tabela II'!M120 -> 0 | N89: ='Tabela II'!N120 -> 0 | ... V89: ='Tabela II'!V120 -> 0 | W89: ='Tabela II'!A120 -> Sud 2
A90: ='Tabela I'!$F$1 -> 2022 | B90: ='Tabela I'!$F$2 -> 116 | C90: ='Tabela II'!D121 -> 0 | D90: ='Tabela II'!C122 -> 0 | E90: ='Tabela II'!D122 -> 0 | F90: ='Tabela II'!E122 -> 0 | G90: ='Tabela II'!G122 -> 0 | H90: ='Tabela II'!H122 -> 0 | I90: ='Tabela II'!I122 -> 0 | J90: ='Tabela II'!J122 -> 0 | K90: ='Tabela II'!K122 -> 0 | L90: ='Tabela II'!L122 -> 0 | M90: ='Tabela II'!M122 -> 0 | N90: ='Tabela II'!N122 -> 0 | ... V90: ='Tabela II'!V122 -> 0 | W90: ='Tabela II'!A122 -> Sud 1
A91: ='Tabela I'!$F$1 -> 2022 | B91: ='Tabela I'!$F$2 -> 116 | C91: ='Tabela II'!D121 -> 0 | D91: ='Tabela II'!C123 -> 0 | E91: ='Tabela II'!D123 -> 0 | F91: ='Tabela II'!E123 -> 0 | G91: ='Tabela II'!G123 -> 0 | H91: ='Tabela II'!H123 -> 0 | I91: ='Tabela II'!I123 -> 0 | J91: ='Tabela II'!J123 -> 0 | K91: ='Tabela II'!K123 -> 0 | L91: ='Tabela II'!L123 -> 0 | M91: ='Tabela II'!M123 -> 0 | N91: ='Tabela II'!N123 -> 0 | ... V91: ='Tabela II'!V123 -> 0 | W91: ='Tabela II'!A123 -> Sud 2
A92: ='Tabela I'!$F$1 -> 2022 | B92: ='Tabela I'!$F$2 -> 116 | C92: ='Tabela II'!D124 -> 0 | D92: ='Tabela II'!C125 -> 0 | E92: ='Tabela II'!D125 -> 0 | F92: ='Tabela II'!E125 -> 0 | G92: ='Tabela II'!G125 -> 0 | H92: ='Tabela II'!H125 -> 0 | I92: ='Tabela II'!I125 -> 0 | J92: ='Tabela II'!J125 -> 0 | K92: ='Tabela II'!K125 -> 0 | L92: ='Tabela II'!L125 -> 0 | M92: ='Tabela II'!M125 -> 0 | N92: ='Tabela II'!N125 -> 0 | ... V92: ='Tabela II'!V125 -> 0 | W92: ='Tabela II'!A125 -> Sud 1
A93: ='Tabela I'!$F$1 -> 2022 | B93: ='Tabela I'!$F$2 -> 116 | C93: ='Tabela II'!D124 -> 0 | D93: ='Tabela II'!C126 -> 0 | E93: ='Tabela II'!D126 -> 0 | F93: ='Tabela II'!E126 -> 0 | G93: ='Tabela II'!G126 -> 0 | H93: ='Tabela II'!H126 -> 0 | I93: ='Tabela II'!I126 -> 0 | J93: ='Tabela II'!J126 -> 0 | K93: ='Tabela II'!K126 -> 0 | L93: ='Tabela II'!L126 -> 0 | M93: ='Tabela II'!M126 -> 0 | N93: ='Tabela II'!N126 -> 0 | ... V93: ='Tabela II'!V126 -> 0 | W93: ='Tabela II'!A126 -> Sud 2

Sheet tbl2_kvalitet_rada
A1: for_key | B1: godina | C1: lista_referata | D1: DonesOdluke | E1: OdbPrLijek | F1: PotvOdluke | G1: PreinOdluke | H1: PreinOdlukeNakonRasp | I1: UkinOdluke | J1: DjelimUkin | K1: UkinVracPonSud
A2: ='Tabela I'!$F$2 -> 116 | B2: ='Tabela I'!$F$1 -> 2022 | C2: 1 | D2: ='Tabela III'!B8 -> 0 | E2: ='Tabela III'!D8 -> 0 | F2: ='Tabela III'!E8 -> 0 | G2: ='Tabela III'!F8 -> 0 | H2: ='Tabela III'!G8 -> 0 | I2: ='Tabela III'!H8 -> 0 | J2: ='Tabela III'!I8 -> 0 | K2: ='Tabela III'!K8 -> 0
A3: ='Tabela I'!$F$2 -> 116 | B3: ='Tabela I'!$F$1 -> 2022 | C3: 3 | D3: ='Tabela III'!B9 -> 0 | E3: ='Tabela III'!D9 -> 0 | F3: ='Tabela III'!E9 -> 0 | G3: ='Tabela III'!F9 -> 0 | H3: ='Tabela III'!G9 -> 0 | I3: ='Tabela III'!H9 -> 0 | J3: ='Tabela III'!I9 -> 0 | K3: ='Tabela III'!K9 -> 0
A4: ='Tabela I'!$F$2 -> 116 | B4: ='Tabela I'!$F$1 -> 2022 | C4: 2 | D4: ='Tabela III'!B10 -> 0 | E4: ='Tabela III'!D10 -> 0 | F4: ='Tabela III'!E10 -> 0 | G4: ='Tabela III'!F10 -> 0 | H4: ='Tabela III'!G10 -> 0 | I4: ='Tabela III'!H10 -> 0 | J4: ='Tabela III'!I10 -> 0 | K4: ='Tabela III'!K10 -> 0
A5: ='Tabela I'!$F$2 -> 116 | B5: ='Tabela I'!$F$1 -> 2022 | C5: 96 | D5: ='Tabela III'!B11 -> 0 | E5: ='Tabela III'!D11 -> 0 | F5: ='Tabela III'!E11 -> 0 | G5: ='Tabela III'!F11 -> 0 | H5: ='Tabela III'!G11 -> 0 | I5: ='Tabela III'!H11 -> 0 | J5: ='Tabela III'!I11 -> 0 | K5: ='Tabela III'!K11 -> 0
A6: ='Tabela I'!$F$2 -> 116 | B6: ='Tabela I'!$F$1 -> 2022 | C6: 4 | D6: ='Tabela III'!B12 -> 0 | E6: ='Tabela III'!D12 -> 0 | F6: ='Tabela III'!E12 -> 0 | G6: ='Tabela III'!F12 -> 0 | H6: ='Tabela III'!G12 -> 0 | I6: ='Tabela III'!H12 -> 0 | J6: ='Tabela III'!I12 -> 0 | K6: ='Tabela III'!K12 -> 0
A7: ='Tabela I'!$F$2 -> 116 | B7: ='Tabela I'!$F$1 -> 2022 | C7: 5 | D7: ='Tabela III'!B14 -> 0 | E7: ='Tabela III'!D14 -> 0 | F7: ='Tabela III'!E14 -> 0 | G7: ='Tabela III'!F14 -> 0 | H7: ='Tabela III'!G14 -> 0 | I7: ='Tabela III'!H14 -> 0 | J7: ='Tabela III'!I14 -> 0 | K7: ='Tabela III'!K14 -> 0
A8: ='Tabela I'!$F$2 -> 116 | B8: ='Tabela I'!$F$1 -> 2022 | C8: 6 | D8: ='Tabela III'!B15 -> 0 | E8: ='Tabela III'!D15 -> 0 | F8: ='Tabela III'!E15 -> 0 | G8: ='Tabela III'!F15 -> 0 | H8: ='Tabela III'!G15 -> 0 | I8: ='Tabela III'!H15 -> 0 | J8: ='Tabela III'!I15 -> 0 | K8: ='Tabela III'!K15 -> 0
A9: ='Tabela I'!$F$2 -> 116 | B9: ='Tabela I'!$F$1 -> 2022 | C9: 7 | D9: ='Tabela III'!B16 -> 0 | E9: ='Tabela III'!D16 -> 0 | F9: ='Tabela III'!E16 -> 0 | G9: ='Tabela III'!F16 -> 0 | H9: ='Tabela III'!G16 -> 0 | I9: ='Tabela III'!H16 -> 0 | J9: ='Tabela III'!I16 -> 0 | K9: ='Tabela III'!K16 -> 0
A10: ='Tabela I'!$F$2 -> 116 | B10: ='Tabela I'!$F$1 -> 2022 | C10: 97 | D10: ='Tabela III'!B17 -> 0 | E10: ='Tabela III'!D17 -> 0 | F10: ='Tabela III'!E17 -> 0 | G10: ='Tabela III'!F17 -> 0 | H10: ='Tabela III'!G17 -> 0 | I10: ='Tabela III'!H17 -> 0 | J10: ='Tabela III'!I17 -> 0 | K10: ='Tabela III'!K17 -> 0
A11: ='Tabela I'!$F$2 -> 116 | B11: ='Tabela I'!$F$1 -> 2022 | C11: 8 | D11: ='Tabela III'!B18 -> 0 | E11: ='Tabela III'!D18 -> 0 | F11: ='Tabela III'!E18 -> 0 | G11: ='Tabela III'!F18 -> 0 | H11: ='Tabela III'!G18 -> 0 | I11: ='Tabela III'!H18 -> 0 | J11: ='Tabela III'!I18 -> 0 | K11: ='Tabela III'!K18 -> 0
A12: ='Tabela I'!$F$2 -> 116 | B12: ='Tabela I'!$F$1 -> 2022 | C12: 10 | D12: ='Tabela III'!B19 -> 0 | E12: ='Tabela III'!D19 -> 0 | F12: ='Tabela III'!E19 -> 0 | G12: ='Tabela III'!F19 -> 0 | H12: ='Tabela III'!G19 -> 0 | I12: ='Tabela III'!H19 -> 0 | J12: ='Tabela III'!I19 -> 0 | K12: ='Tabela III'!K19 -> 0
A13: ='Tabela I'!$F$2 -> 116 | B13: ='Tabela I'!$F$1 -> 2022 | C13: 11 | D13: ='Tabela III'!B21 -> 0 | E13: ='Tabela III'!D21 -> 0 | F13: ='Tabela III'!E21 -> 0 | G13: ='Tabela III'!F21 -> 0 | H13: ='Tabela III'!G21 -> 0 | I13: ='Tabela III'!H21 -> 0 | J13: ='Tabela III'!I21 -> 0 | K13: ='Tabela III'!K21 -> 0
A14: ='Tabela I'!$F$2 -> 116 | B14: ='Tabela I'!$F$1 -> 2022 | C14: 13 | D14: ='Tabela III'!B22 -> 0 | E14: ='Tabela III'!D22 -> 0 | F14: ='Tabela III'!E22 -> 0 | G14: ='Tabela III'!F22 -> 0 | H14: ='Tabela III'!G22 -> 0 | I14: ='Tabela III'!H22 -> 0 | J14: ='Tabela III'!I22 -> 0 | K14: ='Tabela III'!K22 -> 0
A15: ='Tabela I'!$F$2 -> 116 | B15: ='Tabela I'!$F$1 -> 2022 | C15: 12 | D15: ='Tabela III'!B23 -> 0 | E15: ='Tabela III'!D23 -> 0 | F15: ='Tabela III'!E23 -> 0 | G15: ='Tabela III'!F23 -> 0 | H15: ='Tabela III'!G23 -> 0 | I15: ='Tabela III'!H23 -> 0 | J15: ='Tabela III'!I23 -> 0 | K15: ='Tabela III'!K23 -> 0
A16: ='Tabela I'!$F$2 -> 116 | B16: ='Tabela I'!$F$1 -> 2022 | C16: 92 | D16: ='Tabela III'!B24 -> 0 | E16: ='Tabela III'!D24 -> 0 | F16: ='Tabela III'!E24 -> 0 | G16: ='Tabela III'!F24 -> 0 | H16: ='Tabela III'!G24 -> 0 | I16: ='Tabela III'!H24 -> 0 | J16: ='Tabela III'!I24 -> 0 | K16: ='Tabela III'!K24 -> 0
A17: ='Tabela I'!$F$2 -> 116 | B17: ='Tabela I'!$F$1 -> 2022 | C17: 93 | D17: ='Tabela III'!B25 -> 0 | E17: ='Tabela III'!D25 -> 0 | F17: ='Tabela III'!E25 -> 0 | G17: ='Tabela III'!F25 -> 0 | H17: ='Tabela III'!G25 -> 0 | I17: ='Tabela III'!H25 -> 0 | J17: ='Tabela III'!I25 -> 0 | K17: ='Tabela III'!K25 -> 0
A18: ='Tabela I'!$F$2 -> 116 | B18: ='Tabela I'!$F$1 -> 2022 | C18: 15 | D18: ='Tabela III'!B26 -> 0 | E18: ='Tabela III'!D26 -> 0 | F18: ='Tabela III'!E26 -> 0 | G18: ='Tabela III'!F26 -> 0 | H18: ='Tabela III'!G26 -> 0 | I18: ='Tabela III'!H26 -> 0 | J18: ='Tabela III'!I26 -> 0 | K18: ='Tabela III'!K26 -> 0
A19: ='Tabela I'!$F$2 -> 116 | B19: ='Tabela I'!$F$1 -> 2022 | C19: 16 | D19: ='Tabela III'!B27 -> 0 | E19: ='Tabela III'!D27 -> 0 | F19: ='Tabela III'!E27 -> 0 | G19: ='Tabela III'!F27 -> 0 | H19: ='Tabela III'!G27 -> 0 | I19: ='Tabela III'!H27 -> 0 | J19: ='Tabela III'!I27 -> 0 | K19: ='Tabela III'!K27 -> 0
A20: ='Tabela I'!$F$2 -> 116 | B20: ='Tabela I'!$F$1 -> 2022 | C20: 69 | D20: ='Tabela III'!B28 -> 0 | E20: ='Tabela III'!D28 -> 0 | F20: ='Tabela III'!E28 -> 0 | G20: ='Tabela III'!F28 -> 0 | H20: ='Tabela III'!G28 -> 0 | I20: ='Tabela III'!H28 -> 0 | J20: ='Tabela III'!I28 -> 0 | K20: ='Tabela III'!K28 -> 0
A21: ='Tabela I'!$F$2 -> 116 | B21: ='Tabela I'!$F$1 -> 2022 | C21: 17 | D21: ='Tabela III'!B29 -> 0 | E21: ='Tabela III'!D29 -> 0 | F21: ='Tabela III'!E29 -> 0 | G21: ='Tabela III'!F29 -> 0 | H21: ='Tabela III'!G29 -> 0 | I21: ='Tabela III'!H29 -> 0 | J21: ='Tabela III'!I29 -> 0 | K21: ='Tabela III'!K29 -> 0
A22: ='Tabela I'!$F$2 -> 116 | B22: ='Tabela I'!$F$1 -> 2022 | C22: 18 | D22: ='Tabela III'!B30 -> 0 | E22: ='Tabela III'!D30 -> 0 | F22: ='Tabela III'!E30 -> 0 | G22: ='Tabela III'!F30 -> 0 | H22: ='Tabela III'!G30 -> 0 | I22: ='Tabela III'!H30 -> 0 | J22: ='Tabela III'!I30 -> 0 | K22: ='Tabela III'!K30 -> 0
A23: ='Tabela I'!$F$2 -> 116 | B23: ='Tabela I'!$F$1 -> 2022 | C23: 98 | D23: ='Tabela III'!B31 -> 0 | E23: ='Tabela III'!D31 -> 0 | F23: ='Tabela III'!E31 -> 0 | G23: ='Tabela III'!F31 -> 0 | H23: ='Tabela III'!G31 -> 0 | I23: ='Tabela III'!H31 -> 0 | J23: ='Tabela III'!I31 -> 0 | K23: ='Tabela III'!K31 -> 0
A24: ='Tabela I'!$F$2 -> 116 | B24: ='Tabela I'!$F$1 -> 2022 | C24: 19 | D24: ='Tabela III'!B32 -> 0 | E24: ='Tabela III'!D32 -> 0 | F24: ='Tabela III'!E32 -> 0 | G24: ='Tabela III'!F32 -> 0 | H24: ='Tabela III'!G32 -> 0 | I24: ='Tabela III'!H32 -> 0 | J24: ='Tabela III'!I32 -> 0 | K24: ='Tabela III'!K32 -> 0
A25: ='Tabela I'!$F$2 -> 116 | B25: ='Tabela I'!$F$1 -> 2022 | C25: 20 | D25: ='Tabela III'!B34 -> 0 | E25: ='Tabela III'!D34 -> 0 | F25: ='Tabela III'!E34 -> 0 | G25: ='Tabela III'!F34 -> 0 | H25: ='Tabela III'!G34 -> 0 | I25: ='Tabela III'!H34 -> 0 | J25: ='Tabela III'!I34 -> 0 | K25: ='Tabela III'!K34 -> 0
A26: ='Tabela I'!$F$2 -> 116 | B26: ='Tabela I'!$F$1 -> 2022 | C26: 21 | D26: ='Tabela III'!B35 -> 0 | E26: ='Tabela III'!D35 -> 0 | F26: ='Tabela III'!E35 -> 0 | G26: ='Tabela III'!F35 -> 0 | H26: ='Tabela III'!G35 -> 0 | I26: ='Tabela III'!H35 -> 0 | J26: ='Tabela III'!I35 -> 0 | K26: ='Tabela III'!K35 -> 0
A27: ='Tabela I'!$F$2 -> 116 | B27: ='Tabela I'!$F$1 -> 2022 | C27: 22 | D27: ='Tabela III'!B36 -> 0 | E27: ='Tabela III'!D36 -> 0 | F27: ='Tabela III'!E36 -> 0 | G27: ='Tabela III'!F36 -> 0 | H27: ='Tabela III'!G36 -> 0 | I27: ='Tabela III'!H36 -> 0 | J27: ='Tabela III'!I36 -> 0 | K27: ='Tabela III'!K36 -> 0
A28: ='Tabela I'!$F$2 -> 116 | B28: ='Tabela I'!$F$1 -> 2022 | C28: 52 | D28: =+'Tabela III'!B38 -> 0 | E28: =+'Tabela III'!D38 -> 0 | F28: =+'Tabela III'!E38 -> 0 | G28: =+'Tabela III'!F38 -> 0 | H28: =+'Tabela III'!G38 -> 0 | I28: =+'Tabela III'!H38 -> 0 | J28: =+'Tabela III'!I38 -> 0 | K28: =+'Tabela III'!K38 -> 0
A29: ='Tabela I'!$F$2 -> 116 | B29: ='Tabela I'!$F$1 -> 2022 | C29: 54 | D29: =+'Tabela III'!B39 -> 0 | E29: =+'Tabela III'!D39 -> 0 | F29: =+'Tabela III'!E39 -> 0 | G29: =+'Tabela III'!F39 -> 0 | H29: =+'Tabela III'!G39 -> 0 | I29: =+'Tabela III'!H39 -> 0 | J29: =+'Tabela III'!I39 -> 0 | K29: =+'Tabela III'!K39 -> 0
A30: ='Tabela I'!$F$2 -> 116 | B30: ='Tabela I'!$F$1 -> 2022 | C30: 56 | D30: =+'Tabela III'!B40 -> 0 | E30: =+'Tabela III'!D40 -> 0 | F30: =+'Tabela III'!E40 -> 0 | G30: =+'Tabela III'!F40 -> 0 | H30: =+'Tabela III'!G40 -> 0 | I30: =+'Tabela III'!H40 -> 0 | J30: =+'Tabela III'!I40 -> 0 | K30: =+'Tabela III'!K40 -> 0
A31: ='Tabela I'!$F$2 -> 116 | B31: ='Tabela I'!$F$1 -> 2022 | C31: 23 | D31: ='Tabela III'!B42 -> 0 | E31: ='Tabela III'!D42 -> 0 | F31: ='Tabela III'!E42 -> 0 | G31: ='Tabela III'!F42 -> 0 | H31: ='Tabela III'!G42 -> 0 | I31: ='Tabela III'!H42 -> 0 | J31: ='Tabela III'!I42 -> 0 | K31: ='Tabela III'!K42 -> 0
A32: ='Tabela I'!$F$2 -> 116 | B32: ='Tabela I'!$F$1 -> 2022 | C32: 24 | D32: ='Tabela III'!B43 -> 0 | E32: ='Tabela III'!D43 -> 0 | F32: ='Tabela III'!E43 -> 0 | G32: ='Tabela III'!F43 -> 0 | H32: ='Tabela III'!G43 -> 0 | I32: ='Tabela III'!H43 -> 0 | J32: ='Tabela III'!I43 -> 0 | K32: ='Tabela III'!K43 -> 0
A33: ='Tabela I'!$F$2 -> 116 | B33: ='Tabela I'!$F$1 -> 2022 | C33: 25 | D33: ='Tabela III'!B44 -> 0 | E33: ='Tabela III'!D44 -> 0 | F33: ='Tabela III'!E44 -> 0 | G33: ='Tabela III'!F44 -> 0 | H33: ='Tabela III'!G44 -> 0 | I33: ='Tabela III'!H44 -> 0 | J33: ='Tabela III'!I44 -> 0 | K33: ='Tabela III'!K44 -> 0
A34: ='Tabela I'!$F$2 -> 116 | B34: ='Tabela I'!$F$1 -> 2022 | C34: 28 | D34: ='Tabela III'!B46 -> 0 | E34: ='Tabela III'!D46 -> 0 | F34: ='Tabela III'!E46 -> 0 | G34: ='Tabela III'!F46 -> 0 | H34: ='Tabela III'!G46 -> 0 | I34: ='Tabela III'!H46 -> 0 | J34: ='Tabela III'!I46 -> 0 | K34: ='Tabela III'!K46 -> 0
A35: ='Tabela I'!$F$2 -> 116 | B35: ='Tabela I'!$F$1 -> 2022 | C35: 122 | D35: ='Tabela III'!B47 -> 0 | E35: ='Tabela III'!D47 -> 0 | F35: ='Tabela III'!E47 -> 0 | G35: ='Tabela III'!F47 -> 0 | H35: ='Tabela III'!G47 -> 0 | I35: ='Tabela III'!H47 -> 0 | J35: ='Tabela III'!I47 -> 0 | K35: ='Tabela III'!K47 -> 0
A36: ='Tabela I'!$F$2 -> 116 | B36: ='Tabela I'!$F$1 -> 2022 | C36: 26 | D36: ='Tabela III'!B49 -> 0 | E36: ='Tabela III'!D49 -> 0 | F36: ='Tabela III'!E49 -> 0 | G36: ='Tabela III'!F49 -> 0 | H36: ='Tabela III'!G49 -> 0 | I36: ='Tabela III'!H49 -> 0 | J36: ='Tabela III'!I49 -> 0 | K36: ='Tabela III'!K49 -> 0
D37: =SUM(D2:D36) -> 0 | E37: =SUM(E2:E36) -> 0 | F37: =SUM(F2:F36) -> 0 | G37: =SUM(G2:G36) -> 0 | H37: =SUM(H2:H36) -> 0 | I37: =SUM(I2:I36) -> 0 | J37: =SUM(J2:J36) -> 0 | K37: =SUM(K2:K36) -> 0

Sheet tblIIIa
A1: Sud | B1: Godina | C1: ImePrezime | D1: Funkcija | E1: Ocij/NijeOcij | F1: UkBrDonOdlnsmiPrLijek | G1: UkBrOzOdl | H1: BrOdbPravLijekova | I1: BrPotOdl | J1: BrPreinOdl | K1: BrPreOdlNakOdGlRas/PretPredDrugSud | L1: BrUkOdl | M1: BrDjelUkOdl | N1: KvaSudOdlČl16/1/a | O1: BrOstBodZaKvalČl16/1/a | P1: KvalSudOdlČl16/1/b | Q1: BrOstBodZaKvalČl16/1/b | R1: UkBrOstBodZaKval | S1: KvalSudOdlČl16/1/b
A2: ='Tabela I'!$F$2 -> 116 | B2: ='Tabela I'!$F$1 -> 2022 | C2: =+'Tabela IIIa'!B10 | D2: =+'Tabela IIIa'!C10 -> Predsjednik suda * | E2: =+'Tabela IIIa'!D10 -> 0 | F2: =+'Tabela IIIa'!E10 -> 0 | G2: =+'Tabela IIIa'!F10 -> 0 | H2: =+'Tabela IIIa'!G10 -> 0 | I2: =+'Tabela IIIa'!H10 -> 0 | J2: =+'Tabela IIIa'!I10 -> 0 | ... R2: =+'Tabela IIIa'!Q10 | V2: Ocijenjen
A3: ='Tabela I'!$F$2 -> 116 | B3: ='Tabela I'!$F$1 -> 2022 | C3: ='Tabela IIIa'!B11 | D3: =+'Tabela IIIa'!C11 -> 0 | E3: =+'Tabela IIIa'!D11 -> 0 | F3: =+'Tabela IIIa'!E11 -> 0 | G3: =+'Tabela IIIa'!F11 -> 0 | H3: =+'Tabela IIIa'!G11 -> 0 | I3: =+'Tabela IIIa'!H11 -> 0 | J3: =+'Tabela IIIa'!I11 -> 0 | K3: =+'Tabela IIIa'!J11 -> 0 | ... R3: =+'Tabela IIIa'!Q11 | T3: Sudija | V3: Nije ocijenjen
A4: ='Tabela I'!$F$2 -> 116 | B4: ='Tabela I'!$F$1 -> 2022 | C4: =+'Tabela IIIa'!B12 | D4: =+'Tabela IIIa'!C12 -> 0 | E4: =+'Tabela IIIa'!D12 -> 0 | F4: =+'Tabela IIIa'!E12 -> 0 | G4: =+'Tabela IIIa'!F12 -> 0 | H4: =+'Tabela IIIa'!G12 -> 0 | I4: =+'Tabela IIIa'!H12 -> 0 | J4: =+'Tabela IIIa'!I12 -> 0 | ... R4: =+'Tabela IIIa'!Q12 | T4: Stručni saradnik
A5: ='Tabela I'!$F$2 -> 116 | B5: ='Tabela I'!$F$1 -> 2022 | C5: =+'Tabela IIIa'!B13 | D5: =+'Tabela IIIa'!C13 -> 0 | E5: =+'Tabela IIIa'!D13 -> 0 | F5: =+'Tabela IIIa'!E13 -> 0 | G5: =+'Tabela IIIa'!F13 -> 0 | H5: =+'Tabela IIIa'!G13 -> 0 | I5: =+'Tabela IIIa'!H13 -> 0 | J5: =+'Tabela IIIa'!I13 -> 0 | ... R5: =+'Tabela IIIa'!Q13
A6: ='Tabela I'!$F$2 -> 116 | B6: ='Tabela I'!$F$1 -> 2022 | C6: =+'Tabela IIIa'!B14 | D6: =+'Tabela IIIa'!C14 -> 0 | E6: =+'Tabela IIIa'!D14 -> 0 | F6: =+'Tabela IIIa'!E14 -> 0 | G6: =+'Tabela IIIa'!F14 -> 0 | H6: =+'Tabela IIIa'!G14 -> 0 | I6: =+'Tabela IIIa'!H14 -> 0 | J6: =+'Tabela IIIa'!I14 -> 0 | ... R6: =+'Tabela IIIa'!Q14
A7: ='Tabela I'!$F$2 -> 116 | B7: ='Tabela I'!$F$1 -> 2022 | C7: =+'Tabela IIIa'!B15 | D7: =+'Tabela IIIa'!C15 -> 0 | E7: =+'Tabela IIIa'!D15 -> 0 | F7: =+'Tabela IIIa'!E15 -> 0 | G7: =+'Tabela IIIa'!F15 -> 0 | H7: =+'Tabela IIIa'!G15 -> 0 | I7: =+'Tabela IIIa'!H15 -> 0 | J7: =+'Tabela IIIa'!I15 -> 0 | ... R7: =+'Tabela IIIa'!Q15
A8: ='Tabela I'!$F$2 -> 116 | B8: ='Tabela I'!$F$1 -> 2022 | C8: =+'Tabela IIIa'!B16 | D8: =+'Tabela IIIa'!C16 -> 0 | E8: =+'Tabela IIIa'!D16 -> 0 | F8: =+'Tabela IIIa'!E16 -> 0 | G8: =+'Tabela IIIa'!F16 -> 0 | H8: =+'Tabela IIIa'!G16 -> 0 | I8: =+'Tabela IIIa'!H16 -> 0 | J8: =+'Tabela IIIa'!I16 -> 0 | ... R8: =+'Tabela IIIa'!Q16
A9: ='Tabela I'!$F$2 -> 116 | B9: ='Tabela I'!$F$1 -> 2022 | C9: =+'Tabela IIIa'!B17 | D9: =+'Tabela IIIa'!C17 -> 0 | E9: =+'Tabela IIIa'!D17 -> 0 | F9: =+'Tabela IIIa'!E17 -> 0 | G9: =+'Tabela IIIa'!F17 -> 0 | H9: =+'Tabela IIIa'!G17 -> 0 | I9: =+'Tabela IIIa'!H17 -> 0 | J9: =+'Tabela IIIa'!I17 -> 0 | ... R9: =+'Tabela IIIa'!Q17
A10: ='Tabela I'!$F$2 -> 116 | B10: ='Tabela I'!$F$1 -> 2022 | C10: =+'Tabela IIIa'!B18 | D10: =+'Tabela IIIa'!C18 -> 0 | E10: =+'Tabela IIIa'!D18 -> 0 | F10: =+'Tabela IIIa'!E18 -> 0 | G10: =+'Tabela IIIa'!F18 -> 0 | H10: =+'Tabela IIIa'!G18 -> 0 | I10: =+'Tabela IIIa'!H18 -> 0 | J10: =+'Tabela IIIa'!I18 -> 0 | ... R10: =+'Tabela IIIa'!Q18
A11: ='Tabela I'!$F$2 -> 116 | B11: ='Tabela I'!$F$1 -> 2022 | C11: =+'Tabela IIIa'!B19 | D11: =+'Tabela IIIa'!C19 -> 0 | E11: =+'Tabela IIIa'!D19 -> 0 | F11: =+'Tabela IIIa'!E19 -> 0 | G11: =+'Tabela IIIa'!F19 -> 0 | H11: =+'Tabela IIIa'!G19 -> 0 | I11: =+'Tabela IIIa'!H19 -> 0 | J11: =+'Tabela IIIa'!I19 -> 0 | ... R11: =+'Tabela IIIa'!Q19
A12: ='Tabela I'!$F$2 -> 116 | B12: ='Tabela I'!$F$1 -> 2022 | C12: =+'Tabela IIIa'!B20 | D12: =+'Tabela IIIa'!C20 -> 0 | E12: =+'Tabela IIIa'!D20 -> 0 | F12: =+'Tabela IIIa'!E20 -> 0 | G12: =+'Tabela IIIa'!F20 -> 0 | H12: =+'Tabela IIIa'!G20 -> 0 | I12: =+'Tabela IIIa'!H20 -> 0 | J12: =+'Tabela IIIa'!I20 -> 0 | ... R12: =+'Tabela IIIa'!Q20
A13: ='Tabela I'!$F$2 -> 116 | B13: ='Tabela I'!$F$1 -> 2022 | C13: =+'Tabela IIIa'!B21 | D13: =+'Tabela IIIa'!C21 -> 0 | E13: =+'Tabela IIIa'!D21 -> 0 | F13: =+'Tabela IIIa'!E21 -> 0 | G13: =+'Tabela IIIa'!F21 -> 0 | H13: =+'Tabela IIIa'!G21 -> 0 | I13: =+'Tabela IIIa'!H21 -> 0 | J13: =+'Tabela IIIa'!I21 -> 0 | ... R13: =+'Tabela IIIa'!Q21
A14: ='Tabela I'!$F$2 -> 116 | B14: ='Tabela I'!$F$1 -> 2022 | C14: =+'Tabela IIIa'!B22 | D14: =+'Tabela IIIa'!C22 -> 0 | E14: =+'Tabela IIIa'!D22 -> 0 | F14: =+'Tabela IIIa'!E22 -> 0 | G14: =+'Tabela IIIa'!F22 -> 0 | H14: =+'Tabela IIIa'!G22 -> 0 | I14: =+'Tabela IIIa'!H22 -> 0 | J14: =+'Tabela IIIa'!I22 -> 0 | ... R14: =+'Tabela IIIa'!Q22
A15: ='Tabela I'!$F$2 -> 116 | B15: ='Tabela I'!$F$1 -> 2022 | C15: =+'Tabela IIIa'!B23 | D15: =+'Tabela IIIa'!C23 -> 0 | E15: =+'Tabela IIIa'!D23 -> 0 | F15: =+'Tabela IIIa'!E23 -> 0 | G15: =+'Tabela IIIa'!F23 -> 0 | H15: =+'Tabela IIIa'!G23 -> 0 | I15: =+'Tabela IIIa'!H23 -> 0 | J15: =+'Tabela IIIa'!I23 -> 0 | ... R15: =+'Tabela IIIa'!Q23
A16: ='Tabela I'!$F$2 -> 116 | B16: ='Tabela I'!$F$1 -> 2022 | C16: =+'Tabela IIIa'!B24 | D16: =+'Tabela IIIa'!C24 -> 0 | E16: =+'Tabela IIIa'!D24 -> 0 | F16: =+'Tabela IIIa'!E24 -> 0 | G16: =+'Tabela IIIa'!F24 -> 0 | H16: =+'Tabela IIIa'!G24 -> 0 | I16: =+'Tabela IIIa'!H24 -> 0 | J16: =+'Tabela IIIa'!I24 -> 0 | ... R16: =+'Tabela IIIa'!Q24
... A66: ='Tabela I'!$F$2 -> 116 | B66: ='Tabela I'!$F$1 -> 2022 | C66: =+'Tabela IIIa'!B74 -> 0 | D66: =+'Tabela IIIa'!C74 -> 0 | E66: =+'Tabela IIIa'!D74 -> 0 | F66: =+'Tabela IIIa'!E74 -> 0 | G66: =+'Tabela IIIa'!F74 -> 0 | H66: =+'Tabela IIIa'!G74 -> 0 | I66: =+'Tabela IIIa'!H74 -> 0 | J66: =+'Tabela IIIa'!I74 -> 0 | ... R66: =+'Tabela IIIa'!Q74
A69: Tabela IIIb
A71: ='Tabela I'!$F$2 -> 116 | B71: ='Tabela I'!$F$1 -> 2022 | C71: =+'Tabela IIIa'!B86 -> Ime i prezime | D71: =+'Tabela IIIa'!C86 -> Predsjednik suda | E71: =+'Tabela IIIa'!D86 -> 0 | F71: =+'Tabela IIIa'!E86 -> 0 | G71: =+'Tabela IIIa'!F86 -> 0 | H71: =+'Tabela IIIa'!G86 -> 0 | I71: =+'Tabela IIIa'!H86 -> 0 | J71: =+'Tabela IIIa'!I86 -> 0 | ... R71: =+'Tabela IIIa'!Q86
A72: ='Tabela I'!$F$2 -> 116 | B72: ='Tabela I'!$F$1 -> 2022 | C72: =+'Tabela IIIa'!B93 -> Ime i prezime | D72: =+'Tabela IIIa'!C93 -> 0 | E72: =+'Tabela IIIa'!D93 -> 0 | F72: =+'Tabela IIIa'!E93 -> 0 | G72: =+'Tabela IIIa'!F93 -> 0 | H72: =+'Tabela IIIa'!G93 -> 0 | I72: =+'Tabela IIIa'!H93 -> 0 | J72: =+'Tabela IIIa'!I93 -> 0 | ... R72: =+'Tabela IIIa'!Q93
A73: ='Tabela I'!$F$2 -> 116 | B73: ='Tabela I'!$F$1 -> 2022 | C73: =+'Tabela IIIa'!B100 -> Ime i prezime | D73: =+'Tabela IIIa'!C100 -> 0 | E73: =+'Tabela IIIa'!D100 -> 0 | F73: =+'Tabela IIIa'!E100 -> 0 | G73: =+'Tabela IIIa'!F100 -> 0 | H73: =+'Tabela IIIa'!G100 -> 0 | I73: =+'Tabela IIIa'!H100 -> 0 | J73: =+'Tabela IIIa'!I100 -> 0 | ... R73: =+'Tabela IIIa'!Q100
A74: ='Tabela I'!$F$2 -> 116 | B74: ='Tabela I'!$F$1 -> 2022 | C74: =+'Tabela IIIa'!B107 -> Ime i prezime | D74: =+'Tabela IIIa'!C107 -> 0 | E74: =+'Tabela IIIa'!D107 -> 0 | F74: =+'Tabela IIIa'!E107 -> 0 | G74: =+'Tabela IIIa'!F107 -> 0 | H74: =+'Tabela IIIa'!G107 -> 0 | I74: =+'Tabela IIIa'!H107 -> 0 | J74: =+'Tabela IIIa'!I107 -> 0 | ... R74: =+'Tabela IIIa'!Q107
A75: ='Tabela I'!$F$2 -> 116 | B75: ='Tabela I'!$F$1 -> 2022 | C75: =+'Tabela IIIa'!B114 -> Ime i prezime | D75: =+'Tabela IIIa'!C114 -> 0 | E75: =+'Tabela IIIa'!D114 -> 0 | F75: =+'Tabela IIIa'!E114 -> 0 | G75: =+'Tabela IIIa'!F114 -> 0 | H75: =+'Tabela IIIa'!G114 -> 0 | I75: =+'Tabela IIIa'!H114 -> 0 | J75: =+'Tabela IIIa'!I114 -> 0 | ... R75: =+'Tabela IIIa'!Q114
A76: ='Tabela I'!$F$2 -> 116 | B76: ='Tabela I'!$F$1 -> 2022 | C76: =+'Tabela IIIa'!B121 -> Ime i prezime | D76: =+'Tabela IIIa'!C121 -> 0 | E76: =+'Tabela IIIa'!D121 -> 0 | F76: =+'Tabela IIIa'!E121 -> 0 | G76: =+'Tabela IIIa'!F121 -> 0 | H76: =+'Tabela IIIa'!G121 -> 0 | I76: =+'Tabela IIIa'!H121 -> 0 | J76: =+'Tabela IIIa'!I121 -> 0 | ... R76: =+'Tabela IIIa'!Q121
A77: ='Tabela I'!$F$2 -> 116 | B77: ='Tabela I'!$F$1 -> 2022 | C77: =+'Tabela IIIa'!B128 -> Ime i prezime | D77: =+'Tabela IIIa'!C128 -> 0 | E77: =+'Tabela IIIa'!D128 -> 0 | F77: =+'Tabela IIIa'!E128 -> 0 | G77: =+'Tabela IIIa'!F128 -> 0 | H77: =+'Tabela IIIa'!G128 -> 0 | I77: =+'Tabela IIIa'!H128 -> 0 | J77: =+'Tabela IIIa'!I128 -> 0 | ... R77: =+'Tabela IIIa'!Q128
A78: ='Tabela I'!$F$2 -> 116 | B78: ='Tabela I'!$F$1 -> 2022 | C78: =+'Tabela IIIa'!B135 -> Ime i prezime | D78: =+'Tabela IIIa'!C135 -> 0 | E78: =+'Tabela IIIa'!D135 -> 0 | F78: =+'Tabela IIIa'!E135 -> 0 | G78: =+'Tabela IIIa'!F135 -> 0 | H78: =+'Tabela IIIa'!G135 -> 0 | I78: =+'Tabela IIIa'!H135 -> 0 | J78: =+'Tabela IIIa'!I135 -> 0 | ... R78: =+'Tabela IIIa'!Q135
A79: ='Tabela I'!$F$2 -> 116 | B79: ='Tabela I'!$F$1 -> 2022 | C79: =+'Tabela IIIa'!B142 -> Ime i prezime | D79: =+'Tabela IIIa'!C142 -> 0 | E79: =+'Tabela IIIa'!D142 -> 0 | F79: =+'Tabela IIIa'!E142 -> 0 | G79: =+'Tabela IIIa'!F142 -> 0 | H79: =+'Tabela IIIa'!G142 -> 0 | I79: =+'Tabela IIIa'!H142 -> 0 | J79: =+'Tabela IIIa'!I142 -> 0 | ... R79: =+'Tabela IIIa'!Q142
A80: ='Tabela I'!$F$2 -> 116 | B80: ='Tabela I'!$F$1 -> 2022 | C80: =+'Tabela IIIa'!B149 -> Ime i prezime | D80: =+'Tabela IIIa'!C149 -> 0 | E80: =+'Tabela IIIa'!D149 -> 0 | F80: =+'Tabela IIIa'!E149 -> 0 | G80: =+'Tabela IIIa'!F149 -> 0 | H80: =+'Tabela IIIa'!G149 -> 0 | I80: =+'Tabela IIIa'!H149 -> 0 | J80: =+'Tabela IIIa'!I149 -> 0 | ... R80: =+'Tabela IIIa'!Q149

Sheet tbl4InicAkt
A1: for_key | B1: godina | C1: idReferata | D1: Zalba | E1: 2022 | F1: 2021 | G1: 2020 | H1: 2019 | I1: 2018 | J1: 2017 | K1: 2016 | L1: 2015 | M1: 2014 | N1: 2013 | O1: 2012 | P1: 2011 | Q1: 2010 | R1: 2009 | S1: 2008 | T1: 2007 | U1: 2006 | V1: 2005 | W1: 2004 | X1: 2003 | Y1: 2002 | Z1: 2001 | AA1: 2000 | AB1: 1999 | AC1: 1998 | AD1: 1997 | AE1: 1996 | AF1: 1995 | AG1: 1994 | AH1: 1993 | AI1: 1992 | AJ1: 1991 | AK1: 1990 | AL1: 1989 | AM1: 1988 | AN1: 1987 | AO1: 1986 | AP1: 1985 | AQ1: 1984 | AR1: 1983 | AS1: 1982 | AT1: 1981 | AU1: 1980 | AV1: Stariji od 1980
A2: ='Tabela I'!$F$2 -> 116 | B2: ='Tabela I'!$F$1 -> 2022 | C2: 26 | D2: 0 | E2: ='Tabela V'!$F$8 -> 0 | F2: ='Tabela V'!$F$9 -> 0 | G2: ='Tabela V'!$F$10 -> 0 | H2: ='Tabela V'!$F$11 -> 0 | I2: ='Tabela V'!$F$12 -> 0 | J2: ='Tabela V'!$F$13 -> 0 | K2: ='Tabela V'!$F$14 -> 0 | L2: ='Tabela V'!$F$15 -> 0 | M2: ='Tabela V'!$F$16 -> 0 | N2: ='Tabela V'!$F$17 -> 0 | O2: ='Tabela V'!$F$18 -> 0 | P2: ='Tabela V'!$F$19 -> 0 | Q2: ='Tabela V'!$F$20 -> 0 | R2: ='Tabela V'!$F$21 -> 0 | S2: ='Tabela V'!$F$22 -> 0 | T2: ='Tabela V'!$F$23 -> 0 | U2: ='Tabela V'!$F$24 -> 0 | V2: ='Tabela V'!$F$25 -> 0 | W2: ='Tabela V'!$F$26 -> 0 | X2: ='Tabela V'!$F$27 -> 0 | Y2: ='Tabela V'!$F$28 -> 0 | Z2: ='Tabela V'!$F$29 -> 0 | AA2: ='Tabela V'!$F$30 -> 0 | AB2: ='Tabela V'!$F$31 -> 0 | AC2: ='Tabela V'!$F$32 -> 0 | AD2: ='Tabela V'!$F$33 -> 0 | AE2: ='Tabela V'!$F$34 -> 0 | AF2: ='Tabela V'!$F$35 -> 0 | AG2: ='Tabela V'!$F$36 -> 0 | AH2: ='Tabela V'!$F$37 -> 0 | AI2: ='Tabela V'!$F$38 -> 0 | AJ2: ='Tabela V'!$F$39 -> 0 | AK2: ='Tabela V'!$F$40 -> 0 | AL2: ='Tabela V'!$F$41 -> 0 | AM2: ='Tabela V'!$F$42 -> 0 | AN2: ='Tabela V'!$F$43 -> 0 | AO2: ='Tabela V'!$F$44 -> 0 | AP2: ='Tabela V'!$F$45 -> 0 | AQ2: ='Tabela V'!$F$46 -> 0 | AR2: ='Tabela V'!$F$47 -> 0 | AS2: ='Tabela V'!$F$48 -> 0 | AT2: ='Tabela V'!$F$49 -> 0 | AU2: ='Tabela V'!$F$50 -> 0 | AV2: ='Tabela V'!$F$51 -> 0
A3: ='Tabela I'!$F$2 -> 116 | B3: ='Tabela I'!$F$1 -> 2022 | C3: 104 | D3: 0 | E3: ='Tabela V'!$G$8 -> 0 | F3: ='Tabela V'!$G$9 -> 0 | G3: ='Tabela V'!$G$10 -> 0 | H3: ='Tabela V'!$G$11 -> 0 | I3: ='Tabela V'!$G$12 -> 0 | J3: ='Tabela V'!$G$13 -> 0 | K3: ='Tabela V'!$G$14 -> 0 | L3: ='Tabela V'!$G$15 -> 0 | M3: ='Tabela V'!$G$16 -> 0 | N3: ='Tabela V'!$G$17 -> 0 | O3: ='Tabela V'!$G$18 -> 0 | P3: ='Tabela V'!$G$19 -> 0 | Q3: ='Tabela V'!$G$20 -> 0 | R3: ='Tabela V'!$G$21 -> 0 | S3: ='Tabela V'!$G$22 -> 0 | T3: ='Tabela V'!$G$23 -> 0 | U3: ='Tabela V'!$G$24 -> 0 | V3: ='Tabela V'!$G$25 -> 0 | W3: ='Tabela V'!$G$26 -> 0 | X3: ='Tabela V'!$G$27 -> 0 | Y3: ='Tabela V'!$G$28 -> 0 | Z3: ='Tabela V'!$G$29 -> 0 | AA3: ='Tabela V'!$G$30 -> 0 | AB3: ='Tabela V'!$G$31 -> 0 | AC3: ='Tabela V'!$G$32 -> 0 | AD3: ='Tabela V'!$G$33 -> 0 | AE3: ='Tabela V'!$G$34 -> 0 | AF3: ='Tabela V'!$G$35 -> 0 | AG3: ='Tabela V'!$G$36 -> 0 | AH3: ='Tabela V'!$G$37 -> 0 | AI3: ='Tabela V'!$G$38 -> 0 | AJ3: ='Tabela V'!$G$39 -> 0 | AK3: ='Tabela V'!$G$40 -> 0 | AL3: ='Tabela V'!$G$41 -> 0 | AM3: ='Tabela V'!$G$42 -> 0 | AN3: ='Tabela V'!$G$43 -> 0 | AO3: ='Tabela V'!$G$44 -> 0 | AP3: ='Tabela V'!$G$45 -> 0 | AQ3: ='Tabela V'!$G$46 -> 0 | AR3: ='Tabela V'!$G$47 -> 0 | AS3: ='Tabela V'!$G$48 -> 0 | AT3: ='Tabela V'!$G$49 -> 0 | AU3: ='Tabela V'!$G$50 -> 0 | AV3: ='Tabela V'!$G$51 -> 0
A4: ='Tabela I'!$F$2 -> 116 | B4: ='Tabela I'!$F$1 -> 2022 | C4: 99 | D4: 0 | E4: ='Tabela V'!$H$8 -> 0 | F4: ='Tabela V'!$H$9 -> 0 | G4: ='Tabela V'!$H$10 -> 0 | H4: ='Tabela V'!$H$11 -> 0 | I4: ='Tabela V'!$H$12 -> 0 | J4: ='Tabela V'!$H$13 -> 0 | K4: ='Tabela V'!$H$14 -> 0 | L4: ='Tabela V'!$H$15 -> 0 | M4: ='Tabela V'!$H$16 -> 0 | N4: ='Tabela V'!$H$17 -> 0 | O4: ='Tabela V'!$H$18 -> 0 | P4: ='Tabela V'!$H$19 -> 0 | Q4: ='Tabela V'!$H$20 -> 0 | R4: ='Tabela V'!$H$21 -> 0 | S4: ='Tabela V'!$H$22 -> 0 | T4: ='Tabela V'!$H$23 -> 0 | U4: ='Tabela V'!$H$24 -> 0 | V4: ='Tabela V'!$H$25 -> 0 | W4: ='Tabela V'!$H$26 -> 0 | X4: ='Tabela V'!$H$27 -> 0 | Y4: ='Tabela V'!$H$28 -> 0 | Z4: ='Tabela V'!$H$29 -> 0 | AA4: ='Tabela V'!$H$30 -> 0 | AB4: ='Tabela V'!$H$31 -> 0 | AC4: ='Tabela V'!$H$32 -> 0 | AD4: ='Tabela V'!$H$33 -> 0 | AE4: ='Tabela V'!$H$34 -> 0 | AF4: ='Tabela V'!$H$35 -> 0 | AG4: ='Tabela V'!$H$36 -> 0 | AH4: ='Tabela V'!$H$37 -> 0 | AI4: ='Tabela V'!$H$38 -> 0 | AJ4: ='Tabela V'!$H$39 -> 0 | AK4: ='Tabela V'!$H$40 -> 0 | AL4: ='Tabela V'!$H$41 -> 0 | AM4: ='Tabela V'!$H$42 -> 0 | AN4: ='Tabela V'!$H$43 -> 0 | AO4: ='Tabela V'!$H$44 -> 0 | AP4: ='Tabela V'!$H$45 -> 0 | AQ4: ='Tabela V'!$H$46 -> 0 | AR4: ='Tabela V'!$H$47 -> 0 | AS4: ='Tabela V'!$H$48 -> 0 | AT4: ='Tabela V'!$H$49 -> 0 | AU4: ='Tabela V'!$H$50 -> 0 | AV4: ='Tabela V'!$H$51 -> 0
A5: ='Tabela I'!$F$2 -> 116 | B5: ='Tabela I'!$F$1 -> 2022 | C5: 100 | D5: 0 | E5: ='Tabela V'!$I$8 -> 0 | F5: ='Tabela V'!$I$9 -> 0 | G5: ='Tabela V'!$I$10 -> 0 | H5: ='Tabela V'!$I$11 -> 0 | I5: ='Tabela V'!$I$12 -> 0 | J5: ='Tabela V'!$I$13 -> 0 | K5: ='Tabela V'!$I$14 -> 0 | L5: ='Tabela V'!$I$15 -> 0 | M5: ='Tabela V'!$I$16 -> 0 | N5: ='Tabela V'!$I$17 -> 0 | O5: ='Tabela V'!$I$18 -> 0 | P5: ='Tabela V'!$I$19 -> 0 | Q5: ='Tabela V'!$I$20 -> 0 | R5: ='Tabela V'!$I$21 -> 0 | S5: ='Tabela V'!$I$22 -> 0 | T5: ='Tabela V'!$I$23 -> 0 | U5: ='Tabela V'!$I$24 -> 0 | V5: ='Tabela V'!$I$25 -> 0 | W5: ='Tabela V'!$I$26 -> 0 | X5: ='Tabela V'!$I$27 -> 0 | Y5: ='Tabela V'!$I$28 -> 0 | Z5: ='Tabela V'!$I$29 -> 0 | AA5: ='Tabela V'!$I$30 -> 0 | AB5: ='Tabela V'!$I$31 -> 0 | AC5: ='Tabela V'!$I$32 -> 0 | AD5: ='Tabela V'!$I$33 -> 0 | AE5: ='Tabela V'!$I$34 -> 0 | AF5: ='Tabela V'!$I$35 -> 0 | AG5: ='Tabela V'!$I$36 -> 0 | AH5: ='Tabela V'!$I$37 -> 0 | AI5: ='Tabela V'!$I$38 -> 0 | AJ5: ='Tabela V'!$I$39 -> 0 | AK5: ='Tabela V'!$I$40 -> 0 | AL5: ='Tabela V'!$I$41 -> 0 | AM5: ='Tabela V'!$I$42 -> 0 | AN5: ='Tabela V'!$I$43 -> 0 | AO5: ='Tabela V'!$I$44 -> 0 | AP5: ='Tabela V'!$I$45 -> 0 | AQ5: ='Tabela V'!$I$46 -> 0 | AR5: ='Tabela V'!$I$47 -> 0 | AS5: ='Tabela V'!$I$48 -> 0 | AT5: ='Tabela V'!$I$49 -> 0 | AU5: ='Tabela V'!$I$50 -> 0 | AV5: ='Tabela V'!$I$51 -> 0
A6: ='Tabela I'!$F$2 -> 116 | B6: ='Tabela I'!$F$1 -> 2022 | C6: 101 | D6: 0 | E6: ='Tabela V'!$J$8 -> 0 | F6: ='Tabela V'!$J$9 -> 0 | G6: ='Tabela V'!$J$10 -> 0 | H6: ='Tabela V'!$J$11 -> 0 | I6: ='Tabela V'!$J$12 -> 0 | J6: ='Tabela V'!$J$13 -> 0 | K6: ='Tabela V'!$J$14 -> 0 | L6: ='Tabela V'!$J$15 -> 0 | M6: ='Tabela V'!$J$16 -> 0 | N6: ='Tabela V'!$J$17 -> 0 | O6: ='Tabela V'!$J$18 -> 0 | P6: ='Tabela V'!$J$19 -> 0 | Q6: ='Tabela V'!$J$20 -> 0 | R6: ='Tabela V'!$J$21 -> 0 | S6: ='Tabela V'!$J$22 -> 0 | T6: ='Tabela V'!$J$23 -> 0 | U6: ='Tabela V'!$J$24 -> 0 | V6: ='Tabela V'!$J$25 -> 0 | W6: ='Tabela V'!$J$26 -> 0 | X6: ='Tabela V'!$J$27 -> 0 | Y6: ='Tabela V'!$J$28 -> 0 | Z6: ='Tabela V'!$J$29 -> 0 | AA6: ='Tabela V'!$J$30 -> 0 | AB6: ='Tabela V'!$J$31 -> 0 | AC6: ='Tabela V'!$J$32 -> 0 | AD6: ='Tabela V'!$J$33 -> 0 | AE6: ='Tabela V'!$J$34 -> 0 | AF6: ='Tabela V'!$J$35 -> 0 | AG6: ='Tabela V'!$J$36 -> 0 | AH6: ='Tabela V'!$J$37 -> 0 | AI6: ='Tabela V'!$J$38 -> 0 | AJ6: ='Tabela V'!$J$39 -> 0 | AK6: ='Tabela V'!$J$40 -> 0 | AL6: ='Tabela V'!$J$41 -> 0 | AM6: ='Tabela V'!$J$42 -> 0 | AN6: ='Tabela V'!$J$43 -> 0 | AO6: ='Tabela V'!$J$44 -> 0 | AP6: ='Tabela V'!$J$45 -> 0 | AQ6: ='Tabela V'!$J$46 -> 0 | AR6: ='Tabela V'!$J$47 -> 0 | AS6: ='Tabela V'!$J$48 -> 0 | AT6: ='Tabela V'!$J$49 -> 0 | AU6: ='Tabela V'!$J$50 -> 0 | AV6: ='Tabela V'!$J$51 -> 0
A7: ='Tabela I'!$F$2 -> 116 | B7: ='Tabela I'!$F$1 -> 2022 | C7: 123 | D7: 0 | E7: ='Tabela V'!$K$8 -> 0 | F7: ='Tabela V'!$K$9 -> 0 | G7: ='Tabela V'!$K$10 -> 0 | H7: ='Tabela V'!$K$11 -> 0 | I7: ='Tabela V'!$K$12 -> 0 | J7: ='Tabela V'!$K$13 -> 0 | K7: ='Tabela V'!$K$14 -> 0 | L7: ='Tabela V'!$K$15 -> 0 | M7: ='Tabela V'!$K$16 -> 0 | N7: ='Tabela V'!$K$17 -> 0 | O7: ='Tabela V'!$K$18 -> 0 | P7: ='Tabela V'!$K$19 -> 0 | Q7: ='Tabela V'!$K$20 -> 0 | R7: ='Tabela V'!$K$21 -> 0 | S7: ='Tabela V'!$K$22 -> 0 | T7: ='Tabela V'!$K$23 -> 0 | U7: ='Tabela V'!$K$24 -> 0 | V7: ='Tabela V'!$K$25 -> 0 | W7: ='Tabela V'!$K$26 -> 0 | X7: ='Tabela V'!$K$27 -> 0 | Y7: ='Tabela V'!$K$28 -> 0 | Z7: ='Tabela V'!$K$29 -> 0 | AA7: ='Tabela V'!$K$30 -> 0 | AB7: ='Tabela V'!$K$31 -> 0 | AC7: ='Tabela V'!$K$32 -> 0 | AD7: ='Tabela V'!$K$33 -> 0 | AE7: ='Tabela V'!$K$34 -> 0 | AF7: ='Tabela V'!$K$35 -> 0 | AG7: ='Tabela V'!$K$36 -> 0 | AH7: ='Tabela V'!$K$37 -> 0 | AI7: ='Tabela V'!$K$38 -> 0 | AJ7: ='Tabela V'!$K$39 -> 0 | AK7: ='Tabela V'!$K$40 -> 0 | AL7: ='Tabela V'!$K$41 -> 0 | AM7: ='Tabela V'!$K$42 -> 0 | AN7: ='Tabela V'!$K$43 -> 0 | AO7: ='Tabela V'!$K$44 -> 0 | AP7: ='Tabela V'!$K$45 -> 0 | AQ7: ='Tabela V'!$K$46 -> 0 | AR7: ='Tabela V'!$K$47 -> 0 | AS7: ='Tabela V'!$K$48 -> 0 | AT7: ='Tabela V'!$K$49 -> 0 | AU7: ='Tabela V'!$K$50 -> 0 | AV7: ='Tabela V'!$K$51 -> 0
A8: ='Tabela I'!$F$2 -> 116 | B8: ='Tabela I'!$F$1 -> 2022 | C8: 105 | D8: 0 | E8: ='Tabela V'!$L$8 -> 0 | F8: ='Tabela V'!$L$9 -> 0 | G8: ='Tabela V'!$L$10 -> 0 | H8: ='Tabela V'!$L$11 -> 0 | I8: ='Tabela V'!$L$12 -> 0 | J8: ='Tabela V'!$L$13 -> 0 | K8: ='Tabela V'!$L$14 -> 0 | L8: ='Tabela V'!$L$15 -> 0 | M8: ='Tabela V'!$L$16 -> 0 | N8: ='Tabela V'!$L$17 -> 0 | O8: ='Tabela V'!$L$18 -> 0 | P8: ='Tabela V'!$L$19 -> 0 | Q8: ='Tabela V'!$L$20 -> 0 | R8: ='Tabela V'!$L$21 -> 0 | S8: ='Tabela V'!$L$22 -> 0 | T8: ='Tabela V'!$L$23 -> 0 | U8: ='Tabela V'!$L$24 -> 0 | V8: ='Tabela V'!$L$25 -> 0 | W8: ='Tabela V'!$L$26 -> 0 | X8: ='Tabela V'!$L$27 -> 0 | Y8: ='Tabela V'!$L$28 -> 0 | Z8: ='Tabela V'!$L$29 -> 0 | AA8: ='Tabela V'!$L$30 -> 0 | AB8: ='Tabela V'!$L$31 -> 0 | AC8: ='Tabela V'!$L$32 -> 0 | AD8: ='Tabela V'!$L$33 -> 0 | AE8: ='Tabela V'!$L$34 -> 0 | AF8: ='Tabela V'!$L$35 -> 0 | AG8: ='Tabela V'!$L$36 -> 0 | AH8: ='Tabela V'!$L$37 -> 0 | AI8: ='Tabela V'!$L$38 -> 0 | AJ8: ='Tabela V'!$L$39 -> 0 | AK8: ='Tabela V'!$L$40 -> 0 | AL8: ='Tabela V'!$L$41 -> 0 | AM8: ='Tabela V'!$L$42 -> 0 | AN8: ='Tabela V'!$L$43 -> 0 | AO8: ='Tabela V'!$L$44 -> 0 | AP8: ='Tabela V'!$L$45 -> 0 | AQ8: ='Tabela V'!$L$46 -> 0 | AR8: ='Tabela V'!$L$47 -> 0 | AS8: ='Tabela V'!$L$48 -> 0 | AT8: ='Tabela V'!$L$49 -> 0 | AU8: ='Tabela V'!$L$50 -> 0 | AV8: ='Tabela V'!$L$51 -> 0
A9: ='Tabela I'!$F$2 -> 116 | B9: ='Tabela I'!$F$1 -> 2022 | C9: 106 | D9: 0 | E9: ='Tabela V'!$M$8 -> 0 | F9: ='Tabela V'!$M$9 -> 0 | G9: ='Tabela V'!$M$10 -> 0 | H9: ='Tabela V'!$M$11 -> 0 | I9: ='Tabela V'!$M$12 -> 0 | J9: ='Tabela V'!$M$13 -> 0 | K9: ='Tabela V'!$M$14 -> 0 | L9: ='Tabela V'!$M$15 -> 0 | M9: ='Tabela V'!$M$16 -> 0 | N9: ='Tabela V'!$M$17 -> 0 | O9: ='Tabela V'!$M$18 -> 0 | P9: ='Tabela V'!$M$19 -> 0 | Q9: ='Tabela V'!$M$20 -> 0 | R9: ='Tabela V'!$M$21 -> 0 | S9: ='Tabela V'!$M$22 -> 0 | T9: ='Tabela V'!$M$23 -> 0 | U9: ='Tabela V'!$M$24 -> 0 | V9: ='Tabela V'!$M$25 -> 0 | W9: ='Tabela V'!$M$26 -> 0 | X9: ='Tabela V'!$M$27 -> 0 | Y9: ='Tabela V'!$M$28 -> 0 | Z9: ='Tabela V'!$M$29 -> 0 | AA9: ='Tabela V'!$M$30 -> 0 | AB9: ='Tabela V'!$M$31 -> 0 | AC9: ='Tabela V'!$M$32 -> 0 | AD9: ='Tabela V'!$M$33 -> 0 | AE9: ='Tabela V'!$M$34 -> 0 | AF9: ='Tabela V'!$M$35 -> 0 | AG9: ='Tabela V'!$M$36 -> 0 | AH9: ='Tabela V'!$M$37 -> 0 | AI9: ='Tabela V'!$M$38 -> 0 | AJ9: ='Tabela V'!$M$39 -> 0 | AK9: ='Tabela V'!$M$40 -> 0 | AL9: ='Tabela V'!$M$41 -> 0 | AM9: ='Tabela V'!$M$42 -> 0 | AN9: ='Tabela V'!$M$43 -> 0 | AO9: ='Tabela V'!$M$44 -> 0 | AP9: ='Tabela V'!$M$45 -> 0 | AQ9: ='Tabela V'!$M$46 -> 0 | AR9: ='Tabela V'!$M$47 -> 0 | AS9: ='Tabela V'!$M$48 -> 0 | AT9: ='Tabela V'!$M$49 -> 0 | AU9: ='Tabela V'!$M$50 -> 0 | AV9: ='Tabela V'!$M$51 -> 0
A10: ='Tabela I'!$F$2 -> 116 | B10: ='Tabela I'!$F$1 -> 2022 | C10: 107 | D10: 0 | E10: ='Tabela V'!$N$8 -> 0 | F10: ='Tabela V'!$N$9 -> 0 | G10: ='Tabela V'!$N$10 -> 0 | H10: ='Tabela V'!$N$11 -> 0 | I10: ='Tabela V'!$N$12 -> 0 | J10: ='Tabela V'!$N$13 -> 0 | K10: ='Tabela V'!$N$14 -> 0 | L10: ='Tabela V'!$N$15 -> 0 | M10: ='Tabela V'!$N$16 -> 0 | N10: ='Tabela V'!$N$17 -> 0 | O10: ='Tabela V'!$N$18 -> 0 | P10: ='Tabela V'!$N$19 -> 0 | Q10: ='Tabela V'!$N$20 -> 0 | R10: ='Tabela V'!$N$21 -> 0 | S10: ='Tabela V'!$N$22 -> 0 | T10: ='Tabela V'!$N$23 -> 0 | U10: ='Tabela V'!$N$24 -> 0 | V10: ='Tabela V'!$N$25 -> 0 | W10: ='Tabela V'!$N$26 -> 0 | X10: ='Tabela V'!$N$27 -> 0 | Y10: ='Tabela V'!$N$28 -> 0 | Z10: ='Tabela V'!$N$29 -> 0 | AA10: ='Tabela V'!$N$30 -> 0 | AB10: ='Tabela V'!$N$31 -> 0 | AC10: ='Tabela V'!$N$32 -> 0 | AD10: ='Tabela V'!$N$33 -> 0 | AE10: ='Tabela V'!$N$34 -> 0 | AF10: ='Tabela V'!$N$35 -> 0 | AG10: ='Tabela V'!$N$36 -> 0 | AH10: ='Tabela V'!$N$37 -> 0 | AI10: ='Tabela V'!$N$38 -> 0 | AJ10: ='Tabela V'!$N$39 -> 0 | AK10: ='Tabela V'!$N$40 -> 0 | AL10: ='Tabela V'!$N$41 -> 0 | AM10: ='Tabela V'!$N$42 -> 0 | AN10: ='Tabela V'!$N$43 -> 0 | AO10: ='Tabela V'!$N$44 -> 0 | AP10: ='Tabela V'!$N$45 -> 0 | AQ10: ='Tabela V'!$N$46 -> 0 | AR10: ='Tabela V'!$N$47 -> 0 | AS10: ='Tabela V'!$N$48 -> 0 | AT10: ='Tabela V'!$N$49 -> 0 | AU10: ='Tabela V'!$N$50 -> 0 | AV10: ='Tabela V'!$N$51 -> 0
A11: ='Tabela I'!$F$2 -> 116 | B11: ='Tabela I'!$F$1 -> 2022 | C11: 108 | D11: 0 | E11: ='Tabela V'!$O$8 -> 0 | F11: ='Tabela V'!$O$9 -> 0 | G11: ='Tabela V'!$O$10 -> 0 | H11: ='Tabela V'!$O$11 -> 0 | I11: ='Tabela V'!$O$12 -> 0 | J11: ='Tabela V'!$O$13 -> 0 | K11: ='Tabela V'!$O$14 -> 0 | L11: ='Tabela V'!$O$15 -> 0 | M11: ='Tabela V'!$O$16 -> 0 | N11: ='Tabela V'!$O$17 -> 0 | O11: ='Tabela V'!$O$18 -> 0 | P11: ='Tabela V'!$O$19 -> 0 | Q11: ='Tabela V'!$O$20 -> 0 | R11: ='Tabela V'!$O$21 -> 0 | S11: ='Tabela V'!$O$22 -> 0 | T11: ='Tabela V'!$O$23 -> 0 | U11: ='Tabela V'!$O$24 -> 0 | V11: ='Tabela V'!$O$25 -> 0 | W11: ='Tabela V'!$O$26 -> 0 | X11: ='Tabela V'!$O$27 -> 0 | Y11: ='Tabela V'!$O$28 -> 0 | Z11: ='Tabela V'!$O$29 -> 0 | AA11: ='Tabela V'!$O$30 -> 0 | AB11: ='Tabela V'!$O$31 -> 0 | AC11: ='Tabela V'!$O$32 -> 0 | AD11: ='Tabela V'!$O$33 -> 0 | AE11: ='Tabela V'!$O$34 -> 0 | AF11: ='Tabela V'!$O$35 -> 0 | AG11: ='Tabela V'!$O$36 -> 0 | AH11: ='Tabela V'!$O$37 -> 0 | AI11: ='Tabela V'!$O$38 -> 0 | AJ11: ='Tabela V'!$O$39 -> 0 | AK11: ='Tabela V'!$O$40 -> 0 | AL11: ='Tabela V'!$O$41 -> 0 | AM11: ='Tabela V'!$O$42 -> 0 | AN11: ='Tabela V'!$O$43 -> 0 | AO11: ='Tabela V'!$O$44 -> 0 | AP11: ='Tabela V'!$O$45 -> 0 | AQ11: ='Tabela V'!$O$46 -> 0 | AR11: ='Tabela V'!$O$47 -> 0 | AS11: ='Tabela V'!$O$48 -> 0 | AT11: ='Tabela V'!$O$49 -> 0 | AU11: ='Tabela V'!$O$50 -> 0 | AV11: ='Tabela V'!$O$51 -> 0
A12: ='Tabela I'!$F$2 -> 116 | B12: ='Tabela I'!$F$1 -> 2022 | C12: 60 | D12: 0 | E12: ='Tabela V'!$P$8 -> 0 | F12: ='Tabela V'!$P$9 -> 0 | G12: ='Tabela V'!$P$10 -> 0 | H12: ='Tabela V'!$P$11 -> 0 | I12: ='Tabela V'!$P$12 -> 0 | J12: ='Tabela V'!$P$13 -> 0 | K12: ='Tabela V'!$P$14 -> 0 | L12: ='Tabela V'!$P$15 -> 0 | M12: ='Tabela V'!$P$16 -> 0 | N12: ='Tabela V'!$P$17 -> 0 | O12: ='Tabela V'!$P$18 -> 0 | P12: ='Tabela V'!$P$19 -> 0 | Q12: ='Tabela V'!$P$20 -> 0 | R12: ='Tabela V'!$P$21 -> 0 | S12: ='Tabela V'!$P$22 -> 0 | T12: ='Tabela V'!$P$23 -> 0 | U12: ='Tabela V'!$P$24 -> 0 | V12: ='Tabela V'!$P$25 -> 0 | W12: ='Tabela V'!$P$26 -> 0 | X12: ='Tabela V'!$P$27 -> 0 | Y12: ='Tabela V'!$P$28 -> 0 | Z12: ='Tabela V'!$P$29 -> 0 | AA12: ='Tabela V'!$P$30 -> 0 | AB12: ='Tabela V'!$P$31 -> 0 | AC12: ='Tabela V'!$P$32 -> 0 | AD12: ='Tabela V'!$P$33 -> 0 | AE12: ='Tabela V'!$P$34 -> 0 | AF12: ='Tabela V'!$P$35 -> 0 | AG12: ='Tabela V'!$P$36 -> 0 | AH12: ='Tabela V'!$P$37 -> 0 | AI12: ='Tabela V'!$P$38 -> 0 | AJ12: ='Tabela V'!$P$39 -> 0 | AK12: ='Tabela V'!$P$40 -> 0 | AL12: ='Tabela V'!$P$41 -> 0 | AM12: ='Tabela V'!$P$42 -> 0 | AN12: ='Tabela V'!$P$43 -> 0 | AO12: ='Tabela V'!$P$44 -> 0 | AP12: ='Tabela V'!$P$45 -> 0 | AQ12: ='Tabela V'!$P$46 -> 0 | AR12: ='Tabela V'!$P$47 -> 0 | AS12: ='Tabela V'!$P$48 -> 0 | AT12: ='Tabela V'!$P$49 -> 0 | AU12: ='Tabela V'!$P$50 -> 0 | AV12: ='Tabela V'!$P$51 -> 0
A13: ='Tabela I'!$F$2 -> 116 | B13: ='Tabela I'!$F$1 -> 2022 | C13: 127 | D13: 0 | E13: =+'Tabela V'!$B$8 -> 0 | F13: =+'Tabela V'!$B$9 -> 0 | G13: =+'Tabela V'!$B$10 -> 0 | H13: =+'Tabela V'!$B$11 -> 0 | I13: =+'Tabela V'!$B$12 -> 0 | J13: =+'Tabela V'!$B$13 -> 0 | K13: =+'Tabela V'!$B$14 -> 0 | L13: =+'Tabela V'!$B$15 -> 0 | M13: =+'Tabela V'!$B$16 -> 0 | N13: =+'Tabela V'!$B$17 -> 0 | O13: =+'Tabela V'!$B$18 -> 0 | P13: =+'Tabela V'!$B$19 -> 0 | Q13: =+'Tabela V'!$B$20 -> 0 | R13: =+'Tabela V'!$B$21 -> 0 | S13: =+'Tabela V'!$B$22 -> 0 | T13: =+'Tabela V'!$B$23 -> 0 | U13: =+'Tabela V'!$B$24 -> 0 | V13: =+'Tabela V'!$B$25 -> 0 | W13: =+'Tabela V'!$B$26 -> 0 | X13: =+'Tabela V'!$B$27 -> 0 | Y13: =+'Tabela V'!$B$28 -> 0 | Z13: =+'Tabela V'!$B$29 -> 0 | AA13: =+'Tabela V'!$B$30 -> 0 | AB13: =+'Tabela V'!$B$31 -> 0 | AC13: =+'Tabela V'!$B$32 -> 0 | AD13: =+'Tabela V'!$B$33 -> 0 | AE13: =+'Tabela V'!$B$34 -> 0 | AF13: =+'Tabela V'!$B$35 -> 0 | AG13: =+'Tabela V'!$B$36 -> 0 | AH13: =+'Tabela V'!$B$37 -> 0 | AI13: =+'Tabela V'!$B$38 -> 0 | AJ13: =+'Tabela V'!$B$39 -> 0 | AK13: =+'Tabela V'!$B$40 -> 0 | AL13: =+'Tabela V'!$B$41 -> 0 | AM13: =+'Tabela V'!$B$42 -> 0 | AN13: =+'Tabela V'!$B$43 -> 0 | AO13: =+'Tabela V'!$B$44 -> 0 | AP13: =+'Tabela V'!$B$45 -> 0 | AQ13: =+'Tabela V'!$B$46 -> 0 | AR13: =+'Tabela V'!$B$47 -> 0 | AS13: =+'Tabela V'!$B$48 -> 0 | AT13: =+'Tabela V'!$B$49 -> 0 | AU13: =+'Tabela V'!$B$50 -> 0 | AV13: =+'Tabela V'!$B$51 -> 0
A14: ='Tabela I'!$F$2 -> 116 | B14: ='Tabela I'!$F$1 -> 2022 | C14: 128 | D14: 0 | E14: =+'Tabela V'!$C$8 -> 0 | F14: =+'Tabela V'!$C$9 -> 0 | G14: =+'Tabela V'!$C$10 -> 0 | H14: =+'Tabela V'!$C$11 -> 0 | I14: =+'Tabela V'!$C$12 -> 0 | J14: =+'Tabela V'!$C$13 -> 0 | K14: =+'Tabela V'!$C$14 -> 0 | L14: =+'Tabela V'!$C$15 -> 0 | M14: =+'Tabela V'!$C$16 -> 0 | N14: =+'Tabela V'!$C$17 -> 0 | O14: =+'Tabela V'!$C$18 -> 0 | P14: =+'Tabela V'!$C$19 -> 0 | Q14: =+'Tabela V'!$C$20 -> 0 | R14: =+'Tabela V'!$C$21 -> 0 | S14: =+'Tabela V'!$C$22 -> 0 | T14: =+'Tabela V'!$C$23 -> 0 | U14: =+'Tabela V'!$C$24 -> 0 | V14: =+'Tabela V'!$C$25 -> 0 | W14: =+'Tabela V'!$C$26 -> 0 | X14: =+'Tabela V'!$C$27 -> 0 | Y14: =+'Tabela V'!$C$28 -> 0 | Z14: =+'Tabela V'!$C$29 -> 0 | AA14: =+'Tabela V'!$C$30 -> 0 | AB14: =+'Tabela V'!$C$31 -> 0 | AC14: =+'Tabela V'!$C$32 -> 0 | AD14: =+'Tabela V'!$C$33 -> 0 | AE14: =+'Tabela V'!$C$34 -> 0 | AF14: =+'Tabela V'!$C$35 -> 0 | AG14: =+'Tabela V'!$C$36 -> 0 | AH14: =+'Tabela V'!$C$37 -> 0 | AI14: =+'Tabela V'!$C$38 -> 0 | AJ14: =+'Tabela V'!$C$39 -> 0 | AK14: =+'Tabela V'!$C$40 -> 0 | AL14: =+'Tabela V'!$C$41 -> 0 | AM14: =+'Tabela V'!$C$42 -> 0 | AN14: =+'Tabela V'!$C$43 -> 0 | AO14: =+'Tabela V'!$C$44 -> 0 | AP14: =+'Tabela V'!$C$45 -> 0 | AQ14: =+'Tabela V'!$C$46 -> 0 | AR14: =+'Tabela V'!$C$47 -> 0 | AS14: =+'Tabela V'!$C$48 -> 0 | AT14: =+'Tabela V'!$C$49 -> 0 | AU14: =+'Tabela V'!$C$50 -> 0 | AV14: =+'Tabela V'!$C$51 -> 0
A15: ='Tabela I'!$F$2 -> 116 | B15: ='Tabela I'!$F$1 -> 2022 | C15: 129 | D15: 0 | E15: =+'Tabela V'!$D$8 -> 0 | F15: =+'Tabela V'!$D$9 -> 0 | G15: =+'Tabela V'!$D$10 -> 0 | H15: =+'Tabela V'!$D$11 -> 0 | I15: =+'Tabela V'!$D$12 -> 0 | J15: =+'Tabela V'!$D$13 -> 0 | K15: =+'Tabela V'!$D$14 -> 0 | L15: =+'Tabela V'!$D$15 -> 0 | M15: =+'Tabela V'!$D$16 -> 0 | N15: =+'Tabela V'!$D$17 -> 0 | O15: =+'Tabela V'!$D$18 -> 0 | P15: =+'Tabela V'!$D$19 -> 0 | Q15: =+'Tabela V'!$D$20 -> 0 | R15: =+'Tabela V'!$D$21 -> 0 | S15: =+'Tabela V'!$D$22 -> 0 | T15: =+'Tabela V'!$D$23 -> 0 | U15: =+'Tabela V'!$D$24 -> 0 | V15: =+'Tabela V'!$D$25 -> 0 | W15: =+'Tabela V'!$D$26 -> 0 | X15: =+'Tabela V'!$D$27 -> 0 | Y15: =+'Tabela V'!$D$28 -> 0 | Z15: =+'Tabela V'!$D$29 -> 0 | AA15: =+'Tabela V'!$D$30 -> 0 | AB15: =+'Tabela V'!$D$31 -> 0 | AC15: =+'Tabela V'!$D$32 -> 0 | AD15: =+'Tabela V'!$D$33 -> 0 | AE15: =+'Tabela V'!$D$34 -> 0 | AF15: =+'Tabela V'!$D$35 -> 0 | AG15: =+'Tabela V'!$D$36 -> 0 | AH15: =+'Tabela V'!$D$37 -> 0 | AI15: =+'Tabela V'!$D$38 -> 0 | AJ15: =+'Tabela V'!$D$39 -> 0 | AK15: =+'Tabela V'!$D$40 -> 0 | AL15: =+'Tabela V'!$D$41 -> 0 | AM15: =+'Tabela V'!$D$42 -> 0 | AN15: =+'Tabela V'!$D$43 -> 0 | AO15: =+'Tabela V'!$D$44 -> 0 | AP15: =+'Tabela V'!$D$45 -> 0 | AQ15: =+'Tabela V'!$D$46 -> 0 | AR15: =+'Tabela V'!$D$47 -> 0 | AS15: =+'Tabela V'!$D$48 -> 0 | AT15: =+'Tabela V'!$D$49 -> 0 | AU15: =+'Tabela V'!$D$50 -> 0 | AV15: =+'Tabela V'!$D$51 -> 0
A16: ='Tabela I'!$F$2 -> 116 | B16: ='Tabela I'!$F$1 -> 2022 | C16: 131 | D16: 0 | E16: =+'Tabela V'!$E$8 -> 0 | F16: =+'Tabela V'!$E$9 -> 0 | G16: =+'Tabela V'!$E$10 -> 0 | H16: =+'Tabela V'!$E$11 -> 0 | I16: =+'Tabela V'!$E$12 -> 0 | J16: =+'Tabela V'!$E$13 -> 0 | K16: =+'Tabela V'!$E$14 -> 0 | L16: =+'Tabela V'!$E$15 -> 0 | M16: =+'Tabela V'!$E$16 -> 0 | N16: =+'Tabela V'!$E$17 -> 0 | O16: =+'Tabela V'!$E$18 -> 0 | P16: =+'Tabela V'!$E$19 -> 0 | Q16: =+'Tabela V'!$E$20 -> 0 | R16: =+'Tabela V'!$E$21 -> 0 | S16: =+'Tabela V'!$E$22 -> 0 | T16: =+'Tabela V'!$E$23 -> 0 | U16: =+'Tabela V'!$E$24 -> 0 | V16: =+'Tabela V'!$E$25 -> 0 | W16: =+'Tabela V'!$E$26 -> 0 | X16: =+'Tabela V'!$E$27 -> 0 | Y16: =+'Tabela V'!$E$28 -> 0 | Z16: =+'Tabela V'!$E$29 -> 0 | AA16: =+'Tabela V'!$E$30 -> 0 | AB16: =+'Tabela V'!$E$31 -> 0 | AC16: =+'Tabela V'!$E$32 -> 0 | AD16: =+'Tabela V'!$E$33 -> 0 | AE16: =+'Tabela V'!$E$34 -> 0 | AF16: =+'Tabela V'!$E$35 -> 0 | AG16: =+'Tabela V'!$E$36 -> 0 | AH16: =+'Tabela V'!$E$37 -> 0 | AI16: =+'Tabela V'!$E$38 -> 0 | AJ16: =+'Tabela V'!$E$39 -> 0 | AK16: =+'Tabela V'!$E$40 -> 0 | AL16: =+'Tabela V'!$E$41 -> 0 | AM16: =+'Tabela V'!$E$42 -> 0 | AN16: =+'Tabela V'!$E$43 -> 0 | AO16: =+'Tabela V'!$E$44 -> 0 | AP16: =+'Tabela V'!$E$45 -> 0 | AQ16: =+'Tabela V'!$E$46 -> 0 | AR16: =+'Tabela V'!$E$47 -> 0 | AS16: =+'Tabela V'!$E$48 -> 0 | AT16: =+'Tabela V'!$E$49 -> 0 | AU16: =+'Tabela V'!$E$50 -> 0 | AV16: =+'Tabela V'!$E$51 -> 0
E17: =SUM(E2:E16) -> 0 | F17: =SUM(F2:F16) -> 0 | G17: =SUM(G2:G16) -> 0 | H17: =SUM(H2:H16) -> 0 | I17: =SUM(I2:I16) -> 0 | J17: =SUM(J2:J16) -> 0 | K17: =SUM(K2:K16) -> 0 | L17: =SUM(L2:L16) -> 0 | ... AV17: =SUM(AV2:AV16) -> 0

Sheet tbl10_ust_sud
A1: for_key | B1: godina | C1: BrOdbacApel | D1: BrObustPost | E1: BrOdbijApel
A2: ='Tabela I'!$F$2 -> 116 | B2: ='Tabela I'!$F$1 -> 2022 | C2: ='Tabela VI'!A7 -> 0 | D2: ='Tabela VI'!B7 -> 0 | E2: ='Tabela VI'!C7 -> 0
A5: for_key | B5: godina | C5: Pravni osnov | D5: BrPreinOdl | E5: BrUkidOdl | F5: BrUsvApel
A6: ='Tabela I'!$F$2 -> 116 | B6: ='Tabela I'!$F$1 -> 2022 | C6: 1 | D6: ='Tabela VI'!B12 -> 0 | E6: ='Tabela VI'!C12 -> 0 | F6: ='Tabela VI'!D12 -> 0
A7: ='Tabela I'!$F$2 -> 116 | B7: ='Tabela I'!$F$1 -> 2022 | C7: 2 | D7: ='Tabela VI'!B13 -> 0 | E7: ='Tabela VI'!C13 -> 0 | F7: ='Tabela VI'!D13 -> 0
A8: ='Tabela I'!$F$2 -> 116 | B8: ='Tabela I'!$F$1 -> 2022 | C8: 3 | D8: ='Tabela VI'!B14 -> 0 | E8: ='Tabela VI'!C14 -> 0 | F8: ='Tabela VI'!D14 -> 0
A9: ='Tabela I'!$F$2 -> 116 | B9: ='Tabela I'!$F$1 -> 2022 | C9: 4 | D9: ='Tabela VI'!B15 -> 0 | E9: ='Tabela VI'!C15 -> 0 | F9: ='Tabela VI'!D15 -> 0
A10: ='Tabela I'!$F$2 -> 116 | B10: ='Tabela I'!$F$1 -> 2022 | C10: 5 | D10: ='Tabela VI'!B16 -> 0 | E10: ='Tabela VI'!C16 -> 0 | F10: ='Tabela VI'!D16 -> 0
A11: ='Tabela I'!$F$2 -> 116 | B11: ='Tabela I'!$F$1 -> 2022 | C11: 6 | D11: ='Tabela VI'!B17 -> 0 | E11: ='Tabela VI'!C17 -> 0 | F11: ='Tabela VI'!D17 -> 0
A12: ='Tabela I'!$F$2 -> 116 | B12: ='Tabela I'!$F$1 -> 2022 | C12: 7 | D12: ='Tabela VI'!B18 -> 0 | E12: ='Tabela VI'!C18 -> 0 | F12: ='Tabela VI'!D18 -> 0
A15: for_key | B15: godina | C15: Pravni osnov | D15: PrvostSud | E15: DrugostSud | F15: SudPoUlPrLij | G15: Ostalo
A16: ='Tabela I'!$F$2 -> 116 | B16: ='Tabela I'!$F$1 -> 2022 | C16: 3 | D16: ='Tabela VI'!B23 -> 0 | E16: ='Tabela VI'!C23 -> 0 | F16: ='Tabela VI'!D23 -> 0 | G16: ='Tabela VI'!E23 -> 0
A19: for_key | B19: godina | C19: BrNaknNematStete | D19: UkIznosNaknade
A20: ='Tabela I'!$F$2 -> 116 | B20: ='Tabela I'!$F$1 -> 2022 | C20: ='Tabela VI'!B25 -> 0 | D20: ='Tabela VI'!B26 -> 0
