Workbook

Sheet Uputstvo
B2: TUŽILAŠTVA - po predmetima
B3: Napomene:
B5: Kompletni materijali u vezi procesa izvještavanja i ocjenjivanja rada u tužilaštvima za 2022. godinu dostupni su na linku:
B6: https://vstv.pravosudje.ba/vstvfo/B/141/article/106391
B7: Tabele za popunjavanje podataka o radu tužilaštava nije moguće mijenjati, niti dodavati nove redove ili kolone.
B8: Tabele se isključivo popunjavaju predviđenim redoslijedom, po redoslijedu postavljenih tabela.
B11: Podatke je potrebno upisivati samo u polja osjenčena žutom bojom.
B12: U ostala polja nije moguće upisivati vrijednosti, u ovim poljima vrijednosti će biti izračunate automatski.
B13: Molimo Vas da u Tabeli I i naslovu e-maila (subject) kojim ćete poslati popunjene obrasce navedete naziv Vašeg tužilaštva.
B16: Popunjene obrasce poslati na e-mail adresu: vstvstatistika@pravosudje.ba do 01.02.2023. godine.
B18: Za sva eventualna pitanja vezano za popunjavanje obrazaca molimo Vas da kontaktirate
B19: Odjel za pravosudnu analitiku i izvještavanje, na telefon: 033 704 616 ili 033 707 584.
... B40: TABELA III - PODACI O KTA, KTARZ, KTN I KTNRZ PREDMETIMA U tabeli III potrebno je navesti podatke o protoku Kta, Ktarz, Ktn i Ktnrz predmeta u tužilaštvu u 2018. godini. U tabelu se unose zbirni podaci o predmetima koji su evidentirani u TCMS-u kao i predmetima koji su evidentirani u manuelnim upisnicima tužilaštva. Automatski se preračunavaju podaci u kolonama: III i VIII. Podatak o broju neriješenih Kta, Ktarz, Ktn i Ktnrz predmeta u tužilaštvu na dan 31.12.2018. godine (kolona IX) će se dobiti automatskim oduzimanjem ukupnog broja riješenih predmeta (kolona VIII) od ukupnog broja predmeta u radu (kolona III). TABELA IIIa - PODACI O NERIJEŠENIM KTA, KTARZ, KTN I KTNRZ PREDMETIMA KOJI NISU UVEDENI U TCMS NA DAN 31.12.2018. GODINE Glavni tužilac je dužan osigurati da se u Tabelu IIIa unesu podaci o broju neriješenih predmeta koji nisu bili uvedeni u TCMS na dan 31.12.2018. godine kako slijedi: Kta, Ktarz, Ktn i Ktnrz. Ukoliko su svi neriješeni predmeti Kta, Ktarz, Ktn i Ktnrz u tužilaštvu na 31.12.2018. godine bili uvedeni u TCMS, dužni ste unijeti u Tabelu IIIa vrijednost 0 u sva polja označena žutom bojom. Automatski se preračunava podatak u posljednjem polju kolone I. Vrijednost podatka u posljednjem polju kolone I u Tabeli IIIa ne može biti veća od vrijednosti podatka u posljednjem polju kolone IX u Tabeli III. Ukoliko navedeni podatak nije u skladu sa navedenim logičkim pravilom, ovo polje će biti obojeno crvenom bojom. Nakon što podaci budu korigovani, na način da su u skladu sa logičkim pravilom, polje će biti obojeno bijelom bojom. TABELA IV - PODACI O KTA I KTN PREDMETIMA U KOJIMA JE NASTUPILA ZASTARA U tabeli IV potrebno je navesti podatke o broju Kta i Ktn predmeta u tužilaštvu u 2018. godini u kojima je donijeta naredba o iskazivanju predmeta završenim zbog nastupanja relativne ili apsolutne zastarjelosti krivičnog gonjenja. U ovu tabelu se unose podaci o svim Kta i Ktn predmetima u tužilaštvu bez obzira na to da li su predmeti uvedeni u TCMS. Automatski se preračunava podatak u koloni III.

Sheet TABELA I
A1: Naziv tužilaštva | D1: Tužilaštvo BiH ili Tužilaštvo Brčko Distrikta BiH | K1: 2022
A2: Izvještajni period: | G2: 1.1.2022. - 31.12.2022.
A4: Ostvarena kolektivna norma tužilaštva u 2022. godini: | G4: =+P88
A6: Kolektivni kvalitet tužilačkih odluka u 2022. godini: | G6: Optužnice | H6: =+'TABELA II'!K32 | K6: Naredbe o nesprovođenju i obustavljanju istraga | N6: =+'TABELA II'!O32
A7: Tabela Ia: Ostvarena orjentaciona norma - Elektronski obrazac za obračun ostvarene orijentacione norme (pogledati NAPOMENU 4)
A9: Redni broj | B9: Ime i prezime - evidentirani podatak se automatski prenosi u Tabelu IIa | C9: Ocjenjen u tužilaštvu | D9: Naziv odjela - evidentirani podatak se automatski prenosi u Tabelu IIa | E9: Pravosudna funkcija | G9: Procenat orijentacijske norme koju je nosilac pravosudne funkcije dužan ostvariti - Ukoliko procenat orijentacijske norme nije predviđen u padajućem meniju, pogledati NAPOMENU 3 | H9: Period obavljanja pravosudne funkcije u instituciji koja popunjava tabelu Ia | J9: Ukupan broj dana za obračun norme - pogledati NAPOMENU 2 | K9: Broj dana opravdanog odsustva iz član 24. Pravilnika o orijentacijskim mjerilima | L9: Ostvarena orijentacijska norma iz TCMS-a | M9: Ostvarena orijentacijska norma na predmetima van TCMS-a - pogledati NAPOMENU 8 | N9: Procenat ostvarene orijentacijske norme prema čl 7, 8.,10 i 11. Pravilnika o orijentacijskim mjerilima - pogledati NAPOMENU 9 | O9: Procenat ostvarene orijentacijske norme u 2022. godini | P9: Ukupno ostvarena orijentacijska norma u 2022. godini | Q9: Nedovoljan broj predmeta u radu - pogledati NAPOMENU 5 | T9: Broj ostvarenih bodova | U9: Da | V9: Ne
H10: Datum od | I10: Datum do | Q10: broj predmeta u radu | R10: broj riješenih predmeta | S10: procenat riješenih predmeta | U10: Zamjenik glavnog tužioca | V10: Šef odjela | W10: Šef odsjeka | X10: Tužilac | Y10: Član VSTV-a
A11: I | B11: II | C11: III | D11: IV | E11: V | F11: Column1 | G11: VI | H11: VII | I11: VIII | J11: IX | K11: X | L11: XI | M11: XII | N11: XIII | O11: XIV | P11: XV | Q11: XVI | R11: XVII | S11: XVIII | T11: XIX | U11: 1 | V11: 0.9 | W11: 0.8 | X11: 0.7 | Y11: 0.6 | Z11: 0.5 | AA11: 0.4
A12: 1 | E12: Glavni tužilac | J12: 260 | O12: =IF(G12="","",IF(G12="Ne treba rješavati predmete",1+(L12/J12*260)+M12+N12,(L12/J12*260+M12+N12)/G12)) | P12: =IF(G12="Ne treba rješavati predmete",O12,IF(K12>0,O12*(J12/(J12-K12)),O12)) | S12: =IF(Q12="","",R12/Q12) | T12: =IF(P12="","",IF(C12="Ne","",IF(G12="Ne treba rješavati predmete","",IF(P12>1,20,IF(S12="",IF(P12>0.9,18,IF(P12>0.8,16,IF(P12>0.7,12,IF(P12>0.6,8,IF(P12>0.5,4,0))))),IF(S12=1,20,IF(S12>0.9,18,IF(S12>0.8,16,IF(S12>0.7,12,IF(S12>0.6,8,IF(S12>0.5,4,0))))))))))) | W12: 0.2 | X12: Ne treba rješavati predmete | AC12: =I12-H12 -> 0
E13: Glavni tužilac | J13: 260 | O13: =IF(G13="","",IF(G13="Ne treba rješavati predmete",1+(L13/J13*260)+M13+N13,(L13/J13*260+M13+N13)/G13)) | P13: =IF(K13>0,O13*(J13/(J13-K13)),O13) | S13: =IF(Q13="","",R13/Q13) | T13: =IF(P13="","",IF(C12="Ne","",IF(P13>1,20,IF(S13="",IF(P13>0.9,18,IF(P13>0.8,16,IF(P13>0.7,12,IF(P13>0.6,8,IF(P13>0.5,4,0))))),IF(S13=1,20,IF(S13>0.9,18,IF(S13>0.8,16,IF(S13>0.7,12,IF(S13>0.6,8,IF(S13>0.5,4,0)))))))))) | AC13: =I13-H13
A14: 2 | F14: =IF(E14="Tužilac",1,IF(E14="Zamjenik glavnog tužioca",2,IF(E14="Šef odjela",3,IF(E14="Član VSTV-a",4,IF(E14="Šef odsjeka",5,""))))) | J14: 260 | O14: =IF(G14="","",IF(G14="Ne treba rješavati predmete",1+(L14/J14*260)+M14+N14,(L14/J14*260+M14+N14)/G14)) | P14: =IF(K14>0,O14*(J14/(J14-K14)),O14) | S14: =IF(Q14="","",R14/Q14) | T14: =IF(C14="Ne","",IF(E14="",IF(G14="",""),IF(C14="Ne","",IF(E14="Tužilac",IF(P14>1,40,IF(S14="",IF(P14>0.9,35,IF(P14>0.8,30,IF(P14>0.7,20,IF(P14>0.6,15,IF(P14>0.5,10,0))))),IF(S14=1,40,IF(S14>0.9,35,IF(S14>0.8,30,IF(S14>0.7,20,IF(S14>0.6,15,IF(S14>0.5,10,0)))))))),IF(P14>1,25,IF(S14="",IF(P14>0.9,22,IF(P14>0.8,20,IF(P14>0.7,15,IF(P14>0.6,10,IF(P14>0.5,5,0))))),IF(S14=1,25,IF(S14>0.9,22,IF(S14>0.8,20,IF(S14>0.7,15,IF(S14>0.6,10,IF(S14>0.5,5,0)))))))))))) | AC14: =I14-H14 -> 0
A15: 3 | F15: =IF(E15="Tužilac",1,IF(E15="Zamjenik glavnog tužioca",2,IF(E15="Šef odjela",3,IF(E15="Član VSTV-a",4,IF(E15="Šef odsjeka",5,""))))) | J15: 260 | O15: =IF(G15="","",IF(G15="Ne treba rješavati predmete",1+(L15/J15*260)+M15+N15,(L15/J15*260+M15+N15)/G15)) | P15: =IF(K15>0,O15*(J15/(J15-K15)),O15) | S15: =IF(Q15="","",R15/Q15) | T15: =IF(C15="Ne","",IF(E15="",IF(G15="",""),IF(C15="Ne","",IF(E15="Tužilac",IF(P15>1,40,IF(S15="",IF(P15>0.9,35,IF(P15>0.8,30,IF(P15>0.7,20,IF(P15>0.6,15,IF(P15>0.5,10,0))))),IF(S15=1,40,IF(S15>0.9,35,IF(S15>0.8,30,IF(S15>0.7,20,IF(S15>0.6,15,IF(S15>0.5,10,0)))))))),IF(P15>1,25,IF(S15="",IF(P15>0.9,22,IF(P15>0.8,20,IF(P15>0.7,15,IF(P15>0.6,10,IF(P15>0.5,5,0))))),IF(S15=1,25,IF(S15>0.9,22,IF(S15>0.8,20,IF(S15>0.7,15,IF(S15>0.6,10,IF(S15>0.5,5,0)))))))))))) | AC15: =I15-H15 -> 0
A16: 4 | F16: =IF(E16="Tužilac",1,IF(E16="Zamjenik glavnog tužioca",2,IF(E16="Šef odjela",3,IF(E16="Član VSTV-a",4,IF(E16="Šef odsjeka",5,""))))) | J16: 260 | O16: =IF(G16="","",IF(G16="Ne treba rješavati predmete",1+(L16/J16*260)+M16+N16,(L16/J16*260+M16+N16)/G16)) | P16: =IF(K16>0,O16*(J16/(J16-K16)),O16) | S16: =IF(Q16="","",R16/Q16) | T16: =IF(C16="Ne","",IF(E16="",IF(G16="",""),IF(C16="Ne","",IF(E16="Tužilac",IF(P16>1,40,IF(S16="",IF(P16>0.9,35,IF(P16>0.8,30,IF(P16>0.7,20,IF(P16>0.6,15,IF(P16>0.5,10,0))))),IF(S16=1,40,IF(S16>0.9,35,IF(S16>0.8,30,IF(S16>0.7,20,IF(S16>0.6,15,IF(S16>0.5,10,0)))))))),IF(P16>1,25,IF(S16="",IF(P16>0.9,22,IF(P16>0.8,20,IF(P16>0.7,15,IF(P16>0.6,10,IF(P16>0.5,5,0))))),IF(S16=1,25,IF(S16>0.9,22,IF(S16>0.8,20,IF(S16>0.7,15,IF(S16>0.6,10,IF(S16>0.5,5,0)))))))))))) | AC16: =I16-H16 -> 0
A17: 5 | F17: =IF(E17="Tužilac",1,IF(E17="Zamjenik glavnog tužioca",2,IF(E17="Šef odjela",3,IF(E17="Član VSTV-a",4,IF(E17="Šef odsjeka",5,""))))) | J17: 260 | O17: =IF(G17="","",IF(G17="Ne treba rješavati predmete",1+(L17/J17*260)+M17+N17,(L17/J17*260+M17+N17)/G17)) | P17: =IF(K17>0,O17*(J17/(J17-K17)),O17) | S17: =IF(Q17="","",R17/Q17) | T17: =IF(C17="Ne","",IF(E17="",IF(G17="",""),IF(C17="Ne","",IF(E17="Tužilac",IF(P17>1,40,IF(S17="",IF(P17>0.9,35,IF(P17>0.8,30,IF(P17>0.7,20,IF(P17>0.6,15,IF(P17>0.5,10,0))))),IF(S17=1,40,IF(S17>0.9,35,IF(S17>0.8,30,IF(S17>0.7,20,IF(S17>0.6,15,IF(S17>0.5,10,0)))))))),IF(P17>1,25,IF(S17="",IF(P17>0.9,22,IF(P17>0.8,20,IF(P17>0.7,15,IF(P17>0.6,10,IF(P17>0.5,5,0))))),IF(S17=1,25,IF(S17>0.9,22,IF(S17>0.8,20,IF(S17>0.7,15,IF(S17>0.6,10,IF(S17>0.5,5,0)))))))))))) | AC17: =I17-H17 -> 0
A18: 6 | F18: =IF(E18="Tužilac",1,IF(E18="Zamjenik glavnog tužioca",2,IF(E18="Šef odjela",3,IF(E18="Član VSTV-a",4,IF(E18="Šef odsjeka",5,""))))) | J18: 260 | O18: =IF(G18="","",IF(G18="Ne treba rješavati predmete",1+(L18/J18*260)+M18+N18,(L18/J18*260+M18+N18)/G18)) | P18: =IF(K18>0,O18*(J18/(J18-K18)),O18) | S18: =IF(Q18="","",R18/Q18) | T18: =IF(C18="Ne","",IF(E18="",IF(G18="",""),IF(C18="Ne","",IF(E18="Tužilac",IF(P18>1,40,IF(S18="",IF(P18>0.9,35,IF(P18>0.8,30,IF(P18>0.7,20,IF(P18>0.6,15,IF(P18>0.5,10,0))))),IF(S18=1,40,IF(S18>0.9,35,IF(S18>0.8,30,IF(S18>0.7,20,IF(S18>0.6,15,IF(S18>0.5,10,0)))))))),IF(P18>1,25,IF(S18="",IF(P18>0.9,22,IF(P18>0.8,20,IF(P18>0.7,15,IF(P18>0.6,10,IF(P18>0.5,5,0))))),IF(S18=1,25,IF(S18>0.9,22,IF(S18>0.8,20,IF(S18>0.7,15,IF(S18>0.6,10,IF(S18>0.5,5,0)))))))))))) | AC18: =I18-H18 -> 0
A19: 7 | F19: =IF(E19="Tužilac",1,IF(E19="Zamjenik glavnog tužioca",2,IF(E19="Šef odjela",3,IF(E19="Član VSTV-a",4,IF(E19="Šef odsjeka",5,""))))) | J19: 260 | O19: =IF(G19="","",IF(G19="Ne treba rješavati predmete",1+(L19/J19*260)+M19+N19,(L19/J19*260+M19+N19)/G19)) | P19: =IF(K19>0,O19*(J19/(J19-K19)),O19) | S19: =IF(Q19="","",R19/Q19) | T19: =IF(C19="Ne","",IF(E19="",IF(G19="",""),IF(C19="Ne","",IF(E19="Tužilac",IF(P19>1,40,IF(S19="",IF(P19>0.9,35,IF(P19>0.8,30,IF(P19>0.7,20,IF(P19>0.6,15,IF(P19>0.5,10,0))))),IF(S19=1,40,IF(S19>0.9,35,IF(S19>0.8,30,IF(S19>0.7,20,IF(S19>0.6,15,IF(S19>0.5,10,0)))))))),IF(P19>1,25,IF(S19="",IF(P19>0.9,22,IF(P19>0.8,20,IF(P19>0.7,15,IF(P19>0.6,10,IF(P19>0.5,5,0))))),IF(S19=1,25,IF(S19>0.9,22,IF(S19>0.8,20,IF(S19>0.7,15,IF(S19>0.6,10,IF(S19>0.5,5,0)))))))))))) | AC19: =I19-H19 -> 0
A20: 8 | F20: =IF(E20="Tužilac",1,IF(E20="Zamjenik glavnog tužioca",2,IF(E20="Šef odjela",3,IF(E20="Član VSTV-a",4,IF(E20="Šef odsjeka",5,""))))) | J20: 260 | O20: =IF(G20="","",IF(G20="Ne treba rješavati predmete",1+(L20/J20*260)+M20+N20,(L20/J20*260+M20+N20)/G20)) | P20: =IF(K20>0,O20*(J20/(J20-K20)),O20) | S20: =IF(Q20="","",R20/Q20) | T20: =IF(C20="Ne","",IF(E20="",IF(G20="",""),IF(C20="Ne","",IF(E20="Tužilac",IF(P20>1,40,IF(S20="",IF(P20>0.9,35,IF(P20>0.8,30,IF(P20>0.7,20,IF(P20>0.6,15,IF(P20>0.5,10,0))))),IF(S20=1,40,IF(S20>0.9,35,IF(S20>0.8,30,IF(S20>0.7,20,IF(S20>0.6,15,IF(S20>0.5,10,0)))))))),IF(P20>1,25,IF(S20="",IF(P20>0.9,22,IF(P20>0.8,20,IF(P20>0.7,15,IF(P20>0.6,10,IF(P20>0.5,5,0))))),IF(S20=1,25,IF(S20>0.9,22,IF(S20>0.8,20,IF(S20>0.7,15,IF(S20>0.6,10,IF(S20>0.5,5,0)))))))))))) | AC20: =I20-H20 -> 0
A21: 9 | F21: =IF(E21="Tužilac",1,IF(E21="Zamjenik glavnog tužioca",2,IF(E21="Šef odjela",3,IF(E21="Član VSTV-a",4,IF(E21="Šef odsjeka",5,""))))) | J21: 260 | O21: =IF(G21="","",IF(G21="Ne treba rješavati predmete",1+(L21/J21*260)+M21+N21,(L21/J21*260+M21+N21)/G21)) | P21: =IF(K21>0,O21*(J21/(J21-K21)),O21) | S21: =IF(Q21="","",R21/Q21) | T21: =IF(C21="Ne","",IF(E21="",IF(G21="",""),IF(C21="Ne","",IF(E21="Tužilac",IF(P21>1,40,IF(S21="",IF(P21>0.9,35,IF(P21>0.8,30,IF(P21>0.7,20,IF(P21>0.6,15,IF(P21>0.5,10,0))))),IF(S21=1,40,IF(S21>0.9,35,IF(S21>0.8,30,IF(S21>0.7,20,IF(S21>0.6,15,IF(S21>0.5,10,0)))))))),IF(P21>1,25,IF(S21="",IF(P21>0.9,22,IF(P21>0.8,20,IF(P21>0.7,15,IF(P21>0.6,10,IF(P21>0.5,5,0))))),IF(S21=1,25,IF(S21>0.9,22,IF(S21>0.8,20,IF(S21>0.7,15,IF(S21>0.6,10,IF(S21>0.5,5,0))))))))))))
A22: 10 | F22: =IF(E22="Tužilac",1,IF(E22="Zamjenik glavnog tužioca",2,IF(E22="Šef odjela",3,IF(E22="Član VSTV-a",4,IF(E22="Šef odsjeka",5,""))))) | J22: 260 | O22: =IF(G22="","",IF(G22="Ne treba rješavati predmete",1+(L22/J22*260)+M22+N22,(L22/J22*260+M22+N22)/G22)) | P22: =IF(K22>0,O22*(J22/(J22-K22)),O22) | S22: =IF(Q22="","",R22/Q22) | T22: =IF(C22="Ne","",IF(E22="",IF(G22="",""),IF(C22="Ne","",IF(E22="Tužilac",IF(P22>1,40,IF(S22="",IF(P22>0.9,35,IF(P22>0.8,30,IF(P22>0.7,20,IF(P22>0.6,15,IF(P22>0.5,10,0))))),IF(S22=1,40,IF(S22>0.9,35,IF(S22>0.8,30,IF(S22>0.7,20,IF(S22>0.6,15,IF(S22>0.5,10,0)))))))),IF(P22>1,25,IF(S22="",IF(P22>0.9,22,IF(P22>0.8,20,IF(P22>0.7,15,IF(P22>0.6,10,IF(P22>0.5,5,0))))),IF(S22=1,25,IF(S22>0.9,22,IF(S22>0.8,20,IF(S22>0.7,15,IF(S22>0.6,10,IF(S22>0.5,5,0))))))))))))
A23: 11 | F23: =IF(E23="Tužilac",1,IF(E23="Zamjenik glavnog tužioca",2,IF(E23="Šef odjela",3,IF(E23="Član VSTV-a",4,IF(E23="Šef odsjeka",5,""))))) | J23: 260 | O23: =IF(G23="","",IF(G23="Ne treba rješavati predmete",1+(L23/J23*260)+M23+N23,(L23/J23*260+M23+N23)/G23)) | P23: =IF(K23>0,O23*(J23/(J23-K23)),O23) | S23: =IF(Q23="","",R23/Q23) | T23: =IF(C23="Ne","",IF(E23="",IF(G23="",""),IF(C23="Ne","",IF(E23="Tužilac",IF(P23>1,40,IF(S23="",IF(P23>0.9,35,IF(P23>0.8,30,IF(P23>0.7,20,IF(P23>0.6,15,IF(P23>0.5,10,0))))),IF(S23=1,40,IF(S23>0.9,35,IF(S23>0.8,30,IF(S23>0.7,20,IF(S23>0.6,15,IF(S23>0.5,10,0)))))))),IF(P23>1,25,IF(S23="",IF(P23>0.9,22,IF(P23>0.8,20,IF(P23>0.7,15,IF(P23>0.6,10,IF(P23>0.5,5,0))))),IF(S23=1,25,IF(S23>0.9,22,IF(S23>0.8,20,IF(S23>0.7,15,IF(S23>0.6,10,IF(S23>0.5,5,0))))))))))))
A24: 12 | F24: =IF(E24="Tužilac",1,IF(E24="Zamjenik glavnog tužioca",2,IF(E24="Šef odjela",3,IF(E24="Član VSTV-a",4,IF(E24="Šef odsjeka",5,""))))) | J24: 260 | O24: =IF(G24="","",IF(G24="Ne treba rješavati predmete",1+(L24/J24*260)+M24+N24,(L24/J24*260+M24+N24)/G24)) | P24: =IF(K24>0,O24*(J24/(J24-K24)),O24) | S24: =IF(Q24="","",R24/Q24) | T24: =IF(C24="Ne","",IF(E24="",IF(G24="",""),IF(C24="Ne","",IF(E24="Tužilac",IF(P24>1,40,IF(S24="",IF(P24>0.9,35,IF(P24>0.8,30,IF(P24>0.7,20,IF(P24>0.6,15,IF(P24>0.5,10,0))))),IF(S24=1,40,IF(S24>0.9,35,IF(S24>0.8,30,IF(S24>0.7,20,IF(S24>0.6,15,IF(S24>0.5,10,0)))))))),IF(P24>1,25,IF(S24="",IF(P24>0.9,22,IF(P24>0.8,20,IF(P24>0.7,15,IF(P24>0.6,10,IF(P24>0.5,5,0))))),IF(S24=1,25,IF(S24>0.9,22,IF(S24>0.8,20,IF(S24>0.7,15,IF(S24>0.6,10,IF(S24>0.5,5,0))))))))))))
A25: 13 | F25: =IF(E25="Tužilac",1,IF(E25="Zamjenik glavnog tužioca",2,IF(E25="Šef odjela",3,IF(E25="Član VSTV-a",4,IF(E25="Šef odsjeka",5,""))))) | J25: 260 | O25: =IF(G25="","",IF(G25="Ne treba rješavati predmete",1+(L25/J25*260)+M25+N25,(L25/J25*260+M25+N25)/G25)) | P25: =IF(K25>0,O25*(J25/(J25-K25)),O25) | S25: =IF(Q25="","",R25/Q25) | T25: =IF(C25="Ne","",IF(E25="",IF(G25="",""),IF(C25="Ne","",IF(E25="Tužilac",IF(P25>1,40,IF(S25="",IF(P25>0.9,35,IF(P25>0.8,30,IF(P25>0.7,20,IF(P25>0.6,15,IF(P25>0.5,10,0))))),IF(S25=1,40,IF(S25>0.9,35,IF(S25>0.8,30,IF(S25>0.7,20,IF(S25>0.6,15,IF(S25>0.5,10,0)))))))),IF(P25>1,25,IF(S25="",IF(P25>0.9,22,IF(P25>0.8,20,IF(P25>0.7,15,IF(P25>0.6,10,IF(P25>0.5,5,0))))),IF(S25=1,25,IF(S25>0.9,22,IF(S25>0.8,20,IF(S25>0.7,15,IF(S25>0.6,10,IF(S25>0.5,5,0))))))))))))
A26: 14 | F26: =IF(E26="Tužilac",1,IF(E26="Zamjenik glavnog tužioca",2,IF(E26="Šef odjela",3,IF(E26="Član VSTV-a",4,IF(E26="Šef odsjeka",5,""))))) | J26: 260 | O26: =IF(G26="","",IF(G26="Ne treba rješavati predmete",1+(L26/J26*260)+M26+N26,(L26/J26*260+M26+N26)/G26)) | P26: =IF(K26>0,O26*(J26/(J26-K26)),O26) | S26: =IF(Q26="","",R26/Q26) | T26: =IF(C26="Ne","",IF(E26="",IF(G26="",""),IF(C26="Ne","",IF(E26="Tužilac",IF(P26>1,40,IF(S26="",IF(P26>0.9,35,IF(P26>0.8,30,IF(P26>0.7,20,IF(P26>0.6,15,IF(P26>0.5,10,0))))),IF(S26=1,40,IF(S26>0.9,35,IF(S26>0.8,30,IF(S26>0.7,20,IF(S26>0.6,15,IF(S26>0.5,10,0)))))))),IF(P26>1,25,IF(S26="",IF(P26>0.9,22,IF(P26>0.8,20,IF(P26>0.7,15,IF(P26>0.6,10,IF(P26>0.5,5,0))))),IF(S26=1,25,IF(S26>0.9,22,IF(S26>0.8,20,IF(S26>0.7,15,IF(S26>0.6,10,IF(S26>0.5,5,0))))))))))))
A27: 15 | F27: =IF(E27="Tužilac",1,IF(E27="Zamjenik glavnog tužioca",2,IF(E27="Šef odjela",3,IF(E27="Član VSTV-a",4,IF(E27="Šef odsjeka",5,""))))) | J27: 260 | O27: =IF(G27="","",IF(G27="Ne treba rješavati predmete",1+(L27/J27*260)+M27+N27,(L27/J27*260+M27+N27)/G27)) | P27: =IF(K27>0,O27*(J27/(J27-K27)),O27) | S27: =IF(Q27="","",R27/Q27) | T27: =IF(C27="Ne","",IF(E27="",IF(G27="",""),IF(C27="Ne","",IF(E27="Tužilac",IF(P27>1,40,IF(S27="",IF(P27>0.9,35,IF(P27>0.8,30,IF(P27>0.7,20,IF(P27>0.6,15,IF(P27>0.5,10,0))))),IF(S27=1,40,IF(S27>0.9,35,IF(S27>0.8,30,IF(S27>0.7,20,IF(S27>0.6,15,IF(S27>0.5,10,0)))))))),IF(P27>1,25,IF(S27="",IF(P27>0.9,22,IF(P27>0.8,20,IF(P27>0.7,15,IF(P27>0.6,10,IF(P27>0.5,5,0))))),IF(S27=1,25,IF(S27>0.9,22,IF(S27>0.8,20,IF(S27>0.7,15,IF(S27>0.6,10,IF(S27>0.5,5,0))))))))))))
A28: 16 | F28: =IF(E28="Tužilac",1,IF(E28="Zamjenik glavnog tužioca",2,IF(E28="Šef odjela",3,IF(E28="Član VSTV-a",4,IF(E28="Šef odsjeka",5,""))))) | J28: 260 | O28: =IF(G28="","",IF(G28="Ne treba rješavati predmete",1+(L28/J28*260)+M28+N28,(L28/J28*260+M28+N28)/G28)) | P28: =IF(K28>0,O28*(J28/(J28-K28)),O28) | S28: =IF(Q28="","",R28/Q28) | T28: =IF(C28="Ne","",IF(E28="",IF(G28="",""),IF(C28="Ne","",IF(E28="Tužilac",IF(P28>1,40,IF(S28="",IF(P28>0.9,35,IF(P28>0.8,30,IF(P28>0.7,20,IF(P28>0.6,15,IF(P28>0.5,10,0))))),IF(S28=1,40,IF(S28>0.9,35,IF(S28>0.8,30,IF(S28>0.7,20,IF(S28>0.6,15,IF(S28>0.5,10,0)))))))),IF(P28>1,25,IF(S28="",IF(P28>0.9,22,IF(P28>0.8,20,IF(P28>0.7,15,IF(P28>0.6,10,IF(P28>0.5,5,0))))),IF(S28=1,25,IF(S28>0.9,22,IF(S28>0.8,20,IF(S28>0.7,15,IF(S28>0.6,10,IF(S28>0.5,5,0))))))))))))
A29: 17 | F29: =IF(E29="Tužilac",1,IF(E29="Zamjenik glavnog tužioca",2,IF(E29="Šef odjela",3,IF(E29="Član VSTV-a",4,IF(E29="Šef odsjeka",5,""))))) | J29: 260 | O29: =IF(G29="","",IF(G29="Ne treba rješavati predmete",1+(L29/J29*260)+M29+N29,(L29/J29*260+M29+N29)/G29)) | P29: =IF(K29>0,O29*(J29/(J29-K29)),O29) | S29: =IF(Q29="","",R29/Q29) | T29: =IF(C29="Ne","",IF(E29="",IF(G29="",""),IF(C29="Ne","",IF(E29="Tužilac",IF(P29>1,40,IF(S29="",IF(P29>0.9,35,IF(P29>0.8,30,IF(P29>0.7,20,IF(P29>0.6,15,IF(P29>0.5,10,0))))),IF(S29=1,40,IF(S29>0.9,35,IF(S29>0.8,30,IF(S29>0.7,20,IF(S29>0.6,15,IF(S29>0.5,10,0)))))))),IF(P29>1,25,IF(S29="",IF(P29>0.9,22,IF(P29>0.8,20,IF(P29>0.7,15,IF(P29>0.6,10,IF(P29>0.5,5,0))))),IF(S29=1,25,IF(S29>0.9,22,IF(S29>0.8,20,IF(S29>0.7,15,IF(S29>0.6,10,IF(S29>0.5,5,0))))))))))))
A30: 18 | F30: =IF(E30="Tužilac",1,IF(E30="Zamjenik glavnog tužioca",2,IF(E30="Šef odjela",3,IF(E30="Član VSTV-a",4,IF(E30="Šef odsjeka",5,""))))) | J30: 260 | O30: =IF(G30="","",IF(G30="Ne treba rješavati predmete",1+(L30/J30*260)+M30+N30,(L30/J30*260+M30+N30)/G30)) | P30: =IF(K30>0,O30*(J30/(J30-K30)),O30) | S30: =IF(Q30="","",R30/Q30) | T30: =IF(C30="Ne","",IF(E30="",IF(G30="",""),IF(C30="Ne","",IF(E30="Tužilac",IF(P30>1,40,IF(S30="",IF(P30>0.9,35,IF(P30>0.8,30,IF(P30>0.7,20,IF(P30>0.6,15,IF(P30>0.5,10,0))))),IF(S30=1,40,IF(S30>0.9,35,IF(S30>0.8,30,IF(S30>0.7,20,IF(S30>0.6,15,IF(S30>0.5,10,0)))))))),IF(P30>1,25,IF(S30="",IF(P30>0.9,22,IF(P30>0.8,20,IF(P30>0.7,15,IF(P30>0.6,10,IF(P30>0.5,5,0))))),IF(S30=1,25,IF(S30>0.9,22,IF(S30>0.8,20,IF(S30>0.7,15,IF(S30>0.6,10,IF(S30>0.5,5,0))))))))))))
A31: 19 | F31: =IF(E31="Tužilac",1,IF(E31="Zamjenik glavnog tužioca",2,IF(E31="Šef odjela",3,IF(E31="Član VSTV-a",4,IF(E31="Šef odsjeka",5,""))))) | J31: 260 | O31: =IF(G31="","",IF(G31="Ne treba rješavati predmete",1+(L31/J31*260)+M31+N31,(L31/J31*260+M31+N31)/G31)) | P31: =IF(K31>0,O31*(J31/(J31-K31)),O31) | S31: =IF(Q31="","",R31/Q31) | T31: =IF(C31="Ne","",IF(E31="",IF(G31="",""),IF(C31="Ne","",IF(E31="Tužilac",IF(P31>1,40,IF(S31="",IF(P31>0.9,35,IF(P31>0.8,30,IF(P31>0.7,20,IF(P31>0.6,15,IF(P31>0.5,10,0))))),IF(S31=1,40,IF(S31>0.9,35,IF(S31>0.8,30,IF(S31>0.7,20,IF(S31>0.6,15,IF(S31>0.5,10,0)))))))),IF(P31>1,25,IF(S31="",IF(P31>0.9,22,IF(P31>0.8,20,IF(P31>0.7,15,IF(P31>0.6,10,IF(P31>0.5,5,0))))),IF(S31=1,25,IF(S31>0.9,22,IF(S31>0.8,20,IF(S31>0.7,15,IF(S31>0.6,10,IF(S31>0.5,5,0))))))))))))
A32: 20 | F32: =IF(E32="Tužilac",1,IF(E32="Zamjenik glavnog tužioca",2,IF(E32="Šef odjela",3,IF(E32="Član VSTV-a",4,IF(E32="Šef odsjeka",5,""))))) | J32: 260 | O32: =IF(G32="","",IF(G32="Ne treba rješavati predmete",1+(L32/J32*260)+M32+N32,(L32/J32*260+M32+N32)/G32)) | P32: =IF(K32>0,O32*(J32/(J32-K32)),O32) | S32: =IF(Q32="","",R32/Q32) | T32: =IF(C32="Ne","",IF(E32="",IF(G32="",""),IF(C32="Ne","",IF(E32="Tužilac",IF(P32>1,40,IF(S32="",IF(P32>0.9,35,IF(P32>0.8,30,IF(P32>0.7,20,IF(P32>0.6,15,IF(P32>0.5,10,0))))),IF(S32=1,40,IF(S32>0.9,35,IF(S32>0.8,30,IF(S32>0.7,20,IF(S32>0.6,15,IF(S32>0.5,10,0)))))))),IF(P32>1,25,IF(S32="",IF(P32>0.9,22,IF(P32>0.8,20,IF(P32>0.7,15,IF(P32>0.6,10,IF(P32>0.5,5,0))))),IF(S32=1,25,IF(S32>0.9,22,IF(S32>0.8,20,IF(S32>0.7,15,IF(S32>0.6,10,IF(S32>0.5,5,0))))))))))))
... A77: 65 | F77: =IF(E77="Tužilac",1,IF(E77="Zamjenik glavnog tužioca",2,IF(E77="Šef odjela",3,IF(E77="Član VSTV-a",4,IF(E77="Šef odsjeka",5,""))))) | J77: 260 | O77: =IF(G77="","",IF(G77="Ne treba rješavati predmete",1+(L77/J77*260)+M77+N77,(L77/J77*260+M77+N77)/G77)) | P77: =IF(K77>0,O77*(J77/(J77-K77)),O77) | S77: =IF(Q77="","",R77/Q77) | T77: =IF(C77="Ne","",IF(E77="",IF(G77="",""),IF(C77="Ne","",IF(E77="Tužilac",IF(P77>1,40,IF(S77="",IF(P77>0.9,35,IF(P77>0.8,30,IF(P77>0.7,20,IF(P77>0.6,15,IF(P77>0.5,10,0))))),IF(S77=1,40,IF(S77>0.9,35,IF(S77>0.8,30,IF(S77>0.7,20,IF(S77>0.6,15,IF(S77>0.5,10,0)))))))),IF(P77>1,25,IF(S77="",IF(P77>0.9,22,IF(P77>0.8,20,IF(P77>0.7,15,IF(P77>0.6,10,IF(P77>0.5,5,0))))),IF(S77=1,25,IF(S77>0.9,22,IF(S77>0.8,20,IF(S77>0.7,15,IF(S77>0.6,10,IF(S77>0.5,5,0))))))))))))
F78: =IF(E78="Tužilac",1,IF(E78="Zamjenik glavnog tužioca",2,IF(E78="Šef odjela",3,IF(E78="Član VSTV-a",4,IF(E78="Šef odsjeka",5,""))))) | J78: 260 | O78: =IF(G78="","",IF(G78="Ne treba rješavati predmete",1+(L78/J78*260)+M78+N78,(L78/J78*260+M78+N78)/G78)) | P78: =IF(K78>0,O78*(J78/(J78-K78)),O78) | S78: =IF(Q78="","",R78/Q78) | T78: =IF(C78="Ne","",IF(E78="",IF(G78="",""),IF(C78="Ne","",IF(E78="Tužilac",IF(P78>1,40,IF(S78="",IF(P78>0.9,35,IF(P78>0.8,30,IF(P78>0.7,20,IF(P78>0.6,15,IF(P78>0.5,10,0))))),IF(S78=1,40,IF(S78>0.9,35,IF(S78>0.8,30,IF(S78>0.7,20,IF(S78>0.6,15,IF(S78>0.5,10,0)))))))),IF(P78>1,25,IF(S78="",IF(P78>0.9,22,IF(P78>0.8,20,IF(P78>0.7,15,IF(P78>0.6,10,IF(P78>0.5,5,0))))),IF(S78=1,25,IF(S78>0.9,22,IF(S78>0.8,20,IF(S78>0.7,15,IF(S78>0.6,10,IF(S78>0.5,5,0))))))))))))
F79: =IF(E79="Tužilac",1,IF(E79="Zamjenik glavnog tužioca",2,IF(E79="Šef odjela",3,IF(E79="Član VSTV-a",4,IF(E79="Šef odsjeka",5,""))))) | J79: 260 | O79: =IF(G79="","",IF(G79="Ne treba rješavati predmete",1+(L79/J79*260)+M79+N79,(L79/J79*260+M79+N79)/G79)) | P79: =IF(K79>0,O79*(J79/(J79-K79)),O79) | S79: =IF(Q79="","",R79/Q79) | T79: =IF(C79="Ne","",IF(E79="",IF(G79="",""),IF(C79="Ne","",IF(E79="Tužilac",IF(P79>1,40,IF(S79="",IF(P79>0.9,35,IF(P79>0.8,30,IF(P79>0.7,20,IF(P79>0.6,15,IF(P79>0.5,10,0))))),IF(S79=1,40,IF(S79>0.9,35,IF(S79>0.8,30,IF(S79>0.7,20,IF(S79>0.6,15,IF(S79>0.5,10,0)))))))),IF(P79>1,25,IF(S79="",IF(P79>0.9,22,IF(P79>0.8,20,IF(P79>0.7,15,IF(P79>0.6,10,IF(P79>0.5,5,0))))),IF(S79=1,25,IF(S79>0.9,22,IF(S79>0.8,20,IF(S79>0.7,15,IF(S79>0.6,10,IF(S79>0.5,5,0))))))))))))
F80: =IF(E80="Tužilac",1,IF(E80="Zamjenik glavnog tužioca",2,IF(E80="Šef odjela",3,IF(E80="Član VSTV-a",4,IF(E80="Šef odsjeka",5,""))))) | J80: 260 | O80: =IF(G80="","",IF(G80="Ne treba rješavati predmete",1+(L80/J80*260)+M80+N80,(L80/J80*260+M80+N80)/G80)) | P80: =IF(K80>0,O80*(J80/(J80-K80)),O80) | S80: =IF(Q80="","",R80/Q80) | T80: =IF(C80="Ne","",IF(E80="",IF(G80="",""),IF(C80="Ne","",IF(E80="Tužilac",IF(P80>1,40,IF(S80="",IF(P80>0.9,35,IF(P80>0.8,30,IF(P80>0.7,20,IF(P80>0.6,15,IF(P80>0.5,10,0))))),IF(S80=1,40,IF(S80>0.9,35,IF(S80>0.8,30,IF(S80>0.7,20,IF(S80>0.6,15,IF(S80>0.5,10,0)))))))),IF(P80>1,25,IF(S80="",IF(P80>0.9,22,IF(P80>0.8,20,IF(P80>0.7,15,IF(P80>0.6,10,IF(P80>0.5,5,0))))),IF(S80=1,25,IF(S80>0.9,22,IF(S80>0.8,20,IF(S80>0.7,15,IF(S80>0.6,10,IF(S80>0.5,5,0))))))))))))
F81: =IF(E81="Tužilac",1,IF(E81="Zamjenik glavnog tužioca",2,IF(E81="Šef odjela",3,IF(E81="Član VSTV-a",4,IF(E81="Šef odsjeka",5,""))))) | J81: 260 | O81: =IF(G81="","",IF(G81="Ne treba rješavati predmete",1+(L81/J81*260)+M81+N81,(L81/J81*260+M81+N81)/G81)) | P81: =IF(K81>0,O81*(J81/(J81-K81)),O81) | S81: =IF(Q81="","",R81/Q81) | T81: =IF(C81="Ne","",IF(E81="",IF(G81="",""),IF(C81="Ne","",IF(E81="Tužilac",IF(P81>1,40,IF(S81="",IF(P81>0.9,35,IF(P81>0.8,30,IF(P81>0.7,20,IF(P81>0.6,15,IF(P81>0.5,10,0))))),IF(S81=1,40,IF(S81>0.9,35,IF(S81>0.8,30,IF(S81>0.7,20,IF(S81>0.6,15,IF(S81>0.5,10,0)))))))),IF(P81>1,25,IF(S81="",IF(P81>0.9,22,IF(P81>0.8,20,IF(P81>0.7,15,IF(P81>0.6,10,IF(P81>0.5,5,0))))),IF(S81=1,25,IF(S81>0.9,22,IF(S81>0.8,20,IF(S81>0.7,15,IF(S81>0.6,10,IF(S81>0.5,5,0))))))))))))
F82: =IF(E82="Tužilac",1,IF(E82="Zamjenik glavnog tužioca",2,IF(E82="Šef odjela",3,IF(E82="Član VSTV-a",4,IF(E82="Šef odsjeka",5,""))))) | J82: 260 | O82: =IF(G82="","",IF(G82="Ne treba rješavati predmete",1+(L82/J82*260)+M82+N82,(L82/J82*260+M82+N82)/G82)) | P82: =IF(K82>0,O82*(J82/(J82-K82)),O82) | S82: =IF(Q82="","",R82/Q82) | T82: =IF(C82="Ne","",IF(E82="",IF(G82="",""),IF(C82="Ne","",IF(E82="Tužilac",IF(P82>1,40,IF(S82="",IF(P82>0.9,35,IF(P82>0.8,30,IF(P82>0.7,20,IF(P82>0.6,15,IF(P82>0.5,10,0))))),IF(S82=1,40,IF(S82>0.9,35,IF(S82>0.8,30,IF(S82>0.7,20,IF(S82>0.6,15,IF(S82>0.5,10,0)))))))),IF(P82>1,25,IF(S82="",IF(P82>0.9,22,IF(P82>0.8,20,IF(P82>0.7,15,IF(P82>0.6,10,IF(P82>0.5,5,0))))),IF(S82=1,25,IF(S82>0.9,22,IF(S82>0.8,20,IF(S82>0.7,15,IF(S82>0.6,10,IF(S82>0.5,5,0))))))))))))
F83: =IF(E83="Tužilac",1,IF(E83="Zamjenik glavnog tužioca",2,IF(E83="Šef odjela",3,IF(E83="Član VSTV-a",4,IF(E83="Šef odsjeka",5,""))))) | J83: 260 | O83: =IF(G83="","",IF(G83="Ne treba rješavati predmete",1+(L83/J83*260)+M83+N83,(L83/J83*260+M83+N83)/G83)) | P83: =IF(K83>0,O83*(J83/(J83-K83)),O83) | S83: =IF(Q83="","",R83/Q83) | T83: =IF(C83="Ne","",IF(E83="",IF(G83="",""),IF(C83="Ne","",IF(E83="Tužilac",IF(P83>1,40,IF(S83="",IF(P83>0.9,35,IF(P83>0.8,30,IF(P83>0.7,20,IF(P83>0.6,15,IF(P83>0.5,10,0))))),IF(S83=1,40,IF(S83>0.9,35,IF(S83>0.8,30,IF(S83>0.7,20,IF(S83>0.6,15,IF(S83>0.5,10,0)))))))),IF(P83>1,25,IF(S83="",IF(P83>0.9,22,IF(P83>0.8,20,IF(P83>0.7,15,IF(P83>0.6,10,IF(P83>0.5,5,0))))),IF(S83=1,25,IF(S83>0.9,22,IF(S83>0.8,20,IF(S83>0.7,15,IF(S83>0.6,10,IF(S83>0.5,5,0))))))))))))
F84: =IF(E84="Tužilac",1,IF(E84="Zamjenik glavnog tužioca",2,IF(E84="Šef odjela",3,IF(E84="Član VSTV-a",4,IF(E84="Šef odsjeka",5,""))))) | J84: 260 | O84: =IF(G84="","",IF(G84="Ne treba rješavati predmete",1+(L84/J84*260)+M84+N84,(L84/J84*260+M84+N84)/G84)) | P84: =IF(K84>0,O84*(J84/(J84-K84)),O84) | S84: =IF(Q84="","",R84/Q84) | T84: =IF(C84="Ne","",IF(E84="",IF(G84="",""),IF(C84="Ne","",IF(E84="Tužilac",IF(P84>1,40,IF(S84="",IF(P84>0.9,35,IF(P84>0.8,30,IF(P84>0.7,20,IF(P84>0.6,15,IF(P84>0.5,10,0))))),IF(S84=1,40,IF(S84>0.9,35,IF(S84>0.8,30,IF(S84>0.7,20,IF(S84>0.6,15,IF(S84>0.5,10,0)))))))),IF(P84>1,25,IF(S84="",IF(P84>0.9,22,IF(P84>0.8,20,IF(P84>0.7,15,IF(P84>0.6,10,IF(P84>0.5,5,0))))),IF(S84=1,25,IF(S84>0.9,22,IF(S84>0.8,20,IF(S84>0.7,15,IF(S84>0.6,10,IF(S84>0.5,5,0))))))))))))
F85: =IF(E85="Tužilac",1,IF(E85="Zamjenik glavnog tužioca",2,IF(E85="Šef odjela",3,IF(E85="Član VSTV-a",4,IF(E85="Šef odsjeka",5,""))))) | J85: 260 | O85: =IF(G85="","",IF(G85="Ne treba rješavati predmete",1+(L85/J85*260)+M85+N85,(L85/J85*260+M85+N85)/G85)) | P85: =IF(K85>0,O85*(J85/(J85-K85)),O85) | S85: =IF(Q85="","",R85/Q85) | T85: =IF(C85="Ne","",IF(E85="",IF(G85="",""),IF(C85="Ne","",IF(E85="Tužilac",IF(P85>1,40,IF(S85="",IF(P85>0.9,35,IF(P85>0.8,30,IF(P85>0.7,20,IF(P85>0.6,15,IF(P85>0.5,10,0))))),IF(S85=1,40,IF(S85>0.9,35,IF(S85>0.8,30,IF(S85>0.7,20,IF(S85>0.6,15,IF(S85>0.5,10,0)))))))),IF(P85>1,25,IF(S85="",IF(P85>0.9,22,IF(P85>0.8,20,IF(P85>0.7,15,IF(P85>0.6,10,IF(P85>0.5,5,0))))),IF(S85=1,25,IF(S85>0.9,22,IF(S85>0.8,20,IF(S85>0.7,15,IF(S85>0.6,10,IF(S85>0.5,5,0))))))))))))
F86: =IF(E86="Tužilac",1,IF(E86="Zamjenik glavnog tužioca",2,IF(E86="Šef odjela",3,IF(E86="Član VSTV-a",4,IF(E86="Šef odsjeka",5,""))))) | J86: 260 | O86: =IF(G86="","",IF(G86="Ne treba rješavati predmete",1+(L86/J86*260)+M86+N86,(L86/J86*260+M86+N86)/G86)) | P86: =IF(K86>0,O86*(J86/(J86-K86)),O86) | S86: =IF(Q86="","",R86/Q86) | T86: =IF(C86="Ne","",IF(E86="",IF(G86="",""),IF(C86="Ne","",IF(E86="Tužilac",IF(P86>1,40,IF(S86="",IF(P86>0.9,35,IF(P86>0.8,30,IF(P86>0.7,20,IF(P86>0.6,15,IF(P86>0.5,10,0))))),IF(S86=1,40,IF(S86>0.9,35,IF(S86>0.8,30,IF(S86>0.7,20,IF(S86>0.6,15,IF(S86>0.5,10,0)))))))),IF(P86>1,25,IF(S86="",IF(P86>0.9,22,IF(P86>0.8,20,IF(P86>0.7,15,IF(P86>0.6,10,IF(P86>0.5,5,0))))),IF(S86=1,25,IF(S86>0.9,22,IF(S86>0.8,20,IF(S86>0.7,15,IF(S86>0.6,10,IF(S86>0.5,5,0))))))))))))
F87: =IF(E87="Tužilac",1,IF(E87="Zamjenik glavnog tužioca",2,IF(E87="Šef odjela",3,IF(E87="Član VSTV-a",4,IF(E87="Šef odsjeka",5,""))))) | J87: 260 | O87: =IF(G87="","",IF(G87="Ne treba rješavati predmete",1+(L87/J87*260)+M87+N87,(L87/J87*260+M87+N87)/G87)) | P87: =IF(K87>0,O87*(J87/(J87-K87)),O87) | S87: =IF(Q87="","",R87/Q87) | T87: =IF(C87="Ne","",IF(E87="",IF(G87="",""),IF(C87="Ne","",IF(E87="Tužilac",IF(P87>1,40,IF(S87="",IF(P87>0.9,35,IF(P87>0.8,30,IF(P87>0.7,20,IF(P87>0.6,15,IF(P87>0.5,10,0))))),IF(S87=1,40,IF(S87>0.9,35,IF(S87>0.8,30,IF(S87>0.7,20,IF(S87>0.6,15,IF(S87>0.5,10,0)))))))),IF(P87>1,25,IF(S87="",IF(P87>0.9,22,IF(P87>0.8,20,IF(P87>0.7,15,IF(P87>0.6,10,IF(P87>0.5,5,0))))),IF(S87=1,25,IF(S87>0.9,22,IF(S87>0.8,20,IF(S87>0.7,15,IF(S87>0.6,10,IF(S87>0.5,5,0))))))))))))
...

Sheet TABELA II
A1: =+'TABELA I'!A1 -> Naziv tužilaštva | E1: =+'TABELA I'!D1 -> Tužilaštvo BiH ili Tužilaštvo Brčko Distrikta BiH | O1: 2016
A2: Izvještajni period: | E2: =+'TABELA I'!G2 -> 1.1.2022. - 31.12.2022.
A3: Tabela II: Kvalitet tužilačkih odluka (predmeti)
A4: Vrsta predmeta | B4: O P T U Ž N I C E | L4: I S T R A G E | P4: Ukupan kvalitet
B5: Broj podignutih optužnica | C5: Broj podnesenih prijedloga za izricanje vaspitnih mjera i maloljetničkog zatvora | D5: Broj pravosnažnih presuda prema Kriterijima VSTV-a | G5: Broj pravosnažnih rješenja o odbijanju optužnice | H5: Broj pravosnažnih odluka o neprihvaćanju prijedloga za izricanje vaspitnih mjera i maloljetničkog zatvora | I5: Broj pravosnažnih odluka o obustavljanju postupaka od strane suda (Ktm) | J5: Ukupan broj pravosnažnih odbijajućih i oslobađajućih presuda, rješenja o odbijanju optužnice, neprihvaćenih prijedloga za izricanje vaspitnih mjera i maloljetničkog zatvora i obustavljenih Ktm postupaka od strane suda | K5: Kvalitet optužnica | L5: Broj naredbi o nesprovođenju istrage | M5: Broj naredbi o obustavljanju istrage | N5: Ukupan broj rješenja glavnog tužioca o usvajanju pritužbi na naredbe o nesprovođenju, odnosno obustavljanu istrage | O5: Kvalitet istraga
D6: osuđujuće | E6: odbijajuće* | F6: oslobađajuće**
A7: I | B7: II | C7: III | D7: IV | E7: V | F7: VI | G7: VII | H7: VIII | I7: IX | J7: X | K7: XI | L7: XII | M7: XIII | N7: XIV | O7: XV | P7: XV=(X+XIV)/2
A9: KTM | J9: =SUM(H9:I9) -> 0 | K9: =IF(B9+C9=0,"",(B9+C9-J9)/(B9+C9)) | O9: =IF(L9+M9=0,"",(L9+M9-N9)/(L9+M9)) | P9: =IF(K9="",(IF(O9="","",O9/2)),IF(O9="",K9/2,(K9+O9)/2))
A10: KT | J10: =SUM(E10:G10) -> 0 | K10: =IF(B10+C10=0,"",(B10+C10-J10)/(B10+C10)) | O10: =IF(L10+M10=0,"",(L10+M10-N10)/(L10+M10)) | P10: =IF(K10+O10=0,"",(K10+O10)/2) -> #VALUE!
A11: KTA | J11: =SUM(E11:G11) -> 0 | K11: =IF(B11+C11=0,"",(B11+C11-J11)/(B11+C11)) | O11: =IF(L11+M11=0,"",(L11+M11-N11)/(L11+M11)) | P11: =IF(K11="",(IF(O11="","",O11/2)),IF(O11="",K11/2,(K11+O11)/2))
A12: KTN | J12: =SUM(E12:G12) -> 0 | K12: =IF(B12+C12=0,"",(B12+C12-J12)/(B12+C12)) | O12: =IF(L12+M12=0,"",(L12+M12-N12)/(L12+M12)) | P12: =IF(K12="",(IF(O12="","",O12/2)),IF(O12="",K12/2,(K12+O12)/2))
A13: KTK*** | J13: =SUM(E13:G13) -> 0 | K13: =IF(B13+C13=0,"",(B13+C13-J13)/(B13+C13)) | O13: =IF(L13+M13=0,"",(L13+M13-N13)/(L13+M13)) | P13: =IF(K13="",(IF(O13="","",O13/2)),IF(O13="",K13/2,(K13+O13)/2))
A14: KTAK | J14: =SUM(E14:G14) -> 0 | K14: =IF(B14+C14=0,"",(B14+C14-J14)/(B14+C14)) | O14: =IF(L14+M14=0,"",(L14+M14-N14)/(L14+M14)) | P14: =IF(K14="",(IF(O14="","",O14/2)),IF(O14="",K14/2,(K14+O14)/2))
A15: KTNK | J15: =SUM(E15:G15) -> 0 | K15: =IF(B15+C15=0,"",(B15+C15-J15)/(B15+C15)) | O15: =IF(L15+M15=0,"",(L15+M15-N15)/(L15+M15)) | P15: =IF(K15="",(IF(O15="","",O15/2)),IF(O15="",K15/2,(K15+O15)/2))
A16: KTT | J16: =SUM(E16:G16) -> 0 | K16: =IF(B16+C16=0,"",(B16+C16-J16)/(B16+C16)) | O16: =IF(L16+M16=0,"",(L16+M16-N16)/(L16+M16)) | P16: =IF(K16="",(IF(O16="","",O16/2)),IF(O16="",K16/2,(K16+O16)/2))
A17: KTAT | J17: =SUM(E17:G17) -> 0 | K17: =IF(B17+C17=0,"",(B17+C17-J17)/(B17+C17)) | O17: =IF(L17+M17=0,"",(L17+M17-N17)/(L17+M17)) | P17: =IF(K17="",(IF(O17="","",O17/2)),IF(O17="",K17/2,(K17+O17)/2))
A18: KTNT | J18: =SUM(E18:G18) -> 0 | K18: =IF(B18+C18=0,"",(B18+C18-J18)/(B18+C18)) | O18: =IF(L18+M18=0,"",(L18+M18-N18)/(L18+M18)) | P18: =IF(K18="",(IF(O18="","",O18/2)),IF(O18="",K18/2,(K18+O18)/2))
A19: KTKK | J19: =SUM(E19:G19) -> 0 | K19: =IF(B19+C19=0,"",(B19+C19-J19)/(B19+C19)) | O19: =IF(L19+M19=0,"",(L19+M19-N19)/(L19+M19))
A20: KTAKK | J20: =SUM(E20:G20) -> 0 | K20: =IF(B20+C20=0,"",(B20+C20-J20)/(B20+C20)) | O20: =IF(L20+M20=0,"",(L20+M20-N20)/(L20+M20))
A21: KTNKK | J21: =SUM(E21:G21) -> 0 | K21: =IF(B21+C21=0,"",(B21+C21-J21)/(B21+C21)) | O21: =IF(L21+M21=0,"",(L21+M21-N21)/(L21+M21))
A22: KTRZ | J22: =SUM(E22:F22) -> 0 | K22: =IF(B22+C22=0,"",(B22+C22-J22/2.5)/(B22+C22)) | O22: =IF(L22+M22=0,"",(L22+M22-N22)/(L22+M22)) | P22: =IF(K22="",(IF(O22="","",O22/2)),IF(O22="",K22/2,(K22+O22)/2))
A23: KTARZ | J23: =SUM(E23:F23) -> 0 | K23: =IF(B23+C23=0,"",(B23+C23-J23/2.5)/(B23+C23)) | O23: =IF(L23+M23=0,"",(L23+M23-N23)/(L23+M23)) | P23: =IF(K23="",(IF(O23="","",O23/2)),IF(O23="",K23/2,(K23+O23)/2))
A24: KTNRZ | J24: =SUM(E24:F24) -> 0 | K24: =IF(B24+C24=0,"",(B24+C24-J24/2.5)/(B24+C24)) | O24: =IF(L24+M24=0,"",(L24+M24-N24)/(L24+M24)) | P24: =IF(K24="",(IF(O24="","",O24/2)),IF(O24="",K24/2,(K24+O24)/2))
A25: KTPO | J25: =SUM(E25:F25) -> 0 | K25: =IF(B25+C25=0,"",(B25+C25-J25/2.5)/(B25+C25)) | O25: =IF(L25+M25=0,"",(L25+M25-N25)/(L25+M25)) | P25: =IF(K25="",(IF(O25="","",O25/2)),IF(O25="",K25/2,(K25+O25)/2))
A26: KTAPO | J26: =SUM(E26:F26) -> 0 | K26: =IF(B26+C26=0,"",(B26+C26-J26/2.5)/(B26+C26)) | O26: =IF(L26+M26=0,"",(L26+M26-N26)/(L26+M26)) | P26: =IF(K26="",(IF(O26="","",O26/2)),IF(O26="",K26/2,(K26+O26)/2))
A27: KTNPO | J27: =SUM(E27:F27) -> 0 | K27: =IF(B27+C27=0,"",(B27+C27-J27/2.5)/(B27+C27)) | O27: =IF(L27+M27=0,"",(L27+M27-N27)/(L27+M27)) | P27: =IF(K27="",(IF(O27="","",O27/2)),IF(O27="",K27/2,(K27+O27)/2))
A28: KTO**** | J28: =SUM(E28:F28) -> 0 | K28: =IF(B28+C28=0,"",(B28+C28-J28/2.5)/(B28+C28)) | O28: =IF(L28+M28=0,"",(L28+M28-N28)/(L28+M28)) | P28: =IF(K28="",(IF(O28="","",O28/2)),IF(O28="",K28/2,(K28+O28)/2))
A29: KTAO | J29: =SUM(E29:F29) -> 0 | K29: =IF(B29+C29=0,"",(B29+C29-J29/2.5)/(B29+C29)) | O29: =IF(L29+M29=0,"",(L29+M29-N29)/(L29+M29)) | P29: =IF(K29="",(IF(O29="","",O29/2)),IF(O29="",K29/2,(K29+O29)/2))
A30: KTNO | J30: =SUM(E30:F30) -> 0 | K30: =IF(B30+C30=0,"",(B30+C30-J30/2.5)/(B30+C30)) | O30: =IF(L30+M30=0,"",(L30+M30-N30)/(L30+M30)) | P30: =IF(K30="",(IF(O30="","",O30/2)),IF(O30="",K30/2,(K30+O30)/2))
A32: Ukupno | B32: =SUM(B9:B30) -> 0 | C32: =SUM(C9:C30) -> 0 | D32: =SUM(D9:D30) -> 0 | E32: =SUM(E9:E30) -> 0 | F32: =SUM(F9:F30) -> 0 | G32: =SUM(G9:G30) -> 0 | H32: =SUM(H9:H30) -> 0 | I32: =SUM(I9:I30) -> 0 | J32: =J9+J10+J11+J12+J13+J14+J15+J16+J17+J18+J19+J20+J21+J22+J23+J24+J25+J26+J27+J28+J29+J30 -> 0 | K32: =IF(B32+C32=0,"",((B32+C32-(J9+J10+J11+J12+J13+J14+J15+J16+J17+J18+J19+J20+J21+((J22+J23+J24+J25+J26+J27+J28+J29+J30)/2.5))))/(B32+C32)) | L32: =SUM(L9:L30) -> 0 | M32: =SUM(M9:M30) -> 0 | N32: =SUM(N9:N30) -> 0 | O32: =IF(L32+M32=0,"",(L32+M32-N32)/(L32+M32)) | P32: =AVERAGE(P9:P30) -> #VALUE!
A34: Dužni ste unijeti vrijednosti u sva polja kolona I - IX (ukoliko u izvještajnom periodu nije bilo odgovarajuće vrste tužilačkih ili pravosnažnih sudskih odluka unesite 0). Ukoliko u bilo koje polje u kolonama III - VII ne unese podatak (0 ili drugu vrijednost) ovo polje će biti obojeno crvenom bojom.
A36: * | B36: Odbijajućom presudom smatra se presuda koju je svojim propustima u sadržaju optužnice uzrokovao postupajući tužilac.
A38: ** | B38: Oslobađajuća presuda vrednuje se tužiocu po čijem optužnom aktu sud donese takvu presudu
A40: *** | B40: Naredbe o neprovođenju i obustavi istrage u KTN predmetima računaju se u ukupan broj naredbi o neprovođenju i obustavi istrage.
A42: **** | B42: U KTK vrstu predmeta evidentirati i KTKV predmete (PRAVILNIK O IZMJENAMA I DOPUNAMA PRAVILNIKA O ORIJENTACIONIM MJERILIMA ZA RAD TUŽILACA U TUŽILAŠTVIMA U BOSNI I HERCEGOVINI (,,Službeni glasnik BiH'', broj: 47/21).
A44: ***** | B44: U KTO vrstu predmeta evidentirati i KTOV predmete (PRAVILNIK O IZMJENAMA I DOPUNAMA PRAVILNIKA O ORIJENTACIONIM MJERILIMA ZA RAD TUŽILACA U TUŽILAŠTVIMA U BOSNI I HERCEGOVINI (,,Službeni glasnik BiH'', broj: 47/21).

Sheet tbl_kvalitet_predm
A1: Tuz | B1: Godina | C1: VrstaPredm | D1: BrPodigOpt | E1: BrPodPrijedl | F1: PravPresOsudj | G1: PravPresOdbij | H1: PravPresOslob | I1: BrPravsnRjoOdbOpt | J1: BrPrOdlONeprPrijedl | K1: BrPrOdlOObustPost | L1: ZbirnaOPt | M1: KvalitetOpt | N1: BrNarONesprIstr | O1: BrNarOObustIstr | P1: UkBrRjesOPrit | Q1: KvalitetIstraga
A2: ='TABELA I'!$K$2 -> 0 | B2: ='TABELA I'!$K$1 -> 2022 | C2: 6 | D2: ='TABELA II'!B9 -> 0 | E2: ='TABELA II'!C9 -> 0 | F2: ='TABELA II'!D9 -> 0 | G2: ='TABELA II'!E9 -> 0 | H2: ='TABELA II'!F9 -> 0 | I2: ='TABELA II'!G9 -> 0 | J2: ='TABELA II'!H9 -> 0 | K2: ='TABELA II'!I9 -> 0 | ... Q2: ='TABELA II'!O9
A3: ='TABELA I'!$K$2 -> 0 | B3: ='TABELA I'!$K$1 -> 2022 | C3: 7 | D3: ='TABELA II'!B10 -> 0 | E3: ='TABELA II'!C10 -> 0 | F3: ='TABELA II'!D10 -> 0 | G3: ='TABELA II'!E10 -> 0 | H3: ='TABELA II'!F10 -> 0 | I3: ='TABELA II'!G10 -> 0 | J3: ='TABELA II'!H10 -> 0 | K3: ='TABELA II'!I10 -> 0 | ... Q3: ='TABELA II'!O10
A4: ='TABELA I'!$K$2 -> 0 | B4: ='TABELA I'!$K$1 -> 2022 | C4: 4 | D4: ='TABELA II'!B11 -> 0 | E4: ='TABELA II'!C11 -> 0 | F4: ='TABELA II'!D11 -> 0 | G4: ='TABELA II'!E11 -> 0 | H4: ='TABELA II'!F11 -> 0 | I4: ='TABELA II'!G11 -> 0 | J4: ='TABELA II'!H11 -> 0 | K4: ='TABELA II'!I11 -> 0 | ... Q4: ='TABELA II'!O11
A5: ='TABELA I'!$K$2 -> 0 | B5: ='TABELA I'!$K$1 -> 2022 | C5: 5 | D5: ='TABELA II'!B12 -> 0 | E5: ='TABELA II'!C12 -> 0 | F5: ='TABELA II'!D12 -> 0 | G5: ='TABELA II'!E12 -> 0 | H5: ='TABELA II'!F12 -> 0 | I5: ='TABELA II'!G12 -> 0 | J5: ='TABELA II'!H12 -> 0 | K5: ='TABELA II'!I12 -> 0 | ... Q5: ='TABELA II'!O12
A6: ='TABELA I'!$K$2 -> 0 | B6: ='TABELA I'!$K$1 -> 2022 | C6: 10 | D6: ='TABELA II'!B13 -> 0 | E6: ='TABELA II'!C13 -> 0 | F6: ='TABELA II'!D13 -> 0 | G6: ='TABELA II'!E13 -> 0 | H6: ='TABELA II'!F13 -> 0 | I6: ='TABELA II'!G13 -> 0 | J6: ='TABELA II'!H13 -> 0 | K6: ='TABELA II'!I13 -> 0 | ... Q6: ='TABELA II'!O13
A7: ='TABELA I'!$K$2 -> 0 | B7: ='TABELA I'!$K$1 -> 2022 | C7: 11 | D7: ='TABELA II'!B14 -> 0 | E7: ='TABELA II'!C14 -> 0 | F7: ='TABELA II'!D14 -> 0 | G7: ='TABELA II'!E14 -> 0 | H7: ='TABELA II'!F14 -> 0 | I7: ='TABELA II'!G14 -> 0 | J7: ='TABELA II'!H14 -> 0 | K7: ='TABELA II'!I14 -> 0 | ... Q7: ='TABELA II'!O14
A8: ='TABELA I'!$K$2 -> 0 | B8: ='TABELA I'!$K$1 -> 2022 | C8: 12 | D8: ='TABELA II'!B15 -> 0 | E8: ='TABELA II'!C15 -> 0 | F8: ='TABELA II'!D15 -> 0 | G8: ='TABELA II'!E15 -> 0 | H8: ='TABELA II'!F15 -> 0 | I8: ='TABELA II'!G15 -> 0 | J8: ='TABELA II'!H15 -> 0 | K8: ='TABELA II'!I15 -> 0 | ... Q8: ='TABELA II'!O15
A9: ='TABELA I'!$K$2 -> 0 | B9: ='TABELA I'!$K$1 -> 2022 | C9: 13 | D9: ='TABELA II'!B16 -> 0 | E9: ='TABELA II'!C16 -> 0 | F9: ='TABELA II'!D16 -> 0 | G9: ='TABELA II'!E16 -> 0 | H9: ='TABELA II'!F16 -> 0 | I9: ='TABELA II'!G16 -> 0 | J9: ='TABELA II'!H16 -> 0 | K9: ='TABELA II'!I16 -> 0 | ... Q9: ='TABELA II'!O16
A10: ='TABELA I'!$K$2 -> 0 | B10: ='TABELA I'!$K$1 -> 2022 | C10: 14 | D10: ='TABELA II'!B17 -> 0 | E10: ='TABELA II'!C17 -> 0 | F10: ='TABELA II'!D17 -> 0 | G10: ='TABELA II'!E17 -> 0 | H10: ='TABELA II'!F17 -> 0 | I10: ='TABELA II'!G17 -> 0 | J10: ='TABELA II'!H17 -> 0 | K10: ='TABELA II'!I17 -> 0 | ... Q10: ='TABELA II'!O17
A11: ='TABELA I'!$K$2 -> 0 | B11: ='TABELA I'!$K$1 -> 2022 | C11: 15 | D11: ='TABELA II'!B18 -> 0 | E11: ='TABELA II'!C18 -> 0 | F11: ='TABELA II'!D18 -> 0 | G11: ='TABELA II'!E18 -> 0 | H11: ='TABELA II'!F18 -> 0 | I11: ='TABELA II'!G18 -> 0 | J11: ='TABELA II'!H18 -> 0 | K11: ='TABELA II'!I18 -> 0 | ... Q11: ='TABELA II'!O18
A12: ='TABELA I'!$K$2 -> 0 | B12: ='TABELA I'!$K$1 -> 2022 | C12: 33 | D12: ='TABELA II'!B19 -> 0 | E12: ='TABELA II'!C19 -> 0 | F12: ='TABELA II'!D19 -> 0 | G12: ='TABELA II'!E19 -> 0 | H12: ='TABELA II'!F19 -> 0 | I12: ='TABELA II'!G19 -> 0 | J12: ='TABELA II'!H19 -> 0 | K12: ='TABELA II'!I19 -> 0 | ... Q12: ='TABELA II'!O19
A13: ='TABELA I'!$K$2 -> 0 | B13: ='TABELA I'!$K$1 -> 2022 | C13: 34 | D13: ='TABELA II'!B20 -> 0 | E13: ='TABELA II'!C20 -> 0 | F13: ='TABELA II'!D20 -> 0 | G13: ='TABELA II'!E20 -> 0 | H13: ='TABELA II'!F20 -> 0 | I13: ='TABELA II'!G20 -> 0 | J13: ='TABELA II'!H20 -> 0 | K13: ='TABELA II'!I20 -> 0 | ... Q13: ='TABELA II'!O20
... A23: ='TABELA I'!$K$2 -> 0 | B23: ='TABELA I'!$K$1 -> 2022 | C23: 24 | D23: ='TABELA II'!B30 -> 0 | E23: ='TABELA II'!C30 -> 0 | F23: ='TABELA II'!D30 -> 0 | G23: ='TABELA II'!E30 -> 0 | H23: ='TABELA II'!F30 -> 0 | I23: ='TABELA II'!G30 -> 0 | J23: ='TABELA II'!H30 -> 0 | K23: ='TABELA II'!I30 -> 0 | ... Q23: ='TABELA II'!O30

Sheet TABELA IIa
B1: =+'TABELA II'!A1 -> Naziv tužilaštva | E1: =+'TABELA I'!D1 -> Tužilaštvo BiH ili Tužilaštvo Brčko Distrikta BiH
B2: Izvještajni period: | E2: =+'TABELA I'!G2 -> 1.1.2022. - 31.12.2022.
B3: Tabela IIa: Obračun ostvarenog kvaliteta optužnica i naredbi o nesprovođenju i obustavi istraga - Elektronski obrazac za obračun ostvarenog kvaliteta odluka (pogledati NAPOMENU 5 i 6)
B5: Redni broj | C5: Ime i prezime - podatak je automatski prenesen iz Tabele I - OBAVEZNO ZADRŽATI REDOSLIJED NPF-a iz Tabele I | D5: Pravosudna funkcija | E5: Naziv odjela - podatak je automatski prenesen iz Tabele I | F5: Ocijenjen / Nije ocijenjen u tužilaštvu | G5: Vrsta predmeta* | H5: Broj podignutih optužnica | I5: Broj podnesenih prijedloga za izricanje vaspitnih mjera i maloljetničkog zatvora | J5: Broj pravosnažnih presuda | M5: Broj pravosnažnih rješenja o odbijanju optužnice | N5: Broj pravosnažnih odluka o neprihvaćanju prijedloga za izricanje vaspitnih mjera i maloljetničkog zatvora | O5: Broj pravosnažnih odluka o obustavljanju postupaka od strane suda (Ktm) | P5: Ukupan broj pravosnažnih odbijajućih i oslobađajućih presuda i broj pravosnažnih rješenja o odbijanju optužnice | Q5: Ukupan broj neprihvaćenih prijedloga za izricanje vaspitnih mjera i maloljetničkog zatvora i broj obustavljenih Ktm postupaka od strane suda | R5: Kvalitet optužnica za godišnji izvještaj | S5: Kvalitet optužnica prema članu 18. Kriterija | T5: Ostvareni broj bodova za kvalitet optužnica prema članu 18. Kriterija | U5: Ostvareni broj bodova za kvalitet optužnica prema članu 20. stav 2. Kriterija | V5: Broj naredbi o nesprovođenju istrage | W5: Broj naredbi o obustavi istrage | X5: Ukupan broj rješenja glavnog tužioca o usvajanju pritužbi na naredbe o nesprovođenju i obustavi istrage | Y5: Kvalitet naredbi o nesprovođenju i obustavi istrage | Z5: Kvalitet naredbi o nesprovođenju i obustavi istrage prema članu 19. Kriterija | AA5: Ostvareni broj bodova za kvalitet naredbi o nesprovođenju i obustavi istraga prema članu 19. Kriterija | AB5: Ostvareni broj bodova za kvalitet optužnica i kvalitet naredbi o nesprovođenju i obustavi istraga | AC5: Negativni bodovi | AD5: UKUPAN BROJ BODOVA ZA KVALITET OPTUŽNICA I KVALITET NAREDBI O NESPROVOĐENJU I OBUSTAVI ISTRAGA
J6: osuđujuće** | K6: odbijajuće*** | L6: oslobađajuće****
B9: I | C9: II | D9: III | E9: IV | F9: V | G9: VI | H9: VII | I9: VIII | J9: IX | K9: X | L9: XI | M9: XII | N9: XIII | O9: XIV | P9: XV | Q9: XVI | R9: XVII | S9: XVIII | T9: XIX | U9: XX | V9: XXI | W9: XXII | X9: XXIII | Y9: XXIV | Z9: XXV | AA9: XXVI | AB9: XXVII | AC9: XXVIII | AD9: XXIX
AF10: Ocijenjen
B11: 1 | C11: =IF('TABELA I'!B12="","",'TABELA I'!B12) | D11: Glavni tužilac | F11: Nije ocijenjen ili Nema obavezu neposredno raditi na predmetima | G11: KT, KTK, KTT i KTM | P11: =SUM(K11:M11) -> 0 | Q11: =SUM(N11:O11) -> 0 | R11: =IF((H11+I11)=0,"",((H11+I11)-(P11+Q11))/(H11+I11)) | S11: =IF(H11+I11=0,"",(P11+Q11)/(H11+I11)) | T11: =IF(F11="Nije ocijenjen ili Nema obavezu neposredno raditi na predmetima","",IF(F11="Ocijenjen",IF(H11+I11=0,"",IF(S11<0.11,15,IF(S11<0.21,12,IF(S11<0.31,8,IF(S11<=0.5,4,IF(S11<=1,0,)))))))) | U11: =IF(F11="Nije ocijenjen ili Nema obavezu neposredno raditi na predmetima","",IF(F11="Ocijenjen",IF(H12=0,T11,IF(H11+I11=0,T12,(T11+T12)/2)))) | Y11: =IF(V11+W11=0,"",(V11+W11-X11)/(V11+W11)) | Z11: =IF(V11+W11=0,"",(X11)/(V11+W11)) | AA11: =IF(F11="Nije ocijenjen ili Nema obavezu neposredno raditi na predmetima","",IF(F11="Ocijenjen",IF(V11+W11=0,"",IF(Z11<0.11,15,IF(Z11<0.21,12,IF(Z11<0.31,8,IF(Z11<=0.5,4,IF(Z11<=1,0,)))))))) | AB11: =IF(F11="Nije ocijenjen ili Nema obavezu neposredno raditi na predmetima","",IF(F11="Ocijenjen",IF(AA11="",U11,IF(U11="",AA11,((U11+AA11)/2))))) | AD11: =IF(F11="Nije ocijenjen ili Nema obavezu neposredno raditi na predmetima","",IF(F11="Ocijenjen",AB11-AC11)) | AF11: Nije ocijenjen ili Nema obavezu neposredno raditi na predmetima
G12: KTRZ, KTPO, KTO | P12: =SUM(K12:L12) -> 0 | R12: =IF(H12=0,"",(H12-P12/2.5)/H12) | S12: =IF(H12=0,"",(P12/2.5)/H12) | T12: =IF(F11="Nije ocijenjen ili Nema obavezu neposredno raditi na predmetima","",IF(F11="Ocijenjen",IF(H12=0,"",IF(S12<0.26,15,IF(S12<0.41,12,IF(S12<0.51,8,IF(S12<=0.6,4,IF(S12<=1,0,)))))))) | U12: =+(T9+U10)/2 -> #VALUE!
B13: 2 | C13: =IF('TABELA I'!B14="","",'TABELA I'!B14) | E13: =IF('TABELA I'!D14="","",'TABELA I'!D14) | F13: Nije ocijenjen | G13: KT, KTK, KTT i KTM | P13: =SUM(K13:M13) -> 0 | Q13: =SUM(N13:O13) -> 0 | R13: =IF((H13+I13)=0,"",((H13+I13)-(P13+Q13))/(H13+I13)) | S13: =IF(H13+I13=0,"",(P13+Q13)/(H13+I13)) | T13: =IF(F13="Nije ocijenjen","",IF(F13="Ocijenjen",IF(H13+I13=0,"",IF(D13="Tužilac",IF(S13<0.11,40,IF(S13<0.21,30,IF(S13<0.31,20,IF(S13<=0.5,10,IF(S13<=1,0,))))),IF(S13<0.11,20,IF(S13<0.21,15,IF(S13<0.31,10,IF(S13<=0.5,5,IF(S13<=1,0,))))))))) | U13: =IF(F13="Nije ocijenjen","",IF(F13="Ocijenjen",IF(H14=0,T13,IF(H13+I13=0,T14,(T13+T14)/2)))) | Y13: =IF(V13+W13=0,"",(V13+W13-X13)/(V13+W13)) | Z13: =IF(V13+W13=0,"",(X13)/(V13+W13)) | AA13: =IF(F13="Nije ocijenjen","",IF(F13="Ocijenjen",IF(V13+W13=0,"",IF(D13="Tužilac",IF(Z13<0.11,40,IF(Z13<0.21,30,IF(Z13<0.31,20,IF(Z13<=0.5,10,IF(Z13<=1,0,))))),IF(Z13<0.11,20,IF(Z13<0.21,15,IF(Z13<0.31,10,IF(Z13<=0.5,5,IF(Z13<=1,0,))))))))) | AB13: =IF(F13="Nije ocijenjen","",IF(F13="Ocijenjen",IF(AA13="",U13,IF(U13="",AA13,((U13+AA13)/2))))) | AD13: =IF(F13="Nije ocijenjen","",IF(F13="Ocijenjen",AB13-AC13)) | AF13: Zamjenik glavnog tužioca
G14: KTRZ, KTPO, KTO | P14: =SUM(K14:L14) -> 0 | R14: =IF(H14=0,"",(H14-P14/2.5)/H14) | S14: =IF(H14=0,"",(P14/2.5)/H14) | T14: =IF(F13="Nije ocijenjen","",IF(F13="Ocijenjen",IF(H14=0,"",IF(D13="Tužilac",IF(S14<0.26,40,IF(S14<0.41,30,IF(S14<0.51,20,IF(S14<=0.6,10,IF(S14<=1,0,))))),IF(S14<0.26,20,IF(S14<0.41,15,IF(S14<0.51,10,IF(S14<=0.6,5,IF(S14<=1,0,))))))))) | U14: =+(U11+U12)/2 -> #VALUE! | AF14: Šef odjela
B15: 3 | C15: =IF('TABELA I'!B15="","",'TABELA I'!B15) | E15: =IF('TABELA I'!D15="","",'TABELA I'!D15) | F15: Nije ocijenjen | G15: KT, KTK, KTT i KTM | P15: =SUM(K15:M15) -> 0 | Q15: =SUM(N15:O15) -> 0 | R15: =IF((H15+I15)=0,"",((H15+I15)-(P15+Q15))/(H15+I15)) | S15: =IF(H15+I15=0,"",(P15+Q15)/(H15+I15)) | T15: =IF(F15="Nije ocijenjen","",IF(F15="Ocijenjen",IF(H15+I15=0,"",IF(D15="Tužilac",IF(S15<0.11,40,IF(S15<0.21,30,IF(S15<0.31,20,IF(S15<=0.5,10,IF(S15<=1,0,))))),IF(S15<0.11,20,IF(S15<0.21,15,IF(S15<0.31,10,IF(S15<=0.5,5,IF(S15<=1,0,))))))))) | U15: =IF(F15="Nije ocijenjen","",IF(F15="Ocijenjen",IF(H16=0,T15,IF(H15+I15=0,T16,(T15+T16)/2)))) | Y15: =IF(V15+W15=0,"",(V15+W15-X15)/(V15+W15)) | Z15: =IF(V15+W15=0,"",(X15)/(V15+W15)) | AA15: =IF(F15="Nije ocijenjen","",IF(F15="Ocijenjen",IF(V15+W15=0,"",IF(D15="Tužilac",IF(Z15<0.11,40,IF(Z15<0.21,30,IF(Z15<0.31,20,IF(Z15<=0.5,10,IF(Z15<=1,0,))))),IF(Z15<0.11,20,IF(Z15<0.21,15,IF(Z15<0.31,10,IF(Z15<=0.5,5,IF(Z15<=1,0,))))))))) | AB15: =IF(F15="Nije ocijenjen","",IF(F15="Ocijenjen",IF(AA15="",U15,IF(U15="",AA15,((U15+AA15)/2))))) | AD15: =IF(F15="Nije ocijenjen","",IF(F15="Ocijenjen",AB15-AC15)) | AF15: Šef odsjeka
G16: KTRZ, KTPO, KTO | P16: =SUM(K16:L16) -> 0 | R16: =IF(H16=0,"",(H16-P16/2.5)/H16) | S16: =IF(H16=0,"",(P16/2.5)/H16) | T16: =IF(F15="Nije ocijenjen","",IF(F15="Ocijenjen",IF(H16=0,"",IF(D15="Tužilac",IF(S16<0.26,40,IF(S16<0.41,30,IF(S16<0.51,20,IF(S16<=0.6,10,IF(S16<=1,0,))))),IF(S16<0.26,20,IF(S16<0.41,15,IF(S16<0.51,10,IF(S16<=0.6,5,IF(S16<=1,0,))))))))) | U16: =+(U13+U14)/2 -> #VALUE! | AF16: Tužilac
B17: 4 | C17: =IF('TABELA I'!B16="","",'TABELA I'!B16) | E17: =IF('TABELA I'!D16="","",'TABELA I'!D16) | F17: Nije ocijenjen | G17: KT, KTK, KTT i KTM | P17: =SUM(K17:M17) -> 0 | Q17: =SUM(N17:O17) -> 0 | R17: =IF((H17+I17)=0,"",((H17+I17)-(P17+Q17))/(H17+I17)) | S17: =IF(H17+I17=0,"",(P17+Q17)/(H17+I17)) | T17: =IF(F17="Nije ocijenjen","",IF(F17="Ocijenjen",IF(H17+I17=0,"",IF(D17="Tužilac",IF(S17<0.11,40,IF(S17<0.21,30,IF(S17<0.31,20,IF(S17<=0.5,10,IF(S17<=1,0,))))),IF(S17<0.11,20,IF(S17<0.21,15,IF(S17<0.31,10,IF(S17<=0.5,5,IF(S17<=1,0,))))))))) | U17: =IF(F17="Nije ocijenjen","",IF(F17="Ocijenjen",IF(H18=0,T17,IF(H17+I17=0,T18,(T17+T18)/2)))) | Y17: =IF(V17+W17=0,"",(V17+W17-X17)/(V17+W17)) | Z17: =IF(V17+W17=0,"",(X17)/(V17+W17)) | AA17: =IF(F17="Nije ocijenjen","",IF(F17="Ocijenjen",IF(V17+W17=0,"",IF(D17="Tužilac",IF(Z17<0.11,40,IF(Z17<0.21,30,IF(Z17<0.31,20,IF(Z17<=0.5,10,IF(Z17<=1,0,))))),IF(Z17<0.11,20,IF(Z17<0.21,15,IF(Z17<0.31,10,IF(Z17<=0.5,5,IF(Z17<=1,0,))))))))) | AB17: =IF(F17="Nije ocijenjen","",IF(F17="Ocijenjen",IF(AA17="",U17,IF(U17="",AA17,((U17+AA17)/2))))) | AD17: =IF(F17="Nije ocijenjen","",IF(F17="Ocijenjen",AB17-AC17))
G18: KTRZ, KTPO, KTO | P18: =SUM(K18:L18) -> 0 | R18: =IF(H18=0,"",(H18-P18/2.5)/H18) | S18: =IF(H18=0,"",(P18/2.5)/H18) | T18: =IF(F17="Nije ocijenjen","",IF(F17="Ocijenjen",IF(H18=0,"",IF(D17="Tužilac",IF(S18<0.26,40,IF(S18<0.41,30,IF(S18<0.51,20,IF(S18<=0.6,10,IF(S18<=1,0,))))),IF(S18<0.26,20,IF(S18<0.41,15,IF(S18<0.51,10,IF(S18<=0.6,5,IF(S18<=1,0,))))))))) | U18: =+(U15+U16)/2 -> #VALUE! | AF18: Ocijenjen
B19: 5 | C19: =IF('TABELA I'!B17="","",'TABELA I'!B17) | E19: =IF('TABELA I'!D17="","",'TABELA I'!D17) | F19: Nije ocijenjen | G19: KT, KTK, KTT i KTM | P19: =SUM(K19:M19) -> 0 | Q19: =SUM(N19:O19) -> 0 | R19: =IF((H19+I19)=0,"",((H19+I19)-(P19+Q19))/(H19+I19)) | S19: =IF(H19+I19=0,"",(P19+Q19)/(H19+I19)) | T19: =IF(F19="Nije ocijenjen","",IF(F19="Ocijenjen",IF(H19+I19=0,"",IF(D19="Tužilac",IF(S19<0.11,40,IF(S19<0.21,30,IF(S19<0.31,20,IF(S19<=0.5,10,IF(S19<=1,0,))))),IF(S19<0.11,20,IF(S19<0.21,15,IF(S19<0.31,10,IF(S19<=0.5,5,IF(S19<=1,0,))))))))) | U19: =IF(F19="Nije ocijenjen","",IF(F19="Ocijenjen",IF(H20=0,T19,IF(H19+I19=0,T20,(T19+T20)/2)))) | Y19: =IF(V19+W19=0,"",(V19+W19-X19)/(V19+W19)) | Z19: =IF(V19+W19=0,"",(X19)/(V19+W19)) | AA19: =IF(F19="Nije ocijenjen","",IF(F19="Ocijenjen",IF(V19+W19=0,"",IF(D19="Tužilac",IF(Z19<0.11,40,IF(Z19<0.21,30,IF(Z19<0.31,20,IF(Z19<=0.5,10,IF(Z19<=1,0,))))),IF(Z19<0.11,20,IF(Z19<0.21,15,IF(Z19<0.31,10,IF(Z19<=0.5,5,IF(Z19<=1,0,))))))))) | AB19: =IF(F19="Nije ocijenjen","",IF(F19="Ocijenjen",IF(AA19="",U19,IF(U19="",AA19,((U19+AA19)/2))))) | AD19: =IF(F19="Nije ocijenjen","",IF(F19="Ocijenjen",AB19-AC19)) | AF19: Nije ocijenjen
G20: KTRZ, KTPO, KTO | P20: =SUM(K20:L20) -> 0 | R20: =IF(H20=0,"",(H20-P20/2.5)/H20) | S20: =IF(H20=0,"",(P20/2.5)/H20) | T20: =IF(F19="Nije ocijenjen","",IF(F19="Ocijenjen",IF(H20=0,"",IF(D19="Tužilac",IF(S20<0.26,40,IF(S20<0.41,30,IF(S20<0.51,20,IF(S20<=0.6,10,IF(S20<=1,0,))))),IF(S20<0.26,20,IF(S20<0.41,15,IF(S20<0.51,10,IF(S20<=0.6,5,IF(S20<=1,0,))))))))) | U20: =+(U17+U18)/2 -> #VALUE!
B21: 6 | C21: =IF('TABELA I'!B18="","",'TABELA I'!B18) | E21: =IF('TABELA I'!D18="","",'TABELA I'!D18) | F21: Nije ocijenjen | G21: KT, KTK, KTT i KTM | P21: =SUM(K21:M21) -> 0 | Q21: =SUM(N21:O21) -> 0 | R21: =IF((H21+I21)=0,"",((H21+I21)-(P21+Q21))/(H21+I21)) | S21: =IF(H21+I21=0,"",(P21+Q21)/(H21+I21)) | T21: =IF(F21="Nije ocijenjen","",IF(F21="Ocijenjen",IF(H21+I21=0,"",IF(D21="Tužilac",IF(S21<0.11,40,IF(S21<0.21,30,IF(S21<0.31,20,IF(S21<=0.5,10,IF(S21<=1,0,))))),IF(S21<0.11,20,IF(S21<0.21,15,IF(S21<0.31,10,IF(S21<=0.5,5,IF(S21<=1,0,))))))))) | U21: =IF(F21="Nije ocijenjen","",IF(F21="Ocijenjen",IF(H22=0,T21,IF(H21+I21=0,T22,(T21+T22)/2)))) | Y21: =IF(V21+W21=0,"",(V21+W21-X21)/(V21+W21)) | Z21: =IF(V21+W21=0,"",(X21)/(V21+W21)) | AA21: =IF(F21="Nije ocijenjen","",IF(F21="Ocijenjen",IF(V21+W21=0,"",IF(D21="Tužilac",IF(Z21<0.11,40,IF(Z21<0.21,30,IF(Z21<0.31,20,IF(Z21<=0.5,10,IF(Z21<=1,0,))))),IF(Z21<0.11,20,IF(Z21<0.21,15,IF(Z21<0.31,10,IF(Z21<=0.5,5,IF(Z21<=1,0,))))))))) | AB21: =IF(F21="Nije ocijenjen","",IF(F21="Ocijenjen",IF(AA21="",U21,IF(U21="",AA21,((U21+AA21)/2))))) | AD21: =IF(F21="Nije ocijenjen","",IF(F21="Ocijenjen",AB21-AC21))
G22: KTRZ, KTPO, KTO | P22: =SUM(K22:L22) -> 0 | R22: =IF(H22=0,"",(H22-P22/2.5)/H22) | S22: =IF(H22=0,"",(P22/2.5)/H22) | T22: =IF(F21="Nije ocijenjen","",IF(F21="Ocijenjen",IF(H22=0,"",IF(D21="Tužilac",IF(S22<0.26,40,IF(S22<0.41,30,IF(S22<0.51,20,IF(S22<=0.6,10,IF(S22<=1,0,))))),IF(S22<0.26,20,IF(S22<0.41,15,IF(S22<0.51,10,IF(S22<=0.6,5,IF(S22<=1,0,))))))))) | U22: =+(U19+U20)/2 -> #VALUE! | AF22: Nije ocijenjen
B23: 7 | C23: =IF('TABELA I'!B19="","",'TABELA I'!B19) | E23: =IF('TABELA I'!D19="","",'TABELA I'!D19) | F23: Nije ocijenjen | G23: KT, KTK, KTT i KTM | P23: =SUM(K23:M23) -> 0 | Q23: =SUM(N23:O23) -> 0 | R23: =IF((H23+I23)=0,"",((H23+I23)-(P23+Q23))/(H23+I23)) | S23: =IF(H23+I23=0,"",(P23+Q23)/(H23+I23)) | T23: =IF(F23="Nije ocijenjen","",IF(F23="Ocijenjen",IF(H23+I23=0,"",IF(D23="Tužilac",IF(S23<0.11,40,IF(S23<0.21,30,IF(S23<0.31,20,IF(S23<=0.5,10,IF(S23<=1,0,))))),IF(S23<0.11,20,IF(S23<0.21,15,IF(S23<0.31,10,IF(S23<=0.5,5,IF(S23<=1,0,))))))))) | U23: =IF(F23="Nije ocijenjen","",IF(F23="Ocijenjen",IF(H24=0,T23,IF(H23+I23=0,T24,(T23+T24)/2)))) | Y23: =IF(V23+W23=0,"",(V23+W23-X23)/(V23+W23)) | Z23: =IF(V23+W23=0,"",(X23)/(V23+W23)) | AA23: =IF(F23="Nije ocijenjen","",IF(F23="Ocijenjen",IF(V23+W23=0,"",IF(D23="Tužilac",IF(Z23<0.11,40,IF(Z23<0.21,30,IF(Z23<0.31,20,IF(Z23<=0.5,10,IF(Z23<=1,0,))))),IF(Z23<0.11,20,IF(Z23<0.21,15,IF(Z23<0.31,10,IF(Z23<=0.5,5,IF(Z23<=1,0,))))))))) | AB23: =IF(F23="Nije ocijenjen","",IF(F23="Ocijenjen",IF(AA23="",U23,IF(U23="",AA23,((U23+AA23)/2))))) | AD23: =IF(F23="Nije ocijenjen","",IF(F23="Ocijenjen",AB23-AC23)) | AF23: Ocijenjen prema članu 21. stav 4. Kriterija
G24: KTRZ, KTPO, KTO | P24: =SUM(K24:L24) -> 0 | R24: =IF(H24=0,"",(H24-P24/2.5)/H24) | S24: =IF(H24=0,"",(P24/2.5)/H24) | T24: =IF(F23="Nije ocijenjen","",IF(F23="Ocijenjen",IF(H24=0,"",IF(D23="Tužilac",IF(S24<0.26,40,IF(S24<0.41,30,IF(S24<0.51,20,IF(S24<=0.6,10,IF(S24<=1,0,))))),IF(S24<0.26,20,IF(S24<0.41,15,IF(S24<0.51,10,IF(S24<=0.6,5,IF(S24<=1,0,))))))))) | U24: =+(U21+U22)/2 -> #VALUE!
B25: 8 | C25: =IF('TABELA I'!B20="","",'TABELA I'!B20) | E25: =IF('TABELA I'!D20="","",'TABELA I'!D20) | F25: Nije ocijenjen | G25: KT, KTK, KTT i KTM | P25: =SUM(K25:M25) -> 0 | Q25: =SUM(N25:O25) -> 0 | R25: =IF((H25+I25)=0,"",((H25+I25)-(P25+Q25))/(H25+I25)) | S25: =IF(H25+I25=0,"",(P25+Q25)/(H25+I25)) | T25: =IF(F25="Nije ocijenjen","",IF(F25="Ocijenjen",IF(H25+I25=0,"",IF(D25="Tužilac",IF(S25<0.11,40,IF(S25<0.21,30,IF(S25<0.31,20,IF(S25<=0.5,10,IF(S25<=1,0,))))),IF(S25<0.11,20,IF(S25<0.21,15,IF(S25<0.31,10,IF(S25<=0.5,5,IF(S25<=1,0,))))))))) | U25: =IF(F25="Nije ocijenjen","",IF(F25="Ocijenjen",IF(H26=0,T25,IF(H25+I25=0,T26,(T25+T26)/2)))) | Y25: =IF(V25+W25=0,"",(V25+W25-X25)/(V25+W25)) | Z25: =IF(V25+W25=0,"",(X25)/(V25+W25)) | AA25: =IF(F25="Nije ocijenjen","",IF(F25="Ocijenjen",IF(V25+W25=0,"",IF(D25="Tužilac",IF(Z25<0.11,40,IF(Z25<0.21,30,IF(Z25<0.31,20,IF(Z25<=0.5,10,IF(Z25<=1,0,))))),IF(Z25<0.11,20,IF(Z25<0.21,15,IF(Z25<0.31,10,IF(Z25<=0.5,5,IF(Z25<=1,0,))))))))) | AB25: =IF(F25="Nije ocijenjen","",IF(F25="Ocijenjen",IF(AA25="",U25,IF(U25="",AA25,((U25+AA25)/2))))) | AD25: =IF(F25="Nije ocijenjen","",IF(F25="Ocijenjen",AB25-AC25))
G26: KTRZ, KTPO, KTO | P26: =SUM(K26:L26) -> 0 | R26: =IF(H26=0,"",(H26-P26/2.5)/H26) | S26: =IF(H26=0,"",(P26/2.5)/H26) | T26: =IF(F25="Nije ocijenjen","",IF(F25="Ocijenjen",IF(H26=0,"",IF(D25="Tužilac",IF(S26<0.26,40,IF(S26<0.41,30,IF(S26<0.51,20,IF(S26<=0.6,10,IF(S26<=1,0,))))),IF(S26<0.26,20,IF(S26<0.41,15,IF(S26<0.51,10,IF(S26<=0.6,5,IF(S26<=1,0,))))))))) | U26: =+(U23+U24)/2 -> #VALUE! | AF26: Nije ocijenjen
B27: 9 | C27: =IF('TABELA I'!B21="","",'TABELA I'!B21) | E27: =IF('TABELA I'!D21="","",'TABELA I'!D21) | F27: Nije ocijenjen | G27: KT, KTK, KTT i KTM | P27: =SUM(K27:M27) -> 0 | Q27: =SUM(N27:O27) -> 0 | R27: =IF((H27+I27)=0,"",((H27+I27)-(P27+Q27))/(H27+I27)) | S27: =IF(H27+I27=0,"",(P27+Q27)/(H27+I27)) | T27: =IF(F27="Nije ocijenjen","",IF(F27="Ocijenjen",IF(H27+I27=0,"",IF(D27="Tužilac",IF(S27<0.11,40,IF(S27<0.21,30,IF(S27<0.31,20,IF(S27<=0.5,10,IF(S27<=1,0,))))),IF(S27<0.11,20,IF(S27<0.21,15,IF(S27<0.31,10,IF(S27<=0.5,5,IF(S27<=1,0,))))))))) | U27: =IF(F27="Nije ocijenjen","",IF(F27="Ocijenjen",IF(H28=0,T27,IF(H27+I27=0,T28,(T27+T28)/2)))) | Y27: =IF(V27+W27=0,"",(V27+W27-X27)/(V27+W27)) | Z27: =IF(V27+W27=0,"",(X27)/(V27+W27)) | AA27: =IF(F27="Nije ocijenjen","",IF(F27="Ocijenjen",IF(V27+W27=0,"",IF(D27="Tužilac",IF(Z27<0.11,40,IF(Z27<0.21,30,IF(Z27<0.31,20,IF(Z27<=0.5,10,IF(Z27<=1,0,))))),IF(Z27<0.11,20,IF(Z27<0.21,15,IF(Z27<0.31,10,IF(Z27<=0.5,5,IF(Z27<=1,0,))))))))) | AB27: =IF(F27="Nije ocijenjen","",IF(F27="Ocijenjen",IF(AA27="",U27,IF(U27="",AA27,((U27+AA27)/2))))) | AD27: =IF(F27="Nije ocijenjen","",IF(F27="Ocijenjen",AB27-AC27)) | AF27: Ocijenjen prema članu 30. stav 4. Kriterija
G28: KTRZ, KTPO, KTO | P28: =SUM(K28:L28) -> 0 | R28: =IF(H28=0,"",(H28-P28/2.5)/H28) | S28: =IF(H28=0,"",(P28/2.5)/H28) | T28: =IF(F27="Nije ocijenjen","",IF(F27="Ocijenjen",IF(H28=0,"",IF(D27="Tužilac",IF(S28<0.26,40,IF(S28<0.41,30,IF(S28<0.51,20,IF(S28<=0.6,10,IF(S28<=1,0,))))),IF(S28<0.26,20,IF(S28<0.41,15,IF(S28<0.51,10,IF(S28<=0.6,5,IF(S28<=1,0,))))))))) | U28: =+(U25+U26)/2 -> #VALUE!
