Workbook

Sheet Uputstvo
B2: TUŽILAŠTVA - po predmetima
B3: Napomene:
B5: Kompletni materijali u vezi procesa izvještavanja i ocjenjivanja rada u tužilaštvima za 2022. godinu dostupni su na linku:
B6: https://vstv.pravosudje.ba/vstvfo/B/141/article/106391
B7: Tabele za popunjavanje podataka o radu tužilaštava nije moguće mijenjati, niti dodavati nove redove ili kolone.
B8: Tabele se isključivo popunjavaju predviđenim redoslijedom, po redoslijedu postavljenih tabela.
B11: Podatke je potrebno upisivati samo u polja osjenčena žutom bojom.
B12: U ostala polja nije moguće upisivati vrijednosti, u ovim poljima vrijednosti će biti izračunate automatski.
B13: Molimo Vas da u Tabeli I i naslovu e-maila (subject) kojim ćete poslati popunjene obrasce navedete naziv Vašeg tužilaštva.
B16: Popunjene obrasce poslati na e-mail adresu: vstvstatistika@pravosudje.ba do 01.02.2023. godine.
B18: Za sva eventualna pitanja vezano za popunjavanje obrazaca molimo Vas da kontaktirate
B19: Odjel za pravosudnu analitiku i izvještavanje, na telefon: 033 704 616 ili 033 707 584.
... B40: TABELA III - PODACI O KTA, KTARZ, KTN I KTNRZ PREDMETIMA U tabeli III potrebno je navesti podatke o protoku Kta, Ktarz, Ktn i Ktnrz predmeta u tužilaštvu u 2018. godini. U tabelu se unose zbirni podaci o predmetima koji su evidentirani u TCMS-u kao i predmetima koji su evidentirani u manuelnim upisnicima tužilaštva. Automatski se preračunavaju podaci u kolonama: III i VIII. Podatak o broju neriješenih Kta, Ktarz, Ktn i Ktnrz predmeta u tužilaštvu na dan 31.12.2018. godine (kolona IX) će se dobiti automatskim oduzimanjem ukupnog broja riješenih predmeta (kolona VIII) od ukupnog broja predmeta u radu (kolona III). TABELA IIIa - PODACI O NERIJEŠENIM KTA, KTARZ, KTN I KTNRZ PREDMETIMA KOJI NISU UVEDENI U TCMS NA DAN 31.12.2018. GODINE Glavni tužilac je dužan osigurati da se u Tabelu IIIa unesu podaci o broju neriješenih predmeta koji nisu bili uvedeni u TCMS na dan 31.12.2018. godine kako slijedi: Kta, Ktarz, Ktn i Ktnrz. Ukoliko su svi neriješeni predmeti Kta, Ktarz, Ktn i Ktnrz u tužilaštvu na 31.12.2018. godine bili uvedeni u TCMS, dužni ste unijeti u Tabelu IIIa vrijednost 0 u sva polja označena žutom bojom. Automatski se preračunava podatak u posljednjem polju kolone I. Vrijednost podatka u posljednjem polju kolone I u Tabeli IIIa ne može biti veća od vrijednosti podatka u posljednjem polju kolone IX u Tabeli III. Ukoliko navedeni podatak nije u skladu sa navedenim logičkim pravilom, ovo polje će biti obojeno crvenom bojom. Nakon što podaci budu korigovani, na način da su u skladu sa logičkim pravilom, polje će biti obojeno bijelom bojom. TABELA IV - PODACI O KTA I KTN PREDMETIMA U KOJIMA JE NASTUPILA ZASTARA U tabeli IV potrebno je navesti podatke o broju Kta i Ktn predmeta u tužilaštvu u 2018. godini u kojima je donijeta naredba o iskazivanju predmeta završenim zbog nastupanja relativne ili apsolutne zastarjelosti krivičnog gonjenja. U ovu tabelu se unose podaci o svim Kta i Ktn predmetima u tužilaštvu bez obzira na to da li su predmeti uvedeni u TCMS. Automatski se preračunava podatak u koloni III.

Sheet TABELA I
A1: Naziv tužilaštva | D1: Tužilaštvo BiH ili Tužilaštvo Brčko Distrikta BiH | K1: 2022
A2: Izvještajni period: | G2: 1.1.2022. - 31.12.2022.
A4: Ostvarena kolektivna norma tužilaštva u 2022. godini: | G4: =+P88
A6: Kolektivni kvalitet tužilačkih odluka u 2022. godini: | G6: Optužnice | H6: =+'TABELA II'!K32 | K6: Naredbe o nesprovođenju i obustavljanju istraga | N6: =+'TABELA II'!O32
A7: Tabela Ia: Ostvarena orjentaciona norma - Elektronski obrazac za obračun ostvarene orijentacione norme (pogledati NAPOMENU 4)
A9: Redni broj | B9: Ime i prezime - evidentirani podatak se automatski prenosi u Tabelu IIa | C9: Ocjenjen u tužilaštvu | D9: Naziv odjela - evidentirani podatak se automatski prenosi u Tabelu IIa | E9: Pravosudna funkcija | G9: Procenat orijentacijske norme koju je nosilac pravosudne funkcije dužan ostvariti - Ukoliko procenat orijentacijske norme nije predviđen u padajućem meniju, pogledati NAPOMENU 3 | H9: Period obavljanja pravosudne funkcije u instituciji koja popunjava tabelu Ia | J9: Ukupan broj dana za obračun norme - pogledati NAPOMENU 2 | K9: Broj dana opravdanog odsustva iz član 24. Pravilnika o orijentacijskim mjerilima | L9: Ostvarena orijentacijska norma iz TCMS-a | M9: Ostvarena orijentacijska norma na predmetima van TCMS-a - pogledati NAPOMENU 8 | N9: Procenat ostvarene orijentacijske norme prema čl 7, 8.,10 i 11. Pravilnika o orijentacijskim mjerilima - pogledati NAPOMENU 9 | O9: Procenat ostvarene orijentacijske norme u 2022. godini | P9: Ukupno ostvarena orijentacijska norma u 2022. godini | Q9: Nedovoljan broj predmeta u radu - pogledati NAPOMENU 5 | T9: Broj ostvarenih bodova | U9: Da | V9: Ne
H10: Datum od | I10: Datum do | Q10: broj predmeta u radu | R10: broj riješenih predmeta | S10: procenat riješenih predmeta | U10: Zamjenik glavnog tužioca | V10: Šef odjela | W10: Šef odsjeka | X10: Tužilac | Y10: Član VSTV-a
A11: I | B11: II | C11: III | D11: IV | E11: V | F11: Column1 | G11: VI | H11: VII | I11: VIII | J11: IX | K11: X | L11: XI | M11: XII | N11: XIII | O11: XIV | P11: XV | Q11: XVI | R11: XVII | S11: XVIII | T11: XIX | U11: 1 | V11: 0.9 | W11: 0.8 | X11: 0.7 | Y11: 0.6 | Z11: 0.5 | AA11: 0.4
A12: 1 | E12: Glavni tužilac | J12: 260 | O12: =IF(G12="","",IF(G12="Ne treba rješavati predmete",1+(L12/J12*260)+M12+N12,(L12/J12*260+M12+N12)/G12)) | P12: =IF(G12="Ne treba rješavati predmete",O12,IF(K12>0,O12*(J12/(J12-K12)),O12)) | S12: =IF(Q12="","",R12/Q12) | T12: =IF(P12="","",IF(C12="Ne","",IF(G12="Ne treba rješavati predmete","",IF(P12>1,20,IF(S12="",IF(P12>0.9,18,IF(P12>0.8,16,IF(P12>0.7,12,IF(P12>0.6,8,IF(P12>0.5,4,0))))),IF(S12=1,20,IF(S12>0.9,18,IF(S12>0.8,16,IF(S12>0.7,12,IF(S12>0.6,8,IF(S12>0.5,4,0))))))))))) | W12: 0.2 | X12: Ne treba rješavati predmete | AC12: =I12-H12 -> 0
E13: Glavni tužilac | J13: 260 | O13: =IF(G13="","",IF(G13="Ne treba rješavati predmete",1+(L13/J13*260)+M13+N13,(L13/J13*260+M13+N13)/G13)) | P13: =IF(K13>0,O13*(J13/(J13-K13)),O13) | S13: =IF(Q13="","",R13/Q13) | T13: =IF(P13="","",IF(C12="Ne","",IF(P13>1,20,IF(S13="",IF(P13>0.9,18,IF(P13>0.8,16,IF(P13>0.7,12,IF(P13>0.6,8,IF(P13>0.5,4,0))))),IF(S13=1,20,IF(S13>0.9,18,IF(S13>0.8,16,IF(S13>0.7,12,IF(S13>0.6,8,IF(S13>0.5,4,0)))))))))) | AC13: =I13-H13
A14: 2 | F14: =IF(E14="Tužilac",1,IF(E14="Zamjenik glavnog tužioca",2,IF(E14="Šef odjela",3,IF(E14="Član VSTV-a",4,IF(E14="Šef odsjeka",5,""))))) | J14: 260 | O14: =IF(G14="","",IF(G14="Ne treba rješavati predmete",1+(L14/J14*260)+M14+N14,(L14/J14*260+M14+N14)/G14)) | P14: =IF(K14>0,O14*(J14/(J14-K14)),O14) | S14: =IF(Q14="","",R14/Q14) | T14: =IF(C14="Ne","",IF(E14="",IF(G14="",""),IF(C14="Ne","",IF(E14="Tužilac",IF(P14>1,40,IF(S14="",IF(P14>0.9,35,IF(P14>0.8,30,IF(P14>0.7,20,IF(P14>0.6,15,IF(P14>0.5,10,0))))),IF(S14=1,40,IF(S14>0.9,35,IF(S14>0.8,30,IF(S14>0.7,20,IF(S14>0.6,15,IF(S14>0.5,10,0)))))))),IF(P14>1,25,IF(S14="",IF(P14>0.9,22,IF(P14>0.8,20,IF(P14>0.7,15,IF(P14>0.6,10,IF(P14>0.5,5,0))))),IF(S14=1,25,IF(S14>0.9,22,IF(S14>0.8,20,IF(S14>0.7,15,IF(S14>0.6,10,IF(S14>0.5,5,0)))))))))))) | AC14: =I14-H14 -> 0
A15: 3 | F15: =IF(E15="Tužilac",1,IF(E15="Zamjenik glavnog tužioca",2,IF(E15="Šef odjela",3,IF(E15="Član VSTV-a",4,IF(E15="Šef odsjeka",5,""))))) | J15: 260 | O15: =IF(G15="","",IF(G15="Ne treba rješavati predmete",1+(L15/J15*260)+M15+N15,(L15/J15*260+M15+N15)/G15)) | P15: =IF(K15>0,O15*(J15/(J15-K15)),O15) | S15: =IF(Q15="","",R15/Q15) | T15: =IF(C15="Ne","",IF(E15="",IF(G15="",""),IF(C15="Ne","",IF(E15="Tužilac",IF(P15>1,40,IF(S15="",IF(P15>0.9,35,IF(P15>0.8,30,IF(P15>0.7,20,IF(P15>0.6,15,IF(P15>0.5,10,0))))),IF(S15=1,40,IF(S15>0.9,35,IF(S15>0.8,30,IF(S15>0.7,20,IF(S15>0.6,15,IF(S15>0.5,10,0)))))))),IF(P15>1,25,IF(S15="",IF(P15>0.9,22,IF(P15>0.8,20,IF(P15>0.7,15,IF(P15>0.6,10,IF(P15>0.5,5,0))))),IF(S15=1,25,IF(S15>0.9,22,IF(S15>0.8,20,IF(S15>0.7,15,IF(S15>0.6,10,IF(S15>0.5,5,0)))))))))))) | AC15: =I15-H15 -> 0
A16: 4 | F16: =IF(E16="Tužilac",1,IF(E16="Zamjenik glavnog tužioca",2,IF(E16="Šef odjela",3,IF(E16="Član VSTV-a",4,IF(E16="Šef odsjeka",5,""))))) | J16: 260 | O16: =IF(G16="","",IF(G16="Ne treba rješavati predmete",1+(L16/J16*260)+M16+N16,(L16/J16*260+M16+N16)/G16)) | P16: =IF(K16>0,O16*(J16/(J16-K16)),O16) | S16: =IF(Q16="","",R16/Q16) | T16: =IF(C16="Ne","",IF(E16="",IF(G16="",""),IF(C16="Ne","",IF(E16="Tužilac",IF(P16>1,40,IF(S16="",IF(P16>0.9,35,IF(P16>0.8,30,IF(P16>0.7,20,IF(P16>0.6,15,IF(P16>0.5,10,0))))),IF(S16=1,40,IF(S16>0.9,35,IF(S16>0.8,30,IF(S16>0.7,20,IF(S16>0.6,15,IF(S16>0.5,10,0)))))))),IF(P16>1,25,IF(S16="",IF(P16>0.9,22,IF(P16>0.8,20,IF(P16>0.7,15,IF(P16>0.6,10,IF(P16>0.5,5,0))))),IF(S16=1,25,IF(S16>0.9,22,IF(S16>0.8,20,IF(S16>0.7,15,IF(S16>0.6,10,IF(S16>0.5,5,0)))))))))))) | AC16: =I16-H16 -> 0
A17: 5 | F17: =IF(E17="Tužilac",1,IF(E17="Zamjenik glavnog tužioca",2,IF(E17="Šef odjela",3,IF(E17="Član VSTV-a",4,IF(E17="Šef odsjeka",5,""))))) | J17: 260 | O17: =IF(G17="","",IF(G17="Ne treba rješavati predmete",1+(L17/J17*260)+M17+N17,(L17/J17*260+M17+N17)/G17)) | P17: =IF(K17>0,O17*(J17/(J17-K17)),O17) | S17: =IF(Q17="","",R17/Q17) | T17: =IF(C17="Ne","",IF(E17="",IF(G17="",""),IF(C17="Ne","",IF(E17="Tužilac",IF(P17>1,40,IF(S17="",IF(P17>0.9,35,IF(P17>0.8,30,IF(P17>0.7,20,IF(P17>0.6,15,IF(P17>0.5,10,0))))),IF(S17=1,40,IF(S17>0.9,35,IF(S17>0.8,30,IF(S17>0.7,20,IF(S17>0.6,15,IF(S17>0.5,10,0)))))))),IF(P17>1,25,IF(S17="",IF(P17>0.9,22,IF(P17>0.8,20,IF(P17>0.7,15,IF(P17>0.6,10,IF(P17>0.5,5,0))))),IF(S17=1,25,IF(S17>0.9,22,IF(S17>0.8,20,IF(S17>0.7,15,IF(S17>0.6,10,IF(S17>0.5,5,0)))))))))))) | AC17: =I17-H17 -> 0
A18: 6 | F18: =IF(E18="Tužilac",1,IF(E18="Zamjenik glavnog tužioca",2,IF(E18="Šef odjela",3,IF(E18="Član VSTV-a",4,IF(E18="Šef odsjeka",5,""))))) | J18: 260 | O18: =IF(G18="","",IF(G18="Ne treba rješavati predmete",1+(L18/J18*260)+M18+N18,(L18/J18*260+M18+N18)/G18)) | P18: =IF(K18>0,O18*(J18/(J18-K18)),O18) | S18: =IF(Q18="","",R18/Q18) | T18: =IF(C18="Ne","",IF(E18="",IF(G18="",""),IF(C18="Ne","",IF(E18="Tužilac",IF(P18>1,40,IF(S18="",IF(P18>0.9,35,IF(P18>0.8,30,IF(P18>0.7,20,IF(P18>0.6,15,IF(P18>0.5,10,0))))),IF(S18=1,40,IF(S18>0.9,35,IF(S18>0.8,30,IF(S18>0.7,20,IF(S18>0.6,15,IF(S18>0.5,10,0)))))))),IF(P18>1,25,IF(S18="",IF(P18>0.9,22,IF(P18>0.8,20,IF(P18>0.7,15,IF(P18>0.6,10,IF(P18>0.5,5,0))))),IF(S18=1,25,IF(S18>0.9,22,IF(S18>0.8,20,IF(S18>0.7,15,IF(S18>0.6,10,IF(S18>0.5,5,0)))))))))))) | AC18: =I18-H18 -> 0
A19: 7 | F19: =IF(E19="Tužilac",1,IF(E19="Zamjenik glavnog tužioca",2,IF(E19="Šef odjela",3,IF(E19="Član VSTV-a",4,IF(E19="Šef odsjeka",5,""))))) | J19: 260 | O19: =IF(G19="","",IF(G19="Ne treba rješavati predmete",1+(L19/J19*260)+M19+N19,(L19/J19*260+M19+N19)/G19)) | P19: =IF(K19>0,O19*(J19/(J19-K19)),O19) | S19: =IF(Q19="","",R19/Q19) | T19: =IF(C19="Ne","",IF(E19="",IF(G19="",""),IF(C19="Ne","",IF(E19="Tužilac",IF(P19>1,40,IF(S19="",IF(P19>0.9,35,IF(P19>0.8,30,IF(P19>0.7,20,IF(P19>0.6,15,IF(P19>0.5,10,0))))),IF(S19=1,40,IF(S19>0.9,35,IF(S19>0.8,30,IF(S19>0.7,20,IF(S19>0.6,15,IF(S19>0.5,10,0)))))))),IF(P19>1,25,IF(S19="",IF(P19>0.9,22,IF(P19>0.8,20,IF(P19>0.7,15,IF(P19>0.6,10,IF(P19>0.5,5,0))))),IF(S19=1,25,IF(S19>0.9,22,IF(S19>0.8,20,IF(S19>0.7,15,IF(S19>0.6,10,IF(S19>0.5,5,0)))))))))))) | AC19: =I19-H19 -> 0
A20: 8 | F20: =IF(E20="Tužilac",1,IF(E20="Zamjenik glavnog tužioca",2,IF(E20="Šef odjela",3,IF(E20="Član VSTV-a",4,IF(E20="Šef odsjeka",5,""))))) | J20: 260 | O20: =IF(G20="","",IF(G20="Ne treba rješavati predmete",1+(L20/J20*260)+M20+N20,(L20/J20*260+M20+N20)/G20)) | P20: =IF(K20>0,O20*(J20/(J20-K20)),O20) | S20: =IF(Q20="","",R20/Q20) | T20: =IF(C20="Ne","",IF(E20="",IF(G20="",""),IF(C20="Ne","",IF(E20="Tužilac",IF(P20>1,40,IF(S20="",IF(P20>0.9,35,IF(P20>0.8,30,IF(P20>0.7,20,IF(P20>0.6,15,IF(P20>0.5,10,0))))),IF(S20=1,40,IF(S20>0.9,35,IF(S20>0.8,30,IF(S20>0.7,20,IF(S20>0.6,15,IF(S20>0.5,10,0)))))))),IF(P20>1,25,IF(S20="",IF(P20>0.9,22,IF(P20>0.8,20,IF(P20>0.7,15,IF(P20>0.6,10,IF(P20>0.5,5,0))))),IF(S20=1,25,IF(S20>0.9,22,IF(S20>0.8,20,IF(S20>0.7,15,IF(S20>0.6,10,IF(S20>0.5,5,0)))))))))))) | AC20: =I20-H20 -> 0
A21: 9 | F21: =IF(E21="Tužilac",1,IF(E21="Zamjenik glavnog tužioca",2,IF(E21="Šef odjela",3,IF(E21="Član VSTV-a",4,IF(E21="Šef odsjeka",5,""))))) | J21: 260 | O21: =IF(G21="","",IF(G21="Ne treba rješavati predmete",1+(L21/J21*260)+M21+N21,(L21/J21*260+M21+N21)/G21)) | P21: =IF(K21>0,O21*(J21/(J21-K21)),O21) | S21: =IF(Q21="","",R21/Q21) | T21: =IF(C21="Ne","",IF(E21="",IF(G21="",""),IF(C21="Ne","",IF(E21="Tužilac",IF(P21>1,40,IF(S21="",IF(P21>0.9,35,IF(P21>0.8,30,IF(P21>0.7,20,IF(P21>0.6,15,IF(P21>0.5,10,0))))),IF(S21=1,40,IF(S21>0.9,35,IF(S21>0.8,30,IF(S21>0.7,20,IF(S21>0.6,15,IF(S21>0.5,10,0)))))))),IF(P21>1,25,IF(S21="",IF(P21>0.9,22,IF(P21>0.8,20,IF(P21>0.7,15,IF(P21>0.6,10,IF(P21>0.5,5,0))))),IF(S21=1,25,IF(S21>0.9,22,IF(S21>0.8,20,IF(S21>0.7,15,IF(S21>0.6,10,IF(S21>0.5,5,0))))))))))))
A22: 10 | F22: =IF(E22="Tužilac",1,IF(E22="Zamjenik glavnog tužioca",2,IF(E22="Šef odjela",3,IF(E22="Član VSTV-a",4,IF(E22="Šef odsjeka",5,""))))) | J22: 260 | O22: =IF(G22="","",IF(G22="Ne treba rješavati predmete",1+(L22/J22*260)+M22+N22,(L22/J22*260+M22+N22)/G22)) | P22: =IF(K22>0,O22*(J22/(J22-K22)),O22) | S22: =IF(Q22="","",R22/Q22) | T22: =IF(C22="Ne","",IF(E22="",IF(G22="",""),IF(C22="Ne","",IF(E22="Tužilac",IF(P22>1,40,IF(S22="",IF(P22>0.9,35,IF(P22>0.8,30,IF(P22>0.7,20,IF(P22>0.6,15,IF(P22>0.5,10,0))))),IF(S22=1,40,IF(S22>0.9,35,IF(S22>0.8,30,IF(S22>0.7,20,IF(S22>0.6,15,IF(S22>0.5,10,0)))))))),IF(P22>1,25,IF(S22="",IF(P22>0.9,22,IF(P22>0.8,20,IF(P22>0.7,15,IF(P22>0.6,10,IF(P22>0.5,5,0))))),IF(S22=1,25,IF(S22>0.9,22,IF(S22>0.8,20,IF(S22>0.7,15,IF(S22>0.6,10,IF(S22>0.5,5,0))))))))))))
A23: 11 | F23: =IF(E23="Tužilac",1,IF(E23="Zamjenik glavnog tužioca",2,IF(E23="Šef odjela",3,IF(E23="Član VSTV-a",4,IF(E23="Šef odsjeka",5,""))))) | J23: 260 | O23: =IF(G23="","",IF(G23="Ne treba rješavati predmete",1+(L23/J23*260)+M23+N23,(L23/J23*260+M23+N23)/G23)) | P23: =IF(K23>0,O23*(J23/(J23-K23)),O23) | S23: =IF(Q23="","",R23/Q23) | T23: =IF(C23="Ne","",IF(E23="",IF(G23="",""),IF(C23="Ne","",IF(E23="Tužilac",IF(P23>1,40,IF(S23="",IF(P23>0.9,35,IF(P23>0.8,30,IF(P23>0.7,20,IF(P23>0.6,15,IF(P23>0.5,10,0))))),IF(S23=1,40,IF(S23>0.9,35,IF(S23>0.8,30,IF(S23>0.7,20,IF(S23>0.6,15,IF(S23>0.5,10,0)))))))),IF(P23>1,25,IF(S23="",IF(P23>0.9,22,IF(P23>0.8,20,IF(P23>0.7,15,IF(P23>0.6,10,IF(P23>0.5,5,0))))),IF(S23=1,25,IF(S23>0.9,22,IF(S23>0.8,20,IF(S23>0.7,15,IF(S23>0.6,10,IF(S23>0.5,5,0))))))))))))
A24: 12 | F24: =IF(E24="Tužilac",1,IF(E24="Zamjenik glavnog tužioca",2,IF(E24="Šef odjela",3,IF(E24="Član VSTV-a",4,IF(E24="Šef odsjeka",5,""))))) | J24: 260 | O24: =IF(G24="","",IF(G24="Ne treba rješavati predmete",1+(L24/J24*260)+M24+N24,(L24/J24*260+M24+N24)/G24)) | P24: =IF(K24>0,O24*(J24/(J24-K24)),O24) | S24: =IF(Q24="","",R24/Q24) | T24: =IF(C24="Ne","",IF(E24="",IF(G24="",""),IF(C24="Ne","",IF(E24="Tužilac",IF(P24>1,40,IF(S24="",IF(P24>0.9,35,IF(P24>0.8,30,IF(P24>0.7,20,IF(P24>0.6,15,IF(P24>0.5,10,0))))),IF(S24=1,40,IF(S24>0.9,35,IF(S24>0.8,30,IF(S24>0.7,20,IF(S24>0.6,15,IF(S24>0.5,10,0)))))))),IF(P24>1,25,IF(S24="",IF(P24>0.9,22,IF(P24>0.8,20,IF(P24>0.7,15,IF(P24>0.6,10,IF(P24>0.5,5,0))))),IF(S24=1,25,IF(S24>0.9,22,IF(S24>0.8,20,IF(S24>0.7,15,IF(S24>0.6,10,IF(S24>0.5,5,0))))))))))))
A25: 13 | F25: =IF(E25="Tužilac",1,IF(E25="Zamjenik glavnog tužioca",2,IF(E25="Šef odjela",3,IF(E25="Član VSTV-a",4,IF(E25="Šef odsjeka",5,""))))) | J25: 260 | O25: =IF(G25="","",IF(G25="Ne treba rješavati predmete",1+(L25/J25*260)+M25+N25,(L25/J25*260+M25+N25)/G25)) | P25: =IF(K25>0,O25*(J25/(J25-K25)),O25) | S25: =IF(Q25="","",R25/Q25) | T25: =IF(C25="Ne","",IF(E25="",IF(G25="",""),IF(C25="Ne","",IF(E25="Tužilac",IF(P25>1,40,IF(S25="",IF(P25>0.9,35,IF(P25>0.8,30,IF(P25>0.7,20,IF(P25>0.6,15,IF(P25>0.5,10,0))))),IF(S25=1,40,IF(S25>0.9,35,IF(S25>0.8,30,IF(S25>0.7,20,IF(S25>0.6,15,IF(S25>0.5,10,0)))))))),IF(P25>1,25,IF(S25="",IF(P25>0.9,22,IF(P25>0.8,20,IF(P25>0.7,15,IF(P25>0.6,10,IF(P25>0.5,5,0))))),IF(S25=1,25,IF(S25>0.9,22,IF(S25>0.8,20,IF(S25>0.7,15,IF(S25>0.6,10,IF(S25>0.5,5,0))))))))))))
A26: 14 | F26: =IF(E26="Tužilac",1,IF(E26="Zamjenik glavnog tužioca",2,IF(E26="Šef odjela",3,IF(E26="Član VSTV-a",4,IF(E26="Šef odsjeka",5,""))))) | J26: 260 | O26: =IF(G26="","",IF(G26="Ne treba rješavati predmete",1+(L26/J26*260)+M26+N26,(L26/J26*260+M26+N26)/G26)) | P26: =IF(K26>0,O26*(J26/(J26-K26)),O26) | S26: =IF(Q26="","",R26/Q26) | T26: =IF(C26="Ne","",IF(E26="",IF(G26="",""),IF(C26="Ne","",IF(E26="Tužilac",IF(P26>1,40,IF(S26="",IF(P26>0.9,35,IF(P26>0.8,30,IF(P26>0.7,20,IF(P26>0.6,15,IF(P26>0.5,10,0))))),IF(S26=1,40,IF(S26>0.9,35,IF(S26>0.8,30,IF(S26>0.7,20,IF(S26>0.6,15,IF(S26>0.5,10,0)))))))),IF(P26>1,25,IF(S26="",IF(P26>0.9,22,IF(P26>0.8,20,IF(P26>0.7,15,IF(P26>0.6,10,IF(P26>0.5,5,0))))),IF(S26=1,25,IF(S26>0.9,22,IF(S26>0.8,20,IF(S26>0.7,15,IF(S26>0.6,10,IF(S26>0.5,5,0))))))))))))
A27: 15 | F27: =IF(E27="Tužilac",1,IF(E27="Zamjenik glavnog tužioca",2,IF(E27="Šef odjela",3,IF(E27="Član VSTV-a",4,IF(E27="Šef odsjeka",5,""))))) | J27: 260 | O27: =IF(G27="","",IF(G27="Ne treba rješavati predmete",1+(L27/J27*260)+M27+N27,(L27/J27*260+M27+N27)/G27)) | P27: =IF(K27>0,O27*(J27/(J27-K27)),O27) | S27: =IF(Q27="","",R27/Q27) | T27: =IF(C27="Ne","",IF(E27="",IF(G27="",""),IF(C27="Ne","",IF(E27="Tužilac",IF(P27>1,40,IF(S27="",IF(P27>0.9,35,IF(P27>0.8,30,IF(P27>0.7,20,IF(P27>0.6,15,IF(P27>0.5,10,0))))),IF(S27=1,40,IF(S27>0.9,35,IF(S27>0.8,30,IF(S27>0.7,20,IF(S27>0.6,15,IF(S27>0.5,10,0)))))))),IF(P27>1,25,IF(S27="",IF(P27>0.9,22,IF(P27>0.8,20,IF(P27>0.7,15,IF(P27>0.6,10,IF(P27>0.5,5,0))))),IF(S27=1,25,IF(S27>0.9,22,IF(S27>0.8,20,IF(S27>0.7,15,IF(S27>0.6,10,IF(S27>0.5,5,0))))))))))))
A28: 16 | F28: =IF(E28="Tužilac",1,IF(E28="Zamjenik glavnog tužioca",2,IF(E28="Šef odjela",3,IF(E28="Član VSTV-a",4,IF(E28="Šef odsjeka",5,""))))) | J28: 260 | O28: =IF(G28="","",IF(G28="Ne treba rješavati predmete",1+(L28/J28*260)+M28+N28,(L28/J28*260+M28+N28)/G28)) | P28: =IF(K28>0,O28*(J28/(J28-K28)),O28) | S28: =IF(Q28="","",R28/Q28) | T28: =IF(C28="Ne","",IF(E28="",IF(G28="",""),IF(C28="Ne","",IF(E28="Tužilac",IF(P28>1,40,IF(S28="",IF(P28>0.9,35,IF(P28>0.8,30,IF(P28>0.7,20,IF(P28>0.6,15,IF(P28>0.5,10,0))))),IF(S28=1,40,IF(S28>0.9,35,IF(S28>0.8,30,IF(S28>0.7,20,IF(S28>0.6,15,IF(S28>0.5,10,0)))))))),IF(P28>1,25,IF(S28="",IF(P28>0.9,22,IF(P28>0.8,20,IF(P28>0.7,15,IF(P28>0.6,10,IF(P28>0.5,5,0))))),IF(S28=1,25,IF(S28>0.9,22,IF(S28>0.8,20,IF(S28>0.7,15,IF(S28>0.6,10,IF(S28>0.5,5,0))))))))))))
A29: 17 | F29: =IF(E29="Tužilac",1,IF(E29="Zamjenik glavnog tužioca",2,IF(E29="Šef odjela",3,IF(E29="Član VSTV-a",4,IF(E29="Šef odsjeka",5,""))))) | J29: 260 | O29: =IF(G29="","",IF(G29="Ne treba rješavati predmete",1+(L29/J29*260)+M29+N29,(L29/J29*260+M29+N29)/G29)) | P29: =IF(K29>0,O29*(J29/(J29-K29)),O29) | S29: =IF(Q29="","",R29/Q29) | T29: =IF(C29="Ne","",IF(E29="",IF(G29="",""),IF(C29="Ne","",IF(E29="Tužilac",IF(P29>1,40,IF(S29="",IF(P29>0.9,35,IF(P29>0.8,30,IF(P29>0.7,20,IF(P29>0.6,15,IF(P29>0.5,10,0))))),IF(S29=1,40,IF(S29>0.9,35,IF(S29>0.8,30,IF(S29>0.7,20,IF(S29>0.6,15,IF(S29>0.5,10,0)))))))),IF(P29>1,25,IF(S29="",IF(P29>0.9,22,IF(P29>0.8,20,IF(P29>0.7,15,IF(P29>0.6,10,IF(P29>0.5,5,0))))),IF(S29=1,25,IF(S29>0.9,22,IF(S29>0.8,20,IF(S29>0.7,15,IF(S29>0.6,10,IF(S29>0.5,5,0))))))))))))
A30: 18 | F30: =IF(E30="Tužilac",1,IF(E30="Zamjenik glavnog tužioca",2,IF(E30="Šef odjela",3,IF(E30="Član VSTV-a",4,IF(E30="Šef odsjeka",5,""))))) | J30: 260 | O30: =IF(G30="","",IF(G30="Ne treba rješavati predmete",1+(L30/J30*260)+M30+N30,(L30/J30*260+M30+N30)/G30)) | P30: =IF(K30>0,O30*(J30/(J30-K30)),O30) | S30: =IF(Q30="","",R30/Q30) | T30: =IF(C30="Ne","",IF(E30="",IF(G30="",""),IF(C30="Ne","",IF(E30="Tužilac",IF(P30>1,40,IF(S30="",IF(P30>0.9,35,IF(P30>0.8,30,IF(P30>0.7,20,IF(P30>0.6,15,IF(P30>0.5,10,0))))),IF(S30=1,40,IF(S30>0.9,35,IF(S30>0.8,30,IF(S30>0.7,20,IF(S30>0.6,15,IF(S30>0.5,10,0)))))))),IF(P30>1,25,IF(S30="",IF(P30>0.9,22,IF(P30>0.8,20,IF(P30>0.7,15,IF(P30>0.6,10,IF(P30>0.5,5,0))))),IF(S30=1,25,IF(S30>0.9,22,IF(S30>0.8,20,IF(S30>0.7,15,IF(S30>0.6,10,IF(S30>0.5,5,0))))))))))))
A31: 19 | F31: =IF(E31="Tužilac",1,IF(E31="Zamjenik glavnog tužioca",2,IF(E31="Šef odjela",3,IF(E31="Član VSTV-a",4,IF(E31="Šef odsjeka",5,""))))) | J31: 260 | O31: =IF(G31="","",IF(G31="Ne treba rješavati predmete",1+(L31/J31*260)+M31+N31,(L31/J31*260+M31+N31)/G31)) | P31: =IF(K31>0,O31*(J31/(J31-K31)),O31) | S31: =IF(Q31="","",R31/Q31) | T31: =IF(C31="Ne","",IF(E31="",IF(G31="",""),IF(C31="Ne","",IF(E31="Tužilac",IF(P31>1,40,IF(S31="",IF(P31>0.9,35,IF(P31>0.8,30,IF(P31>0.7,20,IF(P31>0.6,15,IF(P31>0.5,10,0))))),IF(S31=1,40,IF(S31>0.9,35,IF(S31>0.8,30,IF(S31>0.7,20,IF(S31>0.6,15,IF(S31>0.5,10,0)))))))),IF(P31>1,25,IF(S31="",IF(P31>0.9,22,IF(P31>0.8,20,IF(P31>0.7,15,IF(P31>0.6,10,IF(P31>0.5,5,0))))),IF(S31=1,25,IF(S31>0.9,22,IF(S31>0.8,20,IF(S31>0.7,15,IF(S31>0.6,10,IF(S31>0.5,5,0))))))))))))
A32: 20 | F32: =IF(E32="Tužilac",1,IF(E32="Zamjenik glavnog tužioca",2,IF(E32="Šef odjela",3,IF(E32="Član VSTV-a",4,IF(E32="Šef odsjeka",5,""))))) | J32: 260 | O32: =IF(G32="","",IF(G32="Ne treba rješavati predmete",1+(L32/J32*260)+M32+N32,(L32/J32*260+M32+N32)/G32)) | P32: =IF(K32>0,O32*(J32/(J32-K32)),O32) | S32: =IF(Q32="","",R32/Q32) | T32: =IF(C32="Ne","",IF(E32="",IF(G32="",""),IF(C32="Ne","",IF(E32="Tužilac",IF(P32>1,40,IF(S32="",IF(P32>0.9,35,IF(P32>0.8,30,IF(P32>0.7,20,IF(P32>0.6,15,IF(P32>0.5,10,0))))),IF(S32=1,40,IF(S32>0.9,35,IF(S32>0.8,30,IF(S32>0.7,20,IF(S32>0.6,15,IF(S32>0.5,10,0)))))))),IF(P32>1,25,IF(S32="",IF(P32>0.9,22,IF(P32>0.8,20,IF(P32>0.7,15,IF(P32>0.6,10,IF(P32>0.5,5,0))))),IF(S32=1,25,IF(S32>0.9,22,IF(S32>0.8,20,IF(S32>0.7,15,IF(S32>0.6,10,IF(S32>0.5,5,0))))))))))))
... A77: 65 | F77: =IF(E77="Tužilac",1,IF(E77="Zamjenik glavnog tužioca",2,IF(E77="Šef odjela",3,IF(E77="Član VSTV-a",4,IF(E77="Šef odsjeka",5,""))))) | J77: 260 | O77: =IF(G77="","",IF(G77="Ne treba rješavati predmete",1+(L77/J77*260)+M77+N77,(L77/J77*260+M77+N77)/G77)) | P77: =IF(K77>0,O77*(J77/(J77-K77)),O77) | S77: =IF(Q77="","",R77/Q77) | T77: =IF(C77="Ne","",IF(E77="",IF(G77="",""),IF(C77="Ne","",IF(E77="Tužilac",IF(P77>1,40,IF(S77="",IF(P77>0.9,35,IF(P77>0.8,30,IF(P77>0.7,20,IF(P77>0.6,15,IF(P77>0.5,10,0))))),IF(S77=1,40,IF(S77>0.9,35,IF(S77>0.8,30,IF(S77>0.7,20,IF(S77>0.6,15,IF(S77>0.5,10,0)))))))),IF(P77>1,25,IF(S77="",IF(P77>0.9,22,IF(P77>0.8,20,IF(P77>0.7,15,IF(P77>0.6,10,IF(P77>0.5,5,0))))),IF(S77=1,25,IF(S77>0.9,22,IF(S77>0.8,20,IF(S77>0.7,15,IF(S77>0.6,10,IF(S77>0.5,5,0))))))))))))
F78: =IF(E78="Tužilac",1,IF(E78="Zamjenik glavnog tužioca",2,IF(E78="Šef odjela",3,IF(E78="Član VSTV-a",4,IF(E78="Šef odsjeka",5,""))))) | J78: 260 | O78: =IF(G78="","",IF(G78="Ne treba rješavati predmete",1+(L78/J78*260)+M78+N78,(L78/J78*260+M78+N78)/G78)) | P78: =IF(K78>0,O78*(J78/(J78-K78)),O78) | S78: =IF(Q78="","",R78/Q78) | T78: =IF(C78="Ne","",IF(E78="",IF(G78="",""),IF(C78="Ne","",IF(E78="Tužilac",IF(P78>1,40,IF(S78="",IF(P78>0.9,35,IF(P78>0.8,30,IF(P78>0.7,20,IF(P78>0.6,15,IF(P78>0.5,10,0))))),IF(S78=1,40,IF(S78>0.9,35,IF(S78>0.8,30,IF(S78>0.7,20,IF(S78>0.6,15,IF(S78>0.5,10,0)))))))),IF(P78>1,25,IF(S78="",IF(P78>0.9,22,IF(P78>0.8,20,IF(P78>0.7,15,IF(P78>0.6,10,IF(P78>0.5,5,0))))),IF(S78=1,25,IF(S78>0.9,22,IF(S78>0.8,20,IF(S78>0.7,15,IF(S78>0.6,10,IF(S78>0.5,5,0))))))))))))
F79: =IF(E79="Tužilac",1,IF(E79="Zamjenik glavnog tužioca",2,IF(E79="Šef odjela",3,IF(E79="Član VSTV-a",4,IF(E79="Šef odsjeka",5,""))))) | J79: 260 | O79: =IF(G79="","",IF(G79="Ne treba rješavati predmete",1+(L79/J79*260)+M79+N79,(L79/J79*260+M79+N79)/G79)) | P79: =IF(K79>0,O79*(J79/(J79-K79)),O79) | S79: =IF(Q79="","",R79/Q79) | T79: =IF(C79="Ne","",IF(E79="",IF(G79="",""),IF(C79="Ne","",IF(E79="Tužilac",IF(P79>1,40,IF(S79="",IF(P79>0.9,35,IF(P79>0.8,30,IF(P79>0.7,20,IF(P79>0.6,15,IF(P79>0.5,10,0))))),IF(S79=1,40,IF(S79>0.9,35,IF(S79>0.8,30,IF(S79>0.7,20,IF(S79>0.6,15,IF(S79>0.5,10,0)))))))),IF(P79>1,25,IF(S79="",IF(P79>0.9,22,IF(P79>0.8,20,IF(P79>0.7,15,IF(P79>0.6,10,IF(P79>0.5,5,0))))),IF(S79=1,25,IF(S79>0.9,22,IF(S79>0.8,20,IF(S79>0.7,15,IF(S79>0.6,10,IF(S79>0.5,5,0))))))))))))
F80: =IF(E80="Tužilac",1,IF(E80="Zamjenik glavnog tužioca",2,IF(E80="Šef odjela",3,IF(E80="Član VSTV-a",4,IF(E80="Šef odsjeka",5,""))))) | J80: 260 | O80: =IF(G80="","",IF(G80="Ne treba rješavati predmete",1+(L80/J80*260)+M80+N80,(L80/J80*260+M80+N80)/G80)) | P80: =IF(K80>0,O80*(J80/(J80-K80)),O80) | S80: =IF(Q80="","",R80/Q80) | T80: =IF(C80="Ne","",IF(E80="",IF(G80="",""),IF(C80="Ne","",IF(E80="Tužilac",IF(P80>1,40,IF(S80="",IF(P80>0.9,35,IF(P80>0.8,30,IF(P80>0.7,20,IF(P80>0.6,15,IF(P80>0.5,10,0))))),IF(S80=1,40,IF(S80>0.9,35,IF(S80>0.8,30,IF(S80>0.7,20,IF(S80>0.6,15,IF(S80>0.5,10,0)))))))),IF(P80>1,25,IF(S80="",IF(P80>0.9,22,IF(P80>0.8,20,IF(P80>0.7,15,IF(P80>0.6,10,IF(P80>0.5,5,0))))),IF(S80=1,25,IF(S80>0.9,22,IF(S80>0.8,20,IF(S80>0.7,15,IF(S80>0.6,10,IF(S80>0.5,5,0))))))))))))
F81: =IF(E81="Tužilac",1,IF(E81="Zamjenik glavnog tužioca",2,IF(E81="Šef odjela",3,IF(E81="Član VSTV-a",4,IF(E81="Šef odsjeka",5,""))))) | J81: 260 | O81: =IF(G81="","",IF(G81="Ne treba rješavati predmete",1+(L81/J81*260)+M81+N81,(L81/J81*260+M81+N81)/G81)) | P81: =IF(K81>0,O81*(J81/(J81-K81)),O81) | S81: =IF(Q81="","",R81/Q81) | T81: =IF(C81="Ne","",IF(E81="",IF(G81="",""),IF(C81="Ne","",IF(E81="Tužilac",IF(P81>1,40,IF(S81="",IF(P81>0.9,35,IF(P81>0.8,30,IF(P81>0.7,20,IF(P81>0.6,15,IF(P81>0.5,10,0))))),IF(S81=1,40,IF(S81>0.9,35,IF(S81>0.8,30,IF(S81>0.7,20,IF(S81>0.6,15,IF(S81>0.5,10,0)))))))),IF(P81>1,25,IF(S81="",IF(P81>0.9,22,IF(P81>0.8,20,IF(P81>0.7,15,IF(P81>0.6,10,IF(P81>0.5,5,0))))),IF(S81=1,25,IF(S81>0.9,22,IF(S81>0.8,20,IF(S81>0.7,15,IF(S81>0.6,10,IF(S81>0.5,5,0))))))))))))
F82: =IF(E82="Tužilac",1,IF(E82="Zamjenik glavnog tužioca",2,IF(E82="Šef odjela",3,IF(E82="Član VSTV-a",4,IF(E82="Šef odsjeka",5,""))))) | J82: 260 | O82: =IF(G82="","",IF(G82="Ne treba rješavati predmete",1+(L82/J82*260)+M82+N82,(L82/J82*260+M82+N82)/G82)) | P82: =IF(K82>0,O82*(J82/(J82-K82)),O82) | S82: =IF(Q82="","",R82/Q82) | T82: =IF(C82="Ne","",IF(E82="",IF(G82="",""),IF(C82="Ne","",IF(E82="Tužilac",IF(P82>1,40,IF(S82="",IF(P82>0.9,35,IF(P82>0.8,30,IF(P82>0.7,20,IF(P82>0.6,15,IF(P82>0.5,10,0))))),IF(S82=1,40,IF(S82>0.9,35,IF(S82>0.8,30,IF(S82>0.7,20,IF(S82>0.6,15,IF(S82>0.5,10,0)))))))),IF(P82>1,25,IF(S82="",IF(P82>0.9,22,IF(P82>0.8,20,IF(P82>0.7,15,IF(P82>0.6,10,IF(P82>0.5,5,0))))),IF(S82=1,25,IF(S82>0.9,22,IF(S82>0.8,20,IF(S82>0.7,15,IF(S82>0.6,10,IF(S82>0.5,5,0))))))))))))
F83: =IF(E83="Tužilac",1,IF(E83="Zamjenik glavnog tužioca",2,IF(E83="Šef odjela",3,IF(E83="Član VSTV-a",4,IF(E83="Šef odsjeka",5,""))))) | J83: 260 | O83: =IF(G83="","",IF(G83="Ne treba rješavati predmete",1+(L83/J83*260)+M83+N83,(L83/J83*260+M83+N83)/G83)) | P83: =IF(K83>0,O83*(J83/(J83-K83)),O83) | S83: =IF(Q83="","",R83/Q83) | T83: =IF(C83="Ne","",IF(E83="",IF(G83="",""),IF(C83="Ne","",IF(E83="Tužilac",IF(P83>1,40,IF(S83="",IF(P83>0.9,35,IF(P83>0.8,30,IF(P83>0.7,20,IF(P83>0.6,15,IF(P83>0.5,10,0))))),IF(S83=1,40,IF(S83>0.9,35,IF(S83>0.8,30,IF(S83>0.7,20,IF(S83>0.6,15,IF(S83>0.5,10,0)))))))),IF(P83>1,25,IF(S83="",IF(P83>0.9,22,IF(P83>0.8,20,IF(P83>0.7,15,IF(P83>0.6,10,IF(P83>0.5,5,0))))),IF(S83=1,25,IF(S83>0.9,22,IF(S83>0.8,20,IF(S83>0.7,15,IF(S83>0.6,10,IF(S83>0.5,5,0))))))))))))
F84: =IF(E84="Tužilac",1,IF(E84="Zamjenik glavnog tužioca",2,IF(E84="Šef odjela",3,IF(E84="Član VSTV-a",4,IF(E84="Šef odsjeka",5,""))))) | J84: 260 | O84: =IF(G84="","",IF(G84="Ne treba rješavati predmete",1+(L84/J84*260)+M84+N84,(L84/J84*260+M84+N84)/G84)) | P84: =IF(K84>0,O84*(J84/(J84-K84)),O84) | S84: =IF(Q84="","",R84/Q84) | T84: =IF(C84="Ne","",IF(E84="",IF(G84="",""),IF(C84="Ne","",IF(E84="Tužilac",IF(P84>1,40,IF(S84="",IF(P84>0.9,35,IF(P84>0.8,30,IF(P84>0.7,20,IF(P84>0.6,15,IF(P84>0.5,10,0))))),IF(S84=1,40,IF(S84>0.9,35,IF(S84>0.8,30,IF(S84>0.7,20,IF(S84>0.6,15,IF(S84>0.5,10,0)))))))),IF(P84>1,25,IF(S84="",IF(P84>0.9,22,IF(P84>0.8,20,IF(P84>0.7,15,IF(P84>0.6,10,IF(P84>0.5,5,0))))),IF(S84=1,25,IF(S84>0.9,22,IF(S84>0.8,20,IF(S84>0.7,15,IF(S84>0.6,10,IF(S84>0.5,5,0))))))))))))
F85: =IF(E85="Tužilac",1,IF(E85="Zamjenik glavnog tužioca",2,IF(E85="Šef odjela",3,IF(E85="Član VSTV-a",4,IF(E85="Šef odsjeka",5,""))))) | J85: 260 | O85: =IF(G85="","",IF(G85="Ne treba rješavati predmete",1+(L85/J85*260)+M85+N85,(L85/J85*260+M85+N85)/G85)) | P85: =IF(K85>0,O85*(J85/(J85-K85)),O85) | S85: =IF(Q85="","",R85/Q85) | T85: =IF(C85="Ne","",IF(E85="",IF(G85="",""),IF(C85="Ne","",IF(E85="Tužilac",IF(P85>1,40,IF(S85="",IF(P85>0.9,35,IF(P85>0.8,30,IF(P85>0.7,20,IF(P85>0.6,15,IF(P85>0.5,10,0))))),IF(S85=1,40,IF(S85>0.9,35,IF(S85>0.8,30,IF(S85>0.7,20,IF(S85>0.6,15,IF(S85>0.5,10,0)))))))),IF(P85>1,25,IF(S85="",IF(P85>0.9,22,IF(P85>0.8,20,IF(P85>0.7,15,IF(P85>0.6,10,IF(P85>0.5,5,0))))),IF(S85=1,25,IF(S85>0.9,22,IF(S85>0.8,20,IF(S85>0.7,15,IF(S85>0.6,10,IF(S85>0.5,5,0))))))))))))
F86: =IF(E86="Tužilac",1,IF(E86="Zamjenik glavnog tužioca",2,IF(E86="Šef odjela",3,IF(E86="Član VSTV-a",4,IF(E86="Šef odsjeka",5,""))))) | J86: 260 | O86: =IF(G86="","",IF(G86="Ne treba rješavati predmete",1+(L86/J86*260)+M86+N86,(L86/J86*260+M86+N86)/G86)) | P86: =IF(K86>0,O86*(J86/(J86-K86)),O86) | S86: =IF(Q86="","",R86/Q86) | T86: =IF(C86="Ne","",IF(E86="",IF(G86="",""),IF(C86="Ne","",IF(E86="Tužilac",IF(P86>1,40,IF(S86="",IF(P86>0.9,35,IF(P86>0.8,30,IF(P86>0.7,20,IF(P86>0.6,15,IF(P86>0.5,10,0))))),IF(S86=1,40,IF(S86>0.9,35,IF(S86>0.8,30,IF(S86>0.7,20,IF(S86>0.6,15,IF(S86>0.5,10,0)))))))),IF(P86>1,25,IF(S86="",IF(P86>0.9,22,IF(P86>0.8,20,IF(P86>0.7,15,IF(P86>0.6,10,IF(P86>0.5,5,0))))),IF(S86=1,25,IF(S86>0.9,22,IF(S86>0.8,20,IF(S86>0.7,15,IF(S86>0.6,10,IF(S86>0.5,5,0))))))))))))
F87: =IF(E87="Tužilac",1,IF(E87="Zamjenik glavnog tužioca",2,IF(E87="Šef odjela",3,IF(E87="Član VSTV-a",4,IF(E87="Šef odsjeka",5,""))))) | J87: 260 | O87: =IF(G87="","",IF(G87="Ne treba rješavati predmete",1+(L87/J87*260)+M87+N87,(L87/J87*260+M87+N87)/G87)) | P87: =IF(K87>0,O87*(J87/(J87-K87)),O87) | S87: =IF(Q87="","",R87/Q87) | T87: =IF(C87="Ne","",IF(E87="",IF(G87="",""),IF(C87="Ne","",IF(E87="Tužilac",IF(P87>1,40,IF(S87="",IF(P87>0.9,35,IF(P87>0.8,30,IF(P87>0.7,20,IF(P87>0.6,15,IF(P87>0.5,10,0))))),IF(S87=1,40,IF(S87>0.9,35,IF(S87>0.8,30,IF(S87>0.7,20,IF(S87>0.6,15,IF(S87>0.5,10,0)))))))),IF(P87>1,25,IF(S87="",IF(P87>0.9,22,IF(P87>0.8,20,IF(P87>0.7,15,IF(P87>0.6,10,IF(P87>0.5,5,0))))),IF(S87=1,25,IF(S87>0.9,22,IF(S87>0.8,20,IF(S87>0.7,15,IF(S87>0.6,10,IF(S87>0.5,5,0))))))))))))
O88: KOLEKTIVNA NORMA TUŽILAŠTVA | P88: =IF(P12="",IF(P13="","",AVERAGEIF(P12:P87,">0,2")),AVERAGEIF(P12:P87,">0,2"))
O89: BODOVANJE ZA OSTVARENU KOLEKTIVNU NORMU TUŽILAŠTVA U SKLADU SA ČLANOM 14. STAVOM 2 KRITERIJA ZA OCJENJIVANJE RADA GLAVNOG TUŽIOCA | P89: =IF(P88="","",IF(P88>1,15,IF(P88>0.9,13,IF(P88>0.8,10,IF(P88>0.7,8,IF(P88>0.6,5,IF(P88>0.5,3,0)))))))
B91: Komentari za norme NPF-a unesene u plava polja
B92: Primjer - Tužilac 1 | C92: 8 mjeseci tužilac, 4 mjeseca šef odjeljenja-80% norme tužioca; (8/12)*100% + (4/12)*80% = 93% | G92: 0.93
A104: NAPOMENA 1: U Tabelu Ia se unose podaci o ostvarenoj orijentacijskoj normi za sve nosioce pravosudnih funkcija, uključujući i one kod kojih je ukupno ostvarenje norme ispod 20%: novoimenovani tužioci, tužioci koji su imenovani u drugu instituciju, kao i tužioci koji su prestali sa radom zbog: penzionisanja, podnošenja ostavke, smrti, gubitka radne sposobnosti, razrješenja od dužnosti, privremenog ili trajnog udaljenja od vršenja dužnosti itd. (član 5. Uputstva za primjenu Kriterija za ocjenjivanje rada glavnog tužioca Tužilaštva Bosne i Hercegovine, Federalnog tužilaštva Federacije Bosne i Hercegovine, Republičkog javnog tužilaštva Republike Srpske i Tužilaštva Brčko Distrikta Bosne i Hercegovine, Kriterija za ocjenjivanje rada glavnih tužilaca, zamjenika glavnih tužilaca, šefova odjela/odsjeka u tužilaštvima u Bosni i Hercegovini i Kriterija za ocjenjivanje rada tužilaca u Bosni i Hercegovini). Ostvarena kolektivna norma tužilaštva automatski će se obračunati i glavnom tužiocu će se dodijeliti odgovarajući broj bodova u skladu sa članom 14. stav 2. Kriterija za ocjenjivanje rada glavnog tužioca Tužilaštva Bosne i Hercegovine, Federalnog tužilaštva Federacije Bosne i Hercegovine, Republičkog javnog tužilaštva Republike Srpske i Tužilaštva Brčko Distrikta Bosne i Hercegovine. Ukoliko tužilaštvo nije imalo dovoljan broj predmeta u radu za ostvarenje orijentacijske norme, potrebno je manuelno unijeti ukupan broj predmeta koji su bili u radu u tužilaštvu kao i ukupan broj riješenih predmeta u tužilaštvu u periodu ocjenjivanja. Procenat riješenih predmeta automatski će se obračunati te glavnom tužiocu dodijeliti odgovarajući broj bodova u skladu sa članom 14. stav 3. Kriterija za ocjenjivanje rada glavnog tužioca Tužilaštva Bosne i Hercegovine, Federalnog tužilaštva Federacije Bosne i Hercegovine, Republičkog javnog tužilaštva Republike Srpske i Tužilaštva Brčko Distrikta Bosne i Hercegovine. | Q104: Nedovoljan broj predmeta u radu
Q105: broj predmeta u radu | R105: broj riješenih predmeta | S105: procenat riješenih predmeta
S106: =IF(Q106="","",R106/Q106)
R107: BODOVANJE ZA OSTVARENU KOLEKTIVNU NORMU TUŽILAŠTVA U SKLADU SA ČLANOM 14. STAVOM 3 KRITERIJA ZA OCJENJIVANJE RADA GLAVNOG TUŽIOCA | S107: =IF(S106="","",IF(S106=1,15,IF(S106>0.9,13,IF(S106>0.8,11,IF(S106>0.7,9,IF(S106>0.6,6,IF(S106>0.5,3,0)))))))
A110: Tabela Ib: Obračun norme za proces ocjenjivaja za NPF-a koji su u toku godine prešli iz jednog tužilaštva u drugo tužilaštvo - Obračun prema Tački IIc. 1) Instrukcije za obračun individualne i kolektivne orijentacione norme u tužilaštvima (pogledati NAPOMENU 4)
A111: Ime i prezime glavnog tužioca | O111: Ukupna ostvarena orijentacijska norma koja se unosi u Obrazac za ocjenjivanje = | P111: =P112+P113 -> 0
A112: Tužilaštvo 1 | E112: Glavni tužilac | O112: =IF(G112="",0,IF(G112="Ne treba rješavati predmete",1+SUM(L112:N112),(SUM(L112:N112)/G112))) -> 0 | P112: =IF(K112>0,O112*(J112/(J112-K112)),O112) -> 0 | S112: =IF(Q112="","",R112/Q112) | T112: =IF(P112="","",IF(C112="Ne","",IF(G112="Ne treba rješavati predmete","",IF((P112+P113)>1,20,IF(S112="",IF((P112+P113)>0.9,18,IF((P112+P113)>0.8,16,IF((P112+P113)>0.7,12,IF((P112+P113)>0.6,8,IF((P112+P113)>0.5,4,0))))),IF((S112+S113)=1,20,IF((S112+S113)>0.9,18,IF((S112+S113)>0.8,16,IF((S112+S113)>0.7,12,IF((S112+S113)>0.6,8,IF((S112+S113)>0.5,4,0))))))))))) -> 0
A113: Tužilaštvo 2 | O113: =IF(G113="",0,(SUM(L113:N113)/G113)) -> 0 | P113: =IF(K113>0,O113*(J113/(J113-K113)),O113) -> 0 | S113: =IF(Q113="","",R113/Q113) | T113: =IF(C113="Ne","",IF(E113="",IF(G113="",""),IF(C113="Ne","",IF(E113="Tužilac",IF((P112+P113)>1,40,IF(S113="",IF((P112+P113)>0.9,35,IF((P112+P113)>0.8,30,IF((P112+P113)>0.7,20,IF((P112+P113)>0.6,15,IF((P112+P113)>0.5,10,0))))),IF((S112+S113)=1,40,IF((S112+S113)>0.9,43,IF((S112+S113)>0.8,30,IF((S112+S113)>0.7,20,IF((S112+S113)>0.6,15,IF((S112+S113)>0.5,10,0)))))))),IF((P112+P113)>1,25,IF(S113="",IF((P112+P113)>0.9,22,IF((P112+P113)>0.8,20,IF((P112+P113)>0.7,15,IF((P112+P113)>0.6,10,IF((P112+P113)>0.5,5,0))))),IF((S112+S113)=1,25,IF((S112+S113)>0.9,22,IF((S112+S113)>0.8,20,IF((S112+S113)>0.7,15,IF((S112+S113)>0.6,10,IF((S112+S113)>0.5,5,0))))))))))))
A114: Ime i prezime nosioca pravosudne funkcije | O114: Ukupna ostvarena orijentacijska norma koja se unosi u Obrazac za ocjenjivanje = | P114: =P115+P116 -> 0
A115: Tužilaštvo 1 | O115: =IF(G115="",0,(SUM(L115:N115)/G115)) -> 0 | P115: =IF(K115>0,O115*(J115/(J115-K115)),O115) -> 0 | S115: =IF(Q115="","",R115/Q115) | T115: =IF(C115="Ne","",IF(E115="",IF(G115="",""),IF(C115="Ne","",IF(E115="Tužilac",IF((P116+P115)>1,40,IF(S115="",IF((P116+P115)>0.9,35,IF((P116+P115)>0.8,30,IF((P116+P115)>0.7,20,IF((P116+P115)>0.6,15,IF((P116+P115)>0.5,10,0))))),IF((S116+S115)=1,40,IF((S116+S115)>0.9,35,IF((S116+S115)>0.8,30,IF((S116+S115)>0.7,20,IF((S116+S115)>0.6,15,IF((S116+S115)>0.5,10,0)))))))),IF((P116+P115)>1,25,IF(S115="",IF((P116+P115)>0.9,22,IF((P116+P115)>0.8,20,IF((P116+P115)>0.7,15,IF((P116+P115)>0.6,10,IF((P116+P115)>0.5,5,0))))),IF((S116+S115)=1,25,IF((S116+S115)>0.9,22,IF((S116+S115)>0.8,20,IF((S116+S115)>0.7,15,IF((S116+S115)>0.6,10,IF((S116+S115)>0.5,5,0))))))))))))
A116: Tužilaštvo 2 | F116: =IF(E116="Tužilac",1,IF(E116="Zamjenik glavnog tužioca",2,IF(E116="Šef odjela",3,IF(E116="Član VSTV-a",4,IF(E116="Šef odsjeka",5,""))))) | O116: =IF(G116="",0,(SUM(L116:N116)/G116)) -> 0 | P116: =IF(K116>0,O116*(J116/(J116-K116)),O116) -> 0 | S116: =IF(Q116="","",R116/Q116) | T116: =IF(C116="Ne","",IF(E116="",IF(G116="",""),IF(C116="Ne","",IF(E116="Tužilac",IF((P115+P116)>1,40,IF(S116="",IF((P115+P116)>0.9,35,IF((P115+P116)>0.8,30,IF((P115+P116)>0.7,20,IF((P115+P116)>0.6,15,IF((P115+P116)>0.5,10,0))))),IF((S115+S116)=1,40,IF((S115+S116)>0.9,43,IF((S115+S116)>0.8,30,IF((S115+S116)>0.7,20,IF((S115+S116)>0.6,15,IF((S115+S116)>0.5,10,0)))))))),IF((P115+P116)>1,25,IF(S116="",IF((P115+P116)>0.9,22,IF((P115+P116)>0.8,20,IF((P115+P116)>0.7,15,IF((P115+P116)>0.6,10,IF((P115+P116)>0.5,5,0))))),IF((S115+S116)=1,25,IF((S115+S116)>0.9,22,IF((S115+S116)>0.8,20,IF((S115+S116)>0.7,15,IF((S115+S116)>0.6,10,IF((S115+S116)>0.5,5,0))))))))))))
A117: Ime i prezime nosioca pravosudne funkcije | O117: Ukupna ostvarena orijentacijska norma koja se unosi u Obrazac za ocjenjivanje = | P117: =P118+P119 -> 0
A118: Tužilaštvo 1 | F118: =IF(E118="Tužilac",1,IF(E118="Zamjenik glavnog tužioca",2,IF(E118="Šef odjela",3,IF(E118="Član VSTV-a",4,IF(E118="Šef odsjeka",5,""))))) | O118: =IF(G118="",0,(SUM(L118:N118)/G118)) -> 0 | P118: =IF(K118>0,O118*(J118/(J118-K118)),O118) -> 0 | S118: =IF(Q118="","",R118/Q118) | T118: =IF(C118="Ne","",IF(E118="",IF(G118="",""),IF(C118="Ne","",IF(E118="Tužilac",IF((P119+P118)>1,40,IF(S118="",IF((P119+P118)>0.9,35,IF((P119+P118)>0.8,30,IF((P119+P118)>0.7,20,IF((P119+P118)>0.6,15,IF((P119+P118)>0.5,10,0))))),IF((S119+S118)=1,40,IF((S119+S118)>0.9,35,IF((S119+S118)>0.8,30,IF((S119+S118)>0.7,20,IF((S119+S118)>0.6,15,IF((S119+S118)>0.5,10,0)))))))),IF((P119+P118)>1,25,IF(S118="",IF((P119+P118)>0.9,22,IF((P119+P118)>0.8,20,IF((P119+P118)>0.7,15,IF((P119+P118)>0.6,10,IF((P119+P118)>0.5,5,0))))),IF((S119+S118)=1,25,IF((S119+S118)>0.9,22,IF((S119+S118)>0.8,20,IF((S119+S118)>0.7,15,IF((S119+S118)>0.6,10,IF((S119+S118)>0.5,5,0))))))))))))
A119: Tužilaštvo 2 | F119: =IF(E119="Tužilac",1,IF(E119="Zamjenik glavnog tužioca",2,IF(E119="Šef odjela",3,IF(E119="Član VSTV-a",4,IF(E119="Šef odsjeka",5,""))))) | O119: =IF(G119="",0,(SUM(L119:N119)/G119)) -> 0 | P119: =IF(K119>0,O119*(J119/(J119-K119)),O119) -> 0 | S119: =IF(Q119="","",R119/Q119) | T119: =IF(C119="Ne","",IF(E119="",IF(G119="",""),IF(C119="Ne","",IF(E119="Tužilac",IF((P118+P119)>1,40,IF(S119="",IF((P118+P119)>0.9,35,IF((P118+P119)>0.8,30,IF((P118+P119)>0.7,20,IF((P118+P119)>0.6,15,IF((P118+P119)>0.5,10,0))))),IF((S118+S119)=1,40,IF((S118+S119)>0.9,43,IF((S118+S119)>0.8,30,IF((S118+S119)>0.7,20,IF((S118+S119)>0.6,15,IF((S118+S119)>0.5,10,0)))))))),IF((P118+P119)>1,25,IF(S119="",IF((P118+P119)>0.9,22,IF((P118+P119)>0.8,20,IF((P118+P119)>0.7,15,IF((P118+P119)>0.6,10,IF((P118+P119)>0.5,5,0))))),IF((S118+S119)=1,25,IF((S118+S119)>0.9,22,IF((S118+S119)>0.8,20,IF((S118+S119)>0.7,15,IF((S118+S119)>0.6,10,IF((S118+S119)>0.5,5,0))))))))))))
A120: Ime i prezime nosioca pravosudne funkcije | O120: Ukupna ostvarena orijentacijska norma koja se unosi u Obrazac za ocjenjivanje = | P120: =P121+P122 -> 0
A121: Tužilaštvo 1 | F121: =IF(E121="Tužilac",1,IF(E121="Zamjenik glavnog tužioca",2,IF(E121="Šef odjela",3,IF(E121="Član VSTV-a",4,IF(E121="Šef odsjeka",5,""))))) | O121: =IF(G121="",0,(SUM(L121:N121)/G121)) -> 0 | P121: =IF(K121>0,O121*(J121/(J121-K121)),O121) -> 0 | S121: =IF(Q121="","",R121/Q121) | T121: =IF(C121="Ne","",IF(E121="",IF(G121="",""),IF(C121="Ne","",IF(E121="Tužilac",IF((P122+P121)>1,40,IF(S121="",IF((P122+P121)>0.9,35,IF((P122+P121)>0.8,30,IF((P122+P121)>0.7,20,IF((P122+P121)>0.6,15,IF((P122+P121)>0.5,10,0))))),IF((S122+S121)=1,40,IF((S122+S121)>0.9,35,IF((S122+S121)>0.8,30,IF((S122+S121)>0.7,20,IF((S122+S121)>0.6,15,IF((S122+S121)>0.5,10,0)))))))),IF((P122+P121)>1,25,IF(S121="",IF((P122+P121)>0.9,22,IF((P122+P121)>0.8,20,IF((P122+P121)>0.7,15,IF((P122+P121)>0.6,10,IF((P122+P121)>0.5,5,0))))),IF((S122+S121)=1,25,IF((S122+S121)>0.9,22,IF((S122+S121)>0.8,20,IF((S122+S121)>0.7,15,IF((S122+S121)>0.6,10,IF((S122+S121)>0.5,5,0))))))))))))
A122: Tužilaštvo 2 | F122: =IF(E122="Tužilac",1,IF(E122="Zamjenik glavnog tužioca",2,IF(E122="Šef odjela",3,IF(E122="Član VSTV-a",4,IF(E122="Šef odsjeka",5,""))))) | O122: =IF(G122="",0,(SUM(L122:N122)/G122)) -> 0 | P122: =IF(K122>0,O122*(J122/(J122-K122)),O122) -> 0 | S122: =IF(Q122="","",R122/Q122) | T122: =IF(C122="Ne","",IF(E122="",IF(G122="",""),IF(C122="Ne","",IF(E122="Tužilac",IF((P121+P122)>1,40,IF(S122="",IF((P121+P122)>0.9,35,IF((P121+P122)>0.8,30,IF((P121+P122)>0.7,20,IF((P121+P122)>0.6,15,IF((P121+P122)>0.5,10,0))))),IF((S121+S122)=1,40,IF((S121+S122)>0.9,43,IF((S121+S122)>0.8,30,IF((S121+S122)>0.7,20,IF((S121+S122)>0.6,15,IF((S121+S122)>0.5,10,0)))))))),IF((P121+P122)>1,25,IF(S122="",IF((P121+P122)>0.9,22,IF((P121+P122)>0.8,20,IF((P121+P122)>0.7,15,IF((P121+P122)>0.6,10,IF((P121+P122)>0.5,5,0))))),IF((S121+S122)=1,25,IF((S121+S122)>0.9,22,IF((S121+S122)>0.8,20,IF((S121+S122)>0.7,15,IF((S121+S122)>0.6,10,IF((S121+S122)>0.5,5,0))))))))))))
A123: Ime i prezime nosioca pravosudne funkcije | O123: Ukupna ostvarena orijentacijska norma koja se unosi u Obrazac za ocjenjivanje = | P123: =P124+P125 -> 0
A124: Tužilaštvo 1 | F124: =IF(E124="Tužilac",1,IF(E124="Zamjenik glavnog tužioca",2,IF(E124="Šef odjela",3,IF(E124="Član VSTV-a",4,IF(E124="Šef odsjeka",5,""))))) | O124: =IF(G124="",0,(SUM(L124:N124)/G124)) -> 0 | P124: =IF(K124>0,O124*(J124/(J124-K124)),O124) -> 0 | S124: =IF(Q124="","",R124/Q124) | T124: =IF(C124="Ne","",IF(E124="",IF(G124="",""),IF(C124="Ne","",IF(E124="Tužilac",IF((P125+P124)>1,40,IF(S124="",IF((P125+P124)>0.9,35,IF((P125+P124)>0.8,30,IF((P125+P124)>0.7,20,IF((P125+P124)>0.6,15,IF((P125+P124)>0.5,10,0))))),IF((S125+S124)=1,40,IF((S125+S124)>0.9,35,IF((S125+S124)>0.8,30,IF((S125+S124)>0.7,20,IF((S125+S124)>0.6,15,IF((S125+S124)>0.5,10,0)))))))),IF((P125+P124)>1,25,IF(S124="",IF((P125+P124)>0.9,22,IF((P125+P124)>0.8,20,IF((P125+P124)>0.7,15,IF((P125+P124)>0.6,10,IF((P125+P124)>0.5,5,0))))),IF((S125+S124)=1,25,IF((S125+S124)>0.9,22,IF((S125+S124)>0.8,20,IF((S125+S124)>0.7,15,IF((S125+S124)>0.6,10,IF((S125+S124)>0.5,5,0))))))))))))
A125: Tužilaštvo 2 | F125: =IF(E125="Tužilac",1,IF(E125="Zamjenik glavnog tužioca",2,IF(E125="Šef odjela",3,IF(E125="Član VSTV-a",4,IF(E125="Šef odsjeka",5,""))))) | O125: =IF(G125="",0,(SUM(L125:N125)/G125)) -> 0 | P125: =IF(K125>0,O125*(J125/(J125-K125)),O125) -> 0 | S125: =IF(Q125="","",R125/Q125) | T125: =IF(C125="Ne","",IF(E125="",IF(G125="",""),IF(C125="Ne","",IF(E125="Tužilac",IF((P124+P125)>1,40,IF(S125="",IF((P124+P125)>0.9,35,IF((P124+P125)>0.8,30,IF((P124+P125)>0.7,20,IF((P124+P125)>0.6,15,IF((P124+P125)>0.5,10,0))))),IF((S124+S125)=1,40,IF((S124+S125)>0.9,43,IF((S124+S125)>0.8,30,IF((S124+S125)>0.7,20,IF((S124+S125)>0.6,15,IF((S124+S125)>0.5,10,0)))))))),IF((P124+P125)>1,25,IF(S125="",IF((P124+P125)>0.9,22,IF((P124+P125)>0.8,20,IF((P124+P125)>0.7,15,IF((P124+P125)>0.6,10,IF((P124+P125)>0.5,5,0))))),IF((S124+S125)=1,25,IF((S124+S125)>0.9,22,IF((S124+S125)>0.8,20,IF((S124+S125)>0.7,15,IF((S124+S125)>0.6,10,IF((S124+S125)>0.5,5,0))))))))))))
A126: Ime i prezime nosioca pravosudne funkcije | O126: Ukupna ostvarena orijentacijska norma koja se unosi u Obrazac za ocjenjivanje = | P126: =P127+P128 -> 0
A127: Tužilaštvo 1 | F127: =IF(E127="Tužilac",1,IF(E127="Zamjenik glavnog tužioca",2,IF(E127="Šef odjela",3,IF(E127="Član VSTV-a",4,IF(E127="Šef odsjeka",5,""))))) | O127: =IF(G127="",0,(SUM(L127:N127)/G127)) -> 0 | P127: =IF(K127>0,O127*(J127/(J127-K127)),O127) -> 0 | S127: =IF(Q127="","",R127/Q127) | T127: =IF(C127="Ne","",IF(E127="",IF(G127="",""),IF(C127="Ne","",IF(E127="Tužilac",IF((P128+P127)>1,40,IF(S127="",IF((P128+P127)>0.9,35,IF((P128+P127)>0.8,30,IF((P128+P127)>0.7,20,IF((P128+P127)>0.6,15,IF((P128+P127)>0.5,10,0))))),IF((S128+S127)=1,40,IF((S128+S127)>0.9,35,IF((S128+S127)>0.8,30,IF((S128+S127)>0.7,20,IF((S128+S127)>0.6,15,IF((S128+S127)>0.5,10,0)))))))),IF((P128+P127)>1,25,IF(S127="",IF((P128+P127)>0.9,22,IF((P128+P127)>0.8,20,IF((P128+P127)>0.7,15,IF((P128+P127)>0.6,10,IF((P128+P127)>0.5,5,0))))),IF((S128+S127)=1,25,IF((S128+S127)>0.9,22,IF((S128+S127)>0.8,20,IF((S128+S127)>0.7,15,IF((S128+S127)>0.6,10,IF((S128+S127)>0.5,5,0))))))))))))
A128: Tužilaštvo 2 | F128: =IF(E128="Tužilac",1,IF(E128="Zamjenik glavnog tužioca",2,IF(E128="Šef odjela",3,IF(E128="Član VSTV-a",4,IF(E128="Šef odsjeka",5,""))))) | O128: =IF(G128="",0,(SUM(L128:N128)/G128)) -> 0 | P128: =IF(K128>0,O128*(J128/(J128-K128)),O128) -> 0 | S128: =IF(Q128="","",R128/Q128) | T128: =IF(C128="Ne","",IF(E128="",IF(G128="",""),IF(C128="Ne","",IF(E128="Tužilac",IF((P127+P128)>1,40,IF(S128="",IF((P127+P128)>0.9,35,IF((P127+P128)>0.8,30,IF((P127+P128)>0.7,20,IF((P127+P128)>0.6,15,IF((P127+P128)>0.5,10,0))))),IF((S127+S128)=1,40,IF((S127+S128)>0.9,43,IF((S127+S128)>0.8,30,IF((S127+S128)>0.7,20,IF((S127+S128)>0.6,15,IF((S127+S128)>0.5,10,0)))))))),IF((P127+P128)>1,25,IF(S128="",IF((P127+P128)>0.9,22,IF((P127+P128)>0.8,20,IF((P127+P128)>0.7,15,IF((P127+P128)>0.6,10,IF((P127+P128)>0.5,5,0))))),IF((S127+S128)=1,25,IF((S127+S128)>0.9,22,IF((S127+S128)>0.8,20,IF((S127+S128)>0.7,15,IF((S127+S128)>0.6,10,IF((S127+S128)>0.5,5,0))))))))))))
A129: Ime i prezime nosioca pravosudne funkcije | O129: Ukupna ostvarena orijentacijska norma koja se unosi u Obrazac za ocjenjivanje = | P129: =P130+P131 -> 0
A130: Tužilaštvo 1 | F130: =IF(E130="Tužilac",1,IF(E130="Zamjenik glavnog tužioca",2,IF(E130="Šef odjela",3,IF(E130="Član VSTV-a",4,IF(E130="Šef odsjeka",5,""))))) | O130: =IF(G130="",0,(SUM(L130:N130)/G130)) -> 0 | P130: =IF(K130>0,O130*(J130/(J130-K130)),O130) -> 0 | S130: =IF(Q130="","",R130/Q130) | T130: =IF(C130="Ne","",IF(E130="",IF(G130="",""),IF(C130="Ne","",IF(E130="Tužilac",IF((P131+P130)>1,40,IF(S130="",IF((P131+P130)>0.9,35,IF((P131+P130)>0.8,30,IF((P131+P130)>0.7,20,IF((P131+P130)>0.6,15,IF((P131+P130)>0.5,10,0))))),IF((S131+S130)=1,40,IF((S131+S130)>0.9,35,IF((S131+S130)>0.8,30,IF((S131+S130)>0.7,20,IF((S131+S130)>0.6,15,IF((S131+S130)>0.5,10,0)))))))),IF((P131+P130)>1,25,IF(S130="",IF((P131+P130)>0.9,22,IF((P131+P130)>0.8,20,IF((P131+P130)>0.7,15,IF((P131+P130)>0.6,10,IF((P131+P130)>0.5,5,0))))),IF((S131+S130)=1,25,IF((S131+S130)>0.9,22,IF((S131+S130)>0.8,20,IF((S131+S130)>0.7,15,IF((S131+S130)>0.6,10,IF((S131+S130)>0.5,5,0))))))))))))
A131: Tužilaštvo 2 | F131: =IF(E131="Tužilac",1,IF(E131="Zamjenik glavnog tužioca",2,IF(E131="Šef odjela",3,IF(E131="Član VSTV-a",4,IF(E131="Šef odsjeka",5,""))))) | O131: =IF(G131="",0,(SUM(L131:N131)/G131)) -> 0 | P131: =IF(K131>0,O131*(J131/(J131-K131)),O131) -> 0 | S131: =IF(Q131="","",R131/Q131) | T131: =IF(C131="Ne","",IF(E131="",IF(G131="",""),IF(C131="Ne","",IF(E131="Tužilac",IF((P130+P131)>1,40,IF(S131="",IF((P130+P131)>0.9,35,IF((P130+P131)>0.8,30,IF((P130+P131)>0.7,20,IF((P130+P131)>0.6,15,IF((P130+P131)>0.5,10,0))))),IF((S130+S131)=1,40,IF((S130+S131)>0.9,43,IF((S130+S131)>0.8,30,IF((S130+S131)>0.7,20,IF((S130+S131)>0.6,15,IF((S130+S131)>0.5,10,0)))))))),IF((P130+P131)>1,25,IF(S131="",IF((P130+P131)>0.9,22,IF((P130+P131)>0.8,20,IF((P130+P131)>0.7,15,IF((P130+P131)>0.6,10,IF((P130+P131)>0.5,5,0))))),IF((S130+S131)=1,25,IF((S130+S131)>0.9,22,IF((S130+S131)>0.8,20,IF((S130+S131)>0.7,15,IF((S130+S131)>0.6,10,IF((S130+S131)>0.5,5,0))))))))))))
A132: Ime i prezime nosioca pravosudne funkcije | O132: Ukupna ostvarena orijentacijska norma koja se unosi u Obrazac za ocjenjivanje = | P132: =P133+P134 -> 0
A133: Tužilaštvo 1 | F133: =IF(E133="Tužilac",1,IF(E133="Zamjenik glavnog tužioca",2,IF(E133="Šef odjela",3,IF(E133="Član VSTV-a",4,IF(E133="Šef odsjeka",5,""))))) | O133: =IF(G133="",0,(SUM(L133:N133)/G133)) -> 0 | P133: =IF(K133>0,O133*(J133/(J133-K133)),O133) -> 0 | S133: =IF(Q133="","",R133/Q133) | T133: =IF(C133="Ne","",IF(E133="",IF(G133="",""),IF(C133="Ne","",IF(E133="Tužilac",IF((P134+P133)>1,40,IF(S133="",IF((P134+P133)>0.9,35,IF((P134+P133)>0.8,30,IF((P134+P133)>0.7,20,IF((P134+P133)>0.6,15,IF((P134+P133)>0.5,10,0))))),IF((S134+S133)=1,40,IF((S134+S133)>0.9,35,IF((S134+S133)>0.8,30,IF((S134+S133)>0.7,20,IF((S134+S133)>0.6,15,IF((S134+S133)>0.5,10,0)))))))),IF((P134+P133)>1,25,IF(S133="",IF((P134+P133)>0.9,22,IF((P134+P133)>0.8,20,IF((P134+P133)>0.7,15,IF((P134+P133)>0.6,10,IF((P134+P133)>0.5,5,0))))),IF((S134+S133)=1,25,IF((S134+S133)>0.9,22,IF((S134+S133)>0.8,20,IF((S134+S133)>0.7,15,IF((S134+S133)>0.6,10,IF((S134+S133)>0.5,5,0))))))))))))
A134: Tužilaštvo 2 | F134: =IF(E134="Tužilac",1,IF(E134="Zamjenik glavnog tužioca",2,IF(E134="Šef odjela",3,IF(E134="Član VSTV-a",4,IF(E134="Šef odsjeka",5,""))))) | O134: =IF(G134="",0,(SUM(L134:N134)/G134)) -> 0 | P134: =IF(K134>0,O134*(J134/(J134-K134)),O134) -> 0 | S134: =IF(Q134="","",R134/Q134) | T134: =IF(C134="Ne","",IF(E134="",IF(G134="",""),IF(C134="Ne","",IF(E134="Tužilac",IF((P133+P134)>1,40,IF(S134="",IF((P133+P134)>0.9,35,IF((P133+P134)>0.8,30,IF((P133+P134)>0.7,20,IF((P133+P134)>0.6,15,IF((P133+P134)>0.5,10,0))))),IF((S133+S134)=1,40,IF((S133+S134)>0.9,43,IF((S133+S134)>0.8,30,IF((S133+S134)>0.7,20,IF((S133+S134)>0.6,15,IF((S133+S134)>0.5,10,0)))))))),IF((P133+P134)>1,25,IF(S134="",IF((P133+P134)>0.9,22,IF((P133+P134)>0.8,20,IF((P133+P134)>0.7,15,IF((P133+P134)>0.6,10,IF((P133+P134)>0.5,5,0))))),IF((S133+S134)=1,25,IF((S133+S134)>0.9,22,IF((S133+S134)>0.8,20,IF((S133+S134)>0.7,15,IF((S133+S134)>0.6,10,IF((S133+S134)>0.5,5,0))))))))))))
A135: Ime i prezime nosioca pravosudne funkcije | O135: Ukupna ostvarena orijentacijska norma koja se unosi u Obrazac za ocjenjivanje = | P135: =P136+P137 -> 0
A136: Tužilaštvo 1 | F136: =IF(E136="Tužilac",1,IF(E136="Zamjenik glavnog tužioca",2,IF(E136="Šef odjela",3,IF(E136="Član VSTV-a",4,IF(E136="Šef odsjeka",5,""))))) | O136: =IF(G136="",0,(SUM(L136:N136)/G136)) -> 0 | P136: =IF(K136>0,O136*(J136/(J136-K136)),O136) -> 0 | S136: =IF(Q136="","",R136/Q136) | T136: =IF(C136="Ne","",IF(E136="",IF(G136="",""),IF(C136="Ne","",IF(E136="Tužilac",IF((P137+P136)>1,40,IF(S136="",IF((P137+P136)>0.9,35,IF((P137+P136)>0.8,30,IF((P137+P136)>0.7,20,IF((P137+P136)>0.6,15,IF((P137+P136)>0.5,10,0))))),IF((S137+S136)=1,40,IF((S137+S136)>0.9,35,IF((S137+S136)>0.8,30,IF((S137+S136)>0.7,20,IF((S137+S136)>0.6,15,IF((S137+S136)>0.5,10,0)))))))),IF((P137+P136)>1,25,IF(S136="",IF((P137+P136)>0.9,22,IF((P137+P136)>0.8,20,IF((P137+P136)>0.7,15,IF((P137+P136)>0.6,10,IF((P137+P136)>0.5,5,0))))),IF((S137+S136)=1,25,IF((S137+S136)>0.9,22,IF((S137+S136)>0.8,20,IF((S137+S136)>0.7,15,IF((S137+S136)>0.6,10,IF((S137+S136)>0.5,5,0))))))))))))
A137: Tužilaštvo 2 | F137: =IF(E137="Tužilac",1,IF(E137="Zamjenik glavnog tužioca",2,IF(E137="Šef odjela",3,IF(E137="Član VSTV-a",4,IF(E137="Šef odsjeka",5,""))))) | O137: =IF(G137="",0,(SUM(L137:N137)/G137)) -> 0 | P137: =IF(K137>0,O137*(J137/(J137-K137)),O137) -> 0 | S137: =IF(Q137="","",R137/Q137) | T137: =IF(C137="Ne","",IF(E137="",IF(G137="",""),IF(C137="Ne","",IF(E137="Tužilac",IF((P136+P137)>1,40,IF(S137="",IF((P136+P137)>0.9,35,IF((P136+P137)>0.8,30,IF((P136+P137)>0.7,20,IF((P136+P137)>0.6,15,IF((P136+P137)>0.5,10,0))))),IF((S136+S137)=1,40,IF((S136+S137)>0.9,43,IF((S136+S137)>0.8,30,IF((S136+S137)>0.7,20,IF((S136+S137)>0.6,15,IF((S136+S137)>0.5,10,0)))))))),IF((P136+P137)>1,25,IF(S137="",IF((P136+P137)>0.9,22,IF((P136+P137)>0.8,20,IF((P136+P137)>0.7,15,IF((P136+P137)>0.6,10,IF((P136+P137)>0.5,5,0))))),IF((S136+S137)=1,25,IF((S136+S137)>0.9,22,IF((S136+S137)>0.8,20,IF((S136+S137)>0.7,15,IF((S136+S137)>0.6,10,IF((S136+S137)>0.5,5,0))))))))))))
A138: Ime i prezime nosioca pravosudne funkcije | O138: Ukupna ostvarena orijentacijska norma koja se unosi u Obrazac za ocjenjivanje = | P138: =P139+P140 -> 0
A139: Tužilaštvo 1 | F139: =IF(E139="Tužilac",1,IF(E139="Zamjenik glavnog tužioca",2,IF(E139="Šef odjela",3,IF(E139="Član VSTV-a",4,IF(E139="Šef odsjeka",5,""))))) | O139: =IF(G139="",0,(SUM(L139:N139)/G139)) -> 0 | P139: =IF(K139>0,O139*(J139/(J139-K139)),O139) -> 0 | S139: =IF(Q139="","",R139/Q139) | T139: =IF(C139="Ne","",IF(E139="",IF(G139="",""),IF(C139="Ne","",IF(E139="Tužilac",IF((P140+P139)>1,40,IF(S139="",IF((P140+P139)>0.9,35,IF((P140+P139)>0.8,30,IF((P140+P139)>0.7,20,IF((P140+P139)>0.6,15,IF((P140+P139)>0.5,10,0))))),IF((S140+S139)=1,40,IF((S140+S139)>0.9,35,IF((S140+S139)>0.8,30,IF((S140+S139)>0.7,20,IF((S140+S139)>0.6,15,IF((S140+S139)>0.5,10,0)))))))),IF((P140+P139)>1,25,IF(S139="",IF((P140+P139)>0.9,22,IF((P140+P139)>0.8,20,IF((P140+P139)>0.7,15,IF((P140+P139)>0.6,10,IF((P140+P139)>0.5,5,0))))),IF((S140+S139)=1,25,IF((S140+S139)>0.9,22,IF((S140+S139)>0.8,20,IF((S140+S139)>0.7,15,IF((S140+S139)>0.6,10,IF((S140+S139)>0.5,5,0))))))))))))
A140: Tužilaštvo 2 | F140: =IF(E140="Tužilac",1,IF(E140="Zamjenik glavnog tužioca",2,IF(E140="Šef odjela",3,IF(E140="Član VSTV-a",4,IF(E140="Šef odsjeka",5,""))))) | O140: =IF(G140="",0,(SUM(L140:N140)/G140)) -> 0 | P140: =IF(K140>0,O140*(J140/(J140-K140)),O140) -> 0 | S140: =IF(Q140="","",R140/Q140) | T140: =IF(C140="Ne","",IF(E140="",IF(G140="",""),IF(C140="Ne","",IF(E140="Tužilac",IF((P139+P140)>1,40,IF(S140="",IF((P139+P140)>0.9,35,IF((P139+P140)>0.8,30,IF((P139+P140)>0.7,20,IF((P139+P140)>0.6,15,IF((P139+P140)>0.5,10,0))))),IF((S139+S140)=1,40,IF((S139+S140)>0.9,43,IF((S139+S140)>0.8,30,IF((S139+S140)>0.7,20,IF((S139+S140)>0.6,15,IF((S139+S140)>0.5,10,0)))))))),IF((P139+P140)>1,25,IF(S140="",IF((P139+P140)>0.9,22,IF((P139+P140)>0.8,20,IF((P139+P140)>0.7,15,IF((P139+P140)>0.6,10,IF((P139+P140)>0.5,5,0))))),IF((S139+S140)=1,25,IF((S139+S140)>0.9,22,IF((S139+S140)>0.8,20,IF((S139+S140)>0.7,15,IF((S139+S140)>0.6,10,IF((S139+S140)>0.5,5,0))))))))))))
H143: Tabela Ic: Obračun ostvarene kolektivne orijentacione norme u tužilačkim odjelima (pogledati NAPOMENE 6 i 7) | Q143: Nedovoljan broj predmeta u radu
A144: NAPOMENA 2: Kolona IX (Ukupan broj dana za obračun norme) je popunjena (261) i odnosi se na NPF-e koji su radili cijelu godinu u jednoj instituciji. Ukoliko NPF nije obavljao funkciju u pravosudnoj instituciji tokom dijela godine (Novoimenovani NPF ili NPF koji je u toku godine prestao obavljati pravosudnu funkciju) vrši se preračun broja radnih dana. Npr. Tužilac počeo sa radom 1.4.2022. Ukupan broj dana za obračun norme = (365 – 31 – 28 – 31) / 7 * 5 = 196 | H144: Ime i prezime šefa odjela | K144: Naziv odjela | N144: Broj tužilaca u odjelu* | O144: Kolektivna norma odjela | P144: Bodovanje u skladu sa čl. 24. st. 2 Kri. za ocje rada gl. tužilaca | Q144: broj predmeta u radu | R144: broj riješenih predmeta | S144: procenat riješenih predmeta | T144: Bodovanje u skladu sa čl. 24 st. 4 Kri.za ocje rada gl. tužilaca
P145: =IF(O145="","",IF(O145>1,15,IF(O145>0.9,13,IF(O145>0.8,11,IF(O145>0.7,9,IF(O145>0.6,6,IF(O145>0.5,3,0))))))) | S145: =IF(Q145="","",R145/Q145) | T145: =IF(S145="","",IF(S145=1,15,IF(S145>0.9,13,IF(S145>0.8,11,IF(S145>0.7,9,IF(S145>0.6,6,IF(S145>0.5,3,0)))))))
P146: =IF(O146="","",IF(O146>1,15,IF(O146>0.9,13,IF(O146>0.8,11,IF(O146>0.7,9,IF(O146>0.6,6,IF(O146>0.5,3,0))))))) | S146: =IF(Q146="","",R146/Q146) | T146: =IF(S146="","",IF(S146=1,15,IF(S146>0.9,13,IF(S146>0.8,11,IF(S146>0.7,9,IF(S146>0.6,6,IF(S146>0.5,3,0)))))))
P147: =IF(O147="","",IF(O147>1,15,IF(O147>0.9,13,IF(O147>0.8,11,IF(O147>0.7,9,IF(O147>0.6,6,IF(O147>0.5,3,0))))))) | S147: =IF(Q147="","",R147/Q147) | T147: =IF(S147="","",IF(S147=1,15,IF(S147>0.9,13,IF(S147>0.8,11,IF(S147>0.7,9,IF(S147>0.6,6,IF(S147>0.5,3,0)))))))
P148: =IF(O148="","",IF(O148>1,15,IF(O148>0.9,13,IF(O148>0.8,11,IF(O148>0.7,9,IF(O148>0.6,6,IF(O148>0.5,3,0))))))) | S148: =IF(Q148="","",R148/Q148) | T148: =IF(S148="","",IF(S148=1,15,IF(S148>0.9,13,IF(S148>0.8,11,IF(S148>0.7,9,IF(S148>0.6,6,IF(S148>0.5,3,0)))))))
A149: NAPOMENA 3: Ukoliko je nosilac pravosudne funkcije dužan ostvariti procenat orijentacijske norme koji nije ponuđen u padajućem meniju u poljima iz kolone VI, podaci o ostvarenoj orijentacijskoj normi takvog nosioca pravosudne funkcije se unose u dio obrasca u kojem su polja kolone VI označena plavom bojom (tačka IIa. Instrukcije za obračun individualne i kolektivne orijentacione norme u tužilaštvima). | P149: =IF(O149="","",IF(O149>1,15,IF(O149>0.9,13,IF(O149>0.8,11,IF(O149>0.7,9,IF(O149>0.6,6,IF(O149>0.5,3,0))))))) | S149: =IF(Q149="","",R149/Q149) | T149: =IF(S149="","",IF(S149=1,15,IF(S149>0.9,13,IF(S149>0.8,11,IF(S149>0.7,9,IF(S149>0.6,6,IF(S149>0.5,3,0)))))))
P150: =IF(O150="","",IF(O150>1,15,IF(O150>0.9,13,IF(O150>0.8,11,IF(O150>0.7,9,IF(O150>0.6,6,IF(O150>0.5,3,0))))))) | S150: =IF(Q150="","",R150/Q150) | T150: =IF(S150="","",IF(S150=1,15,IF(S150>0.9,13,IF(S150>0.8,11,IF(S150>0.7,9,IF(S150>0.6,6,IF(S150>0.5,3,0)))))))
P151: =IF(O151="","",IF(O151>1,15,IF(O151>0.9,13,IF(O151>0.8,11,IF(O151>0.7,9,IF(O151>0.6,6,IF(O151>0.5,3,0))))))) | S151: =IF(Q151="","",R151/Q151) | T151: =IF(S151="","",IF(S151=1,15,IF(S151>0.9,13,IF(S151>0.8,11,IF(S151>0.7,9,IF(S151>0.6,6,IF(S151>0.5,3,0)))))))
P152: =IF(O152="","",IF(O152>1,15,IF(O152>0.9,13,IF(O152>0.8,11,IF(O152>0.7,9,IF(O152>0.6,6,IF(O152>0.5,3,0))))))) | S152: =IF(Q152="","",R152/Q152) | T152: =IF(S152="","",IF(S152=1,15,IF(S152>0.9,13,IF(S152>0.8,11,IF(S152>0.7,9,IF(S152>0.6,6,IF(S152>0.5,3,0)))))))
P153: =IF(O153="","",IF(O153>1,15,IF(O153>0.9,13,IF(O153>0.8,11,IF(O153>0.7,9,IF(O153>0.6,6,IF(O153>0.5,3,0))))))) | S153: =IF(Q153="","",R153/Q153) | T153: =IF(S153="","",IF(S153=1,15,IF(S153>0.9,13,IF(S153>0.8,11,IF(S153>0.7,9,IF(S153>0.6,6,IF(S153>0.5,3,0)))))))
A154: NAPOMENA 4: U Tabelu Ia se unose podaci za sve nosioce pravosudne funkcije koji su u toku godine obavljali funkciju u tužilaštvu. Ukoliko je nosilac pravosudne funkcije u toku godine prvi put imenovan u tužilaštvo, ili je obavljao funkciju u dva tužilaštva, ili je napustio pravosuđe u Tabelu Ia se unose podaci koje je nosilac pravosudne funkcije ostvario u tužilaštvu koje popunjava Tabelu Ia, a podaci o ostvarenoj normi se obračunavaju u skladu sa Instrukcijom za obračun norme - tačka IIb i tačka IIc 1) - za obračun kolektivne norme. Tabelu Ib popunjava tužilaštvo koje provodi postupak ocjenjivanja rezultata rada nosioca pravosudne funkcije koji je tokom godine obavljao funkciju u dva tužilaštva. Podaci o ostvarenoj normi se obračunavaju u skladu sa Instrukcijom – tačka IIc 1) – za proces ocjenjivanja. U obrazac za ocjenjivanje rada unosi se podatak o broju ostvarenih bodova iz Tabele Ib. | P154: =IF(O154="","",IF(O154>1,15,IF(O154>0.9,13,IF(O154>0.8,11,IF(O154>0.7,9,IF(O154>0.6,6,IF(O154>0.5,3,0))))))) | S154: =IF(Q154="","",R154/Q154) | T154: =IF(S154="","",IF(S154=1,15,IF(S154>0.9,13,IF(S154>0.8,11,IF(S154>0.7,9,IF(S154>0.6,6,IF(S154>0.5,3,0)))))))
H158: NAPOMENA 7: Kolektivnu normu odjela potrebno je manuelno preračunati i upisati u odgovarajuću kolonu u posebnoj tabeli. Iz preračuna kolektivne norme odjela potrebno je isključiti nosioce pravosudne funkcije kod kojih je ukupno ostvarenje norme ispod 20%: novoimenovani tužioci, tužioci koji su imenovani u drugu instituciju, kao i tužioci koji su prestali sa radom zbog: penzionisanja, podnošenja ostavke, smrti, gubitka radne sposobnosti, razrješenja od dužnosti, privremenog ili trajnog udaljenja od vršenja dužnosti itd. (član 5. Uputstva za primjenu Kriterija za ocjenjivanje rada glavnog tužioca Tužilaštva Bosne i Hercegovine, Federalnog tužilaštva Federacije Bosne i Hercegovine, Republičkog javnog tužilaštva Republike Srpske i Tužilaštva Brčko Distrikta Bosne i Hercegovine, Kriterija za ocjenjivanje rada glavnih tužilaca, zamjenika glavnih tužilaca, šefova odjela/odsjeka u tužilaštvima u Bosni i Hercegovini i Kriterija za ocjenjivanje rada tužilaca u Bosni i Hercegovini). Ostvareni broj bodova šefa odjela automatski će se obračunati. Ukoliko odjel nije imao dovoljan broj predmeta u radu za ostvarenje orijentacijske norme, potrebno je manuelno unijeti ukupan broj predmeta koji su bili u radu u odjelu kao i ukupan broj riješenih predmeta u odjelu u periodu ocjenjivanja. Procenat riješenih predmeta automatski će se obračunati te šefu odjela dodijeliti odgovarajući broj bodova u skladu sa članom 24. stav 4. Kriterija za ocjenjivanje rada glavnih tužilaca, zamjenika glavnih tužilaca i šefova odjela u tužilaštvima u Bosni i Hercegovini.
H165: NAPOMENA 8: Podatak o ostvarenoj orijentacionoj normi na predmetima van TCMS-a se preuzima iz POMOĆNE TABELE ZA OBRAČUN NORME OSTVARENE NA PREDMETIMA VAN TCMS-a
A166: NAPOMENA 5: Kolone XVI i XVII se popunjavaju ukoliko se nosilac pravosudne funkcije ocjenjuje u skladu sa članom 17. stav (4), (5), (6) i (7) Kriterija za ocjenjivanje rada glavnih tužilaca, zamjenika glavnih tužilaca i šefova odjela/odsjeka u tužilaštvima u BiH, odnosno članom 17. stav (3), (4) i (5) Kriterija za ocjenjivanje rada tužilaca u BiH. Dodatno pogledati napomenu iz Uputstva uz tabelu, kao i odgovarajuće odredbe Uputstva za primjenu Kriterija za ocjenjivanje rada glavnog tužioca Tužilaštva Bosne i Hercegovine, Federalnog tužilaštva Federacije Bosne i Hercegovine, Republičkog javnog tužilaštva Republike Srpske i Tužilaštva Brčko Distrikta Bosne i Hercegovine, Kriterija za ocjenjivanje rada glavnih tužilaca, zamjenika glavnih tužilaca, šefova odjela/odsjeka u tužilaštvima u Bosni i Hercegovini i Kriterija za ocjenjivanje rada tužilaca u Bosni i Hercegovini.
H167: NAPOMENA 9: Podatak o Procentu ostvarene orijentacijske norme prema čl 7, 8., 10 i 11. Pravilnika o orijentacijskim mjerilima se preuzima iz POMOĆNE TABELE ZA POSEBNO VREDNOVANJE PREDMETA
H169: NAPOMENA 10: Pomoćne tabele navedene u NAPOMENAMA 8 i 9 kao i ostale materijale u vezi postupka ocjenjivanja rada NPF za 2022. godinu možete preuzeti putem linka:
H170: https://vstv.pravosudje.ba/vstvfo/B/141/article/106391
A171: NAPOMENA 6: Obračun ostvarene kolektivne orijentacione norme u tužilačkim odjelima obračunava se u skladu sa unutrašnjom organizacijom tužilaštva na način da se kolektivna orijentaciona norma računa kao aritmetička sredina pojedinačno ostvarenih orijentacionih normi svih tužilaca koji su odlukom glavnog tužioca raspoređeni u odgovarajući odjel, bez obzira na okolnost da su dio norme ostvarili donošenjem tužilačkih odluka u predmetima iz djelokruga drugih odjela u tužilaštvu, shodno tački IIIb. Instrukcije za obračun individualne i kolektivne orijentacione norme u tužilaštvima.

Sheet TABELA II
A1: =+'TABELA I'!A1 -> Naziv tužilaštva | E1: =+'TABELA I'!D1 -> Tužilaštvo BiH ili Tužilaštvo Brčko Distrikta BiH | O1: 2016
A2: Izvještajni period: | E2: =+'TABELA I'!G2 -> 1.1.2022. - 31.12.2022.
A3: Tabela II: Kvalitet tužilačkih odluka (predmeti)
A4: Vrsta predmeta | B4: O P T U Ž N I C E | L4: I S T R A G E | P4: Ukupan kvalitet
B5: Broj podignutih optužnica | C5: Broj podnesenih prijedloga za izricanje vaspitnih mjera i maloljetničkog zatvora | D5: Broj pravosnažnih presuda prema Kriterijima VSTV-a | G5: Broj pravosnažnih rješenja o odbijanju optužnice | H5: Broj pravosnažnih odluka o neprihvaćanju prijedloga za izricanje vaspitnih mjera i maloljetničkog zatvora | I5: Broj pravosnažnih odluka o obustavljanju postupaka od strane suda (Ktm) | J5: Ukupan broj pravosnažnih odbijajućih i oslobađajućih presuda, rješenja o odbijanju optužnice, neprihvaćenih prijedloga za izricanje vaspitnih mjera i maloljetničkog zatvora i obustavljenih Ktm postupaka od strane suda | K5: Kvalitet optužnica | L5: Broj naredbi o nesprovođenju istrage | M5: Broj naredbi o obustavljanju istrage | N5: Ukupan broj rješenja glavnog tužioca o usvajanju pritužbi na naredbe o nesprovođenju, odnosno obustavljanu istrage | O5: Kvalitet istraga
D6: osuđujuće | E6: odbijajuće* | F6: oslobađajuće**
A7: I | B7: II | C7: III | D7: IV | E7: V | F7: VI | G7: VII | H7: VIII | I7: IX | J7: X | K7: XI | L7: XII | M7: XIII | N7: XIV | O7: XV | P7: XV=(X+XIV)/2
A9: KTM | J9: =SUM(H9:I9) -> 0 | K9: =IF(B9+C9=0,"",(B9+C9-J9)/(B9+C9)) | O9: =IF(L9+M9=0,"",(L9+M9-N9)/(L9+M9)) | P9: =IF(K9="",(IF(O9="","",O9/2)),IF(O9="",K9/2,(K9+O9)/2))
A10: KT | J10: =SUM(E10:G10) -> 0 | K10: =IF(B10+C10=0,"",(B10+C10-J10)/(B10+C10)) | O10: =IF(L10+M10=0,"",(L10+M10-N10)/(L10+M10)) | P10: =IF(K10+O10=0,"",(K10+O10)/2) -> #VALUE!
A11: KTA | J11: =SUM(E11:G11) -> 0 | K11: =IF(B11+C11=0,"",(B11+C11-J11)/(B11+C11)) | O11: =IF(L11+M11=0,"",(L11+M11-N11)/(L11+M11)) | P11: =IF(K11="",(IF(O11="","",O11/2)),IF(O11="",K11/2,(K11+O11)/2))
A12: KTN | J12: =SUM(E12:G12) -> 0 | K12: =IF(B12+C12=0,"",(B12+C12-J12)/(B12+C12)) | O12: =IF(L12+M12=0,"",(L12+M12-N12)/(L12+M12)) | P12: =IF(K12="",(IF(O12="","",O12/2)),IF(O12="",K12/2,(K12+O12)/2))
A13: KTK*** | J13: =SUM(E13:G13) -> 0 | K13: =IF(B13+C13=0,"",(B13+C13-J13)/(B13+C13)) | O13: =IF(L13+M13=0,"",(L13+M13-N13)/(L13+M13)) | P13: =IF(K13="",(IF(O13="","",O13/2)),IF(O13="",K13/2,(K13+O13)/2))
A14: KTAK | J14: =SUM(E14:G14) -> 0 | K14: =IF(B14+C14=0,"",(B14+C14-J14)/(B14+C14)) | O14: =IF(L14+M14=0,"",(L14+M14-N14)/(L14+M14)) | P14: =IF(K14="",(IF(O14="","",O14/2)),IF(O14="",K14/2,(K14+O14)/2))
A15: KTNK | J15: =SUM(E15:G15) -> 0 | K15: =IF(B15+C15=0,"",(B15+C15-J15)/(B15+C15)) | O15: =IF(L15+M15=0,"",(L15+M15-N15)/(L15+M15)) | P15: =IF(K15="",(IF(O15="","",O15/2)),IF(O15="",K15/2,(K15+O15)/2))
A16: KTT | J16: =SUM(E16:G16) -> 0 | K16: =IF(B16+C16=0,"",(B16+C16-J16)/(B16+C16)) | O16: =IF(L16+M16=0,"",(L16+M16-N16)/(L16+M16)) | P16: =IF(K16="",(IF(O16="","",O16/2)),IF(O16="",K16/2,(K16+O16)/2))
A17: KTAT | J17: =SUM(E17:G17) -> 0 | K17: =IF(B17+C17=0,"",(B17+C17-J17)/(B17+C17)) | O17: =IF(L17+M17=0,"",(L17+M17-N17)/(L17+M17)) | P17: =IF(K17="",(IF(O17="","",O17/2)),IF(O17="",K17/2,(K17+O17)/2))
A18: KTNT | J18: =SUM(E18:G18) -> 0 | K18: =IF(B18+C18=0,"",(B18+C18-J18)/(B18+C18)) | O18: =IF(L18+M18=0,"",(L18+M18-N18)/(L18+M18)) | P18: =IF(K18="",(IF(O18="","",O18/2)),IF(O18="",K18/2,(K18+O18)/2))
A19: KTKK | J19: =SUM(E19:G19) -> 0 | K19: =IF(B19+C19=0,"",(B19+C19-J19)/(B19+C19)) | O19: =IF(L19+M19=0,"",(L19+M19-N19)/(L19+M19))
A20: KTAKK | J20: =SUM(E20:G20) -> 0 | K20: =IF(B20+C20=0,"",(B20+C20-J20)/(B20+C20)) | O20: =IF(L20+M20=0,"",(L20+M20-N20)/(L20+M20))
A21: KTNKK | J21: =SUM(E21:G21) -> 0 | K21: =IF(B21+C21=0,"",(B21+C21-J21)/(B21+C21)) | O21: =IF(L21+M21=0,"",(L21+M21-N21)/(L21+M21))
A22: KTRZ | J22: =SUM(E22:F22) -> 0 | K22: =IF(B22+C22=0,"",(B22+C22-J22/2.5)/(B22+C22)) | O22: =IF(L22+M22=0,"",(L22+M22-N22)/(L22+M22)) | P22: =IF(K22="",(IF(O22="","",O22/2)),IF(O22="",K22/2,(K22+O22)/2))
A23: KTARZ | J23: =SUM(E23:F23) -> 0 | K23: =IF(B23+C23=0,"",(B23+C23-J23/2.5)/(B23+C23)) | O23: =IF(L23+M23=0,"",(L23+M23-N23)/(L23+M23)) | P23: =IF(K23="",(IF(O23="","",O23/2)),IF(O23="",K23/2,(K23+O23)/2))
A24: KTNRZ | J24: =SUM(E24:F24) -> 0 | K24: =IF(B24+C24=0,"",(B24+C24-J24/2.5)/(B24+C24)) | O24: =IF(L24+M24=0,"",(L24+M24-N24)/(L24+M24)) | P24: =IF(K24="",(IF(O24="","",O24/2)),IF(O24="",K24/2,(K24+O24)/2))
A25: KTPO | J25: =SUM(E25:F25) -> 0 | K25: =IF(B25+C25=0,"",(B25+C25-J25/2.5)/(B25+C25)) | O25: =IF(L25+M25=0,"",(L25+M25-N25)/(L25+M25)) | P25: =IF(K25="",(IF(O25="","",O25/2)),IF(O25="",K25/2,(K25+O25)/2))
A26: KTAPO | J26: =SUM(E26:F26) -> 0 | K26: =IF(B26+C26=0,"",(B26+C26-J26/2.5)/(B26+C26)) | O26: =IF(L26+M26=0,"",(L26+M26-N26)/(L26+M26)) | P26: =IF(K26="",(IF(O26="","",O26/2)),IF(O26="",K26/2,(K26+O26)/2))
A27: KTNPO | J27: =SUM(E27:F27) -> 0 | K27: =IF(B27+C27=0,"",(B27+C27-J27/2.5)/(B27+C27)) | O27: =IF(L27+M27=0,"",(L27+M27-N27)/(L27+M27)) | P27: =IF(K27="",(IF(O27="","",O27/2)),IF(O27="",K27/2,(K27+O27)/2))
A28: KTO**** | J28: =SUM(E28:F28) -> 0 | K28: =IF(B28+C28=0,"",(B28+C28-J28/2.5)/(B28+C28)) | O28: =IF(L28+M28=0,"",(L28+M28-N28)/(L28+M28)) | P28: =IF(K28="",(IF(O28="","",O28/2)),IF(O28="",K28/2,(K28+O28)/2))
A29: KTAO | J29: =SUM(E29:F29) -> 0 | K29: =IF(B29+C29=0,"",(B29+C29-J29/2.5)/(B29+C29)) | O29: =IF(L29+M29=0,"",(L29+M29-N29)/(L29+M29)) | P29: =IF(K29="",(IF(O29="","",O29/2)),IF(O29="",K29/2,(K29+O29)/2))
A30: KTNO | J30: =SUM(E30:F30) -> 0 | K30: =IF(B30+C30=0,"",(B30+C30-J30/2.5)/(B30+C30)) | O30: =IF(L30+M30=0,"",(L30+M30-N30)/(L30+M30)) | P30: =IF(K30="",(IF(O30="","",O30/2)),IF(O30="",K30/2,(K30+O30)/2))
A32: Ukupno | B32: =SUM(B9:B30) -> 0 | C32: =SUM(C9:C30) -> 0 | D32: =SUM(D9:D30) -> 0 | E32: =SUM(E9:E30) -> 0 | F32: =SUM(F9:F30) -> 0 | G32: =SUM(G9:G30) -> 0 | H32: =SUM(H9:H30) -> 0 | I32: =SUM(I9:I30) -> 0 | J32: =J9+J10+J11+J12+J13+J14+J15+J16+J17+J18+J19+J20+J21+J22+J23+J24+J25+J26+J27+J28+J29+J30 -> 0 | K32: =IF(B32+C32=0,"",((B32+C32-(J9+J10+J11+J12+J13+J14+J15+J16+J17+J18+J19+J20+J21+((J22+J23+J24+J25+J26+J27+J28+J29+J30)/2.5))))/(B32+C32)) | L32: =SUM(L9:L30) -> 0 | M32: =SUM(M9:M30) -> 0 | N32: =SUM(N9:N30) -> 0 | O32: =IF(L32+M32=0,"",(L32+M32-N32)/(L32+M32)) | P32: =AVERAGE(P9:P30) -> #VALUE!
A34: Dužni ste unijeti vrijednosti u sva polja kolona I - IX (ukoliko u izvještajnom periodu nije bilo odgovarajuće vrste tužilačkih ili pravosnažnih sudskih odluka unesite 0). Ukoliko u bilo koje polje u kolonama III - VII ne unese podatak (0 ili drugu vrijednost) ovo polje će biti obojeno crvenom bojom.
A36: * | B36: Odbijajućom presudom smatra se presuda koju je svojim propustima u sadržaju optužnice uzrokovao postupajući tužilac.
A38: ** | B38: Oslobađajuća presuda vrednuje se tužiocu po čijem optužnom aktu sud donese takvu presudu
A40: *** | B40: Naredbe o neprovođenju i obustavi istrage u KTN predmetima računaju se u ukupan broj naredbi o neprovođenju i obustavi istrage.
A42: **** | B42: U KTK vrstu predmeta evidentirati i KTKV predmete (PRAVILNIK O IZMJENAMA I DOPUNAMA PRAVILNIKA O ORIJENTACIONIM MJERILIMA ZA RAD TUŽILACA U TUŽILAŠTVIMA U BOSNI I HERCEGOVINI (,,Službeni glasnik BiH'', broj: 47/21).
A44: ***** | B44: U KTO vrstu predmeta evidentirati i KTOV predmete (PRAVILNIK O IZMJENAMA I DOPUNAMA PRAVILNIKA O ORIJENTACIONIM MJERILIMA ZA RAD TUŽILACA U TUŽILAŠTVIMA U BOSNI I HERCEGOVINI (,,Službeni glasnik BiH'', broj: 47/21).

Sheet tbl_kvalitet_predm
A1: Tuz | B1: Godina | C1: VrstaPredm | D1: BrPodigOpt | E1: BrPodPrijedl | F1: PravPresOsudj | G1: PravPresOdbij | H1: PravPresOslob | I1: BrPravsnRjoOdbOpt | J1: BrPrOdlONeprPrijedl | K1: BrPrOdlOObustPost | L1: ZbirnaOPt | M1: KvalitetOpt | N1: BrNarONesprIstr | O1: BrNarOObustIstr | P1: UkBrRjesOPrit | Q1: KvalitetIstraga
A2: ='TABELA I'!$K$2 -> 0 | B2: ='TABELA I'!$K$1 -> 2022 | C2: 6 | D2: ='TABELA II'!B9 -> 0 | E2: ='TABELA II'!C9 -> 0 | F2: ='TABELA II'!D9 -> 0 | G2: ='TABELA II'!E9 -> 0 | H2: ='TABELA II'!F9 -> 0 | I2: ='TABELA II'!G9 -> 0 | J2: ='TABELA II'!H9 -> 0 | K2: ='TABELA II'!I9 -> 0 | ... Q2: ='TABELA II'!O9
A3: ='TABELA I'!$K$2 -> 0 | B3: ='TABELA I'!$K$1 -> 2022 | C3: 7 | D3: ='TABELA II'!B10 -> 0 | E3: ='TABELA II'!C10 -> 0 | F3: ='TABELA II'!D10 -> 0 | G3: ='TABELA II'!E10 -> 0 | H3: ='TABELA II'!F10 -> 0 | I3: ='TABELA II'!G10 -> 0 | J3: ='TABELA II'!H10 -> 0 | K3: ='TABELA II'!I10 -> 0 | ... Q3: ='TABELA II'!O10
A4: ='TABELA I'!$K$2 -> 0 | B4: ='TABELA I'!$K$1 -> 2022 | C4: 4 | D4: ='TABELA II'!B11 -> 0 | E4: ='TABELA II'!C11 -> 0 | F4: ='TABELA II'!D11 -> 0 | G4: ='TABELA II'!E11 -> 0 | H4: ='TABELA II'!F11 -> 0 | I4: ='TABELA II'!G11 -> 0 | J4: ='TABELA II'!H11 -> 0 | K4: ='TABELA II'!I11 -> 0 | ... Q4: ='TABELA II'!O11
A5: ='TABELA I'!$K$2 -> 0 | B5: ='TABELA I'!$K$1 -> 2022 | C5: 5 | D5: ='TABELA II'!B12 -> 0 | E5: ='TABELA II'!C12 -> 0 | F5: ='TABELA II'!D12 -> 0 | G5: ='TABELA II'!E12 -> 0 | H5: ='TABELA II'!F12 -> 0 | I5: ='TABELA II'!G12 -> 0 | J5: ='TABELA II'!H12 -> 0 | K5: ='TABELA II'!I12 -> 0 | ... Q5: ='TABELA II'!O12
A6: ='TABELA I'!$K$2 -> 0 | B6: ='TABELA I'!$K$1 -> 2022 | C6: 10 | D6: ='TABELA II'!B13 -> 0 | E6: ='TABELA II'!C13 -> 0 | F6: ='TABELA II'!D13 -> 0 | G6: ='TABELA II'!E13 -> 0 | H6: ='TABELA II'!F13 -> 0 | I6: ='TABELA II'!G13 -> 0 | J6: ='TABELA II'!H13 -> 0 | K6: ='TABELA II'!I13 -> 0 | ... Q6: ='TABELA II'!O13
A7: ='TABELA I'!$K$2 -> 0 | B7: ='TABELA I'!$K$1 -> 2022 | C7: 11 | D7: ='TABELA II'!B14 -> 0 | E7: ='TABELA II'!C14 -> 0 | F7: ='TABELA II'!D14 -> 0 | G7: ='TABELA II'!E14 -> 0 | H7: ='TABELA II'!F14 -> 0 | I7: ='TABELA II'!G14 -> 0 | J7: ='TABELA II'!H14 -> 0 | K7: ='TABELA II'!I14 -> 0 | ... Q7: ='TABELA II'!O14
A8: ='TABELA I'!$K$2 -> 0 | B8: ='TABELA I'!$K$1 -> 2022 | C8: 12 | D8: ='TABELA II'!B15 -> 0 | E8: ='TABELA II'!C15 -> 0 | F8: ='TABELA II'!D15 -> 0 | G8: ='TABELA II'!E15 -> 0 | H8: ='TABELA II'!F15 -> 0 | I8: ='TABELA II'!G15 -> 0 | J8: ='TABELA II'!H15 -> 0 | K8: ='TABELA II'!I15 -> 0 | ... Q8: ='TABELA II'!O15
A9: ='TABELA I'!$K$2 -> 0 | B9: ='TABELA I'!$K$1 -> 2022 | C9: 13 | D9: ='TABELA II'!B16 -> 0 | E9: ='TABELA II'!C16 -> 0 | F9: ='TABELA II'!D16 -> 0 | G9: ='TABELA II'!E16 -> 0 | H9: ='TABELA II'!F16 -> 0 | I9: ='TABELA II'!G16 -> 0 | J9: ='TABELA II'!H16 -> 0 | K9: ='TABELA II'!I16 -> 0 | ... Q9: ='TABELA II'!O16
A10: ='TABELA I'!$K$2 -> 0 | B10: ='TABELA I'!$K$1 -> 2022 | C10: 14 | D10: ='TABELA II'!B17 -> 0 | E10: ='TABELA II'!C17 -> 0 | F10: ='TABELA II'!D17 -> 0 | G10: ='TABELA II'!E17 -> 0 | H10: ='TABELA II'!F17 -> 0 | I10: ='TABELA II'!G17 -> 0 | J10: ='TABELA II'!H17 -> 0 | K10: ='TABELA II'!I17 -> 0 | ... Q10: ='TABELA II'!O17
A11: ='TABELA I'!$K$2 -> 0 | B11: ='TABELA I'!$K$1 -> 2022 | C11: 15 | D11: ='TABELA II'!B18 -> 0 | E11: ='TABELA II'!C18 -> 0 | F11: ='TABELA II'!D18 -> 0 | G11: ='TABELA II'!E18 -> 0 | H11: ='TABELA II'!F18 -> 0 | I11: ='TABELA II'!G18 -> 0 | J11: ='TABELA II'!H18 -> 0 | K11: ='TABELA II'!I18 -> 0 | ... Q11: ='TABELA II'!O18
A12: ='TABELA I'!$K$2 -> 0 | B12: ='TABELA I'!$K$1 -> 2022 | C12: 33 | D12: ='TABELA II'!B19 -> 0 | E12: ='TABELA II'!C19 -> 0 | F12: ='TABELA II'!D19 -> 0 | G12: ='TABELA II'!E19 -> 0 | H12: ='TABELA II'!F19 -> 0 | I12: ='TABELA II'!G19 -> 0 | J12: ='TABELA II'!H19 -> 0 | K12: ='TABELA II'!I19 -> 0 | ... Q12: ='TABELA II'!O19
A13: ='TABELA I'!$K$2 -> 0 | B13: ='TABELA I'!$K$1 -> 2022 | C13: 34 | D13: ='TABELA II'!B20 -> 0 | E13: ='TABELA II'!C20 -> 0 | F13: ='TABELA II'!D20 -> 0 | G13: ='TABELA II'!E20 -> 0 | H13: ='TABELA II'!F20 -> 0 | I13: ='TABELA II'!G20 -> 0 | J13: ='TABELA II'!H20 -> 0 | K13: ='TABELA II'!I20 -> 0 | ... Q13: ='TABELA II'!O20
... A23: ='TABELA I'!$K$2 -> 0 | B23: ='TABELA I'!$K$1 -> 2022 | C23: 24 | D23: ='TABELA II'!B30 -> 0 | E23: ='TABELA II'!C30 -> 0 | F23: ='TABELA II'!D30 -> 0 | G23: ='TABELA II'!E30 -> 0 | H23: ='TABELA II'!F30 -> 0 | I23: ='TABELA II'!G30 -> 0 | J23: ='TABELA II'!H30 -> 0 | K23: ='TABELA II'!I30 -> 0 | ... Q23: ='TABELA II'!O30

Sheet TABELA IIa
B1: =+'TABELA II'!A1 -> Naziv tužilaštva | E1: =+'TABELA I'!D1 -> Tužilaštvo BiH ili Tužilaštvo Brčko Distrikta BiH
B2: Izvještajni period: | E2: =+'TABELA I'!G2 -> 1.1.2022. - 31.12.2022.
B3: Tabela IIa: Obračun ostvarenog kvaliteta optužnica i naredbi o nesprovođenju i obustavi istraga - Elektronski obrazac za obračun ostvarenog kvaliteta odluka (pogledati NAPOMENU 5 i 6)
B5: Redni broj | C5: Ime i prezime - podatak je automatski prenesen iz Tabele I - OBAVEZNO ZADRŽATI REDOSLIJED NPF-a iz Tabele I | D5: Pravosudna funkcija | E5: Naziv odjela - podatak je automatski prenesen iz Tabele I | F5: Ocijenjen / Nije ocijenjen u tužilaštvu | G5: Vrsta predmeta* | H5: Broj podignutih optužnica | I5: Broj podnesenih prijedloga za izricanje vaspitnih mjera i maloljetničkog zatvora | J5: Broj pravosnažnih presuda | M5: Broj pravosnažnih rješenja o odbijanju optužnice | N5: Broj pravosnažnih odluka o neprihvaćanju prijedloga za izricanje vaspitnih mjera i maloljetničkog zatvora | O5: Broj pravosnažnih odluka o obustavljanju postupaka od strane suda (Ktm) | P5: Ukupan broj pravosnažnih odbijajućih i oslobađajućih presuda i broj pravosnažnih rješenja o odbijanju optužnice | Q5: Ukupan broj neprihvaćenih prijedloga za izricanje vaspitnih mjera i maloljetničkog zatvora i broj obustavljenih Ktm postupaka od strane suda | R5: Kvalitet optužnica za godišnji izvještaj | S5: Kvalitet optužnica prema članu 18. Kriterija | T5: Ostvareni broj bodova za kvalitet optužnica prema članu 18. Kriterija | U5: Ostvareni broj bodova za kvalitet optužnica prema članu 20. stav 2. Kriterija | V5: Broj naredbi o nesprovođenju istrage | W5: Broj naredbi o obustavi istrage | X5: Ukupan broj rješenja glavnog tužioca o usvajanju pritužbi na naredbe o nesprovođenju i obustavi istrage | Y5: Kvalitet naredbi o nesprovođenju i obustavi istrage | Z5: Kvalitet naredbi o nesprovođenju i obustavi istrage prema članu 19. Kriterija | AA5: Ostvareni broj bodova za kvalitet naredbi o nesprovođenju i obustavi istraga prema članu 19. Kriterija | AB5: Ostvareni broj bodova za kvalitet optužnica i kvalitet naredbi o nesprovođenju i obustavi istraga | AC5: Negativni bodovi | AD5: UKUPAN BROJ BODOVA ZA KVALITET OPTUŽNICA I KVALITET NAREDBI O NESPROVOĐENJU I OBUSTAVI ISTRAGA
J6: osuđujuće** | K6: odbijajuće*** | L6: oslobađajuće****
B9: I | C9: II | D9: III | E9: IV | F9: V | G9: VI | H9: VII | I9: VIII | J9: IX | K9: X | L9: XI | M9: XII | N9: XIII | O9: XIV | P9: XV | Q9: XVI | R9: XVII | S9: XVIII | T9: XIX | U9: XX | V9: XXI | W9: XXII | X9: XXIII | Y9: XXIV | Z9: XXV | AA9: XXVI | AB9: XXVII | AC9: XXVIII | AD9: XXIX
AF10: Ocijenjen
B11: 1 | C11: =IF('TABELA I'!B12="","",'TABELA I'!B12) | D11: Glavni tužilac | F11: Nije ocijenjen ili Nema obavezu neposredno raditi na predmetima | G11: KT, KTK, KTT i KTM | P11: =SUM(K11:M11) -> 0 | Q11: =SUM(N11:O11) -> 0 | R11: =IF((H11+I11)=0,"",((H11+I11)-(P11+Q11))/(H11+I11)) | S11: =IF(H11+I11=0,"",(P11+Q11)/(H11+I11)) | T11: =IF(F11="Nije ocijenjen ili Nema obavezu neposredno raditi na predmetima","",IF(F11="Ocijenjen",IF(H11+I11=0,"",IF(S11<0.11,15,IF(S11<0.21,12,IF(S11<0.31,8,IF(S11<=0.5,4,IF(S11<=1,0,)))))))) | U11: =IF(F11="Nije ocijenjen ili Nema obavezu neposredno raditi na predmetima","",IF(F11="Ocijenjen",IF(H12=0,T11,IF(H11+I11=0,T12,(T11+T12)/2)))) | Y11: =IF(V11+W11=0,"",(V11+W11-X11)/(V11+W11)) | Z11: =IF(V11+W11=0,"",(X11)/(V11+W11)) | AA11: =IF(F11="Nije ocijenjen ili Nema obavezu neposredno raditi na predmetima","",IF(F11="Ocijenjen",IF(V11+W11=0,"",IF(Z11<0.11,15,IF(Z11<0.21,12,IF(Z11<0.31,8,IF(Z11<=0.5,4,IF(Z11<=1,0,)))))))) | AB11: =IF(F11="Nije ocijenjen ili Nema obavezu neposredno raditi na predmetima","",IF(F11="Ocijenjen",IF(AA11="",U11,IF(U11="",AA11,((U11+AA11)/2))))) | AD11: =IF(F11="Nije ocijenjen ili Nema obavezu neposredno raditi na predmetima","",IF(F11="Ocijenjen",AB11-AC11)) | AF11: Nije ocijenjen ili Nema obavezu neposredno raditi na predmetima
G12: KTRZ, KTPO, KTO | P12: =SUM(K12:L12) -> 0 | R12: =IF(H12=0,"",(H12-P12/2.5)/H12) | S12: =IF(H12=0,"",(P12/2.5)/H12) | T12: =IF(F11="Nije ocijenjen ili Nema obavezu neposredno raditi na predmetima","",IF(F11="Ocijenjen",IF(H12=0,"",IF(S12<0.26,15,IF(S12<0.41,12,IF(S12<0.51,8,IF(S12<=0.6,4,IF(S12<=1,0,)))))))) | U12: =+(T9+U10)/2 -> #VALUE!
B13: 2 | C13: =IF('TABELA I'!B14="","",'TABELA I'!B14) | E13: =IF('TABELA I'!D14="","",'TABELA I'!D14) | F13: Nije ocijenjen | G13: KT, KTK, KTT i KTM | P13: =SUM(K13:M13) -> 0 | Q13: =SUM(N13:O13) -> 0 | R13: =IF((H13+I13)=0,"",((H13+I13)-(P13+Q13))/(H13+I13)) | S13: =IF(H13+I13=0,"",(P13+Q13)/(H13+I13)) | T13: =IF(F13="Nije ocijenjen","",IF(F13="Ocijenjen",IF(H13+I13=0,"",IF(D13="Tužilac",IF(S13<0.11,40,IF(S13<0.21,30,IF(S13<0.31,20,IF(S13<=0.5,10,IF(S13<=1,0,))))),IF(S13<0.11,20,IF(S13<0.21,15,IF(S13<0.31,10,IF(S13<=0.5,5,IF(S13<=1,0,))))))))) | U13: =IF(F13="Nije ocijenjen","",IF(F13="Ocijenjen",IF(H14=0,T13,IF(H13+I13=0,T14,(T13+T14)/2)))) | Y13: =IF(V13+W13=0,"",(V13+W13-X13)/(V13+W13)) | Z13: =IF(V13+W13=0,"",(X13)/(V13+W13)) | AA13: =IF(F13="Nije ocijenjen","",IF(F13="Ocijenjen",IF(V13+W13=0,"",IF(D13="Tužilac",IF(Z13<0.11,40,IF(Z13<0.21,30,IF(Z13<0.31,20,IF(Z13<=0.5,10,IF(Z13<=1,0,))))),IF(Z13<0.11,20,IF(Z13<0.21,15,IF(Z13<0.31,10,IF(Z13<=0.5,5,IF(Z13<=1,0,))))))))) | AB13: =IF(F13="Nije ocijenjen","",IF(F13="Ocijenjen",IF(AA13="",U13,IF(U13="",AA13,((U13+AA13)/2))))) | AD13: =IF(F13="Nije ocijenjen","",IF(F13="Ocijenjen",AB13-AC13)) | AF13: Zamjenik glavnog tužioca
G14: KTRZ, KTPO, KTO | P14: =SUM(K14:L14) -> 0 | R14: =IF(H14=0,"",(H14-P14/2.5)/H14) | S14: =IF(H14=0,"",(P14/2.5)/H14) | T14: =IF(F13="Nije ocijenjen","",IF(F13="Ocijenjen",IF(H14=0,"",IF(D13="Tužilac",IF(S14<0.26,40,IF(S14<0.41,30,IF(S14<0.51,20,IF(S14<=0.6,10,IF(S14<=1,0,))))),IF(S14<0.26,20,IF(S14<0.41,15,IF(S14<0.51,10,IF(S14<=0.6,5,IF(S14<=1,0,))))))))) | U14: =+(U11+U12)/2 -> #VALUE! | AF14: Šef odjela
B15: 3 | C15: =IF('TABELA I'!B15="","",'TABELA I'!B15) | E15: =IF('TABELA I'!D15="","",'TABELA I'!D15) | F15: Nije ocijenjen | G15: KT, KTK, KTT i KTM | P15: =SUM(K15:M15) -> 0 | Q15: =SUM(N15:O15) -> 0 | R15: =IF((H15+I15)=0,"",((H15+I15)-(P15+Q15))/(H15+I15)) | S15: =IF(H15+I15=0,"",(P15+Q15)/(H15+I15)) | T15: =IF(F15="Nije ocijenjen","",IF(F15="Ocijenjen",IF(H15+I15=0,"",IF(D15="Tužilac",IF(S15<0.11,40,IF(S15<0.21,30,IF(S15<0.31,20,IF(S15<=0.5,10,IF(S15<=1,0,))))),IF(S15<0.11,20,IF(S15<0.21,15,IF(S15<0.31,10,IF(S15<=0.5,5,IF(S15<=1,0,))))))))) | U15: =IF(F15="Nije ocijenjen","",IF(F15="Ocijenjen",IF(H16=0,T15,IF(H15+I15=0,T16,(T15+T16)/2)))) | Y15: =IF(V15+W15=0,"",(V15+W15-X15)/(V15+W15)) | Z15: =IF(V15+W15=0,"",(X15)/(V15+W15)) | AA15: =IF(F15="Nije ocijenjen","",IF(F15="Ocijenjen",IF(V15+W15=0,"",IF(D15="Tužilac",IF(Z15<0.11,40,IF(Z15<0.21,30,IF(Z15<0.31,20,IF(Z15<=0.5,10,IF(Z15<=1,0,))))),IF(Z15<0.11,20,IF(Z15<0.21,15,IF(Z15<0.31,10,IF(Z15<=0.5,5,IF(Z15<=1,0,))))))))) | AB15: =IF(F15="Nije ocijenjen","",IF(F15="Ocijenjen",IF(AA15="",U15,IF(U15="",AA15,((U15+AA15)/2))))) | AD15: =IF(F15="Nije ocijenjen","",IF(F15="Ocijenjen",AB15-AC15)) | AF15: Šef odsjeka
G16: KTRZ, KTPO, KTO | P16: =SUM(K16:L16) -> 0 | R16: =IF(H16=0,"",(H16-P16/2.5)/H16) | S16: =IF(H16=0,"",(P16/2.5)/H16) | T16: =IF(F15="Nije ocijenjen","",IF(F15="Ocijenjen",IF(H16=0,"",IF(D15="Tužilac",IF(S16<0.26,40,IF(S16<0.41,30,IF(S16<0.51,20,IF(S16<=0.6,10,IF(S16<=1,0,))))),IF(S16<0.26,20,IF(S16<0.41,15,IF(S16<0.51,10,IF(S16<=0.6,5,IF(S16<=1,0,))))))))) | U16: =+(U13+U14)/2 -> #VALUE! | AF16: Tužilac
B17: 4 | C17: =IF('TABELA I'!B16="","",'TABELA I'!B16) | E17: =IF('TABELA I'!D16="","",'TABELA I'!D16) | F17: Nije ocijenjen | G17: KT, KTK, KTT i KTM | P17: =SUM(K17:M17) -> 0 | Q17: =SUM(N17:O17) -> 0 | R17: =IF((H17+I17)=0,"",((H17+I17)-(P17+Q17))/(H17+I17)) | S17: =IF(H17+I17=0,"",(P17+Q17)/(H17+I17)) | T17: =IF(F17="Nije ocijenjen","",IF(F17="Ocijenjen",IF(H17+I17=0,"",IF(D17="Tužilac",IF(S17<0.11,40,IF(S17<0.21,30,IF(S17<0.31,20,IF(S17<=0.5,10,IF(S17<=1,0,))))),IF(S17<0.11,20,IF(S17<0.21,15,IF(S17<0.31,10,IF(S17<=0.5,5,IF(S17<=1,0,))))))))) | U17: =IF(F17="Nije ocijenjen","",IF(F17="Ocijenjen",IF(H18=0,T17,IF(H17+I17=0,T18,(T17+T18)/2)))) | Y17: =IF(V17+W17=0,"",(V17+W17-X17)/(V17+W17)) | Z17: =IF(V17+W17=0,"",(X17)/(V17+W17)) | AA17: =IF(F17="Nije ocijenjen","",IF(F17="Ocijenjen",IF(V17+W17=0,"",IF(D17="Tužilac",IF(Z17<0.11,40,IF(Z17<0.21,30,IF(Z17<0.31,20,IF(Z17<=0.5,10,IF(Z17<=1,0,))))),IF(Z17<0.11,20,IF(Z17<0.21,15,IF(Z17<0.31,10,IF(Z17<=0.5,5,IF(Z17<=1,0,))))))))) | AB17: =IF(F17="Nije ocijenjen","",IF(F17="Ocijenjen",IF(AA17="",U17,IF(U17="",AA17,((U17+AA17)/2))))) | AD17: =IF(F17="Nije ocijenjen","",IF(F17="Ocijenjen",AB17-AC17))
G18: KTRZ, KTPO, KTO | P18: =SUM(K18:L18) -> 0 | R18: =IF(H18=0,"",(H18-P18/2.5)/H18) | S18: =IF(H18=0,"",(P18/2.5)/H18) | T18: =IF(F17="Nije ocijenjen","",IF(F17="Ocijenjen",IF(H18=0,"",IF(D17="Tužilac",IF(S18<0.26,40,IF(S18<0.41,30,IF(S18<0.51,20,IF(S18<=0.6,10,IF(S18<=1,0,))))),IF(S18<0.26,20,IF(S18<0.41,15,IF(S18<0.51,10,IF(S18<=0.6,5,IF(S18<=1,0,))))))))) | U18: =+(U15+U16)/2 -> #VALUE! | AF18: Ocijenjen
B19: 5 | C19: =IF('TABELA I'!B17="","",'TABELA I'!B17) | E19: =IF('TABELA I'!D17="","",'TABELA I'!D17) | F19: Nije ocijenjen | G19: KT, KTK, KTT i KTM | P19: =SUM(K19:M19) -> 0 | Q19: =SUM(N19:O19) -> 0 | R19: =IF((H19+I19)=0,"",((H19+I19)-(P19+Q19))/(H19+I19)) | S19: =IF(H19+I19=0,"",(P19+Q19)/(H19+I19)) | T19: =IF(F19="Nije ocijenjen","",IF(F19="Ocijenjen",IF(H19+I19=0,"",IF(D19="Tužilac",IF(S19<0.11,40,IF(S19<0.21,30,IF(S19<0.31,20,IF(S19<=0.5,10,IF(S19<=1,0,))))),IF(S19<0.11,20,IF(S19<0.21,15,IF(S19<0.31,10,IF(S19<=0.5,5,IF(S19<=1,0,))))))))) | U19: =IF(F19="Nije ocijenjen","",IF(F19="Ocijenjen",IF(H20=0,T19,IF(H19+I19=0,T20,(T19+T20)/2)))) | Y19: =IF(V19+W19=0,"",(V19+W19-X19)/(V19+W19)) | Z19: =IF(V19+W19=0,"",(X19)/(V19+W19)) | AA19: =IF(F19="Nije ocijenjen","",IF(F19="Ocijenjen",IF(V19+W19=0,"",IF(D19="Tužilac",IF(Z19<0.11,40,IF(Z19<0.21,30,IF(Z19<0.31,20,IF(Z19<=0.5,10,IF(Z19<=1,0,))))),IF(Z19<0.11,20,IF(Z19<0.21,15,IF(Z19<0.31,10,IF(Z19<=0.5,5,IF(Z19<=1,0,))))))))) | AB19: =IF(F19="Nije ocijenjen","",IF(F19="Ocijenjen",IF(AA19="",U19,IF(U19="",AA19,((U19+AA19)/2))))) | AD19: =IF(F19="Nije ocijenjen","",IF(F19="Ocijenjen",AB19-AC19)) | AF19: Nije ocijenjen
G20: KTRZ, KTPO, KTO | P20: =SUM(K20:L20) -> 0 | R20: =IF(H20=0,"",(H20-P20/2.5)/H20) | S20: =IF(H20=0,"",(P20/2.5)/H20) | T20: =IF(F19="Nije ocijenjen","",IF(F19="Ocijenjen",IF(H20=0,"",IF(D19="Tužilac",IF(S20<0.26,40,IF(S20<0.41,30,IF(S20<0.51,20,IF(S20<=0.6,10,IF(S20<=1,0,))))),IF(S20<0.26,20,IF(S20<0.41,15,IF(S20<0.51,10,IF(S20<=0.6,5,IF(S20<=1,0,))))))))) | U20: =+(U17+U18)/2 -> #VALUE!
B21: 6 | C21: =IF('TABELA I'!B18="","",'TABELA I'!B18) | E21: =IF('TABELA I'!D18="","",'TABELA I'!D18) | F21: Nije ocijenjen | G21: KT, KTK, KTT i KTM | P21: =SUM(K21:M21) -> 0 | Q21: =SUM(N21:O21) -> 0 | R21: =IF((H21+I21)=0,"",((H21+I21)-(P21+Q21))/(H21+I21)) | S21: =IF(H21+I21=0,"",(P21+Q21)/(H21+I21)) | T21: =IF(F21="Nije ocijenjen","",IF(F21="Ocijenjen",IF(H21+I21=0,"",IF(D21="Tužilac",IF(S21<0.11,40,IF(S21<0.21,30,IF(S21<0.31,20,IF(S21<=0.5,10,IF(S21<=1,0,))))),IF(S21<0.11,20,IF(S21<0.21,15,IF(S21<0.31,10,IF(S21<=0.5,5,IF(S21<=1,0,))))))))) | U21: =IF(F21="Nije ocijenjen","",IF(F21="Ocijenjen",IF(H22=0,T21,IF(H21+I21=0,T22,(T21+T22)/2)))) | Y21: =IF(V21+W21=0,"",(V21+W21-X21)/(V21+W21)) | Z21: =IF(V21+W21=0,"",(X21)/(V21+W21)) | AA21: =IF(F21="Nije ocijenjen","",IF(F21="Ocijenjen",IF(V21+W21=0,"",IF(D21="Tužilac",IF(Z21<0.11,40,IF(Z21<0.21,30,IF(Z21<0.31,20,IF(Z21<=0.5,10,IF(Z21<=1,0,))))),IF(Z21<0.11,20,IF(Z21<0.21,15,IF(Z21<0.31,10,IF(Z21<=0.5,5,IF(Z21<=1,0,))))))))) | AB21: =IF(F21="Nije ocijenjen","",IF(F21="Ocijenjen",IF(AA21="",U21,IF(U21="",AA21,((U21+AA21)/2))))) | AD21: =IF(F21="Nije ocijenjen","",IF(F21="Ocijenjen",AB21-AC21))
G22: KTRZ, KTPO, KTO | P22: =SUM(K22:L22) -> 0 | R22: =IF(H22=0,"",(H22-P22/2.5)/H22) | S22: =IF(H22=0,"",(P22/2.5)/H22) | T22: =IF(F21="Nije ocijenjen","",IF(F21="Ocijenjen",IF(H22=0,"",IF(D21="Tužilac",IF(S22<0.26,40,IF(S22<0.41,30,IF(S22<0.51,20,IF(S22<=0.6,10,IF(S22<=1,0,))))),IF(S22<0.26,20,IF(S22<0.41,15,IF(S22<0.51,10,IF(S22<=0.6,5,IF(S22<=1,0,))))))))) | U22: =+(U19+U20)/2 -> #VALUE! | AF22: Nije ocijenjen
B23: 7 | C23: =IF('TABELA I'!B19="","",'TABELA I'!B19) | E23: =IF('TABELA I'!D19="","",'TABELA I'!D19) | F23: Nije ocijenjen | G23: KT, KTK, KTT i KTM | P23: =SUM(K23:M23) -> 0 | Q23: =SUM(N23:O23) -> 0 | R23: =IF((H23+I23)=0,"",((H23+I23)-(P23+Q23))/(H23+I23)) | S23: =IF(H23+I23=0,"",(P23+Q23)/(H23+I23)) | T23: =IF(F23="Nije ocijenjen","",IF(F23="Ocijenjen",IF(H23+I23=0,"",IF(D23="Tužilac",IF(S23<0.11,40,IF(S23<0.21,30,IF(S23<0.31,20,IF(S23<=0.5,10,IF(S23<=1,0,))))),IF(S23<0.11,20,IF(S23<0.21,15,IF(S23<0.31,10,IF(S23<=0.5,5,IF(S23<=1,0,))))))))) | U23: =IF(F23="Nije ocijenjen","",IF(F23="Ocijenjen",IF(H24=0,T23,IF(H23+I23=0,T24,(T23+T24)/2)))) | Y23: =IF(V23+W23=0,"",(V23+W23-X23)/(V23+W23)) | Z23: =IF(V23+W23=0,"",(X23)/(V23+W23)) | AA23: =IF(F23="Nije ocijenjen","",IF(F23="Ocijenjen",IF(V23+W23=0,"",IF(D23="Tužilac",IF(Z23<0.11,40,IF(Z23<0.21,30,IF(Z23<0.31,20,IF(Z23<=0.5,10,IF(Z23<=1,0,))))),IF(Z23<0.11,20,IF(Z23<0.21,15,IF(Z23<0.31,10,IF(Z23<=0.5,5,IF(Z23<=1,0,))))))))) | AB23: =IF(F23="Nije ocijenjen","",IF(F23="Ocijenjen",IF(AA23="",U23,IF(U23="",AA23,((U23+AA23)/2))))) | AD23: =IF(F23="Nije ocijenjen","",IF(F23="Ocijenjen",AB23-AC23)) | AF23: Ocijenjen prema članu 21. stav 4. Kriterija
G24: KTRZ, KTPO, KTO | P24: =SUM(K24:L24) -> 0 | R24: =IF(H24=0,"",(H24-P24/2.5)/H24) | S24: =IF(H24=0,"",(P24/2.5)/H24) | T24: =IF(F23="Nije ocijenjen","",IF(F23="Ocijenjen",IF(H24=0,"",IF(D23="Tužilac",IF(S24<0.26,40,IF(S24<0.41,30,IF(S24<0.51,20,IF(S24<=0.6,10,IF(S24<=1,0,))))),IF(S24<0.26,20,IF(S24<0.41,15,IF(S24<0.51,10,IF(S24<=0.6,5,IF(S24<=1,0,))))))))) | U24: =+(U21+U22)/2 -> #VALUE!
B25: 8 | C25: =IF('TABELA I'!B20="","",'TABELA I'!B20) | E25: =IF('TABELA I'!D20="","",'TABELA I'!D20) | F25: Nije ocijenjen | G25: KT, KTK, KTT i KTM | P25: =SUM(K25:M25) -> 0 | Q25: =SUM(N25:O25) -> 0 | R25: =IF((H25+I25)=0,"",((H25+I25)-(P25+Q25))/(H25+I25)) | S25: =IF(H25+I25=0,"",(P25+Q25)/(H25+I25)) | T25: =IF(F25="Nije ocijenjen","",IF(F25="Ocijenjen",IF(H25+I25=0,"",IF(D25="Tužilac",IF(S25<0.11,40,IF(S25<0.21,30,IF(S25<0.31,20,IF(S25<=0.5,10,IF(S25<=1,0,))))),IF(S25<0.11,20,IF(S25<0.21,15,IF(S25<0.31,10,IF(S25<=0.5,5,IF(S25<=1,0,))))))))) | U25: =IF(F25="Nije ocijenjen","",IF(F25="Ocijenjen",IF(H26=0,T25,IF(H25+I25=0,T26,(T25+T26)/2)))) | Y25: =IF(V25+W25=0,"",(V25+W25-X25)/(V25+W25)) | Z25: =IF(V25+W25=0,"",(X25)/(V25+W25)) | AA25: =IF(F25="Nije ocijenjen","",IF(F25="Ocijenjen",IF(V25+W25=0,"",IF(D25="Tužilac",IF(Z25<0.11,40,IF(Z25<0.21,30,IF(Z25<0.31,20,IF(Z25<=0.5,10,IF(Z25<=1,0,))))),IF(Z25<0.11,20,IF(Z25<0.21,15,IF(Z25<0.31,10,IF(Z25<=0.5,5,IF(Z25<=1,0,))))))))) | AB25: =IF(F25="Nije ocijenjen","",IF(F25="Ocijenjen",IF(AA25="",U25,IF(U25="",AA25,((U25+AA25)/2))))) | AD25: =IF(F25="Nije ocijenjen","",IF(F25="Ocijenjen",AB25-AC25))
G26: KTRZ, KTPO, KTO | P26: =SUM(K26:L26) -> 0 | R26: =IF(H26=0,"",(H26-P26/2.5)/H26) | S26: =IF(H26=0,"",(P26/2.5)/H26) | T26: =IF(F25="Nije ocijenjen","",IF(F25="Ocijenjen",IF(H26=0,"",IF(D25="Tužilac",IF(S26<0.26,40,IF(S26<0.41,30,IF(S26<0.51,20,IF(S26<=0.6,10,IF(S26<=1,0,))))),IF(S26<0.26,20,IF(S26<0.41,15,IF(S26<0.51,10,IF(S26<=0.6,5,IF(S26<=1,0,))))))))) | U26: =+(U23+U24)/2 -> #VALUE! | AF26: Nije ocijenjen
B27: 9 | C27: =IF('TABELA I'!B21="","",'TABELA I'!B21) | E27: =IF('TABELA I'!D21="","",'TABELA I'!D21) | F27: Nije ocijenjen | G27: KT, KTK, KTT i KTM | P27: =SUM(K27:M27) -> 0 | Q27: =SUM(N27:O27) -> 0 | R27: =IF((H27+I27)=0,"",((H27+I27)-(P27+Q27))/(H27+I27)) | S27: =IF(H27+I27=0,"",(P27+Q27)/(H27+I27)) | T27: =IF(F27="Nije ocijenjen","",IF(F27="Ocijenjen",IF(H27+I27=0,"",IF(D27="Tužilac",IF(S27<0.11,40,IF(S27<0.21,30,IF(S27<0.31,20,IF(S27<=0.5,10,IF(S27<=1,0,))))),IF(S27<0.11,20,IF(S27<0.21,15,IF(S27<0.31,10,IF(S27<=0.5,5,IF(S27<=1,0,))))))))) | U27: =IF(F27="Nije ocijenjen","",IF(F27="Ocijenjen",IF(H28=0,T27,IF(H27+I27=0,T28,(T27+T28)/2)))) | Y27: =IF(V27+W27=0,"",(V27+W27-X27)/(V27+W27)) | Z27: =IF(V27+W27=0,"",(X27)/(V27+W27)) | AA27: =IF(F27="Nije ocijenjen","",IF(F27="Ocijenjen",IF(V27+W27=0,"",IF(D27="Tužilac",IF(Z27<0.11,40,IF(Z27<0.21,30,IF(Z27<0.31,20,IF(Z27<=0.5,10,IF(Z27<=1,0,))))),IF(Z27<0.11,20,IF(Z27<0.21,15,IF(Z27<0.31,10,IF(Z27<=0.5,5,IF(Z27<=1,0,))))))))) | AB27: =IF(F27="Nije ocijenjen","",IF(F27="Ocijenjen",IF(AA27="",U27,IF(U27="",AA27,((U27+AA27)/2))))) | AD27: =IF(F27="Nije ocijenjen","",IF(F27="Ocijenjen",AB27-AC27)) | AF27: Ocijenjen prema članu 30. stav 4. Kriterija
G28: KTRZ, KTPO, KTO | P28: =SUM(K28:L28) -> 0 | R28: =IF(H28=0,"",(H28-P28/2.5)/H28) | S28: =IF(H28=0,"",(P28/2.5)/H28) | T28: =IF(F27="Nije ocijenjen","",IF(F27="Ocijenjen",IF(H28=0,"",IF(D27="Tužilac",IF(S28<0.26,40,IF(S28<0.41,30,IF(S28<0.51,20,IF(S28<=0.6,10,IF(S28<=1,0,))))),IF(S28<0.26,20,IF(S28<0.41,15,IF(S28<0.51,10,IF(S28<=0.6,5,IF(S28<=1,0,))))))))) | U28: =+(U25+U26)/2 -> #VALUE!
B29: 10 | C29: =IF('TABELA I'!B22="","",'TABELA I'!B22) | E29: =IF('TABELA I'!D22="","",'TABELA I'!D22) | F29: Nije ocijenjen | G29: KT, KTK, KTT i KTM | P29: =SUM(K29:M29) -> 0 | Q29: =SUM(N29:O29) -> 0 | R29: =IF((H29+I29)=0,"",((H29+I29)-(P29+Q29))/(H29+I29)) | S29: =IF(H29+I29=0,"",(P29+Q29)/(H29+I29)) | T29: =IF(F29="Nije ocijenjen","",IF(F29="Ocijenjen",IF(H29+I29=0,"",IF(D29="Tužilac",IF(S29<0.11,40,IF(S29<0.21,30,IF(S29<0.31,20,IF(S29<=0.5,10,IF(S29<=1,0,))))),IF(S29<0.11,20,IF(S29<0.21,15,IF(S29<0.31,10,IF(S29<=0.5,5,IF(S29<=1,0,))))))))) | U29: =IF(F29="Nije ocijenjen","",IF(F29="Ocijenjen",IF(H30=0,T29,IF(H29+I29=0,T30,(T29+T30)/2)))) | Y29: =IF(V29+W29=0,"",(V29+W29-X29)/(V29+W29)) | Z29: =IF(V29+W29=0,"",(X29)/(V29+W29)) | AA29: =IF(F29="Nije ocijenjen","",IF(F29="Ocijenjen",IF(V29+W29=0,"",IF(D29="Tužilac",IF(Z29<0.11,40,IF(Z29<0.21,30,IF(Z29<0.31,20,IF(Z29<=0.5,10,IF(Z29<=1,0,))))),IF(Z29<0.11,20,IF(Z29<0.21,15,IF(Z29<0.31,10,IF(Z29<=0.5,5,IF(Z29<=1,0,))))))))) | AB29: =IF(F29="Nije ocijenjen","",IF(F29="Ocijenjen",IF(AA29="",U29,IF(U29="",AA29,((U29+AA29)/2))))) | AD29: =IF(F29="Nije ocijenjen","",IF(F29="Ocijenjen",AB29-AC29))
G30: KTRZ, KTPO, KTO | P30: =SUM(K30:L30) -> 0 | R30: =IF(H30=0,"",(H30-P30/2.5)/H30) | S30: =IF(H30=0,"",(P30/2.5)/H30) | T30: =IF(F29="Nije ocijenjen","",IF(F29="Ocijenjen",IF(H30=0,"",IF(D29="Tužilac",IF(S30<0.26,40,IF(S30<0.41,30,IF(S30<0.51,20,IF(S30<=0.6,10,IF(S30<=1,0,))))),IF(S30<0.26,20,IF(S30<0.41,15,IF(S30<0.51,10,IF(S30<=0.6,5,IF(S30<=1,0,))))))))) | U30: =+(#REF!+#REF!)/2 -> #REF!
B31: 11 | C31: =IF('TABELA I'!B23="","",'TABELA I'!B23) | E31: =IF('TABELA I'!D23="","",'TABELA I'!D23) | F31: Nije ocijenjen | G31: KT, KTK, KTT i KTM | P31: =SUM(K31:M31) -> 0 | Q31: =SUM(N31:O31) -> 0 | R31: =IF((H31+I31)=0,"",((H31+I31)-(P31+Q31))/(H31+I31)) | S31: =IF(H31+I31=0,"",(P31+Q31)/(H31+I31)) | T31: =IF(F31="Nije ocijenjen","",IF(F31="Ocijenjen",IF(H31+I31=0,"",IF(D31="Tužilac",IF(S31<0.11,40,IF(S31<0.21,30,IF(S31<0.31,20,IF(S31<=0.5,10,IF(S31<=1,0,))))),IF(S31<0.11,20,IF(S31<0.21,15,IF(S31<0.31,10,IF(S31<=0.5,5,IF(S31<=1,0,))))))))) | U31: =IF(F31="Nije ocijenjen","",IF(F31="Ocijenjen",IF(H32=0,T31,IF(H31+I31=0,T32,(T31+T32)/2)))) | Y31: =IF(V31+W31=0,"",(V31+W31-X31)/(V31+W31)) | Z31: =IF(V31+W31=0,"",(X31)/(V31+W31)) | AA31: =IF(F31="Nije ocijenjen","",IF(F31="Ocijenjen",IF(V31+W31=0,"",IF(D31="Tužilac",IF(Z31<0.11,40,IF(Z31<0.21,30,IF(Z31<0.31,20,IF(Z31<=0.5,10,IF(Z31<=1,0,))))),IF(Z31<0.11,20,IF(Z31<0.21,15,IF(Z31<0.31,10,IF(Z31<=0.5,5,IF(Z31<=1,0,))))))))) | AB31: =IF(F31="Nije ocijenjen","",IF(F31="Ocijenjen",IF(AA31="",U31,IF(U31="",AA31,((U31+AA31)/2))))) | AD31: =IF(F31="Nije ocijenjen","",IF(F31="Ocijenjen",AB31-AC31))
G32: KTRZ, KTPO, KTO | P32: =SUM(K32:L32) -> 0 | R32: =IF(H32=0,"",(H32-P32/2.5)/H32) | S32: =IF(H32=0,"",(P32/2.5)/H32) | T32: =IF(F31="Nije ocijenjen","",IF(F31="Ocijenjen",IF(H32=0,"",IF(D31="Tužilac",IF(S32<0.26,40,IF(S32<0.41,30,IF(S32<0.51,20,IF(S32<=0.6,10,IF(S32<=1,0,))))),IF(S32<0.26,20,IF(S32<0.41,15,IF(S32<0.51,10,IF(S32<=0.6,5,IF(S32<=1,0,))))))))) | U32: =+(U29+U30)/2 -> #VALUE!
B33: 12 | C33: =IF('TABELA I'!B24="","",'TABELA I'!B24) | E33: =IF('TABELA I'!D24="","",'TABELA I'!D24) | F33: Nije ocijenjen | G33: KT, KTK, KTT i KTM | P33: =SUM(K33:M33) -> 0 | Q33: =SUM(N33:O33) -> 0 | R33: =IF((H33+I33)=0,"",((H33+I33)-(P33+Q33))/(H33+I33)) | S33: =IF(H33+I33=0,"",(P33+Q33)/(H33+I33)) | T33: =IF(F33="Nije ocijenjen","",IF(F33="Ocijenjen",IF(H33+I33=0,"",IF(D33="Tužilac",IF(S33<0.11,40,IF(S33<0.21,30,IF(S33<0.31,20,IF(S33<=0.5,10,IF(S33<=1,0,))))),IF(S33<0.11,20,IF(S33<0.21,15,IF(S33<0.31,10,IF(S33<=0.5,5,IF(S33<=1,0,))))))))) | U33: =IF(F33="Nije ocijenjen","",IF(F33="Ocijenjen",IF(H34=0,T33,IF(H33+I33=0,T34,(T33+T34)/2)))) | Y33: =IF(V33+W33=0,"",(V33+W33-X33)/(V33+W33)) | Z33: =IF(V33+W33=0,"",(X33)/(V33+W33)) | AA33: =IF(F33="Nije ocijenjen","",IF(F33="Ocijenjen",IF(V33+W33=0,"",IF(D33="Tužilac",IF(Z33<0.11,40,IF(Z33<0.21,30,IF(Z33<0.31,20,IF(Z33<=0.5,10,IF(Z33<=1,0,))))),IF(Z33<0.11,20,IF(Z33<0.21,15,IF(Z33<0.31,10,IF(Z33<=0.5,5,IF(Z33<=1,0,))))))))) | AB33: =IF(F33="Nije ocijenjen","",IF(F33="Ocijenjen",IF(AA33="",U33,IF(U33="",AA33,((U33+AA33)/2))))) | AD33: =IF(F33="Nije ocijenjen","",IF(F33="Ocijenjen",AB33-AC33))
G34: KTRZ, KTPO, KTO | P34: =SUM(K34:L34) -> 0 | R34: =IF(H34=0,"",(H34-P34/2.5)/H34) | S34: =IF(H34=0,"",(P34/2.5)/H34) | T34: =IF(F33="Nije ocijenjen","",IF(F33="Ocijenjen",IF(H34=0,"",IF(D33="Tužilac",IF(S34<0.26,40,IF(S34<0.41,30,IF(S34<0.51,20,IF(S34<=0.6,10,IF(S34<=1,0,))))),IF(S34<0.26,20,IF(S34<0.41,15,IF(S34<0.51,10,IF(S34<=0.6,5,IF(S34<=1,0,))))))))) | U34: =+(#REF!+#REF!)/2 -> #REF!
B35: 13 | C35: =IF('TABELA I'!B25="","",'TABELA I'!B25) | E35: =IF('TABELA I'!D25="","",'TABELA I'!D25) | F35: Nije ocijenjen | G35: KT, KTK, KTT i KTM | P35: =SUM(K35:M35) -> 0 | Q35: =SUM(N35:O35) -> 0 | R35: =IF((H35+I35)=0,"",((H35+I35)-(P35+Q35))/(H35+I35)) | S35: =IF(H35+I35=0,"",(P35+Q35)/(H35+I35)) | T35: =IF(F35="Nije ocijenjen","",IF(F35="Ocijenjen",IF(H35+I35=0,"",IF(D35="Tužilac",IF(S35<0.11,40,IF(S35<0.21,30,IF(S35<0.31,20,IF(S35<=0.5,10,IF(S35<=1,0,))))),IF(S35<0.11,20,IF(S35<0.21,15,IF(S35<0.31,10,IF(S35<=0.5,5,IF(S35<=1,0,))))))))) | U35: =IF(F35="Nije ocijenjen","",IF(F35="Ocijenjen",IF(H36=0,T35,IF(H35+I35=0,T36,(T35+T36)/2)))) | Y35: =IF(V35+W35=0,"",(V35+W35-X35)/(V35+W35)) | Z35: =IF(V35+W35=0,"",(X35)/(V35+W35)) | AA35: =IF(F35="Nije ocijenjen","",IF(F35="Ocijenjen",IF(V35+W35=0,"",IF(D35="Tužilac",IF(Z35<0.11,40,IF(Z35<0.21,30,IF(Z35<0.31,20,IF(Z35<=0.5,10,IF(Z35<=1,0,))))),IF(Z35<0.11,20,IF(Z35<0.21,15,IF(Z35<0.31,10,IF(Z35<=0.5,5,IF(Z35<=1,0,))))))))) | AB35: =IF(F35="Nije ocijenjen","",IF(F35="Ocijenjen",IF(AA35="",U35,IF(U35="",AA35,((U35+AA35)/2))))) | AD35: =IF(F35="Nije ocijenjen","",IF(F35="Ocijenjen",AB35-AC35))
G36: KTRZ, KTPO, KTO | P36: =SUM(K36:L36) -> 0 | R36: =IF(H36=0,"",(H36-P36/2.5)/H36) | S36: =IF(H36=0,"",(P36/2.5)/H36) | T36: =IF(F35="Nije ocijenjen","",IF(F35="Ocijenjen",IF(H36=0,"",IF(D35="Tužilac",IF(S36<0.26,40,IF(S36<0.41,30,IF(S36<0.51,20,IF(S36<=0.6,10,IF(S36<=1,0,))))),IF(S36<0.26,20,IF(S36<0.41,15,IF(S36<0.51,10,IF(S36<=0.6,5,IF(S36<=1,0,))))))))) | U36: =+(U33+U34)/2 -> #VALUE!
B37: 14 | C37: =IF('TABELA I'!B26="","",'TABELA I'!B26) | E37: =IF('TABELA I'!D26="","",'TABELA I'!D26) | F37: Nije ocijenjen | G37: KT, KTK, KTT i KTM | P37: =SUM(K37:M37) -> 0 | Q37: =SUM(N37:O37) -> 0 | R37: =IF((H37+I37)=0,"",((H37+I37)-(P37+Q37))/(H37+I37)) | S37: =IF(H37+I37=0,"",(P37+Q37)/(H37+I37)) | T37: =IF(F37="Nije ocijenjen","",IF(F37="Ocijenjen",IF(H37+I37=0,"",IF(D37="Tužilac",IF(S37<0.11,40,IF(S37<0.21,30,IF(S37<0.31,20,IF(S37<=0.5,10,IF(S37<=1,0,))))),IF(S37<0.11,20,IF(S37<0.21,15,IF(S37<0.31,10,IF(S37<=0.5,5,IF(S37<=1,0,))))))))) | U37: =IF(F37="Nije ocijenjen","",IF(F37="Ocijenjen",IF(H38=0,T37,IF(H37+I37=0,T38,(T37+T38)/2)))) | Y37: =IF(V37+W37=0,"",(V37+W37-X37)/(V37+W37)) | Z37: =IF(V37+W37=0,"",(X37)/(V37+W37)) | AA37: =IF(F37="Nije ocijenjen","",IF(F37="Ocijenjen",IF(V37+W37=0,"",IF(D37="Tužilac",IF(Z37<0.11,40,IF(Z37<0.21,30,IF(Z37<0.31,20,IF(Z37<=0.5,10,IF(Z37<=1,0,))))),IF(Z37<0.11,20,IF(Z37<0.21,15,IF(Z37<0.31,10,IF(Z37<=0.5,5,IF(Z37<=1,0,))))))))) | AB37: =IF(F37="Nije ocijenjen","",IF(F37="Ocijenjen",IF(AA37="",U37,IF(U37="",AA37,((U37+AA37)/2))))) | AD37: =IF(F37="Nije ocijenjen","",IF(F37="Ocijenjen",AB37-AC37))
G38: KTRZ, KTPO, KTO | P38: =SUM(K38:L38) -> 0 | R38: =IF(H38=0,"",(H38-P38/2.5)/H38) | S38: =IF(H38=0,"",(P38/2.5)/H38) | T38: =IF(F37="Nije ocijenjen","",IF(F37="Ocijenjen",IF(H38=0,"",IF(D37="Tužilac",IF(S38<0.26,40,IF(S38<0.41,30,IF(S38<0.51,20,IF(S38<=0.6,10,IF(S38<=1,0,))))),IF(S38<0.26,20,IF(S38<0.41,15,IF(S38<0.51,10,IF(S38<=0.6,5,IF(S38<=1,0,))))))))) | U38: =+(#REF!+#REF!)/2 -> #REF!
B39: 15 | C39: =IF('TABELA I'!B27="","",'TABELA I'!B27) | E39: =IF('TABELA I'!D27="","",'TABELA I'!D27) | F39: Nije ocijenjen | G39: KT, KTK, KTT i KTM | P39: =SUM(K39:M39) -> 0 | Q39: =SUM(N39:O39) -> 0 | R39: =IF((H39+I39)=0,"",((H39+I39)-(P39+Q39))/(H39+I39)) | S39: =IF(H39+I39=0,"",(P39+Q39)/(H39+I39)) | T39: =IF(F39="Nije ocijenjen","",IF(F39="Ocijenjen",IF(H39+I39=0,"",IF(D39="Tužilac",IF(S39<0.11,40,IF(S39<0.21,30,IF(S39<0.31,20,IF(S39<=0.5,10,IF(S39<=1,0,))))),IF(S39<0.11,20,IF(S39<0.21,15,IF(S39<0.31,10,IF(S39<=0.5,5,IF(S39<=1,0,))))))))) | U39: =IF(F39="Nije ocijenjen","",IF(F39="Ocijenjen",IF(H40=0,T39,IF(H39+I39=0,T40,(T39+T40)/2)))) | Y39: =IF(V39+W39=0,"",(V39+W39-X39)/(V39+W39)) | Z39: =IF(V39+W39=0,"",(X39)/(V39+W39)) | AA39: =IF(F39="Nije ocijenjen","",IF(F39="Ocijenjen",IF(V39+W39=0,"",IF(D39="Tužilac",IF(Z39<0.11,40,IF(Z39<0.21,30,IF(Z39<0.31,20,IF(Z39<=0.5,10,IF(Z39<=1,0,))))),IF(Z39<0.11,20,IF(Z39<0.21,15,IF(Z39<0.31,10,IF(Z39<=0.5,5,IF(Z39<=1,0,))))))))) | AB39: =IF(F39="Nije ocijenjen","",IF(F39="Ocijenjen",IF(AA39="",U39,IF(U39="",AA39,((U39+AA39)/2))))) | AD39: =IF(F39="Nije ocijenjen","",IF(F39="Ocijenjen",AB39-AC39))
G40: KTRZ, KTPO, KTO | P40: =SUM(K40:L40) -> 0 | R40: =IF(H40=0,"",(H40-P40/2.5)/H40) | S40: =IF(H40=0,"",(P40/2.5)/H40) | T40: =IF(F39="Nije ocijenjen","",IF(F39="Ocijenjen",IF(H40=0,"",IF(D39="Tužilac",IF(S40<0.26,40,IF(S40<0.41,30,IF(S40<0.51,20,IF(S40<=0.6,10,IF(S40<=1,0,))))),IF(S40<0.26,20,IF(S40<0.41,15,IF(S40<0.51,10,IF(S40<=0.6,5,IF(S40<=1,0,))))))))) | U40: =+(U37+U38)/2 -> #VALUE!
B41: 16 | C41: =IF('TABELA I'!B28="","",'TABELA I'!B28) | E41: =IF('TABELA I'!D28="","",'TABELA I'!D28) | F41: Nije ocijenjen | G41: KT, KTK, KTT i KTM | P41: =SUM(K41:M41) -> 0 | Q41: =SUM(N41:O41) -> 0 | R41: =IF((H41+I41)=0,"",((H41+I41)-(P41+Q41))/(H41+I41)) | S41: =IF(H41+I41=0,"",(P41+Q41)/(H41+I41)) | T41: =IF(F41="Nije ocijenjen","",IF(F41="Ocijenjen",IF(H41+I41=0,"",IF(D41="Tužilac",IF(S41<0.11,40,IF(S41<0.21,30,IF(S41<0.31,20,IF(S41<=0.5,10,IF(S41<=1,0,))))),IF(S41<0.11,20,IF(S41<0.21,15,IF(S41<0.31,10,IF(S41<=0.5,5,IF(S41<=1,0,))))))))) | U41: =IF(F41="Nije ocijenjen","",IF(F41="Ocijenjen",IF(H42=0,T41,IF(H41+I41=0,T42,(T41+T42)/2)))) | Y41: =IF(V41+W41=0,"",(V41+W41-X41)/(V41+W41)) | Z41: =IF(V41+W41=0,"",(X41)/(V41+W41)) | AA41: =IF(F41="Nije ocijenjen","",IF(F41="Ocijenjen",IF(V41+W41=0,"",IF(D41="Tužilac",IF(Z41<0.11,40,IF(Z41<0.21,30,IF(Z41<0.31,20,IF(Z41<=0.5,10,IF(Z41<=1,0,))))),IF(Z41<0.11,20,IF(Z41<0.21,15,IF(Z41<0.31,10,IF(Z41<=0.5,5,IF(Z41<=1,0,))))))))) | AB41: =IF(F41="Nije ocijenjen","",IF(F41="Ocijenjen",IF(AA41="",U41,IF(U41="",AA41,((U41+AA41)/2))))) | AD41: =IF(F41="Nije ocijenjen","",IF(F41="Ocijenjen",AB41-AC41))
G42: KTRZ, KTPO, KTO | P42: =SUM(K42:L42) -> 0 | R42: =IF(H42=0,"",(H42-P42/2.5)/H42) | S42: =IF(H42=0,"",(P42/2.5)/H42) | T42: =IF(F41="Nije ocijenjen","",IF(F41="Ocijenjen",IF(H42=0,"",IF(D41="Tužilac",IF(S42<0.26,40,IF(S42<0.41,30,IF(S42<0.51,20,IF(S42<=0.6,10,IF(S42<=1,0,))))),IF(S42<0.26,20,IF(S42<0.41,15,IF(S42<0.51,10,IF(S42<=0.6,5,IF(S42<=1,0,))))))))) | U42: =+(#REF!+#REF!)/2 -> #REF!
B43: 17 | C43: =IF('TABELA I'!B29="","",'TABELA I'!B29) | E43: =IF('TABELA I'!D29="","",'TABELA I'!D29) | F43: Nije ocijenjen | G43: KT, KTK, KTT i KTM | P43: =SUM(K43:M43) -> 0 | Q43: =SUM(N43:O43) -> 0 | R43: =IF((H43+I43)=0,"",((H43+I43)-(P43+Q43))/(H43+I43)) | S43: =IF(H43+I43=0,"",(P43+Q43)/(H43+I43)) | T43: =IF(F43="Nije ocijenjen","",IF(F43="Ocijenjen",IF(H43+I43=0,"",IF(D43="Tužilac",IF(S43<0.11,40,IF(S43<0.21,30,IF(S43<0.31,20,IF(S43<=0.5,10,IF(S43<=1,0,))))),IF(S43<0.11,20,IF(S43<0.21,15,IF(S43<0.31,10,IF(S43<=0.5,5,IF(S43<=1,0,))))))))) | U43: =IF(F43="Nije ocijenjen","",IF(F43="Ocijenjen",IF(H44=0,T43,IF(H43+I43=0,T44,(T43+T44)/2)))) | Y43: =IF(V43+W43=0,"",(V43+W43-X43)/(V43+W43)) | Z43: =IF(V43+W43=0,"",(X43)/(V43+W43)) | AA43: =IF(F43="Nije ocijenjen","",IF(F43="Ocijenjen",IF(V43+W43=0,"",IF(D43="Tužilac",IF(Z43<0.11,40,IF(Z43<0.21,30,IF(Z43<0.31,20,IF(Z43<=0.5,10,IF(Z43<=1,0,))))),IF(Z43<0.11,20,IF(Z43<0.21,15,IF(Z43<0.31,10,IF(Z43<=0.5,5,IF(Z43<=1,0,))))))))) | AB43: =IF(F43="Nije ocijenjen","",IF(F43="Ocijenjen",IF(AA43="",U43,IF(U43="",AA43,((U43+AA43)/2))))) | AD43: =IF(F43="Nije ocijenjen","",IF(F43="Ocijenjen",AB43-AC43))
G44: KTRZ, KTPO, KTO | P44: =SUM(K44:L44) -> 0 | R44: =IF(H44=0,"",(H44-P44/2.5)/H44) | S44: =IF(H44=0,"",(P44/2.5)/H44) | T44: =IF(F43="Nije ocijenjen","",IF(F43="Ocijenjen",IF(H44=0,"",IF(D43="Tužilac",IF(S44<0.26,40,IF(S44<0.41,30,IF(S44<0.51,20,IF(S44<=0.6,10,IF(S44<=1,0,))))),IF(S44<0.26,20,IF(S44<0.41,15,IF(S44<0.51,10,IF(S44<=0.6,5,IF(S44<=1,0,))))))))) | U44: =+(U41+U42)/2 -> #VALUE!
B45: 18 | C45: =IF('TABELA I'!B30="","",'TABELA I'!B30) | E45: =IF('TABELA I'!D30="","",'TABELA I'!D30) | F45: Nije ocijenjen | G45: KT, KTK, KTT i KTM | P45: =SUM(K45:M45) -> 0 | Q45: =SUM(N45:O45) -> 0 | R45: =IF((H45+I45)=0,"",((H45+I45)-(P45+Q45))/(H45+I45)) | S45: =IF(H45+I45=0,"",(P45+Q45)/(H45+I45)) | T45: =IF(F45="Nije ocijenjen","",IF(F45="Ocijenjen",IF(H45+I45=0,"",IF(D45="Tužilac",IF(S45<0.11,40,IF(S45<0.21,30,IF(S45<0.31,20,IF(S45<=0.5,10,IF(S45<=1,0,))))),IF(S45<0.11,20,IF(S45<0.21,15,IF(S45<0.31,10,IF(S45<=0.5,5,IF(S45<=1,0,))))))))) | U45: =IF(F45="Nije ocijenjen","",IF(F45="Ocijenjen",IF(H46=0,T45,IF(H45+I45=0,T46,(T45+T46)/2)))) | Y45: =IF(V45+W45=0,"",(V45+W45-X45)/(V45+W45)) | Z45: =IF(V45+W45=0,"",(X45)/(V45+W45)) | AA45: =IF(F45="Nije ocijenjen","",IF(F45="Ocijenjen",IF(V45+W45=0,"",IF(D45="Tužilac",IF(Z45<0.11,40,IF(Z45<0.21,30,IF(Z45<0.31,20,IF(Z45<=0.5,10,IF(Z45<=1,0,))))),IF(Z45<0.11,20,IF(Z45<0.21,15,IF(Z45<0.31,10,IF(Z45<=0.5,5,IF(Z45<=1,0,))))))))) | AB45: =IF(F45="Nije ocijenjen","",IF(F45="Ocijenjen",IF(AA45="",U45,IF(U45="",AA45,((U45+AA45)/2))))) | AD45: =IF(F45="Nije ocijenjen","",IF(F45="Ocijenjen",AB45-AC45))
G46: KTRZ, KTPO, KTO | P46: =SUM(K46:L46) -> 0 | R46: =IF(H46=0,"",(H46-P46/2.5)/H46) | S46: =IF(H46=0,"",(P46/2.5)/H46) | T46: =IF(F45="Nije ocijenjen","",IF(F45="Ocijenjen",IF(H46=0,"",IF(D45="Tužilac",IF(S46<0.26,40,IF(S46<0.41,30,IF(S46<0.51,20,IF(S46<=0.6,10,IF(S46<=1,0,))))),IF(S46<0.26,20,IF(S46<0.41,15,IF(S46<0.51,10,IF(S46<=0.6,5,IF(S46<=1,0,))))))))) | U46: =+(#REF!+#REF!)/2 -> #REF!
B47: 19 | C47: =IF('TABELA I'!B31="","",'TABELA I'!B31) | E47: =IF('TABELA I'!D31="","",'TABELA I'!D31) | F47: Nije ocijenjen | G47: KT, KTK, KTT i KTM | P47: =SUM(K47:M47) -> 0 | Q47: =SUM(N47:O47) -> 0 | R47: =IF((H47+I47)=0,"",((H47+I47)-(P47+Q47))/(H47+I47)) | S47: =IF(H47+I47=0,"",(P47+Q47)/(H47+I47)) | T47: =IF(F47="Nije ocijenjen","",IF(F47="Ocijenjen",IF(H47+I47=0,"",IF(D47="Tužilac",IF(S47<0.11,40,IF(S47<0.21,30,IF(S47<0.31,20,IF(S47<=0.5,10,IF(S47<=1,0,))))),IF(S47<0.11,20,IF(S47<0.21,15,IF(S47<0.31,10,IF(S47<=0.5,5,IF(S47<=1,0,))))))))) | U47: =IF(F47="Nije ocijenjen","",IF(F47="Ocijenjen",IF(H48=0,T47,IF(H47+I47=0,T48,(T47+T48)/2)))) | Y47: =IF(V47+W47=0,"",(V47+W47-X47)/(V47+W47)) | Z47: =IF(V47+W47=0,"",(X47)/(V47+W47)) | AA47: =IF(F47="Nije ocijenjen","",IF(F47="Ocijenjen",IF(V47+W47=0,"",IF(D47="Tužilac",IF(Z47<0.11,40,IF(Z47<0.21,30,IF(Z47<0.31,20,IF(Z47<=0.5,10,IF(Z47<=1,0,))))),IF(Z47<0.11,20,IF(Z47<0.21,15,IF(Z47<0.31,10,IF(Z47<=0.5,5,IF(Z47<=1,0,))))))))) | AB47: =IF(F47="Nije ocijenjen","",IF(F47="Ocijenjen",IF(AA47="",U47,IF(U47="",AA47,((U47+AA47)/2))))) | AD47: =IF(F47="Nije ocijenjen","",IF(F47="Ocijenjen",AB47-AC47))
G48: KTRZ, KTPO, KTO | P48: =SUM(K48:L48) -> 0 | R48: =IF(H48=0,"",(H48-P48/2.5)/H48) | S48: =IF(H48=0,"",(P48/2.5)/H48) | T48: =IF(F47="Nije ocijenjen","",IF(F47="Ocijenjen",IF(H48=0,"",IF(D47="Tužilac",IF(S48<0.26,40,IF(S48<0.41,30,IF(S48<0.51,20,IF(S48<=0.6,10,IF(S48<=1,0,))))),IF(S48<0.26,20,IF(S48<0.41,15,IF(S48<0.51,10,IF(S48<=0.6,5,IF(S48<=1,0,))))))))) | U48: =+(U45+U46)/2 -> #VALUE!
B49: 20 | C49: =IF('TABELA I'!B32="","",'TABELA I'!B32) | E49: =IF('TABELA I'!D32="","",'TABELA I'!D32) | F49: Nije ocijenjen | G49: KT, KTK, KTT i KTM | P49: =SUM(K49:M49) -> 0 | Q49: =SUM(N49:O49) -> 0 | R49: =IF((H49+I49)=0,"",((H49+I49)-(P49+Q49))/(H49+I49)) | S49: =IF(H49+I49=0,"",(P49+Q49)/(H49+I49)) | T49: =IF(F49="Nije ocijenjen","",IF(F49="Ocijenjen",IF(H49+I49=0,"",IF(D49="Tužilac",IF(S49<0.11,40,IF(S49<0.21,30,IF(S49<0.31,20,IF(S49<=0.5,10,IF(S49<=1,0,))))),IF(S49<0.11,20,IF(S49<0.21,15,IF(S49<0.31,10,IF(S49<=0.5,5,IF(S49<=1,0,))))))))) | U49: =IF(F49="Nije ocijenjen","",IF(F49="Ocijenjen",IF(H50=0,T49,IF(H49+I49=0,T50,(T49+T50)/2)))) | Y49: =IF(V49+W49=0,"",(V49+W49-X49)/(V49+W49)) | Z49: =IF(V49+W49=0,"",(X49)/(V49+W49)) | AA49: =IF(F49="Nije ocijenjen","",IF(F49="Ocijenjen",IF(V49+W49=0,"",IF(D49="Tužilac",IF(Z49<0.11,40,IF(Z49<0.21,30,IF(Z49<0.31,20,IF(Z49<=0.5,10,IF(Z49<=1,0,))))),IF(Z49<0.11,20,IF(Z49<0.21,15,IF(Z49<0.31,10,IF(Z49<=0.5,5,IF(Z49<=1,0,))))))))) | AB49: =IF(F49="Nije ocijenjen","",IF(F49="Ocijenjen",IF(AA49="",U49,IF(U49="",AA49,((U49+AA49)/2))))) | AD49: =IF(F49="Nije ocijenjen","",IF(F49="Ocijenjen",AB49-AC49))
G50: KTRZ, KTPO, KTO | P50: =SUM(K50:L50) -> 0 | R50: =IF(H50=0,"",(H50-P50/2.5)/H50) | S50: =IF(H50=0,"",(P50/2.5)/H50) | T50: =IF(F49="Nije ocijenjen","",IF(F49="Ocijenjen",IF(H50=0,"",IF(D49="Tužilac",IF(S50<0.26,40,IF(S50<0.41,30,IF(S50<0.51,20,IF(S50<=0.6,10,IF(S50<=1,0,))))),IF(S50<0.26,20,IF(S50<0.41,15,IF(S50<0.51,10,IF(S50<=0.6,5,IF(S50<=1,0,))))))))) | U50: =+(#REF!+#REF!)/2 -> #REF!
B51: 21 | C51: =IF('TABELA I'!B33="","",'TABELA I'!B33) | E51: =IF('TABELA I'!D33="","",'TABELA I'!D33) | F51: Nije ocijenjen | G51: KT, KTK, KTT i KTM | P51: =SUM(K51:M51) -> 0 | Q51: =SUM(N51:O51) -> 0 | R51: =IF((H51+I51)=0,"",((H51+I51)-(P51+Q51))/(H51+I51)) | S51: =IF(H51+I51=0,"",(P51+Q51)/(H51+I51)) | T51: =IF(F51="Nije ocijenjen","",IF(F51="Ocijenjen",IF(H51+I51=0,"",IF(D51="Tužilac",IF(S51<0.11,40,IF(S51<0.21,30,IF(S51<0.31,20,IF(S51<=0.5,10,IF(S51<=1,0,))))),IF(S51<0.11,20,IF(S51<0.21,15,IF(S51<0.31,10,IF(S51<=0.5,5,IF(S51<=1,0,))))))))) | U51: =IF(F51="Nije ocijenjen","",IF(F51="Ocijenjen",IF(H52=0,T51,IF(H51+I51=0,T52,(T51+T52)/2)))) | Y51: =IF(V51+W51=0,"",(V51+W51-X51)/(V51+W51)) | Z51: =IF(V51+W51=0,"",(X51)/(V51+W51)) | AA51: =IF(F51="Nije ocijenjen","",IF(F51="Ocijenjen",IF(V51+W51=0,"",IF(D51="Tužilac",IF(Z51<0.11,40,IF(Z51<0.21,30,IF(Z51<0.31,20,IF(Z51<=0.5,10,IF(Z51<=1,0,))))),IF(Z51<0.11,20,IF(Z51<0.21,15,IF(Z51<0.31,10,IF(Z51<=0.5,5,IF(Z51<=1,0,))))))))) | AB51: =IF(F51="Nije ocijenjen","",IF(F51="Ocijenjen",IF(AA51="",U51,IF(U51="",AA51,((U51+AA51)/2))))) | AD51: =IF(F51="Nije ocijenjen","",IF(F51="Ocijenjen",AB51-AC51))
G52: KTRZ, KTPO, KTO | P52: =SUM(K52:L52) -> 0 | R52: =IF(H52=0,"",(H52-P52/2.5)/H52) | S52: =IF(H52=0,"",(P52/2.5)/H52) | T52: =IF(F51="Nije ocijenjen","",IF(F51="Ocijenjen",IF(H52=0,"",IF(D51="Tužilac",IF(S52<0.26,40,IF(S52<0.41,30,IF(S52<0.51,20,IF(S52<=0.6,10,IF(S52<=1,0,))))),IF(S52<0.26,20,IF(S52<0.41,15,IF(S52<0.51,10,IF(S52<=0.6,5,IF(S52<=1,0,))))))))) | U52: =+(U49+U50)/2 -> #VALUE!
B53: 22 | C53: =IF('TABELA I'!B34="","",'TABELA I'!B34) | E53: =IF('TABELA I'!D34="","",'TABELA I'!D34) | F53: Nije ocijenjen | G53: KT, KTK, KTT i KTM | P53: =SUM(K53:M53) -> 0 | Q53: =SUM(N53:O53) -> 0 | R53: =IF((H53+I53)=0,"",((H53+I53)-(P53+Q53))/(H53+I53)) | S53: =IF(H53+I53=0,"",(P53+Q53)/(H53+I53)) | T53: =IF(F53="Nije ocijenjen","",IF(F53="Ocijenjen",IF(H53+I53=0,"",IF(D53="Tužilac",IF(S53<0.11,40,IF(S53<0.21,30,IF(S53<0.31,20,IF(S53<=0.5,10,IF(S53<=1,0,))))),IF(S53<0.11,20,IF(S53<0.21,15,IF(S53<0.31,10,IF(S53<=0.5,5,IF(S53<=1,0,))))))))) | U53: =IF(F53="Nije ocijenjen","",IF(F53="Ocijenjen",IF(H54=0,T53,IF(H53+I53=0,T54,(T53+T54)/2)))) | Y53: =IF(V53+W53=0,"",(V53+W53-X53)/(V53+W53)) | Z53: =IF(V53+W53=0,"",(X53)/(V53+W53)) | AA53: =IF(F53="Nije ocijenjen","",IF(F53="Ocijenjen",IF(V53+W53=0,"",IF(D53="Tužilac",IF(Z53<0.11,40,IF(Z53<0.21,30,IF(Z53<0.31,20,IF(Z53<=0.5,10,IF(Z53<=1,0,))))),IF(Z53<0.11,20,IF(Z53<0.21,15,IF(Z53<0.31,10,IF(Z53<=0.5,5,IF(Z53<=1,0,))))))))) | AB53: =IF(F53="Nije ocijenjen","",IF(F53="Ocijenjen",IF(AA53="",U53,IF(U53="",AA53,((U53+AA53)/2))))) | AD53: =IF(F53="Nije ocijenjen","",IF(F53="Ocijenjen",AB53-AC53))
G54: KTRZ, KTPO, KTO | P54: =SUM(K54:L54) -> 0 | R54: =IF(H54=0,"",(H54-P54/2.5)/H54) | S54: =IF(H54=0,"",(P54/2.5)/H54) | T54: =IF(F53="Nije ocijenjen","",IF(F53="Ocijenjen",IF(H54=0,"",IF(D53="Tužilac",IF(S54<0.26,40,IF(S54<0.41,30,IF(S54<0.51,20,IF(S54<=0.6,10,IF(S54<=1,0,))))),IF(S54<0.26,20,IF(S54<0.41,15,IF(S54<0.51,10,IF(S54<=0.6,5,IF(S54<=1,0,))))))))) | U54: =+(#REF!+#REF!)/2 -> #REF!
B55: 23 | C55: =IF('TABELA I'!B35="","",'TABELA I'!B35) | E55: =IF('TABELA I'!D35="","",'TABELA I'!D35) | F55: Nije ocijenjen | G55: KT, KTK, KTT i KTM | P55: =SUM(K55:M55) -> 0 | Q55: =SUM(N55:O55) -> 0 | R55: =IF((H55+I55)=0,"",((H55+I55)-(P55+Q55))/(H55+I55)) | S55: =IF(H55+I55=0,"",(P55+Q55)/(H55+I55)) | T55: =IF(F55="Nije ocijenjen","",IF(F55="Ocijenjen",IF(H55+I55=0,"",IF(D55="Tužilac",IF(S55<0.11,40,IF(S55<0.21,30,IF(S55<0.31,20,IF(S55<=0.5,10,IF(S55<=1,0,))))),IF(S55<0.11,20,IF(S55<0.21,15,IF(S55<0.31,10,IF(S55<=0.5,5,IF(S55<=1,0,))))))))) | U55: =IF(F55="Nije ocijenjen","",IF(F55="Ocijenjen",IF(H56=0,T55,IF(H55+I55=0,T56,(T55+T56)/2)))) | Y55: =IF(V55+W55=0,"",(V55+W55-X55)/(V55+W55)) | Z55: =IF(V55+W55=0,"",(X55)/(V55+W55)) | AA55: =IF(F55="Nije ocijenjen","",IF(F55="Ocijenjen",IF(V55+W55=0,"",IF(D55="Tužilac",IF(Z55<0.11,40,IF(Z55<0.21,30,IF(Z55<0.31,20,IF(Z55<=0.5,10,IF(Z55<=1,0,))))),IF(Z55<0.11,20,IF(Z55<0.21,15,IF(Z55<0.31,10,IF(Z55<=0.5,5,IF(Z55<=1,0,))))))))) | AB55: =IF(F55="Nije ocijenjen","",IF(F55="Ocijenjen",IF(AA55="",U55,IF(U55="",AA55,((U55+AA55)/2))))) | AD55: =IF(F55="Nije ocijenjen","",IF(F55="Ocijenjen",AB55-AC55))
G56: KTRZ, KTPO, KTO | P56: =SUM(K56:L56) -> 0 | R56: =IF(H56=0,"",(H56-P56/2.5)/H56) | S56: =IF(H56=0,"",(P56/2.5)/H56) | T56: =IF(F55="Nije ocijenjen","",IF(F55="Ocijenjen",IF(H56=0,"",IF(D55="Tužilac",IF(S56<0.26,40,IF(S56<0.41,30,IF(S56<0.51,20,IF(S56<=0.6,10,IF(S56<=1,0,))))),IF(S56<0.26,20,IF(S56<0.41,15,IF(S56<0.51,10,IF(S56<=0.6,5,IF(S56<=1,0,))))))))) | U56: =+(U53+U54)/2 -> #VALUE!
B57: 24 | C57: =IF('TABELA I'!B36="","",'TABELA I'!B36) | E57: =IF('TABELA I'!D36="","",'TABELA I'!D36) | F57: Nije ocijenjen | G57: KT, KTK, KTT i KTM | P57: =SUM(K57:M57) -> 0 | Q57: =SUM(N57:O57) -> 0 | R57: =IF((H57+I57)=0,"",((H57+I57)-(P57+Q57))/(H57+I57)) | S57: =IF(H57+I57=0,"",(P57+Q57)/(H57+I57)) | T57: =IF(F57="Nije ocijenjen","",IF(F57="Ocijenjen",IF(H57+I57=0,"",IF(D57="Tužilac",IF(S57<0.11,40,IF(S57<0.21,30,IF(S57<0.31,20,IF(S57<=0.5,10,IF(S57<=1,0,))))),IF(S57<0.11,20,IF(S57<0.21,15,IF(S57<0.31,10,IF(S57<=0.5,5,IF(S57<=1,0,))))))))) | U57: =IF(F57="Nije ocijenjen","",IF(F57="Ocijenjen",IF(H58=0,T57,IF(H57+I57=0,T58,(T57+T58)/2)))) | Y57: =IF(V57+W57=0,"",(V57+W57-X57)/(V57+W57)) | Z57: =IF(V57+W57=0,"",(X57)/(V57+W57)) | AA57: =IF(F57="Nije ocijenjen","",IF(F57="Ocijenjen",IF(V57+W57=0,"",IF(D57="Tužilac",IF(Z57<0.11,40,IF(Z57<0.21,30,IF(Z57<0.31,20,IF(Z57<=0.5,10,IF(Z57<=1,0,))))),IF(Z57<0.11,20,IF(Z57<0.21,15,IF(Z57<0.31,10,IF(Z57<=0.5,5,IF(Z57<=1,0,))))))))) | AB57: =IF(F57="Nije ocijenjen","",IF(F57="Ocijenjen",IF(AA57="",U57,IF(U57="",AA57,((U57+AA57)/2))))) | AD57: =IF(F57="Nije ocijenjen","",IF(F57="Ocijenjen",AB57-AC57))
G58: KTRZ, KTPO, KTO | P58: =SUM(K58:L58) -> 0 | R58: =IF(H58=0,"",(H58-P58/2.5)/H58) | S58: =IF(H58=0,"",(P58/2.5)/H58) | T58: =IF(F57="Nije ocijenjen","",IF(F57="Ocijenjen",IF(H58=0,"",IF(D57="Tužilac",IF(S58<0.26,40,IF(S58<0.41,30,IF(S58<0.51,20,IF(S58<=0.6,10,IF(S58<=1,0,))))),IF(S58<0.26,20,IF(S58<0.41,15,IF(S58<0.51,10,IF(S58<=0.6,5,IF(S58<=1,0,))))))))) | U58: =+(#REF!+#REF!)/2 -> #REF!
B59: 25 | C59: =IF('TABELA I'!B37="","",'TABELA I'!B37) | E59: =IF('TABELA I'!D37="","",'TABELA I'!D37) | F59: Nije ocijenjen | G59: KT, KTK, KTT i KTM | P59: =SUM(K59:M59) -> 0 | Q59: =SUM(N59:O59) -> 0 | R59: =IF((H59+I59)=0,"",((H59+I59)-(P59+Q59))/(H59+I59)) | S59: =IF(H59+I59=0,"",(P59+Q59)/(H59+I59)) | T59: =IF(F59="Nije ocijenjen","",IF(F59="Ocijenjen",IF(H59+I59=0,"",IF(D59="Tužilac",IF(S59<0.11,40,IF(S59<0.21,30,IF(S59<0.31,20,IF(S59<=0.5,10,IF(S59<=1,0,))))),IF(S59<0.11,20,IF(S59<0.21,15,IF(S59<0.31,10,IF(S59<=0.5,5,IF(S59<=1,0,))))))))) | U59: =IF(F59="Nije ocijenjen","",IF(F59="Ocijenjen",IF(H60=0,T59,IF(H59+I59=0,T60,(T59+T60)/2)))) | Y59: =IF(V59+W59=0,"",(V59+W59-X59)/(V59+W59)) | Z59: =IF(V59+W59=0,"",(X59)/(V59+W59)) | AA59: =IF(F59="Nije ocijenjen","",IF(F59="Ocijenjen",IF(V59+W59=0,"",IF(D59="Tužilac",IF(Z59<0.11,40,IF(Z59<0.21,30,IF(Z59<0.31,20,IF(Z59<=0.5,10,IF(Z59<=1,0,))))),IF(Z59<0.11,20,IF(Z59<0.21,15,IF(Z59<0.31,10,IF(Z59<=0.5,5,IF(Z59<=1,0,))))))))) | AB59: =IF(F59="Nije ocijenjen","",IF(F59="Ocijenjen",IF(AA59="",U59,IF(U59="",AA59,((U59+AA59)/2))))) | AD59: =IF(F59="Nije ocijenjen","",IF(F59="Ocijenjen",AB59-AC59))
G60: KTRZ, KTPO, KTO | P60: =SUM(K60:L60) -> 0 | R60: =IF(H60=0,"",(H60-P60/2.5)/H60) | S60: =IF(H60=0,"",(P60/2.5)/H60) | T60: =IF(F59="Nije ocijenjen","",IF(F59="Ocijenjen",IF(H60=0,"",IF(D59="Tužilac",IF(S60<0.26,40,IF(S60<0.41,30,IF(S60<0.51,20,IF(S60<=0.6,10,IF(S60<=1,0,))))),IF(S60<0.26,20,IF(S60<0.41,15,IF(S60<0.51,10,IF(S60<=0.6,5,IF(S60<=1,0,))))))))) | U60: =+(#REF!+#REF!)/2 -> #REF!
B61: 26 | C61: =IF('TABELA I'!B38="","",'TABELA I'!B38) | E61: =IF('TABELA I'!D38="","",'TABELA I'!D38) | F61: Nije ocijenjen | G61: KT, KTK, KTT i KTM | P61: =SUM(K61:M61) -> 0 | Q61: =SUM(N61:O61) -> 0 | R61: =IF((H61+I61)=0,"",((H61+I61)-(P61+Q61))/(H61+I61)) | S61: =IF(H61+I61=0,"",(P61+Q61)/(H61+I61)) | T61: =IF(F61="Nije ocijenjen","",IF(F61="Ocijenjen",IF(H61+I61=0,"",IF(D61="Tužilac",IF(S61<0.11,40,IF(S61<0.21,30,IF(S61<0.31,20,IF(S61<=0.5,10,IF(S61<=1,0,))))),IF(S61<0.11,20,IF(S61<0.21,15,IF(S61<0.31,10,IF(S61<=0.5,5,IF(S61<=1,0,))))))))) | U61: =IF(F61="Nije ocijenjen","",IF(F61="Ocijenjen",IF(H62=0,T61,IF(H61+I61=0,T62,(T61+T62)/2)))) | Y61: =IF(V61+W61=0,"",(V61+W61-X61)/(V61+W61)) | Z61: =IF(V61+W61=0,"",(X61)/(V61+W61)) | AA61: =IF(F61="Nije ocijenjen","",IF(F61="Ocijenjen",IF(V61+W61=0,"",IF(D61="Tužilac",IF(Z61<0.11,40,IF(Z61<0.21,30,IF(Z61<0.31,20,IF(Z61<=0.5,10,IF(Z61<=1,0,))))),IF(Z61<0.11,20,IF(Z61<0.21,15,IF(Z61<0.31,10,IF(Z61<=0.5,5,IF(Z61<=1,0,))))))))) | AB61: =IF(F61="Nije ocijenjen","",IF(F61="Ocijenjen",IF(AA61="",U61,IF(U61="",AA61,((U61+AA61)/2))))) | AD61: =IF(F61="Nije ocijenjen","",IF(F61="Ocijenjen",AB61-AC61))
G62: KTRZ, KTPO, KTO | P62: =SUM(K62:L62) -> 0 | R62: =IF(H62=0,"",(H62-P62/2.5)/H62) | S62: =IF(H62=0,"",(P62/2.5)/H62) | T62: =IF(F61="Nije ocijenjen","",IF(F61="Ocijenjen",IF(H62=0,"",IF(D61="Tužilac",IF(S62<0.26,40,IF(S62<0.41,30,IF(S62<0.51,20,IF(S62<=0.6,10,IF(S62<=1,0,))))),IF(S62<0.26,20,IF(S62<0.41,15,IF(S62<0.51,10,IF(S62<=0.6,5,IF(S62<=1,0,))))))))) | U62: =+(U59+U60)/2 -> #VALUE!
B63: 27 | C63: =IF('TABELA I'!B39="","",'TABELA I'!B39) | E63: =IF('TABELA I'!D39="","",'TABELA I'!D39) | F63: Nije ocijenjen | G63: KT, KTK, KTT i KTM | P63: =SUM(K63:M63) -> 0 | Q63: =SUM(N63:O63) -> 0 | R63: =IF((H63+I63)=0,"",((H63+I63)-(P63+Q63))/(H63+I63)) | S63: =IF(H63+I63=0,"",(P63+Q63)/(H63+I63)) | T63: =IF(F63="Nije ocijenjen","",IF(F63="Ocijenjen",IF(H63+I63=0,"",IF(D63="Tužilac",IF(S63<0.11,40,IF(S63<0.21,30,IF(S63<0.31,20,IF(S63<=0.5,10,IF(S63<=1,0,))))),IF(S63<0.11,20,IF(S63<0.21,15,IF(S63<0.31,10,IF(S63<=0.5,5,IF(S63<=1,0,))))))))) | U63: =IF(F63="Nije ocijenjen","",IF(F63="Ocijenjen",IF(H64=0,T63,IF(H63+I63=0,T64,(T63+T64)/2)))) | Y63: =IF(V63+W63=0,"",(V63+W63-X63)/(V63+W63)) | Z63: =IF(V63+W63=0,"",(X63)/(V63+W63)) | AA63: =IF(F63="Nije ocijenjen","",IF(F63="Ocijenjen",IF(V63+W63=0,"",IF(D63="Tužilac",IF(Z63<0.11,40,IF(Z63<0.21,30,IF(Z63<0.31,20,IF(Z63<=0.5,10,IF(Z63<=1,0,))))),IF(Z63<0.11,20,IF(Z63<0.21,15,IF(Z63<0.31,10,IF(Z63<=0.5,5,IF(Z63<=1,0,))))))))) | AB63: =IF(F63="Nije ocijenjen","",IF(F63="Ocijenjen",IF(AA63="",U63,IF(U63="",AA63,((U63+AA63)/2))))) | AD63: =IF(F63="Nije ocijenjen","",IF(F63="Ocijenjen",AB63-AC63))
G64: KTRZ, KTPO, KTO | P64: =SUM(K64:L64) -> 0 | R64: =IF(H64=0,"",(H64-P64/2.5)/H64) | S64: =IF(H64=0,"",(P64/2.5)/H64) | T64: =IF(F63="Nije ocijenjen","",IF(F63="Ocijenjen",IF(H64=0,"",IF(D63="Tužilac",IF(S64<0.26,40,IF(S64<0.41,30,IF(S64<0.51,20,IF(S64<=0.6,10,IF(S64<=1,0,))))),IF(S64<0.26,20,IF(S64<0.41,15,IF(S64<0.51,10,IF(S64<=0.6,5,IF(S64<=1,0,))))))))) | U64: =+(#REF!+#REF!)/2 -> #REF!
B65: 28 | C65: =IF('TABELA I'!B40="","",'TABELA I'!B40) | E65: =IF('TABELA I'!D40="","",'TABELA I'!D40) | F65: Nije ocijenjen | G65: KT, KTK, KTT i KTM | P65: =SUM(K65:M65) -> 0 | Q65: =SUM(N65:O65) -> 0 | R65: =IF((H65+I65)=0,"",((H65+I65)-(P65+Q65))/(H65+I65)) | S65: =IF(H65+I65=0,"",(P65+Q65)/(H65+I65)) | T65: =IF(F65="Nije ocijenjen","",IF(F65="Ocijenjen",IF(H65+I65=0,"",IF(D65="Tužilac",IF(S65<0.11,40,IF(S65<0.21,30,IF(S65<0.31,20,IF(S65<=0.5,10,IF(S65<=1,0,))))),IF(S65<0.11,20,IF(S65<0.21,15,IF(S65<0.31,10,IF(S65<=0.5,5,IF(S65<=1,0,))))))))) | U65: =IF(F65="Nije ocijenjen","",IF(F65="Ocijenjen",IF(H66=0,T65,IF(H65+I65=0,T66,(T65+T66)/2)))) | Y65: =IF(V65+W65=0,"",(V65+W65-X65)/(V65+W65)) | Z65: =IF(V65+W65=0,"",(X65)/(V65+W65)) | AA65: =IF(F65="Nije ocijenjen","",IF(F65="Ocijenjen",IF(V65+W65=0,"",IF(D65="Tužilac",IF(Z65<0.11,40,IF(Z65<0.21,30,IF(Z65<0.31,20,IF(Z65<=0.5,10,IF(Z65<=1,0,))))),IF(Z65<0.11,20,IF(Z65<0.21,15,IF(Z65<0.31,10,IF(Z65<=0.5,5,IF(Z65<=1,0,))))))))) | AB65: =IF(F65="Nije ocijenjen","",IF(F65="Ocijenjen",IF(AA65="",U65,IF(U65="",AA65,((U65+AA65)/2))))) | AD65: =IF(F65="Nije ocijenjen","",IF(F65="Ocijenjen",AB65-AC65))
G66: KTRZ, KTPO, KTO | P66: =SUM(K66:L66) -> 0 | R66: =IF(H66=0,"",(H66-P66/2.5)/H66) | S66: =IF(H66=0,"",(P66/2.5)/H66) | T66: =IF(F65="Nije ocijenjen","",IF(F65="Ocijenjen",IF(H66=0,"",IF(D65="Tužilac",IF(S66<0.26,40,IF(S66<0.41,30,IF(S66<0.51,20,IF(S66<=0.6,10,IF(S66<=1,0,))))),IF(S66<0.26,20,IF(S66<0.41,15,IF(S66<0.51,10,IF(S66<=0.6,5,IF(S66<=1,0,))))))))) | U66: =+(U63+U64)/2 -> #VALUE!
B67: 29 | C67: =IF('TABELA I'!B41="","",'TABELA I'!B41) | E67: =IF('TABELA I'!D41="","",'TABELA I'!D41) | F67: Nije ocijenjen | G67: KT, KTK, KTT i KTM | P67: =SUM(K67:M67) -> 0 | Q67: =SUM(N67:O67) -> 0 | R67: =IF((H67+I67)=0,"",((H67+I67)-(P67+Q67))/(H67+I67)) | S67: =IF(H67+I67=0,"",(P67+Q67)/(H67+I67)) | T67: =IF(F67="Nije ocijenjen","",IF(F67="Ocijenjen",IF(H67+I67=0,"",IF(D67="Tužilac",IF(S67<0.11,40,IF(S67<0.21,30,IF(S67<0.31,20,IF(S67<=0.5,10,IF(S67<=1,0,))))),IF(S67<0.11,20,IF(S67<0.21,15,IF(S67<0.31,10,IF(S67<=0.5,5,IF(S67<=1,0,))))))))) | U67: =IF(F67="Nije ocijenjen","",IF(F67="Ocijenjen",IF(H68=0,T67,IF(H67+I67=0,T68,(T67+T68)/2)))) | Y67: =IF(V67+W67=0,"",(V67+W67-X67)/(V67+W67)) | Z67: =IF(V67+W67=0,"",(X67)/(V67+W67)) | AA67: =IF(F67="Nije ocijenjen","",IF(F67="Ocijenjen",IF(V67+W67=0,"",IF(D67="Tužilac",IF(Z67<0.11,40,IF(Z67<0.21,30,IF(Z67<0.31,20,IF(Z67<=0.5,10,IF(Z67<=1,0,))))),IF(Z67<0.11,20,IF(Z67<0.21,15,IF(Z67<0.31,10,IF(Z67<=0.5,5,IF(Z67<=1,0,))))))))) | AB67: =IF(F67="Nije ocijenjen","",IF(F67="Ocijenjen",IF(AA67="",U67,IF(U67="",AA67,((U67+AA67)/2))))) | AD67: =IF(F67="Nije ocijenjen","",IF(F67="Ocijenjen",AB67-AC67))
G68: KTRZ, KTPO, KTO | P68: =SUM(K68:L68) -> 0 | R68: =IF(H68=0,"",(H68-P68/2.5)/H68) | S68: =IF(H68=0,"",(P68/2.5)/H68) | T68: =IF(F67="Nije ocijenjen","",IF(F67="Ocijenjen",IF(H68=0,"",IF(D67="Tužilac",IF(S68<0.26,40,IF(S68<0.41,30,IF(S68<0.51,20,IF(S68<=0.6,10,IF(S68<=1,0,))))),IF(S68<0.26,20,IF(S68<0.41,15,IF(S68<0.51,10,IF(S68<=0.6,5,IF(S68<=1,0,))))))))) | U68: =+(#REF!+#REF!)/2 -> #REF!
B69: 30 | C69: =IF('TABELA I'!B42="","",'TABELA I'!B42) | E69: =IF('TABELA I'!D42="","",'TABELA I'!D42) | F69: Nije ocijenjen | G69: KT, KTK, KTT i KTM | P69: =SUM(K69:M69) -> 0 | Q69: =SUM(N69:O69) -> 0 | R69: =IF((H69+I69)=0,"",((H69+I69)-(P69+Q69))/(H69+I69)) | S69: =IF(H69+I69=0,"",(P69+Q69)/(H69+I69)) | T69: =IF(F69="Nije ocijenjen","",IF(F69="Ocijenjen",IF(H69+I69=0,"",IF(D69="Tužilac",IF(S69<0.11,40,IF(S69<0.21,30,IF(S69<0.31,20,IF(S69<=0.5,10,IF(S69<=1,0,))))),IF(S69<0.11,20,IF(S69<0.21,15,IF(S69<0.31,10,IF(S69<=0.5,5,IF(S69<=1,0,))))))))) | U69: =IF(F69="Nije ocijenjen","",IF(F69="Ocijenjen",IF(H70=0,T69,IF(H69+I69=0,T70,(T69+T70)/2)))) | Y69: =IF(V69+W69=0,"",(V69+W69-X69)/(V69+W69)) | Z69: =IF(V69+W69=0,"",(X69)/(V69+W69)) | AA69: =IF(F69="Nije ocijenjen","",IF(F69="Ocijenjen",IF(V69+W69=0,"",IF(D69="Tužilac",IF(Z69<0.11,40,IF(Z69<0.21,30,IF(Z69<0.31,20,IF(Z69<=0.5,10,IF(Z69<=1,0,))))),IF(Z69<0.11,20,IF(Z69<0.21,15,IF(Z69<0.31,10,IF(Z69<=0.5,5,IF(Z69<=1,0,))))))))) | AB69: =IF(F69="Nije ocijenjen","",IF(F69="Ocijenjen",IF(AA69="",U69,IF(U69="",AA69,((U69+AA69)/2))))) | AD69: =IF(F69="Nije ocijenjen","",IF(F69="Ocijenjen",AB69-AC69))
G70: KTRZ, KTPO, KTO | P70: =SUM(K70:L70) -> 0 | R70: =IF(H70=0,"",(H70-P70/2.5)/H70) | S70: =IF(H70=0,"",(P70/2.5)/H70) | T70: =IF(F69="Nije ocijenjen","",IF(F69="Ocijenjen",IF(H70=0,"",IF(D69="Tužilac",IF(S70<0.26,40,IF(S70<0.41,30,IF(S70<0.51,20,IF(S70<=0.6,10,IF(S70<=1,0,))))),IF(S70<0.26,20,IF(S70<0.41,15,IF(S70<0.51,10,IF(S70<=0.6,5,IF(S70<=1,0,))))))))) | U70: =+(U67+U68)/2 -> #VALUE!
B71: 31 | C71: =IF('TABELA I'!B43="","",'TABELA I'!B43) | E71: =IF('TABELA I'!D43="","",'TABELA I'!D43) | F71: Nije ocijenjen | G71: KT, KTK, KTT i KTM | P71: =SUM(K71:M71) -> 0 | Q71: =SUM(N71:O71) -> 0 | R71: =IF((H71+I71)=0,"",((H71+I71)-(P71+Q71))/(H71+I71)) | S71: =IF(H71+I71=0,"",(P71+Q71)/(H71+I71)) | T71: =IF(F71="Nije ocijenjen","",IF(F71="Ocijenjen",IF(H71+I71=0,"",IF(D71="Tužilac",IF(S71<0.11,40,IF(S71<0.21,30,IF(S71<0.31,20,IF(S71<=0.5,10,IF(S71<=1,0,))))),IF(S71<0.11,20,IF(S71<0.21,15,IF(S71<0.31,10,IF(S71<=0.5,5,IF(S71<=1,0,))))))))) | U71: =IF(F71="Nije ocijenjen","",IF(F71="Ocijenjen",IF(H72=0,T71,IF(H71+I71=0,T72,(T71+T72)/2)))) | Y71: =IF(V71+W71=0,"",(V71+W71-X71)/(V71+W71)) | Z71: =IF(V71+W71=0,"",(X71)/(V71+W71)) | AA71: =IF(F71="Nije ocijenjen","",IF(F71="Ocijenjen",IF(V71+W71=0,"",IF(D71="Tužilac",IF(Z71<0.11,40,IF(Z71<0.21,30,IF(Z71<0.31,20,IF(Z71<=0.5,10,IF(Z71<=1,0,))))),IF(Z71<0.11,20,IF(Z71<0.21,15,IF(Z71<0.31,10,IF(Z71<=0.5,5,IF(Z71<=1,0,))))))))) | AB71: =IF(F71="Nije ocijenjen","",IF(F71="Ocijenjen",IF(AA71="",U71,IF(U71="",AA71,((U71+AA71)/2))))) | AD71: =IF(F71="Nije ocijenjen","",IF(F71="Ocijenjen",AB71-AC71))
G72: KTRZ, KTPO, KTO | P72: =SUM(K72:L72) -> 0 | R72: =IF(H72=0,"",(H72-P72/2.5)/H72) | S72: =IF(H72=0,"",(P72/2.5)/H72) | T72: =IF(F71="Nije ocijenjen","",IF(F71="Ocijenjen",IF(H72=0,"",IF(D71="Tužilac",IF(S72<0.26,40,IF(S72<0.41,30,IF(S72<0.51,20,IF(S72<=0.6,10,IF(S72<=1,0,))))),IF(S72<0.26,20,IF(S72<0.41,15,IF(S72<0.51,10,IF(S72<=0.6,5,IF(S72<=1,0,))))))))) | U72: =+(#REF!+#REF!)/2 -> #REF!
B73: 32 | C73: =IF('TABELA I'!B44="","",'TABELA I'!B44) | E73: =IF('TABELA I'!D44="","",'TABELA I'!D44) | F73: Nije ocijenjen | G73: KT, KTK, KTT i KTM | P73: =SUM(K73:M73) -> 0 | Q73: =SUM(N73:O73) -> 0 | R73: =IF((H73+I73)=0,"",((H73+I73)-(P73+Q73))/(H73+I73)) | S73: =IF(H73+I73=0,"",(P73+Q73)/(H73+I73)) | T73: =IF(F73="Nije ocijenjen","",IF(F73="Ocijenjen",IF(H73+I73=0,"",IF(D73="Tužilac",IF(S73<0.11,40,IF(S73<0.21,30,IF(S73<0.31,20,IF(S73<=0.5,10,IF(S73<=1,0,))))),IF(S73<0.11,20,IF(S73<0.21,15,IF(S73<0.31,10,IF(S73<=0.5,5,IF(S73<=1,0,))))))))) | U73: =IF(F73="Nije ocijenjen","",IF(F73="Ocijenjen",IF(H74=0,T73,IF(H73+I73=0,T74,(T73+T74)/2)))) | Y73: =IF(V73+W73=0,"",(V73+W73-X73)/(V73+W73)) | Z73: =IF(V73+W73=0,"",(X73)/(V73+W73)) | AA73: =IF(F73="Nije ocijenjen","",IF(F73="Ocijenjen",IF(V73+W73=0,"",IF(D73="Tužilac",IF(Z73<0.11,40,IF(Z73<0.21,30,IF(Z73<0.31,20,IF(Z73<=0.5,10,IF(Z73<=1,0,))))),IF(Z73<0.11,20,IF(Z73<0.21,15,IF(Z73<0.31,10,IF(Z73<=0.5,5,IF(Z73<=1,0,))))))))) | AB73: =IF(F73="Nije ocijenjen","",IF(F73="Ocijenjen",IF(AA73="",U73,IF(U73="",AA73,((U73+AA73)/2))))) | AD73: =IF(F73="Nije ocijenjen","",IF(F73="Ocijenjen",AB73-AC73))
G74: KTRZ, KTPO, KTO | P74: =SUM(K74:L74) -> 0 | R74: =IF(H74=0,"",(H74-P74/2.5)/H74) | S74: =IF(H74=0,"",(P74/2.5)/H74) | T74: =IF(F73="Nije ocijenjen","",IF(F73="Ocijenjen",IF(H74=0,"",IF(D73="Tužilac",IF(S74<0.26,40,IF(S74<0.41,30,IF(S74<0.51,20,IF(S74<=0.6,10,IF(S74<=1,0,))))),IF(S74<0.26,20,IF(S74<0.41,15,IF(S74<0.51,10,IF(S74<=0.6,5,IF(S74<=1,0,))))))))) | U74: =+(U71+U72)/2 -> #VALUE!
B75: 33 | C75: =IF('TABELA I'!B45="","",'TABELA I'!B45) | E75: =IF('TABELA I'!D45="","",'TABELA I'!D45) | F75: Nije ocijenjen | G75: KT, KTK, KTT i KTM | P75: =SUM(K75:M75) -> 0 | Q75: =SUM(N75:O75) -> 0 | R75: =IF((H75+I75)=0,"",((H75+I75)-(P75+Q75))/(H75+I75)) | S75: =IF(H75+I75=0,"",(P75+Q75)/(H75+I75)) | T75: =IF(F75="Nije ocijenjen","",IF(F75="Ocijenjen",IF(H75+I75=0,"",IF(D75="Tužilac",IF(S75<0.11,40,IF(S75<0.21,30,IF(S75<0.31,20,IF(S75<=0.5,10,IF(S75<=1,0,))))),IF(S75<0.11,20,IF(S75<0.21,15,IF(S75<0.31,10,IF(S75<=0.5,5,IF(S75<=1,0,))))))))) | U75: =IF(F75="Nije ocijenjen","",IF(F75="Ocijenjen",IF(H76=0,T75,IF(H75+I75=0,T76,(T75+T76)/2)))) | Y75: =IF(V75+W75=0,"",(V75+W75-X75)/(V75+W75)) | Z75: =IF(V75+W75=0,"",(X75)/(V75+W75)) | AA75: =IF(F75="Nije ocijenjen","",IF(F75="Ocijenjen",IF(V75+W75=0,"",IF(D75="Tužilac",IF(Z75<0.11,40,IF(Z75<0.21,30,IF(Z75<0.31,20,IF(Z75<=0.5,10,IF(Z75<=1,0,))))),IF(Z75<0.11,20,IF(Z75<0.21,15,IF(Z75<0.31,10,IF(Z75<=0.5,5,IF(Z75<=1,0,))))))))) | AB75: =IF(F75="Nije ocijenjen","",IF(F75="Ocijenjen",IF(AA75="",U75,IF(U75="",AA75,((U75+AA75)/2))))) | AD75: =IF(F75="Nije ocijenjen","",IF(F75="Ocijenjen",AB75-AC75))
G76: KTRZ, KTPO, KTO | P76: =SUM(K76:L76) -> 0 | R76: =IF(H76=0,"",(H76-P76/2.5)/H76) | S76: =IF(H76=0,"",(P76/2.5)/H76) | T76: =IF(F75="Nije ocijenjen","",IF(F75="Ocijenjen",IF(H76=0,"",IF(D75="Tužilac",IF(S76<0.26,40,IF(S76<0.41,30,IF(S76<0.51,20,IF(S76<=0.6,10,IF(S76<=1,0,))))),IF(S76<0.26,20,IF(S76<0.41,15,IF(S76<0.51,10,IF(S76<=0.6,5,IF(S76<=1,0,))))))))) | U76: =+(#REF!+#REF!)/2 -> #REF!
B77: 34 | C77: =IF('TABELA I'!B46="","",'TABELA I'!B46) | E77: =IF('TABELA I'!D46="","",'TABELA I'!D46) | F77: Nije ocijenjen | G77: KT, KTK, KTT i KTM | P77: =SUM(K77:M77) -> 0 | Q77: =SUM(N77:O77) -> 0 | R77: =IF((H77+I77)=0,"",((H77+I77)-(P77+Q77))/(H77+I77)) | S77: =IF(H77+I77=0,"",(P77+Q77)/(H77+I77)) | T77: =IF(F77="Nije ocijenjen","",IF(F77="Ocijenjen",IF(H77+I77=0,"",IF(D77="Tužilac",IF(S77<0.11,40,IF(S77<0.21,30,IF(S77<0.31,20,IF(S77<=0.5,10,IF(S77<=1,0,))))),IF(S77<0.11,20,IF(S77<0.21,15,IF(S77<0.31,10,IF(S77<=0.5,5,IF(S77<=1,0,))))))))) | U77: =IF(F77="Nije ocijenjen","",IF(F77="Ocijenjen",IF(H78=0,T77,IF(H77+I77=0,T78,(T77+T78)/2)))) | Y77: =IF(V77+W77=0,"",(V77+W77-X77)/(V77+W77)) | Z77: =IF(V77+W77=0,"",(X77)/(V77+W77)) | AA77: =IF(F77="Nije ocijenjen","",IF(F77="Ocijenjen",IF(V77+W77=0,"",IF(D77="Tužilac",IF(Z77<0.11,40,IF(Z77<0.21,30,IF(Z77<0.31,20,IF(Z77<=0.5,10,IF(Z77<=1,0,))))),IF(Z77<0.11,20,IF(Z77<0.21,15,IF(Z77<0.31,10,IF(Z77<=0.5,5,IF(Z77<=1,0,))))))))) | AB77: =IF(F77="Nije ocijenjen","",IF(F77="Ocijenjen",IF(AA77="",U77,IF(U77="",AA77,((U77+AA77)/2))))) | AD77: =IF(F77="Nije ocijenjen","",IF(F77="Ocijenjen",AB77-AC77))
G78: KTRZ, KTPO, KTO | P78: =SUM(K78:L78) -> 0 | R78: =IF(H78=0,"",(H78-P78/2.5)/H78) | S78: =IF(H78=0,"",(P78/2.5)/H78) | T78: =IF(F77="Nije ocijenjen","",IF(F77="Ocijenjen",IF(H78=0,"",IF(D77="Tužilac",IF(S78<0.26,40,IF(S78<0.41,30,IF(S78<0.51,20,IF(S78<=0.6,10,IF(S78<=1,0,))))),IF(S78<0.26,20,IF(S78<0.41,15,IF(S78<0.51,10,IF(S78<=0.6,5,IF(S78<=1,0,))))))))) | U78: =+(U75+U76)/2 -> #VALUE!
B79: 35 | C79: =IF('TABELA I'!B47="","",'TABELA I'!B47) | E79: =IF('TABELA I'!D47="","",'TABELA I'!D47) | F79: Nije ocijenjen | G79: KT, KTK, KTT i KTM | P79: =SUM(K79:M79) -> 0 | Q79: =SUM(N79:O79) -> 0 | R79: =IF((H79+I79)=0,"",((H79+I79)-(P79+Q79))/(H79+I79)) | S79: =IF(H79+I79=0,"",(P79+Q79)/(H79+I79)) | T79: =IF(F79="Nije ocijenjen","",IF(F79="Ocijenjen",IF(H79+I79=0,"",IF(D79="Tužilac",IF(S79<0.11,40,IF(S79<0.21,30,IF(S79<0.31,20,IF(S79<=0.5,10,IF(S79<=1,0,))))),IF(S79<0.11,20,IF(S79<0.21,15,IF(S79<0.31,10,IF(S79<=0.5,5,IF(S79<=1,0,))))))))) | U79: =IF(F79="Nije ocijenjen","",IF(F79="Ocijenjen",IF(H80=0,T79,IF(H79+I79=0,T80,(T79+T80)/2)))) | Y79: =IF(V79+W79=0,"",(V79+W79-X79)/(V79+W79)) | Z79: =IF(V79+W79=0,"",(X79)/(V79+W79)) | AA79: =IF(F79="Nije ocijenjen","",IF(F79="Ocijenjen",IF(V79+W79=0,"",IF(D79="Tužilac",IF(Z79<0.11,40,IF(Z79<0.21,30,IF(Z79<0.31,20,IF(Z79<=0.5,10,IF(Z79<=1,0,))))),IF(Z79<0.11,20,IF(Z79<0.21,15,IF(Z79<0.31,10,IF(Z79<=0.5,5,IF(Z79<=1,0,))))))))) | AB79: =IF(F79="Nije ocijenjen","",IF(F79="Ocijenjen",IF(AA79="",U79,IF(U79="",AA79,((U79+AA79)/2))))) | AD79: =IF(F79="Nije ocijenjen","",IF(F79="Ocijenjen",AB79-AC79))
G80: KTRZ, KTPO, KTO | P80: =SUM(K80:L80) -> 0 | R80: =IF(H80=0,"",(H80-P80/2.5)/H80) | S80: =IF(H80=0,"",(P80/2.5)/H80) | T80: =IF(F79="Nije ocijenjen","",IF(F79="Ocijenjen",IF(H80=0,"",IF(D79="Tužilac",IF(S80<0.26,40,IF(S80<0.41,30,IF(S80<0.51,20,IF(S80<=0.6,10,IF(S80<=1,0,))))),IF(S80<0.26,20,IF(S80<0.41,15,IF(S80<0.51,10,IF(S80<=0.6,5,IF(S80<=1,0,))))))))) | U80: =+(#REF!+#REF!)/2 -> #REF!
B81: 36 | C81: =IF('TABELA I'!B48="","",'TABELA I'!B48) | E81: =IF('TABELA I'!D48="","",'TABELA I'!D48) | F81: Nije ocijenjen | G81: KT, KTK, KTT i KTM | P81: =SUM(K81:M81) -> 0 | Q81: =SUM(N81:O81) -> 0 | R81: =IF((H81+I81)=0,"",((H81+I81)-(P81+Q81))/(H81+I81)) | S81: =IF(H81+I81=0,"",(P81+Q81)/(H81+I81)) | T81: =IF(F81="Nije ocijenjen","",IF(F81="Ocijenjen",IF(H81+I81=0,"",IF(D81="Tužilac",IF(S81<0.11,40,IF(S81<0.21,30,IF(S81<0.31,20,IF(S81<=0.5,10,IF(S81<=1,0,))))),IF(S81<0.11,20,IF(S81<0.21,15,IF(S81<0.31,10,IF(S81<=0.5,5,IF(S81<=1,0,))))))))) | U81: =IF(F81="Nije ocijenjen","",IF(F81="Ocijenjen",IF(H82=0,T81,IF(H81+I81=0,T82,(T81+T82)/2)))) | Y81: =IF(V81+W81=0,"",(V81+W81-X81)/(V81+W81)) | Z81: =IF(V81+W81=0,"",(X81)/(V81+W81)) | AA81: =IF(F81="Nije ocijenjen","",IF(F81="Ocijenjen",IF(V81+W81=0,"",IF(D81="Tužilac",IF(Z81<0.11,40,IF(Z81<0.21,30,IF(Z81<0.31,20,IF(Z81<=0.5,10,IF(Z81<=1,0,))))),IF(Z81<0.11,20,IF(Z81<0.21,15,IF(Z81<0.31,10,IF(Z81<=0.5,5,IF(Z81<=1,0,))))))))) | AB81: =IF(F81="Nije ocijenjen","",IF(F81="Ocijenjen",IF(AA81="",U81,IF(U81="",AA81,((U81+AA81)/2))))) | AD81: =IF(F81="Nije ocijenjen","",IF(F81="Ocijenjen",AB81-AC81))
G82: KTRZ, KTPO, KTO | P82: =SUM(K82:L82) -> 0 | R82: =IF(H82=0,"",(H82-P82/2.5)/H82) | S82: =IF(H82=0,"",(P82/2.5)/H82) | T82: =IF(F81="Nije ocijenjen","",IF(F81="Ocijenjen",IF(H82=0,"",IF(D81="Tužilac",IF(S82<0.26,40,IF(S82<0.41,30,IF(S82<0.51,20,IF(S82<=0.6,10,IF(S82<=1,0,))))),IF(S82<0.26,20,IF(S82<0.41,15,IF(S82<0.51,10,IF(S82<=0.6,5,IF(S82<=1,0,))))))))) | U82: =+(U79+U80)/2 -> #VALUE!
B83: 37 | C83: =IF('TABELA I'!B49="","",'TABELA I'!B49) | E83: =IF('TABELA I'!D49="","",'TABELA I'!D49) | F83: Nije ocijenjen | G83: KT, KTK, KTT i KTM | P83: =SUM(K83:M83) -> 0 | Q83: =SUM(N83:O83) -> 0 | R83: =IF((H83+I83)=0,"",((H83+I83)-(P83+Q83))/(H83+I83)) | S83: =IF(H83+I83=0,"",(P83+Q83)/(H83+I83)) | T83: =IF(F83="Nije ocijenjen","",IF(F83="Ocijenjen",IF(H83+I83=0,"",IF(D83="Tužilac",IF(S83<0.11,40,IF(S83<0.21,30,IF(S83<0.31,20,IF(S83<=0.5,10,IF(S83<=1,0,))))),IF(S83<0.11,20,IF(S83<0.21,15,IF(S83<0.31,10,IF(S83<=0.5,5,IF(S83<=1,0,))))))))) | U83: =IF(F83="Nije ocijenjen","",IF(F83="Ocijenjen",IF(H84=0,T83,IF(H83+I83=0,T84,(T83+T84)/2)))) | Y83: =IF(V83+W83=0,"",(V83+W83-X83)/(V83+W83)) | Z83: =IF(V83+W83=0,"",(X83)/(V83+W83)) | AA83: =IF(F83="Nije ocijenjen","",IF(F83="Ocijenjen",IF(V83+W83=0,"",IF(D83="Tužilac",IF(Z83<0.11,40,IF(Z83<0.21,30,IF(Z83<0.31,20,IF(Z83<=0.5,10,IF(Z83<=1,0,))))),IF(Z83<0.11,20,IF(Z83<0.21,15,IF(Z83<0.31,10,IF(Z83<=0.5,5,IF(Z83<=1,0,))))))))) | AB83: =IF(F83="Nije ocijenjen","",IF(F83="Ocijenjen",IF(AA83="",U83,IF(U83="",AA83,((U83+AA83)/2))))) | AD83: =IF(F83="Nije ocijenjen","",IF(F83="Ocijenjen",AB83-AC83))
G84: KTRZ, KTPO, KTO | P84: =SUM(K84:L84) -> 0 | R84: =IF(H84=0,"",(H84-P84/2.5)/H84) | S84: =IF(H84=0,"",(P84/2.5)/H84) | T84: =IF(F83="Nije ocijenjen","",IF(F83="Ocijenjen",IF(H84=0,"",IF(D83="Tužilac",IF(S84<0.26,40,IF(S84<0.41,30,IF(S84<0.51,20,IF(S84<=0.6,10,IF(S84<=1,0,))))),IF(S84<0.26,20,IF(S84<0.41,15,IF(S84<0.51,10,IF(S84<=0.6,5,IF(S84<=1,0,))))))))) | U84: =+(#REF!+#REF!)/2 -> #REF!
B85: 38 | C85: =IF('TABELA I'!B50="","",'TABELA I'!B50) | E85: =IF('TABELA I'!D50="","",'TABELA I'!D50) | F85: Nije ocijenjen | G85: KT, KTK, KTT i KTM | P85: =SUM(K85:M85) -> 0 | Q85: =SUM(N85:O85) -> 0 | R85: =IF((H85+I85)=0,"",((H85+I85)-(P85+Q85))/(H85+I85)) | S85: =IF(H85+I85=0,"",(P85+Q85)/(H85+I85)) | T85: =IF(F85="Nije ocijenjen","",IF(F85="Ocijenjen",IF(H85+I85=0,"",IF(D85="Tužilac",IF(S85<0.11,40,IF(S85<0.21,30,IF(S85<0.31,20,IF(S85<=0.5,10,IF(S85<=1,0,))))),IF(S85<0.11,20,IF(S85<0.21,15,IF(S85<0.31,10,IF(S85<=0.5,5,IF(S85<=1,0,))))))))) | U85: =IF(F85="Nije ocijenjen","",IF(F85="Ocijenjen",IF(H86=0,T85,IF(H85+I85=0,T86,(T85+T86)/2)))) | Y85: =IF(V85+W85=0,"",(V85+W85-X85)/(V85+W85)) | Z85: =IF(V85+W85=0,"",(X85)/(V85+W85)) | AA85: =IF(F85="Nije ocijenjen","",IF(F85="Ocijenjen",IF(V85+W85=0,"",IF(D85="Tužilac",IF(Z85<0.11,40,IF(Z85<0.21,30,IF(Z85<0.31,20,IF(Z85<=0.5,10,IF(Z85<=1,0,))))),IF(Z85<0.11,20,IF(Z85<0.21,15,IF(Z85<0.31,10,IF(Z85<=0.5,5,IF(Z85<=1,0,))))))))) | AB85: =IF(F85="Nije ocijenjen","",IF(F85="Ocijenjen",IF(AA85="",U85,IF(U85="",AA85,((U85+AA85)/2))))) | AD85: =IF(F85="Nije ocijenjen","",IF(F85="Ocijenjen",AB85-AC85))
G86: KTRZ, KTPO, KTO | P86: =SUM(K86:L86) -> 0 | R86: =IF(H86=0,"",(H86-P86/2.5)/H86) | S86: =IF(H86=0,"",(P86/2.5)/H86) | T86: =IF(F85="Nije ocijenjen","",IF(F85="Ocijenjen",IF(H86=0,"",IF(D85="Tužilac",IF(S86<0.26,40,IF(S86<0.41,30,IF(S86<0.51,20,IF(S86<=0.6,10,IF(S86<=1,0,))))),IF(S86<0.26,20,IF(S86<0.41,15,IF(S86<0.51,10,IF(S86<=0.6,5,IF(S86<=1,0,))))))))) | U86: =+(U83+U84)/2 -> #VALUE!
B87: 39 | C87: =IF('TABELA I'!B51="","",'TABELA I'!B51) | E87: =IF('TABELA I'!D51="","",'TABELA I'!D51) | F87: Nije ocijenjen | G87: KT, KTK, KTT i KTM | P87: =SUM(K87:M87) -> 0 | Q87: =SUM(N87:O87) -> 0 | R87: =IF((H87+I87)=0,"",((H87+I87)-(P87+Q87))/(H87+I87)) | S87: =IF(H87+I87=0,"",(P87+Q87)/(H87+I87)) | T87: =IF(F87="Nije ocijenjen","",IF(F87="Ocijenjen",IF(H87+I87=0,"",IF(D87="Tužilac",IF(S87<0.11,40,IF(S87<0.21,30,IF(S87<0.31,20,IF(S87<=0.5,10,IF(S87<=1,0,))))),IF(S87<0.11,20,IF(S87<0.21,15,IF(S87<0.31,10,IF(S87<=0.5,5,IF(S87<=1,0,))))))))) | U87: =IF(F87="Nije ocijenjen","",IF(F87="Ocijenjen",IF(H88=0,T87,IF(H87+I87=0,T88,(T87+T88)/2)))) | Y87: =IF(V87+W87=0,"",(V87+W87-X87)/(V87+W87)) | Z87: =IF(V87+W87=0,"",(X87)/(V87+W87)) | AA87: =IF(F87="Nije ocijenjen","",IF(F87="Ocijenjen",IF(V87+W87=0,"",IF(D87="Tužilac",IF(Z87<0.11,40,IF(Z87<0.21,30,IF(Z87<0.31,20,IF(Z87<=0.5,10,IF(Z87<=1,0,))))),IF(Z87<0.11,20,IF(Z87<0.21,15,IF(Z87<0.31,10,IF(Z87<=0.5,5,IF(Z87<=1,0,))))))))) | AB87: =IF(F87="Nije ocijenjen","",IF(F87="Ocijenjen",IF(AA87="",U87,IF(U87="",AA87,((U87+AA87)/2))))) | AD87: =IF(F87="Nije ocijenjen","",IF(F87="Ocijenjen",AB87-AC87))
G88: KTRZ, KTPO, KTO | P88: =SUM(K88:L88) -> 0 | R88: =IF(H88=0,"",(H88-P88/2.5)/H88) | S88: =IF(H88=0,"",(P88/2.5)/H88) | T88: =IF(F87="Nije ocijenjen","",IF(F87="Ocijenjen",IF(H88=0,"",IF(D87="Tužilac",IF(S88<0.26,40,IF(S88<0.41,30,IF(S88<0.51,20,IF(S88<=0.6,10,IF(S88<=1,0,))))),IF(S88<0.26,20,IF(S88<0.41,15,IF(S88<0.51,10,IF(S88<=0.6,5,IF(S88<=1,0,))))))))) | U88: =+(#REF!+#REF!)/2 -> #REF!
B89: 40 | C89: =IF('TABELA I'!B52="","",'TABELA I'!B52) | E89: =IF('TABELA I'!D52="","",'TABELA I'!D52) | F89: Nije ocijenjen | G89: KT, KTK, KTT i KTM | P89: =SUM(K89:M89) -> 0 | Q89: =SUM(N89:O89) -> 0 | R89: =IF((H89+I89)=0,"",((H89+I89)-(P89+Q89))/(H89+I89)) | S89: =IF(H89+I89=0,"",(P89+Q89)/(H89+I89)) | T89: =IF(F89="Nije ocijenjen","",IF(F89="Ocijenjen",IF(H89+I89=0,"",IF(D89="Tužilac",IF(S89<0.11,40,IF(S89<0.21,30,IF(S89<0.31,20,IF(S89<=0.5,10,IF(S89<=1,0,))))),IF(S89<0.11,20,IF(S89<0.21,15,IF(S89<0.31,10,IF(S89<=0.5,5,IF(S89<=1,0,))))))))) | U89: =IF(F89="Nije ocijenjen","",IF(F89="Ocijenjen",IF(H90=0,T89,IF(H89+I89=0,T90,(T89+T90)/2)))) | Y89: =IF(V89+W89=0,"",(V89+W89-X89)/(V89+W89)) | Z89: =IF(V89+W89=0,"",(X89)/(V89+W89)) | AA89: =IF(F89="Nije ocijenjen","",IF(F89="Ocijenjen",IF(V89+W89=0,"",IF(D89="Tužilac",IF(Z89<0.11,40,IF(Z89<0.21,30,IF(Z89<0.31,20,IF(Z89<=0.5,10,IF(Z89<=1,0,))))),IF(Z89<0.11,20,IF(Z89<0.21,15,IF(Z89<0.31,10,IF(Z89<=0.5,5,IF(Z89<=1,0,))))))))) | AB89: =IF(F89="Nije ocijenjen","",IF(F89="Ocijenjen",IF(AA89="",U89,IF(U89="",AA89,((U89+AA89)/2))))) | AD89: =IF(F89="Nije ocijenjen","",IF(F89="Ocijenjen",AB89-AC89))
G90: KTRZ, KTPO, KTO | P90: =SUM(K90:L90) -> 0 | R90: =IF(H90=0,"",(H90-P90/2.5)/H90) | S90: =IF(H90=0,"",(P90/2.5)/H90) | T90: =IF(F89="Nije ocijenjen","",IF(F89="Ocijenjen",IF(H90=0,"",IF(D89="Tužilac",IF(S90<0.26,40,IF(S90<0.41,30,IF(S90<0.51,20,IF(S90<=0.6,10,IF(S90<=1,0,))))),IF(S90<0.26,20,IF(S90<0.41,15,IF(S90<0.51,10,IF(S90<=0.6,5,IF(S90<=1,0,))))))))) | U90: =+(#REF!+#REF!)/2 -> #REF!
B91: 41 | C91: =IF('TABELA I'!B53="","",'TABELA I'!B53) | E91: =IF('TABELA I'!D53="","",'TABELA I'!D53) | F91: Nije ocijenjen | G91: KT, KTK, KTT i KTM | P91: =SUM(K91:M91) -> 0 | Q91: =SUM(N91:O91) -> 0 | R91: =IF((H91+I91)=0,"",((H91+I91)-(P91+Q91))/(H91+I91)) | S91: =IF(H91+I91=0,"",(P91+Q91)/(H91+I91)) | T91: =IF(F91="Nije ocijenjen","",IF(F91="Ocijenjen",IF(H91+I91=0,"",IF(D91="Tužilac",IF(S91<0.11,40,IF(S91<0.21,30,IF(S91<0.31,20,IF(S91<=0.5,10,IF(S91<=1,0,))))),IF(S91<0.11,20,IF(S91<0.21,15,IF(S91<0.31,10,IF(S91<=0.5,5,IF(S91<=1,0,))))))))) | U91: =IF(F91="Nije ocijenjen","",IF(F91="Ocijenjen",IF(H92=0,T91,IF(H91+I91=0,T92,(T91+T92)/2)))) | Y91: =IF(V91+W91=0,"",(V91+W91-X91)/(V91+W91)) | Z91: =IF(V91+W91=0,"",(X91)/(V91+W91)) | AA91: =IF(F91="Nije ocijenjen","",IF(F91="Ocijenjen",IF(V91+W91=0,"",IF(D91="Tužilac",IF(Z91<0.11,40,IF(Z91<0.21,30,IF(Z91<0.31,20,IF(Z91<=0.5,10,IF(Z91<=1,0,))))),IF(Z91<0.11,20,IF(Z91<0.21,15,IF(Z91<0.31,10,IF(Z91<=0.5,5,IF(Z91<=1,0,))))))))) | AB91: =IF(F91="Nije ocijenjen","",IF(F91="Ocijenjen",IF(AA91="",U91,IF(U91="",AA91,((U91+AA91)/2))))) | AD91: =IF(F91="Nije ocijenjen","",IF(F91="Ocijenjen",AB91-AC91))
G92: KTRZ, KTPO, KTO | P92: =SUM(K92:L92) -> 0 | R92: =IF(H92=0,"",(H92-P92/2.5)/H92) | S92: =IF(H92=0,"",(P92/2.5)/H92) | T92: =IF(F91="Nije ocijenjen","",IF(F91="Ocijenjen",IF(H92=0,"",IF(D91="Tužilac",IF(S92<0.26,40,IF(S92<0.41,30,IF(S92<0.51,20,IF(S92<=0.6,10,IF(S92<=1,0,))))),IF(S92<0.26,20,IF(S92<0.41,15,IF(S92<0.51,10,IF(S92<=0.6,5,IF(S92<=1,0,))))))))) | U92: =+(U89+U90)/2 -> #VALUE!
B93: 42 | C93: =IF('TABELA I'!B54="","",'TABELA I'!B54) | E93: =IF('TABELA I'!D54="","",'TABELA I'!D54) | F93: Nije ocijenjen | G93: KT, KTK, KTT i KTM | P93: =SUM(K93:M93) -> 0 | Q93: =SUM(N93:O93) -> 0 | R93: =IF((H93+I93)=0,"",((H93+I93)-(P93+Q93))/(H93+I93)) | S93: =IF(H93+I93=0,"",(P93+Q93)/(H93+I93)) | T93: =IF(F93="Nije ocijenjen","",IF(F93="Ocijenjen",IF(H93+I93=0,"",IF(D93="Tužilac",IF(S93<0.11,40,IF(S93<0.21,30,IF(S93<0.31,20,IF(S93<=0.5,10,IF(S93<=1,0,))))),IF(S93<0.11,20,IF(S93<0.21,15,IF(S93<0.31,10,IF(S93<=0.5,5,IF(S93<=1,0,))))))))) | U93: =IF(F93="Nije ocijenjen","",IF(F93="Ocijenjen",IF(H94=0,T93,IF(H93+I93=0,T94,(T93+T94)/2)))) | Y93: =IF(V93+W93=0,"",(V93+W93-X93)/(V93+W93)) | Z93: =IF(V93+W93=0,"",(X93)/(V93+W93)) | AA93: =IF(F93="Nije ocijenjen","",IF(F93="Ocijenjen",IF(V93+W93=0,"",IF(D93="Tužilac",IF(Z93<0.11,40,IF(Z93<0.21,30,IF(Z93<0.31,20,IF(Z93<=0.5,10,IF(Z93<=1,0,))))),IF(Z93<0.11,20,IF(Z93<0.21,15,IF(Z93<0.31,10,IF(Z93<=0.5,5,IF(Z93<=1,0,))))))))) | AB93: =IF(F93="Nije ocijenjen","",IF(F93="Ocijenjen",IF(AA93="",U93,IF(U93="",AA93,((U93+AA93)/2))))) | AD93: =IF(F93="Nije ocijenjen","",IF(F93="Ocijenjen",AB93-AC93))
G94: KTRZ, KTPO, KTO | P94: =SUM(K94:L94) -> 0 | R94: =IF(H94=0,"",(H94-P94/2.5)/H94) | S94: =IF(H94=0,"",(P94/2.5)/H94) | T94: =IF(F93="Nije ocijenjen","",IF(F93="Ocijenjen",IF(H94=0,"",IF(D93="Tužilac",IF(S94<0.26,40,IF(S94<0.41,30,IF(S94<0.51,20,IF(S94<=0.6,10,IF(S94<=1,0,))))),IF(S94<0.26,20,IF(S94<0.41,15,IF(S94<0.51,10,IF(S94<=0.6,5,IF(S94<=1,0,))))))))) | U94: =+(#REF!+#REF!)/2 -> #REF!
B95: 43 | C95: =IF('TABELA I'!B55="","",'TABELA I'!B55) | E95: =IF('TABELA I'!D55="","",'TABELA I'!D55) | F95: Nije ocijenjen | G95: KT, KTK, KTT i KTM | P95: =SUM(K95:M95) -> 0 | Q95: =SUM(N95:O95) -> 0 | R95: =IF((H95+I95)=0,"",((H95+I95)-(P95+Q95))/(H95+I95)) | S95: =IF(H95+I95=0,"",(P95+Q95)/(H95+I95)) | T95: =IF(F95="Nije ocijenjen","",IF(F95="Ocijenjen",IF(H95+I95=0,"",IF(D95="Tužilac",IF(S95<0.11,40,IF(S95<0.21,30,IF(S95<0.31,20,IF(S95<=0.5,10,IF(S95<=1,0,))))),IF(S95<0.11,20,IF(S95<0.21,15,IF(S95<0.31,10,IF(S95<=0.5,5,IF(S95<=1,0,))))))))) | U95: =IF(F95="Nije ocijenjen","",IF(F95="Ocijenjen",IF(H96=0,T95,IF(H95+I95=0,T96,(T95+T96)/2)))) | Y95: =IF(V95+W95=0,"",(V95+W95-X95)/(V95+W95)) | Z95: =IF(V95+W95=0,"",(X95)/(V95+W95)) | AA95: =IF(F95="Nije ocijenjen","",IF(F95="Ocijenjen",IF(V95+W95=0,"",IF(D95="Tužilac",IF(Z95<0.11,40,IF(Z95<0.21,30,IF(Z95<0.31,20,IF(Z95<=0.5,10,IF(Z95<=1,0,))))),IF(Z95<0.11,20,IF(Z95<0.21,15,IF(Z95<0.31,10,IF(Z95<=0.5,5,IF(Z95<=1,0,))))))))) | AB95: =IF(F95="Nije ocijenjen","",IF(F95="Ocijenjen",IF(AA95="",U95,IF(U95="",AA95,((U95+AA95)/2))))) | AD95: =IF(F95="Nije ocijenjen","",IF(F95="Ocijenjen",AB95-AC95))
G96: KTRZ, KTPO, KTO | P96: =SUM(K96:L96) -> 0 | R96: =IF(H96=0,"",(H96-P96/2.5)/H96) | S96: =IF(H96=0,"",(P96/2.5)/H96) | T96: =IF(F95="Nije ocijenjen","",IF(F95="Ocijenjen",IF(H96=0,"",IF(D95="Tužilac",IF(S96<0.26,40,IF(S96<0.41,30,IF(S96<0.51,20,IF(S96<=0.6,10,IF(S96<=1,0,))))),IF(S96<0.26,20,IF(S96<0.41,15,IF(S96<0.51,10,IF(S96<=0.6,5,IF(S96<=1,0,))))))))) | U96: =+(U93+U94)/2 -> #VALUE!
B97: 44 | C97: =IF('TABELA I'!B56="","",'TABELA I'!B56) | E97: =IF('TABELA I'!D56="","",'TABELA I'!D56) | F97: Nije ocijenjen | G97: KT, KTK, KTT i KTM | P97: =SUM(K97:M97) -> 0 | Q97: =SUM(N97:O97) -> 0 | R97: =IF((H97+I97)=0,"",((H97+I97)-(P97+Q97))/(H97+I97)) | S97: =IF(H97+I97=0,"",(P97+Q97)/(H97+I97)) | T97: =IF(F97="Nije ocijenjen","",IF(F97="Ocijenjen",IF(H97+I97=0,"",IF(D97="Tužilac",IF(S97<0.11,40,IF(S97<0.21,30,IF(S97<0.31,20,IF(S97<=0.5,10,IF(S97<=1,0,))))),IF(S97<0.11,20,IF(S97<0.21,15,IF(S97<0.31,10,IF(S97<=0.5,5,IF(S97<=1,0,))))))))) | U97: =IF(F97="Nije ocijenjen","",IF(F97="Ocijenjen",IF(H98=0,T97,IF(H97+I97=0,T98,(T97+T98)/2)))) | Y97: =IF(V97+W97=0,"",(V97+W97-X97)/(V97+W97)) | Z97: =IF(V97+W97=0,"",(X97)/(V97+W97)) | AA97: =IF(F97="Nije ocijenjen","",IF(F97="Ocijenjen",IF(V97+W97=0,"",IF(D97="Tužilac",IF(Z97<0.11,40,IF(Z97<0.21,30,IF(Z97<0.31,20,IF(Z97<=0.5,10,IF(Z97<=1,0,))))),IF(Z97<0.11,20,IF(Z97<0.21,15,IF(Z97<0.31,10,IF(Z97<=0.5,5,IF(Z97<=1,0,))))))))) | AB97: =IF(F97="Nije ocijenjen","",IF(F97="Ocijenjen",IF(AA97="",U97,IF(U97="",AA97,((U97+AA97)/2))))) | AD97: =IF(F97="Nije ocijenjen","",IF(F97="Ocijenjen",AB97-AC97))
G98: KTRZ, KTPO, KTO | P98: =SUM(K98:L98) -> 0 | R98: =IF(H98=0,"",(H98-P98/2.5)/H98) | S98: =IF(H98=0,"",(P98/2.5)/H98) | T98: =IF(F97="Nije ocijenjen","",IF(F97="Ocijenjen",IF(H98=0,"",IF(D97="Tužilac",IF(S98<0.26,40,IF(S98<0.41,30,IF(S98<0.51,20,IF(S98<=0.6,10,IF(S98<=1,0,))))),IF(S98<0.26,20,IF(S98<0.41,15,IF(S98<0.51,10,IF(S98<=0.6,5,IF(S98<=1,0,))))))))) | U98: =+(#REF!+#REF!)/2 -> #REF!
B99: 45 | C99: =IF('TABELA I'!B57="","",'TABELA I'!B57) | E99: =IF('TABELA I'!D57="","",'TABELA I'!D57) | F99: Nije ocijenjen | G99: KT, KTK, KTT i KTM | P99: =SUM(K99:M99) -> 0 | Q99: =SUM(N99:O99) -> 0 | R99: =IF((H99+I99)=0,"",((H99+I99)-(P99+Q99))/(H99+I99)) | S99: =IF(H99+I99=0,"",(P99+Q99)/(H99+I99)) | T99: =IF(F99="Nije ocijenjen","",IF(F99="Ocijenjen",IF(H99+I99=0,"",IF(D99="Tužilac",IF(S99<0.11,40,IF(S99<0.21,30,IF(S99<0.31,20,IF(S99<=0.5,10,IF(S99<=1,0,))))),IF(S99<0.11,20,IF(S99<0.21,15,IF(S99<0.31,10,IF(S99<=0.5,5,IF(S99<=1,0,))))))))) | U99: =IF(F99="Nije ocijenjen","",IF(F99="Ocijenjen",IF(H100=0,T99,IF(H99+I99=0,T100,(T99+T100)/2)))) | Y99: =IF(V99+W99=0,"",(V99+W99-X99)/(V99+W99)) | Z99: =IF(V99+W99=0,"",(X99)/(V99+W99)) | AA99: =IF(F99="Nije ocijenjen","",IF(F99="Ocijenjen",IF(V99+W99=0,"",IF(D99="Tužilac",IF(Z99<0.11,40,IF(Z99<0.21,30,IF(Z99<0.31,20,IF(Z99<=0.5,10,IF(Z99<=1,0,))))),IF(Z99<0.11,20,IF(Z99<0.21,15,IF(Z99<0.31,10,IF(Z99<=0.5,5,IF(Z99<=1,0,))))))))) | AB99: =IF(F99="Nije ocijenjen","",IF(F99="Ocijenjen",IF(AA99="",U99,IF(U99="",AA99,((U99+AA99)/2))))) | AD99: =IF(F99="Nije ocijenjen","",IF(F99="Ocijenjen",AB99-AC99))
G100: KTRZ, KTPO, KTO | P100: =SUM(K100:L100) -> 0 | R100: =IF(H100=0,"",(H100-P100/2.5)/H100) | S100: =IF(H100=0,"",(P100/2.5)/H100) | T100: =IF(F99="Nije ocijenjen","",IF(F99="Ocijenjen",IF(H100=0,"",IF(D99="Tužilac",IF(S100<0.26,40,IF(S100<0.41,30,IF(S100<0.51,20,IF(S100<=0.6,10,IF(S100<=1,0,))))),IF(S100<0.26,20,IF(S100<0.41,15,IF(S100<0.51,10,IF(S100<=0.6,5,IF(S100<=1,0,))))))))) | U100: =+(U97+U98)/2 -> #VALUE!
B101: 46 | C101: =IF('TABELA I'!B58="","",'TABELA I'!B58) | E101: =IF('TABELA I'!D58="","",'TABELA I'!D58) | F101: Nije ocijenjen | G101: KT, KTK, KTT i KTM | P101: =SUM(K101:M101) -> 0 | Q101: =SUM(N101:O101) -> 0 | R101: =IF((H101+I101)=0,"",((H101+I101)-(P101+Q101))/(H101+I101)) | S101: =IF(H101+I101=0,"",(P101+Q101)/(H101+I101)) | T101: =IF(F101="Nije ocijenjen","",IF(F101="Ocijenjen",IF(H101+I101=0,"",IF(D101="Tužilac",IF(S101<0.11,40,IF(S101<0.21,30,IF(S101<0.31,20,IF(S101<=0.5,10,IF(S101<=1,0,))))),IF(S101<0.11,20,IF(S101<0.21,15,IF(S101<0.31,10,IF(S101<=0.5,5,IF(S101<=1,0,))))))))) | U101: =IF(F101="Nije ocijenjen","",IF(F101="Ocijenjen",IF(H102=0,T101,IF(H101+I101=0,T102,(T101+T102)/2)))) | Y101: =IF(V101+W101=0,"",(V101+W101-X101)/(V101+W101)) | Z101: =IF(V101+W101=0,"",(X101)/(V101+W101)) | AA101: =IF(F101="Nije ocijenjen","",IF(F101="Ocijenjen",IF(V101+W101=0,"",IF(D101="Tužilac",IF(Z101<0.11,40,IF(Z101<0.21,30,IF(Z101<0.31,20,IF(Z101<=0.5,10,IF(Z101<=1,0,))))),IF(Z101<0.11,20,IF(Z101<0.21,15,IF(Z101<0.31,10,IF(Z101<=0.5,5,IF(Z101<=1,0,))))))))) | AB101: =IF(F101="Nije ocijenjen","",IF(F101="Ocijenjen",IF(AA101="",U101,IF(U101="",AA101,((U101+AA101)/2))))) | AD101: =IF(F101="Nije ocijenjen","",IF(F101="Ocijenjen",AB101-AC101))
G102: KTRZ, KTPO, KTO | P102: =SUM(K102:L102) -> 0 | R102: =IF(H102=0,"",(H102-P102/2.5)/H102) | S102: =IF(H102=0,"",(P102/2.5)/H102) | T102: =IF(F101="Nije ocijenjen","",IF(F101="Ocijenjen",IF(H102=0,"",IF(D101="Tužilac",IF(S102<0.26,40,IF(S102<0.41,30,IF(S102<0.51,20,IF(S102<=0.6,10,IF(S102<=1,0,))))),IF(S102<0.26,20,IF(S102<0.41,15,IF(S102<0.51,10,IF(S102<=0.6,5,IF(S102<=1,0,))))))))) | U102: =+(#REF!+#REF!)/2 -> #REF!
B103: 47 | C103: =IF('TABELA I'!B59="","",'TABELA I'!B59) | E103: =IF('TABELA I'!D59="","",'TABELA I'!D59) | F103: Nije ocijenjen | G103: KT, KTK, KTT i KTM | P103: =SUM(K103:M103) -> 0 | Q103: =SUM(N103:O103) -> 0 | R103: =IF((H103+I103)=0,"",((H103+I103)-(P103+Q103))/(H103+I103)) | S103: =IF(H103+I103=0,"",(P103+Q103)/(H103+I103)) | T103: =IF(F103="Nije ocijenjen","",IF(F103="Ocijenjen",IF(H103+I103=0,"",IF(D103="Tužilac",IF(S103<0.11,40,IF(S103<0.21,30,IF(S103<0.31,20,IF(S103<=0.5,10,IF(S103<=1,0,))))),IF(S103<0.11,20,IF(S103<0.21,15,IF(S103<0.31,10,IF(S103<=0.5,5,IF(S103<=1,0,))))))))) | U103: =IF(F103="Nije ocijenjen","",IF(F103="Ocijenjen",IF(H104=0,T103,IF(H103+I103=0,T104,(T103+T104)/2)))) | Y103: =IF(V103+W103=0,"",(V103+W103-X103)/(V103+W103)) | Z103: =IF(V103+W103=0,"",(X103)/(V103+W103)) | AA103: =IF(F103="Nije ocijenjen","",IF(F103="Ocijenjen",IF(V103+W103=0,"",IF(D103="Tužilac",IF(Z103<0.11,40,IF(Z103<0.21,30,IF(Z103<0.31,20,IF(Z103<=0.5,10,IF(Z103<=1,0,))))),IF(Z103<0.11,20,IF(Z103<0.21,15,IF(Z103<0.31,10,IF(Z103<=0.5,5,IF(Z103<=1,0,))))))))) | AB103: =IF(F103="Nije ocijenjen","",IF(F103="Ocijenjen",IF(AA103="",U103,IF(U103="",AA103,((U103+AA103)/2))))) | AD103: =IF(F103="Nije ocijenjen","",IF(F103="Ocijenjen",AB103-AC103))
...

Sheet TABELA III
A1: =+'TABELA I'!A1 -> Naziv tužilaštva | C1: =+'TABELA I'!D1 -> Tužilaštvo BiH ili Tužilaštvo Brčko Distrikta BiH
A2: Izvještajni period: | C2: =+'TABELA I'!G2 -> 1.1.2022. - 31.12.2022.
A3: Tabela III: Podaci o Kta, Ktarz, Ktn i Ktnrz predmetima (pogledati NAPOMENU 1)
A4: Vrsta predmeta | B4: Neriješeno iz ranijih godina | C4: Primljeno u toku godine | D4: Ukupno u radu | E4: Riješeno u toku godine | I4: Ukupno riješeno na kraju godine | J4: Neriješeno na kraju godine
E5: naredbom o nesprovođenju istrage | G5: prenošenjem u KT upisnik | H5: na drugi način
E6: zbog zastarjelosti | F6: druge vrste naredbe o neprovođenju istrage
A7: KOLONA = | B7: I | C7: II | D7: III | E7: IV | F7: V | G7: VI | H7: VII | I7: VIII | J7: IX
D8: III = I+II | I8: VIII =IV+V+VI+VII | J8: IX=III-VIII
A10: Kta* | D10: =IF(B10+C10=0, " ", B10+C10) | I10: =SUM(E10:H10) -> 0 | J10: =SUM(B10:C10)-SUM(E10:H10) -> 0
A11: Ktarz | D11: =IF(B11+C11=0, " ", B11+C11) | I11: =SUM(E11:H11) -> 0 | J11: =SUM(B11:C11)-SUM(E11:H11) -> 0
A12: Ktn** | D12: =IF(B12+C12=0, " ", B12+C12) | I12: =SUM(E12:H12) -> 0 | J12: =SUM(B12:C12)-SUM(E12:H12) -> 0
A13: Ktnrz | D13: =IF(B13+C13=0, " ", B13+C13) | I13: =SUM(E13:H13) -> 0 | J13: =SUM(B13:C13)-SUM(E13:H13) -> 0
A15: Ukupno | B15: =SUM(B10:B13) -> 0 | C15: =SUM(C10:C13) -> 0 | D15: =SUM(D10:D13) -> 0 | E15: =SUM(E10:E13) -> 0 | F15: =SUM(F10:F13) -> 0 | G15: =SUM(G10:G13) -> 0 | H15: =SUM(H10:H13) -> 0 | I15: =SUM(I10:I13) -> 0 | J15: =SUM(J10:J14) -> 0
A17: * U Kta predmete spadaju KTA, KTAK, KTAO, KTAPO i KTAT predmeti.
A19: ** U Ktn predmete spadaju KTN, KTNK, KTNO, KTNPO i KTNT predmeti.
A21: Napomena 1: Molimo Vas da obratite pažnju da podaci koji se iskazuju u Tabeli III - Podaci o KTA, KTARZ, KTN i KTNRZ predmetima Kolona I – neriješeno iz prethodnih godina trebaju biti jednaki podacima o broju neriješenih predmeta na kraju 2017.godine koji su iskazani u Tabeli za izvještavanje o radu tužilaštva za 2017.godinu.
A22: Pomoći radi, u prilogu Vam dostavljamo tabelu sa podacima o ukupnom broju neriješenih KTA, KTARZ, KTN i KTNRZ predmeta na kraju 2017.godine, koje ste VSTV-u BiH dostavili putem Tabele za izvještavanje o radu tužilaštva za 2017.godinu (Tabeli III - Podaci o KTA, KTARZ, KTN i KTNRZ predmetima Kolona IX – neriješeno na kraju godine)

Sheet TABELA IIIa
A1: =+'TABELA I'!A1 -> Naziv tužilaštva | B1: =+'TABELA I'!D1 -> Tužilaštvo BiH ili Tužilaštvo Brčko Distrikta BiH
A2: Izvještajni period: | B2: =+'TABELA I'!G2 -> 1.1.2022. - 31.12.2022.
A3: Tabela IIIa: Podaci o neriješenim Kta, Ktarz, Ktn i Ktnrz predmetima koji nisu uvedeni u TCMS na dan 31.12.2018.
A4: Vrsta predmeta | B4: Broj neriješenih predmeta koji nisu uvedeni u TCMS na dan 31.12.2018. godine
A7: KOLONA = | B7: I
A10: Kta*
A11: Ktarz
A12: Ktn**
A13: Ktnrz
A15: Ukupno | B15: =SUM(B10:B13) -> 0
B16: ='TABELA III'!J15 -> 0
A18: * U Kta predmete spadaju KTA, KTAK, KTAO. KTAPO i KTAT predmeti.
A20: ** U Ktn predmete spadaju KTN, KTNK, KTNO, KTNPO i KTNT predmeti.

Sheet TABELA IV
A1: =+'TABELA I'!A1 -> Naziv tužilaštva | C1: =+'TABELA I'!D1 -> Tužilaštvo BiH ili Tužilaštvo Brčko Distrikta BiH
A2: Izvještajni period: | C2: =+'TABELA I'!G2 -> 1.1.2022. - 31.12.2022.
A3: Tabela IV: Podaci o broju Kta i Ktn predmeta u kojima je nastupila zastara
A4: Vrsta predmeta | C4: Broj predmeta u kojima je nastupila apsolutna zastarjelost krivičnog gonjenja | D4: Broj predmeta u kojima je nastupila relativna zastarjelost krivičnog gonjenja | E4: UKUPNO
A5: KOLONA = | C5: I | D5: II | E5: III = I+II
A6: Kta* | E6: =SUM(C6:D6) -> 0
A7: Ktn** | E7: =SUM(C7:D7) -> 0
A9: * U Kta predmete spadaju KTA, KTAK, KTAO, KTAPO i KTAT predmeti.
A10: ** U Ktn predmete spadaju KTN, KTNK, KTNO, KTNPO i KTNT predmeti.

Sheet tab1norma
A1: Godina | B1: Tuzilastvo | C1: ImePrezime | D1: Ocjenjen | E1: OdjelOdsjek | F1: Funkcija | G1: NormaPravilnik | H1: DatumOd | I1: DatumDo | J1: BroDanaZa Normu | K1: Odsustvo | L1: NormaTCMS | M1: NormaVanTCMS | N1: VeceVrednovanje | O1: OstvarenaNorma | P1: PreracunataNorma | Q1: BrPredmURadu | R1: BrRijPredm | S1: ProcRijPredm | T1: BodoviZaOcj
A2: ='TABELA I'!$K$1 -> 2022 | B2: ='TABELA I'!$K$2 -> 0 | C2: ='TABELA I'!B12 -> 0 | D2: ='TABELA I'!C12 -> 0 | E2: ='TABELA I'!D12 -> 0 | F2: ='TABELA I'!E12 -> Glavni tužilac | G2: ='TABELA I'!G12 -> 0 | H2: ='TABELA I'!H12 -> 0 | I2: ='TABELA I'!I12 -> 0 | J2: ='TABELA I'!J12 -> 260 | K2: ='TABELA I'!K12 -> 0 | L2: ='TABELA I'!L12 -> 0 | M2: ='TABELA I'!M12 -> 0 | N2: ='TABELA I'!N12 -> 0 | ... T2: ='TABELA I'!T12
A3: ='TABELA I'!$K$1 -> 2022 | B3: ='TABELA I'!$K$2 -> 0 | C3: ='TABELA I'!B12 -> 0 | D3: ='TABELA I'!C12 -> 0 | E3: ='TABELA I'!D12 -> 0 | F3: ='TABELA I'!E13 -> Glavni tužilac | G3: ='TABELA I'!G13 -> 0 | H3: ='TABELA I'!H13 -> 0 | I3: ='TABELA I'!I13 -> 0 | J3: ='TABELA I'!J13 -> 260 | K3: ='TABELA I'!K13 -> 0 | L3: ='TABELA I'!L13 -> 0 | M3: ='TABELA I'!M13 -> 0 | N3: ='TABELA I'!N13 -> 0 | ... T3: ='TABELA I'!T13
A4: ='TABELA I'!$K$1 -> 2022 | B4: ='TABELA I'!$K$2 -> 0 | C4: ='TABELA I'!B14 -> 0 | D4: ='TABELA I'!C14 -> 0 | E4: ='TABELA I'!D14 -> 0 | F4: ='TABELA I'!E14 -> 0 | G4: ='TABELA I'!G14 -> 0 | H4: ='TABELA I'!H14 -> 0 | I4: ='TABELA I'!I14 -> 0 | J4: ='TABELA I'!J14 -> 260 | K4: ='TABELA I'!K14 -> 0 | L4: ='TABELA I'!L14 -> 0 | M4: ='TABELA I'!M14 -> 0 | N4: ='TABELA I'!N14 -> 0 | ... T4: ='TABELA I'!T14
A5: ='TABELA I'!$K$1 -> 2022 | B5: ='TABELA I'!$K$2 -> 0 | C5: ='TABELA I'!B15 -> 0 | D5: ='TABELA I'!C15 -> 0 | E5: ='TABELA I'!D15 -> 0 | F5: ='TABELA I'!E15 -> 0 | G5: ='TABELA I'!G15 -> 0 | H5: ='TABELA I'!H15 -> 0 | I5: ='TABELA I'!I15 -> 0 | J5: ='TABELA I'!J15 -> 260 | K5: ='TABELA I'!K15 -> 0 | L5: ='TABELA I'!L15 -> 0 | M5: ='TABELA I'!M15 -> 0 | N5: ='TABELA I'!N15 -> 0 | ... T5: ='TABELA I'!T15
A6: ='TABELA I'!$K$1 -> 2022 | B6: ='TABELA I'!$K$2 -> 0 | C6: ='TABELA I'!B16 -> 0 | D6: ='TABELA I'!C16 -> 0 | E6: ='TABELA I'!D16 -> 0 | F6: ='TABELA I'!E16 -> 0 | G6: ='TABELA I'!G16 -> 0 | H6: ='TABELA I'!H16 -> 0 | I6: ='TABELA I'!I16 -> 0 | J6: ='TABELA I'!J16 -> 260 | K6: ='TABELA I'!K16 -> 0 | L6: ='TABELA I'!L16 -> 0 | M6: ='TABELA I'!M16 -> 0 | N6: ='TABELA I'!N16 -> 0 | ... T6: ='TABELA I'!T16
A7: ='TABELA I'!$K$1 -> 2022 | B7: ='TABELA I'!$K$2 -> 0 | C7: ='TABELA I'!B17 -> 0 | D7: ='TABELA I'!C17 -> 0 | E7: ='TABELA I'!D17 -> 0 | F7: ='TABELA I'!E17 -> 0 | G7: ='TABELA I'!G17 -> 0 | H7: ='TABELA I'!H17 -> 0 | I7: ='TABELA I'!I17 -> 0 | J7: ='TABELA I'!J17 -> 260 | K7: ='TABELA I'!K17 -> 0 | L7: ='TABELA I'!L17 -> 0 | M7: ='TABELA I'!M17 -> 0 | N7: ='TABELA I'!N17 -> 0 | ... T7: ='TABELA I'!T17
A8: ='TABELA I'!$K$1 -> 2022 | B8: ='TABELA I'!$K$2 -> 0 | C8: ='TABELA I'!B18 -> 0 | D8: ='TABELA I'!C18 -> 0 | E8: ='TABELA I'!D18 -> 0 | F8: ='TABELA I'!E18 -> 0 | G8: ='TABELA I'!G18 -> 0 | H8: ='TABELA I'!H18 -> 0 | I8: ='TABELA I'!I18 -> 0 | J8: ='TABELA I'!J18 -> 260 | K8: ='TABELA I'!K18 -> 0 | L8: ='TABELA I'!L18 -> 0 | M8: ='TABELA I'!M18 -> 0 | N8: ='TABELA I'!N18 -> 0 | ... T8: ='TABELA I'!T18
A9: ='TABELA I'!$K$1 -> 2022 | B9: ='TABELA I'!$K$2 -> 0 | C9: ='TABELA I'!B19 -> 0 | D9: ='TABELA I'!C19 -> 0 | E9: ='TABELA I'!D19 -> 0 | F9: ='TABELA I'!E19 -> 0 | G9: ='TABELA I'!G19 -> 0 | H9: ='TABELA I'!H19 -> 0 | I9: ='TABELA I'!I19 -> 0 | J9: ='TABELA I'!J19 -> 260 | K9: ='TABELA I'!K19 -> 0 | L9: ='TABELA I'!L19 -> 0 | M9: ='TABELA I'!M19 -> 0 | N9: ='TABELA I'!N19 -> 0 | ... T9: ='TABELA I'!T19
A10: ='TABELA I'!$K$1 -> 2022 | B10: ='TABELA I'!$K$2 -> 0 | C10: ='TABELA I'!B20 -> 0 | D10: ='TABELA I'!C20 -> 0 | E10: ='TABELA I'!D20 -> 0 | F10: ='TABELA I'!E20 -> 0 | G10: ='TABELA I'!G20 -> 0 | H10: ='TABELA I'!H20 -> 0 | I10: ='TABELA I'!I20 -> 0 | J10: ='TABELA I'!J20 -> 260 | K10: ='TABELA I'!K20 -> 0 | L10: ='TABELA I'!L20 -> 0 | M10: ='TABELA I'!M20 -> 0 | N10: ='TABELA I'!N20 -> 0 | ... T10: ='TABELA I'!T20
A11: ='TABELA I'!$K$1 -> 2022 | B11: ='TABELA I'!$K$2 -> 0 | C11: ='TABELA I'!B21 -> 0 | D11: ='TABELA I'!C21 -> 0 | E11: ='TABELA I'!D21 -> 0 | F11: ='TABELA I'!E21 -> 0 | G11: ='TABELA I'!G21 -> 0 | H11: ='TABELA I'!H21 -> 0 | I11: ='TABELA I'!I21 -> 0 | J11: ='TABELA I'!J21 -> 260 | K11: ='TABELA I'!K21 -> 0 | L11: ='TABELA I'!L21 -> 0 | M11: ='TABELA I'!M21 -> 0 | N11: ='TABELA I'!N21 -> 0 | ... T11: ='TABELA I'!T21
A12: ='TABELA I'!$K$1 -> 2022 | B12: ='TABELA I'!$K$2 -> 0 | C12: ='TABELA I'!B22 -> 0 | D12: ='TABELA I'!C22 -> 0 | E12: ='TABELA I'!D22 -> 0 | F12: ='TABELA I'!E22 -> 0 | G12: ='TABELA I'!G22 -> 0 | H12: ='TABELA I'!H22 -> 0 | I12: ='TABELA I'!I22 -> 0 | J12: ='TABELA I'!J22 -> 260 | K12: ='TABELA I'!K22 -> 0 | L12: ='TABELA I'!L22 -> 0 | M12: ='TABELA I'!M22 -> 0 | N12: ='TABELA I'!N22 -> 0 | ... T12: ='TABELA I'!T22
A13: ='TABELA I'!$K$1 -> 2022 | B13: ='TABELA I'!$K$2 -> 0 | C13: ='TABELA I'!B23 -> 0 | D13: ='TABELA I'!C23 -> 0 | E13: ='TABELA I'!D23 -> 0 | F13: ='TABELA I'!E23 -> 0 | G13: ='TABELA I'!G23 -> 0 | H13: ='TABELA I'!H23 -> 0 | I13: ='TABELA I'!I23 -> 0 | J13: ='TABELA I'!J23 -> 260 | K13: ='TABELA I'!K23 -> 0 | L13: ='TABELA I'!L23 -> 0 | M13: ='TABELA I'!M23 -> 0 | N13: ='TABELA I'!N23 -> 0 | ... T13: ='TABELA I'!T23
A14: ='TABELA I'!$K$1 -> 2022 | B14: ='TABELA I'!$K$2 -> 0 | C14: ='TABELA I'!B24 -> 0 | D14: ='TABELA I'!C24 -> 0 | E14: ='TABELA I'!D24 -> 0 | F14: ='TABELA I'!E24 -> 0 | G14: ='TABELA I'!G24 -> 0 | H14: ='TABELA I'!H24 -> 0 | I14: ='TABELA I'!I24 -> 0 | J14: ='TABELA I'!J24 -> 260 | K14: ='TABELA I'!K24 -> 0 | L14: ='TABELA I'!L24 -> 0 | M14: ='TABELA I'!M24 -> 0 | N14: ='TABELA I'!N24 -> 0 | ... T14: ='TABELA I'!T24
A15: ='TABELA I'!$K$1 -> 2022 | B15: ='TABELA I'!$K$2 -> 0 | C15: ='TABELA I'!B25 -> 0 | D15: ='TABELA I'!C25 -> 0 | E15: ='TABELA I'!D25 -> 0 | F15: ='TABELA I'!E25 -> 0 | G15: ='TABELA I'!G25 -> 0 | H15: ='TABELA I'!H25 -> 0 | I15: ='TABELA I'!I25 -> 0 | J15: ='TABELA I'!J25 -> 260 | K15: ='TABELA I'!K25 -> 0 | L15: ='TABELA I'!L25 -> 0 | M15: ='TABELA I'!M25 -> 0 | N15: ='TABELA I'!N25 -> 0 | ... T15: ='TABELA I'!T25
... A77: ='TABELA I'!$K$1 -> 2022 | B77: ='TABELA I'!$K$2 -> 0 | C77: ='TABELA I'!B87 -> 0 | D77: ='TABELA I'!C87 -> 0 | E77: ='TABELA I'!D87 -> 0 | F77: ='TABELA I'!E87 -> 0 | G77: ='TABELA I'!G87 -> 0 | H77: ='TABELA I'!H87 -> 0 | I77: ='TABELA I'!I87 -> 0 | J77: ='TABELA I'!J87 -> 260 | K77: ='TABELA I'!K87 -> 0 | L77: ='TABELA I'!L87 -> 0 | M77: ='TABELA I'!M87 -> 0 | N77: ='TABELA I'!N87 -> 0 | ... T77: ='TABELA I'!T87
A79: Godina | B79: Tuzilastvo | C79: ImePrezime | D79: Ocjenjen | E79: OdjelOdsjek | F79: Funkcija | G79: NormaPravilnik | H79: DatumOd | I79: DatumDo | J79: BroDanaZa Normu | K79: Odsustvo | L79: NormaTCMS | M79: NormaVanTCMS | N79: VeceVrednovanje | O79: OstvarenaNorma | P79: PreracunataNorma | Q79: BrPredmURadu | R79: BrRijPredm | S79: ProcRijPredm | T79: BodoviZaOcj | U79: Tuzil_1_2
A80: ='TABELA I'!$K$1 -> 2022 | B80: ='TABELA I'!$K$2 -> 0 | C80: =+'TABELA I'!D111 -> 0 | D80: =+'TABELA I'!C112 -> 0 | E80: =+'TABELA I'!D112 -> 0 | F80: =+'TABELA I'!E112 -> Glavni tužilac | G80: ='TABELA I'!G112 -> 0 | H80: ='TABELA I'!H112 -> 0 | I80: ='TABELA I'!I112 -> 0 | J80: ='TABELA I'!J112 -> 0 | K80: ='TABELA I'!K112 -> 0 | L80: ='TABELA I'!L112 -> 0 | M80: ='TABELA I'!M112 -> 0 | N80: ='TABELA I'!N112 -> 0 | ... T80: ='TABELA I'!T112 -> 0 | U80: ='TABELA I'!A112 -> Tužilaštvo 1
A81: ='TABELA I'!$K$1 -> 2022 | B81: ='TABELA I'!$K$2 -> 0 | C81: =+'TABELA I'!D111 -> 0 | D81: =+'TABELA I'!C113 -> 0 | E81: =+'TABELA I'!D113 -> 0 | F81: =+'TABELA I'!E113 -> 0 | G81: ='TABELA I'!G113 -> 0 | H81: ='TABELA I'!H113 -> 0 | I81: ='TABELA I'!I113 -> 0 | J81: ='TABELA I'!J113 -> 0 | K81: ='TABELA I'!K113 -> 0 | L81: ='TABELA I'!L113 -> 0 | M81: ='TABELA I'!M113 -> 0 | N81: ='TABELA I'!N113 -> 0 | ... T81: ='TABELA I'!T113 | U81: ='TABELA I'!A113 -> Tužilaštvo 2
A82: ='TABELA I'!$K$1 -> 2022 | B82: ='TABELA I'!$K$2 -> 0 | C82: ='TABELA I'!D114 -> 0 | D82: ='TABELA I'!C115 -> 0 | E82: ='TABELA I'!D115 -> 0 | F82: ='TABELA I'!E115 -> 0 | G82: ='TABELA I'!G115 -> 0 | H82: ='TABELA I'!H115 -> 0 | I82: ='TABELA I'!I115 -> 0 | J82: ='TABELA I'!J115 -> 0 | K82: ='TABELA I'!K115 -> 0 | L82: ='TABELA I'!L115 -> 0 | M82: ='TABELA I'!M115 -> 0 | N82: ='TABELA I'!N115 -> 0 | ... T82: ='TABELA I'!T115 | U82: ='TABELA I'!A115 -> Tužilaštvo 1
A83: ='TABELA I'!$K$1 -> 2022 | B83: ='TABELA I'!$K$2 -> 0 | C83: ='TABELA I'!D114 -> 0 | D83: ='TABELA I'!C116 -> 0 | E83: ='TABELA I'!D116 -> 0 | F83: ='TABELA I'!E116 -> 0 | G83: ='TABELA I'!G116 -> 0 | H83: ='TABELA I'!H116 -> 0 | I83: ='TABELA I'!I116 -> 0 | J83: ='TABELA I'!J116 -> 0 | K83: ='TABELA I'!K116 -> 0 | L83: ='TABELA I'!L116 -> 0 | M83: ='TABELA I'!M116 -> 0 | N83: ='TABELA I'!N116 -> 0 | ... T83: ='TABELA I'!T116 | U83: ='TABELA I'!A116 -> Tužilaštvo 2
A84: ='TABELA I'!$K$1 -> 2022 | B84: ='TABELA I'!$K$2 -> 0 | C84: ='TABELA I'!D117 -> 0 | D84: ='TABELA I'!C118 -> 0 | E84: ='TABELA I'!D118 -> 0 | F84: ='TABELA I'!E118 -> 0 | G84: ='TABELA I'!G118 -> 0 | H84: ='TABELA I'!H118 -> 0 | I84: ='TABELA I'!I118 -> 0 | J84: ='TABELA I'!J118 -> 0 | K84: ='TABELA I'!K118 -> 0 | L84: ='TABELA I'!L118 -> 0 | M84: ='TABELA I'!M118 -> 0 | N84: ='TABELA I'!N118 -> 0 | ... T84: ='TABELA I'!T118 | U84: ='TABELA I'!A118 -> Tužilaštvo 1
A85: ='TABELA I'!$K$1 -> 2022 | B85: ='TABELA I'!$K$2 -> 0 | C85: ='TABELA I'!D117 -> 0 | D85: ='TABELA I'!C119 -> 0 | E85: ='TABELA I'!D119 -> 0 | F85: ='TABELA I'!E119 -> 0 | G85: ='TABELA I'!G119 -> 0 | H85: ='TABELA I'!H119 -> 0 | I85: ='TABELA I'!I119 -> 0 | J85: ='TABELA I'!J119 -> 0 | K85: ='TABELA I'!K119 -> 0 | L85: ='TABELA I'!L119 -> 0 | M85: ='TABELA I'!M119 -> 0 | N85: ='TABELA I'!N119 -> 0 | ... T85: ='TABELA I'!T119 | U85: ='TABELA I'!A119 -> Tužilaštvo 2
A86: ='TABELA I'!$K$1 -> 2022 | B86: ='TABELA I'!$K$2 -> 0 | C86: ='TABELA I'!D120 -> 0 | D86: ='TABELA I'!C121 -> 0 | E86: ='TABELA I'!D121 -> 0 | F86: ='TABELA I'!E121 -> 0 | G86: ='TABELA I'!G121 -> 0 | H86: ='TABELA I'!H121 -> 0 | I86: ='TABELA I'!I121 -> 0 | J86: ='TABELA I'!J121 -> 0 | K86: ='TABELA I'!K121 -> 0 | L86: ='TABELA I'!L121 -> 0 | M86: ='TABELA I'!M121 -> 0 | N86: ='TABELA I'!N121 -> 0 | ... T86: ='TABELA I'!T121 | U86: ='TABELA I'!A121 -> Tužilaštvo 1
A87: ='TABELA I'!$K$1 -> 2022 | B87: ='TABELA I'!$K$2 -> 0 | C87: ='TABELA I'!D120 -> 0 | D87: ='TABELA I'!C122 -> 0 | E87: ='TABELA I'!D122 -> 0 | F87: ='TABELA I'!E122 -> 0 | G87: ='TABELA I'!G122 -> 0 | H87: ='TABELA I'!H122 -> 0 | I87: ='TABELA I'!I122 -> 0 | J87: ='TABELA I'!J122 -> 0 | K87: ='TABELA I'!K122 -> 0 | L87: ='TABELA I'!L122 -> 0 | M87: ='TABELA I'!M122 -> 0 | N87: ='TABELA I'!N122 -> 0 | ... T87: ='TABELA I'!T122 | U87: ='TABELA I'!A122 -> Tužilaštvo 2
A88: ='TABELA I'!$K$1 -> 2022 | B88: ='TABELA I'!$K$2 -> 0 | C88: ='TABELA I'!D123 -> 0 | D88: ='TABELA I'!C124 -> 0 | E88: ='TABELA I'!D124 -> 0 | F88: ='TABELA I'!E124 -> 0 | G88: ='TABELA I'!G124 -> 0 | H88: ='TABELA I'!H124 -> 0 | I88: ='TABELA I'!I124 -> 0 | J88: ='TABELA I'!J124 -> 0 | K88: ='TABELA I'!K124 -> 0 | L88: ='TABELA I'!L124 -> 0 | M88: ='TABELA I'!M124 -> 0 | N88: ='TABELA I'!N124 -> 0 | ... T88: ='TABELA I'!T124 | U88: ='TABELA I'!A124 -> Tužilaštvo 1
A89: ='TABELA I'!$K$1 -> 2022 | B89: ='TABELA I'!$K$2 -> 0 | C89: ='TABELA I'!D123 -> 0 | D89: ='TABELA I'!C125 -> 0 | E89: ='TABELA I'!D125 -> 0 | F89: ='TABELA I'!E125 -> 0 | G89: ='TABELA I'!G125 -> 0 | H89: ='TABELA I'!H125 -> 0 | I89: ='TABELA I'!I125 -> 0 | J89: ='TABELA I'!J125 -> 0 | K89: ='TABELA I'!K125 -> 0 | L89: ='TABELA I'!L125 -> 0 | M89: ='TABELA I'!M125 -> 0 | N89: ='TABELA I'!N125 -> 0 | ... T89: ='TABELA I'!T125 | U89: ='TABELA I'!A125 -> Tužilaštvo 2
A90: ='TABELA I'!$K$1 -> 2022 | B90: ='TABELA I'!$K$2 -> 0 | C90: ='TABELA I'!D126 -> 0 | D90: ='TABELA I'!C127 -> 0 | E90: ='TABELA I'!D127 -> 0 | F90: ='TABELA I'!E127 -> 0 | G90: ='TABELA I'!G127 -> 0 | H90: ='TABELA I'!H127 -> 0 | I90: ='TABELA I'!I127 -> 0 | J90: ='TABELA I'!J127 -> 0 | K90: ='TABELA I'!K127 -> 0 | L90: ='TABELA I'!L127 -> 0 | M90: ='TABELA I'!M127 -> 0 | N90: ='TABELA I'!N127 -> 0 | ... T90: ='TABELA I'!T127 | U90: ='TABELA I'!A127 -> Tužilaštvo 1
A91: ='TABELA I'!$K$1 -> 2022 | B91: ='TABELA I'!$K$2 -> 0 | C91: ='TABELA I'!D126 -> 0 | D91: ='TABELA I'!C128 -> 0 | E91: ='TABELA I'!D128 -> 0 | F91: ='TABELA I'!E128 -> 0 | G91: ='TABELA I'!G128 -> 0 | H91: ='TABELA I'!H128 -> 0 | I91: ='TABELA I'!I128 -> 0 | J91: ='TABELA I'!J128 -> 0 | K91: ='TABELA I'!K128 -> 0 | L91: ='TABELA I'!L128 -> 0 | M91: ='TABELA I'!M128 -> 0 | N91: ='TABELA I'!N128 -> 0 | ... T91: ='TABELA I'!T128 | U91: ='TABELA I'!A128 -> Tužilaštvo 2
A92: ='TABELA I'!$K$1 -> 2022 | B92: ='TABELA I'!$K$2 -> 0 | C92: ='TABELA I'!D129 -> 0 | D92: ='TABELA I'!C130 -> 0 | E92: ='TABELA I'!D130 -> 0 | F92: ='TABELA I'!E130 -> 0 | G92: ='TABELA I'!G130 -> 0 | H92: ='TABELA I'!H130 -> 0 | I92: ='TABELA I'!I130 -> 0 | J92: ='TABELA I'!J130 -> 0 | K92: ='TABELA I'!K130 -> 0 | L92: ='TABELA I'!L130 -> 0 | M92: ='TABELA I'!M130 -> 0 | N92: ='TABELA I'!N130 -> 0 | ... T92: ='TABELA I'!T130 | U92: ='TABELA I'!A130 -> Tužilaštvo 1
A93: ='TABELA I'!$K$1 -> 2022 | B93: ='TABELA I'!$K$2 -> 0 | C93: ='TABELA I'!D129 -> 0 | D93: ='TABELA I'!C131 -> 0 | E93: ='TABELA I'!D131 -> 0 | F93: ='TABELA I'!E131 -> 0 | G93: ='TABELA I'!G131 -> 0 | H93: ='TABELA I'!H131 -> 0 | I93: ='TABELA I'!I131 -> 0 | J93: ='TABELA I'!J131 -> 0 | K93: ='TABELA I'!K131 -> 0 | L93: ='TABELA I'!L131 -> 0 | M93: ='TABELA I'!M131 -> 0 | N93: ='TABELA I'!N131 -> 0 | ... T93: ='TABELA I'!T131 | U93: ='TABELA I'!A131 -> Tužilaštvo 2
A94: ='TABELA I'!$K$1 -> 2022 | B94: ='TABELA I'!$K$2 -> 0 | C94: ='TABELA I'!D132 -> 0 | D94: ='TABELA I'!C133 -> 0 | E94: ='TABELA I'!D133 -> 0 | F94: ='TABELA I'!E133 -> 0 | G94: ='TABELA I'!G133 -> 0 | H94: ='TABELA I'!H133 -> 0 | I94: ='TABELA I'!I133 -> 0 | J94: ='TABELA I'!J133 -> 0 | K94: ='TABELA I'!K133 -> 0 | L94: ='TABELA I'!L133 -> 0 | M94: ='TABELA I'!M133 -> 0 | N94: ='TABELA I'!N133 -> 0 | ... T94: ='TABELA I'!T133 | U94: ='TABELA I'!A133 -> Tužilaštvo 1
A95: ='TABELA I'!$K$1 -> 2022 | B95: ='TABELA I'!$K$2 -> 0 | C95: ='TABELA I'!D132 -> 0 | D95: ='TABELA I'!C134 -> 0 | E95: ='TABELA I'!D134 -> 0 | F95: ='TABELA I'!E134 -> 0 | G95: ='TABELA I'!G134 -> 0 | H95: ='TABELA I'!H134 -> 0 | I95: ='TABELA I'!I134 -> 0 | J95: ='TABELA I'!J134 -> 0 | K95: ='TABELA I'!K134 -> 0 | L95: ='TABELA I'!L134 -> 0 | M95: ='TABELA I'!M134 -> 0 | N95: ='TABELA I'!N134 -> 0 | ... T95: ='TABELA I'!T134 | U95: ='TABELA I'!A134 -> Tužilaštvo 2
A96: ='TABELA I'!$K$1 -> 2022 | B96: ='TABELA I'!$K$2 -> 0 | C96: ='TABELA I'!D135 -> 0 | D96: ='TABELA I'!C136 -> 0 | E96: ='TABELA I'!D136 -> 0 | F96: ='TABELA I'!E136 -> 0 | G96: ='TABELA I'!G136 -> 0 | H96: ='TABELA I'!H136 -> 0 | I96: ='TABELA I'!I136 -> 0 | J96: ='TABELA I'!J136 -> 0 | K96: ='TABELA I'!K136 -> 0 | L96: ='TABELA I'!L136 -> 0 | M96: ='TABELA I'!M136 -> 0 | N96: ='TABELA I'!N136 -> 0 | ... T96: ='TABELA I'!T136 | U96: ='TABELA I'!A136 -> Tužilaštvo 1
A97: ='TABELA I'!$K$1 -> 2022 | B97: ='TABELA I'!$K$2 -> 0 | C97: ='TABELA I'!D135 -> 0 | D97: ='TABELA I'!C137 -> 0 | E97: ='TABELA I'!D137 -> 0 | F97: ='TABELA I'!E137 -> 0 | G97: ='TABELA I'!G137 -> 0 | H97: ='TABELA I'!H137 -> 0 | I97: ='TABELA I'!I137 -> 0 | J97: ='TABELA I'!J137 -> 0 | K97: ='TABELA I'!K137 -> 0 | L97: ='TABELA I'!L137 -> 0 | M97: ='TABELA I'!M137 -> 0 | N97: ='TABELA I'!N137 -> 0 | ... T97: ='TABELA I'!T137 | U97: ='TABELA I'!A137 -> Tužilaštvo 2
A98: ='TABELA I'!$K$1 -> 2022 | B98: ='TABELA I'!$K$2 -> 0 | C98: ='TABELA I'!D138 -> 0 | D98: ='TABELA I'!C139 -> 0 | E98: ='TABELA I'!D139 -> 0 | F98: ='TABELA I'!E139 -> 0 | G98: ='TABELA I'!G139 -> 0 | H98: ='TABELA I'!H139 -> 0 | I98: ='TABELA I'!I139 -> 0 | J98: ='TABELA I'!J139 -> 0 | K98: ='TABELA I'!K139 -> 0 | L98: ='TABELA I'!L139 -> 0 | M98: ='TABELA I'!M139 -> 0 | N98: ='TABELA I'!N139 -> 0 | ... T98: ='TABELA I'!T139 | U98: ='TABELA I'!A139 -> Tužilaštvo 1
A99: ='TABELA I'!$K$1 -> 2022 | B99: ='TABELA I'!$K$2 -> 0 | C99: ='TABELA I'!D138 -> 0 | D99: ='TABELA I'!C140 -> 0 | E99: ='TABELA I'!D140 -> 0 | F99: ='TABELA I'!E140 -> 0 | G99: ='TABELA I'!G140 -> 0 | H99: ='TABELA I'!H140 -> 0 | I99: ='TABELA I'!I140 -> 0 | J99: ='TABELA I'!J140 -> 0 | K99: ='TABELA I'!K140 -> 0 | L99: ='TABELA I'!L140 -> 0 | M99: ='TABELA I'!M140 -> 0 | N99: ='TABELA I'!N140 -> 0 | ... T99: ='TABELA I'!T140 | U99: ='TABELA I'!A140 -> Tužilaštvo 2
A102: Godina | B102: Tuzilastvo | C102: ImePrezimePredsjOdj | D102: Odjel | E102: BrojTuzOdjel | F102: KolNormaOdjela
A103: ='TABELA I'!$K$1 -> 2022 | B103: ='TABELA I'!$K$2 -> 0 | C103: ='TABELA I'!H145 -> 0 | D103: ='TABELA I'!K145 -> 0 | E103: ='TABELA I'!N145 -> 0 | F103: ='TABELA I'!O145 -> 0
A104: ='TABELA I'!$K$1 -> 2022 | B104: ='TABELA I'!$K$2 -> 0 | C104: ='TABELA I'!H146 -> 0 | D104: ='TABELA I'!K146 -> 0 | E104: ='TABELA I'!N146 -> 0 | F104: ='TABELA I'!O146 -> 0
A105: ='TABELA I'!$K$1 -> 2022 | B105: ='TABELA I'!$K$2 -> 0 | C105: ='TABELA I'!H147 -> 0 | D105: ='TABELA I'!K147 -> 0 | E105: ='TABELA I'!N147 -> 0 | F105: ='TABELA I'!O147 -> 0
A106: ='TABELA I'!$K$1 -> 2022 | B106: ='TABELA I'!$K$2 -> 0 | C106: ='TABELA I'!H148 -> 0 | D106: ='TABELA I'!K148 -> 0 | E106: ='TABELA I'!N148 -> 0 | F106: ='TABELA I'!O148 -> 0
A107: ='TABELA I'!$K$1 -> 2022 | B107: ='TABELA I'!$K$2 -> 0 | C107: ='TABELA I'!H149 -> 0 | D107: ='TABELA I'!K149 -> 0 | E107: ='TABELA I'!N149 -> 0 | F107: ='TABELA I'!O149 -> 0
A108: ='TABELA I'!$K$1 -> 2022 | B108: ='TABELA I'!$K$2 -> 0 | C108: ='TABELA I'!H150 -> 0 | D108: ='TABELA I'!K150 -> 0 | E108: ='TABELA I'!N150 -> 0 | F108: ='TABELA I'!O150 -> 0
A109: ='TABELA I'!$K$1 -> 2022 | B109: ='TABELA I'!$K$2 -> 0 | C109: ='TABELA I'!H151 -> 0 | D109: ='TABELA I'!K151 -> 0 | E109: ='TABELA I'!N151 -> 0 | F109: ='TABELA I'!O151 -> 0
A110: ='TABELA I'!$K$1 -> 2022 | B110: ='TABELA I'!$K$2 -> 0 | C110: ='TABELA I'!H152 -> 0 | D110: ='TABELA I'!K152 -> 0 | E110: ='TABELA I'!N152 -> 0 | F110: ='TABELA I'!O152 -> 0
A111: ='TABELA I'!$K$1 -> 2022 | B111: ='TABELA I'!$K$2 -> 0 | C111: ='TABELA I'!H153 -> 0 | D111: ='TABELA I'!K153 -> 0 | E111: ='TABELA I'!N153 -> 0 | F111: ='TABELA I'!O153 -> 0
A112: ='TABELA I'!$K$1 -> 2022 | B112: ='TABELA I'!$K$2 -> 0 | C112: ='TABELA I'!H154 -> 0 | D112: ='TABELA I'!K154 -> 0 | E112: ='TABELA I'!N154 -> 0 | F112: ='TABELA I'!O154 -> 0

Sheet tbl_kvalitet_tuzioci
A1: Tuz | B1: Godina | C1: ImePrezime | D1: Funkcija | E1: Odjel | F1: Ocjenjen | G1: VrstaPredm | H1: BrPodigOpt | I1: BrPodPrijedl | J1: PravPresOsudj | K1: PravPresOdbij | L1: PravPresOslob | M1: BrPravsnRjoOdbOpt | N1: BrPrOdlONeprPrijedl | O1: BrPrOdlOObustPost | P1: ZbirnaOPt | Q1: KvalitetOpt | R1: KvalitetZaGI | S1: KvalOptCl19Krit | T1: BrBodPoCl19 | U1: BrBodPoCl21Stav2 | V1: BrNarONesprIstr | W1: BrNarOObustIstr | X1: UkBrRjesOPrit | Y1: KvalitetIstraga | Z1: KvalitetIstragaCl20 | AA1: BrBodPoCl20 | AB1: KvalZbirnoOptIstr | AC1: NegatBod | AD1: UkBrBodOptIstr
A2: ='TABELA I'!$K$2 -> 0 | B2: ='TABELA I'!$K$1 -> 2022 | C2: ='TABELA IIa'!C11 | D2: ='TABELA IIa'!D11 -> Glavni tužilac | E2: ='TABELA IIa'!E11 -> 0 | F2: ='TABELA IIa'!F11 -> Nije ocijenjen ili Nema obavezu neposredno raditi na predmetima | G2: ='TABELA IIa'!G11 -> KT, KTK, KTT i KTM | H2: ='TABELA IIa'!H11 -> 0 | I2: ='TABELA IIa'!I11 -> 0 | J2: ='TABELA IIa'!J11 -> 0 | ... AD2: ='TABELA IIa'!AD11
A3: ='TABELA I'!$K$2 -> 0 | B3: ='TABELA I'!$K$1 -> 2022 | C3: =C2 | D3: =D2 -> Glavni tužilac | E3: =E2 -> 0 | F3: =F2 -> Nije ocijenjen ili Nema obavezu neposredno raditi na predmetima | G3: ='TABELA IIa'!G12 -> KTRZ, KTPO, KTO | H3: ='TABELA IIa'!H12 -> 0 | I3: ='TABELA IIa'!I12 -> 0 | J3: ='TABELA IIa'!J12 -> 0 | K3: ='TABELA IIa'!K12 -> 0 | L3: ='TABELA IIa'!L12 -> 0 | M3: ='TABELA IIa'!M12 -> 0 | N3: ='TABELA IIa'!N12 -> 0 | ... T3: ='TABELA IIa'!T12 | U3: =U2 | V3: =V2 -> 0 | W3: =W2 -> 0 | X3: =X2 -> 0 | Y3: =Y2 | Z3: =Z2 | AA3: =AA2 | AB3: =AB2 | ... AD3: =AD2
A4: ='TABELA I'!$K$2 -> 0 | B4: ='TABELA I'!$K$1 -> 2022 | C4: ='TABELA IIa'!C13 | D4: ='TABELA IIa'!D13 -> 0 | E4: ='TABELA IIa'!E13 | F4: ='TABELA IIa'!F13 -> Nije ocijenjen | G4: ='TABELA IIa'!G13 -> KT, KTK, KTT i KTM | H4: ='TABELA IIa'!H13 -> 0 | I4: ='TABELA IIa'!I13 -> 0 | J4: ='TABELA IIa'!J13 -> 0 | ... AD4: ='TABELA IIa'!AD13
A5: ='TABELA I'!$K$2 -> 0 | B5: ='TABELA I'!$K$1 -> 2022 | C5: =C4 | D5: =D4 -> 0 | E5: =E4 | F5: =F4 -> Nije ocijenjen | G5: ='TABELA IIa'!G14 -> KTRZ, KTPO, KTO | H5: ='TABELA IIa'!H14 -> 0 | I5: ='TABELA IIa'!I14 -> 0 | J5: ='TABELA IIa'!J14 -> 0 | K5: ='TABELA IIa'!K14 -> 0 | L5: ='TABELA IIa'!L14 -> 0 | M5: ='TABELA IIa'!M14 -> 0 | N5: ='TABELA IIa'!N14 -> 0 | ... T5: ='TABELA IIa'!T14 | U5: =U4 | V5: =V4 -> 0 | W5: =W4 -> 0 | X5: =X4 -> 0 | Y5: =Y4 | Z5: =Z4 | AA5: =AA4 | AB5: =AB4 | ... AD5: =AD4
A6: ='TABELA I'!$K$2 -> 0 | B6: ='TABELA I'!$K$1 -> 2022 | C6: ='TABELA IIa'!C15 | D6: ='TABELA IIa'!D15 -> 0 | E6: ='TABELA IIa'!E15 | F6: ='TABELA IIa'!F15 -> Nije ocijenjen | G6: ='TABELA IIa'!G15 -> KT, KTK, KTT i KTM | H6: ='TABELA IIa'!H15 -> 0 | I6: ='TABELA IIa'!I15 -> 0 | J6: ='TABELA IIa'!J15 -> 0 | ... AD6: ='TABELA IIa'!AD15
A7: ='TABELA I'!$K$2 -> 0 | B7: ='TABELA I'!$K$1 -> 2022 | C7: =C6 | D7: =D6 -> 0 | E7: =E6 | F7: =F6 -> Nije ocijenjen | G7: ='TABELA IIa'!G16 -> KTRZ, KTPO, KTO | H7: ='TABELA IIa'!H16 -> 0 | I7: ='TABELA IIa'!I16 -> 0 | J7: ='TABELA IIa'!J16 -> 0 | K7: ='TABELA IIa'!K16 -> 0 | L7: ='TABELA IIa'!L16 -> 0 | M7: ='TABELA IIa'!M16 -> 0 | N7: ='TABELA IIa'!N16 -> 0 | ... T7: ='TABELA IIa'!T16 | U7: =U6 | V7: =V6 -> 0 | W7: =W6 -> 0 | X7: =X6 -> 0 | Y7: =Y6 | Z7: =Z6 | AA7: =AA6 | AB7: =AB6 | ... AD7: =AD6
A8: ='TABELA I'!$K$2 -> 0 | B8: ='TABELA I'!$K$1 -> 2022 | C8: ='TABELA IIa'!C17 | D8: ='TABELA IIa'!D17 -> 0 | E8: ='TABELA IIa'!E17 | F8: ='TABELA IIa'!F17 -> Nije ocijenjen | G8: ='TABELA IIa'!G17 -> KT, KTK, KTT i KTM | H8: ='TABELA IIa'!H17 -> 0 | I8: ='TABELA IIa'!I17 -> 0 | J8: ='TABELA IIa'!J17 -> 0 | ... AD8: ='TABELA IIa'!AD17
A9: ='TABELA I'!$K$2 -> 0 | B9: ='TABELA I'!$K$1 -> 2022 | C9: =C8 | D9: =D8 -> 0 | E9: =E8 | F9: =F8 -> Nije ocijenjen | G9: ='TABELA IIa'!G18 -> KTRZ, KTPO, KTO | H9: ='TABELA IIa'!H18 -> 0 | I9: ='TABELA IIa'!I18 -> 0 | J9: ='TABELA IIa'!J18 -> 0 | K9: ='TABELA IIa'!K18 -> 0 | L9: ='TABELA IIa'!L18 -> 0 | M9: ='TABELA IIa'!M18 -> 0 | N9: ='TABELA IIa'!N18 -> 0 | ... T9: ='TABELA IIa'!T18 | U9: =U8 | V9: =V8 -> 0 | W9: =W8 -> 0 | X9: =X8 -> 0 | Y9: =Y8 | Z9: =Z8 | AA9: =AA8 | AB9: =AB8 | ... AD9: =AD8
A10: ='TABELA I'!$K$2 -> 0 | B10: ='TABELA I'!$K$1 -> 2022 | C10: ='TABELA IIa'!C19 | D10: ='TABELA IIa'!D19 -> 0 | E10: ='TABELA IIa'!E19 | F10: ='TABELA IIa'!F19 -> Nije ocijenjen | G10: ='TABELA IIa'!G19 -> KT, KTK, KTT i KTM | H10: ='TABELA IIa'!H19 -> 0 | I10: ='TABELA IIa'!I19 -> 0 | J10: ='TABELA IIa'!J19 -> 0 | ... AD10: ='TABELA IIa'!AD19
A11: ='TABELA I'!$K$2 -> 0 | B11: ='TABELA I'!$K$1 -> 2022 | C11: =C10 | D11: =D10 -> 0 | E11: =E10 | F11: =F10 -> Nije ocijenjen | G11: ='TABELA IIa'!G20 -> KTRZ, KTPO, KTO | H11: ='TABELA IIa'!H20 -> 0 | I11: ='TABELA IIa'!I20 -> 0 | J11: ='TABELA IIa'!J20 -> 0 | K11: ='TABELA IIa'!K20 -> 0 | L11: ='TABELA IIa'!L20 -> 0 | M11: ='TABELA IIa'!M20 -> 0 | N11: ='TABELA IIa'!N20 -> 0 | ... T11: ='TABELA IIa'!T20 | U11: =U10 | V11: =V10 -> 0 | W11: =W10 -> 0 | X11: =X10 -> 0 | Y11: =Y10 | Z11: =Z10 | AA11: =AA10 | AB11: =AB10 | ... AD11: =AD10
A12: ='TABELA I'!$K$2 -> 0 | B12: ='TABELA I'!$K$1 -> 2022 | C12: ='TABELA IIa'!C21 | D12: ='TABELA IIa'!D21 -> 0 | E12: ='TABELA IIa'!E21 | F12: ='TABELA IIa'!F21 -> Nije ocijenjen | G12: ='TABELA IIa'!G21 -> KT, KTK, KTT i KTM | H12: ='TABELA IIa'!H21 -> 0 | I12: ='TABELA IIa'!I21 -> 0 | J12: ='TABELA IIa'!J21 -> 0 | ... AD12: ='TABELA IIa'!AD21
A13: ='TABELA I'!$K$2 -> 0 | B13: ='TABELA I'!$K$1 -> 2022 | C13: =C12 | D13: =D12 -> 0 | E13: =E12 | F13: =F12 -> Nije ocijenjen | G13: ='TABELA IIa'!G22 -> KTRZ, KTPO, KTO | H13: ='TABELA IIa'!H22 -> 0 | I13: ='TABELA IIa'!I22 -> 0 | J13: ='TABELA IIa'!J22 -> 0 | K13: ='TABELA IIa'!K22 -> 0 | L13: ='TABELA IIa'!L22 -> 0 | M13: ='TABELA IIa'!M22 -> 0 | N13: ='TABELA IIa'!N22 -> 0 | ... T13: ='TABELA IIa'!T22 | U13: =U12 | V13: =V12 -> 0 | W13: =W12 -> 0 | X13: =X12 -> 0 | Y13: =Y12 | Z13: =Z12 | AA13: =AA12 | AB13: =AB12 | ... AD13: =AD12
A14: ='TABELA I'!$K$2 -> 0 | B14: ='TABELA I'!$K$1 -> 2022 | C14: ='TABELA IIa'!C23 | D14: ='TABELA IIa'!D23 -> 0 | E14: ='TABELA IIa'!E23 | F14: ='TABELA IIa'!F23 -> Nije ocijenjen | G14: ='TABELA IIa'!G23 -> KT, KTK, KTT i KTM | H14: ='TABELA IIa'!H23 -> 0 | I14: ='TABELA IIa'!I23 -> 0 | J14: ='TABELA IIa'!J23 -> 0 | ... AD14: ='TABELA IIa'!AD23
A15: ='TABELA I'!$K$2 -> 0 | B15: ='TABELA I'!$K$1 -> 2022 | C15: =C14 | D15: =D14 -> 0 | E15: =E14 | F15: =F14 -> Nije ocijenjen | G15: ='TABELA IIa'!G24 -> KTRZ, KTPO, KTO | H15: ='TABELA IIa'!H24 -> 0 | I15: ='TABELA IIa'!I24 -> 0 | J15: ='TABELA IIa'!J24 -> 0 | K15: ='TABELA IIa'!K24 -> 0 | L15: ='TABELA IIa'!L24 -> 0 | M15: ='TABELA IIa'!M24 -> 0 | N15: ='TABELA IIa'!N24 -> 0 | ... T15: ='TABELA IIa'!T24 | U15: =U14 | V15: =V14 -> 0 | W15: =W14 -> 0 | X15: =X14 -> 0 | Y15: =Y14 | Z15: =Z14 | AA15: =AA14 | AB15: =AB14 | ... AD15: =AD14
A16: ='TABELA I'!$K$2 -> 0 | B16: ='TABELA I'!$K$1 -> 2022 | C16: ='TABELA IIa'!C25 | D16: ='TABELA IIa'!D25 -> 0 | E16: ='TABELA IIa'!E25 | F16: ='TABELA IIa'!F25 -> Nije ocijenjen | G16: ='TABELA IIa'!G25 -> KT, KTK, KTT i KTM | H16: ='TABELA IIa'!H25 -> 0 | I16: ='TABELA IIa'!I25 -> 0 | J16: ='TABELA IIa'!J25 -> 0 | ... AD16: ='TABELA IIa'!AD25
A17: ='TABELA I'!$K$2 -> 0 | B17: ='TABELA I'!$K$1 -> 2022 | C17: =C16 | D17: =D16 -> 0 | E17: =E16 | F17: =F16 -> Nije ocijenjen | G17: ='TABELA IIa'!G26 -> KTRZ, KTPO, KTO | H17: ='TABELA IIa'!H26 -> 0 | I17: ='TABELA IIa'!I26 -> 0 | J17: ='TABELA IIa'!J26 -> 0 | K17: ='TABELA IIa'!K26 -> 0 | L17: ='TABELA IIa'!L26 -> 0 | M17: ='TABELA IIa'!M26 -> 0 | N17: ='TABELA IIa'!N26 -> 0 | ... T17: ='TABELA IIa'!T26 | U17: =U16 | V17: =V16 -> 0 | W17: =W16 -> 0 | X17: =X16 -> 0 | Y17: =Y16 | Z17: =Z16 | AA17: =AA16 | AB17: =AB16 | ... AD17: =AD16
A18: ='TABELA I'!$K$2 -> 0 | B18: ='TABELA I'!$K$1 -> 2022 | C18: ='TABELA IIa'!C27 | D18: ='TABELA IIa'!D27 -> 0 | E18: ='TABELA IIa'!E27 | F18: ='TABELA IIa'!F27 -> Nije ocijenjen | G18: ='TABELA IIa'!G27 -> KT, KTK, KTT i KTM | H18: ='TABELA IIa'!H27 -> 0 | I18: ='TABELA IIa'!I27 -> 0 | J18: ='TABELA IIa'!J27 -> 0 | ... AD18: ='TABELA IIa'!AD27
A19: ='TABELA I'!$K$2 -> 0 | B19: ='TABELA I'!$K$1 -> 2022 | C19: =C18 | D19: =D18 -> 0 | E19: =E18 | F19: =F18 -> Nije ocijenjen | G19: ='TABELA IIa'!G28 -> KTRZ, KTPO, KTO | H19: ='TABELA IIa'!H28 -> 0 | I19: ='TABELA IIa'!I28 -> 0 | J19: ='TABELA IIa'!J28 -> 0 | K19: ='TABELA IIa'!K28 -> 0 | L19: ='TABELA IIa'!L28 -> 0 | M19: ='TABELA IIa'!M28 -> 0 | N19: ='TABELA IIa'!N28 -> 0 | ... T19: ='TABELA IIa'!T28 | U19: =U18 | V19: =V18 -> 0 | W19: =W18 -> 0 | X19: =X18 -> 0 | Y19: =Y18 | Z19: =Z18 | AA19: =AA18 | AB19: =AB18 | ... AD19: =AD18
A20: ='TABELA I'!$K$2 -> 0 | B20: ='TABELA I'!$K$1 -> 2022 | C20: ='TABELA IIa'!C29 | D20: ='TABELA IIa'!D29 -> 0 | E20: ='TABELA IIa'!E29 | F20: ='TABELA IIa'!F29 -> Nije ocijenjen | G20: ='TABELA IIa'!G29 -> KT, KTK, KTT i KTM | H20: ='TABELA IIa'!H29 -> 0 | I20: ='TABELA IIa'!I29 -> 0 | J20: ='TABELA IIa'!J29 -> 0 | ... AD20: ='TABELA IIa'!AD29
A21: ='TABELA I'!$K$2 -> 0 | B21: ='TABELA I'!$K$1 -> 2022 | C21: =C20 | D21: =D20 -> 0 | E21: =E20 | F21: =F20 -> Nije ocijenjen | G21: ='TABELA IIa'!G30 -> KTRZ, KTPO, KTO | H21: ='TABELA IIa'!H30 -> 0 | I21: ='TABELA IIa'!I30 -> 0 | J21: ='TABELA IIa'!J30 -> 0 | K21: ='TABELA IIa'!K30 -> 0 | L21: ='TABELA IIa'!L30 -> 0 | M21: ='TABELA IIa'!M30 -> 0 | N21: ='TABELA IIa'!N30 -> 0 | ... T21: ='TABELA IIa'!T30 | U21: =U20 | V21: =V20 -> 0 | W21: =W20 -> 0 | X21: =X20 -> 0 | Y21: =Y20 | Z21: =Z20 | AA21: =AA20 | AB21: =AB20 | ... AD21: =AD20
A22: ='TABELA I'!$K$2 -> 0 | B22: ='TABELA I'!$K$1 -> 2022 | C22: ='TABELA IIa'!C31 | D22: ='TABELA IIa'!D31 -> 0 | E22: ='TABELA IIa'!E31 | F22: ='TABELA IIa'!F31 -> Nije ocijenjen | G22: ='TABELA IIa'!G31 -> KT, KTK, KTT i KTM | H22: ='TABELA IIa'!H31 -> 0 | I22: ='TABELA IIa'!I31 -> 0 | J22: ='TABELA IIa'!J31 -> 0 | ... AD22: ='TABELA IIa'!AD31
A23: ='TABELA I'!$K$2 -> 0 | B23: ='TABELA I'!$K$1 -> 2022 | C23: =C22 | D23: =D22 -> 0 | E23: =E22 | F23: =F22 -> Nije ocijenjen | G23: ='TABELA IIa'!G32 -> KTRZ, KTPO, KTO | H23: ='TABELA IIa'!H32 -> 0 | I23: ='TABELA IIa'!I32 -> 0 | J23: ='TABELA IIa'!J32 -> 0 | K23: ='TABELA IIa'!K32 -> 0 | L23: ='TABELA IIa'!L32 -> 0 | M23: ='TABELA IIa'!M32 -> 0 | N23: ='TABELA IIa'!N32 -> 0 | ... T23: ='TABELA IIa'!T32 | U23: =U22 | V23: =V22 -> 0 | W23: =W22 -> 0 | X23: =X22 -> 0 | Y23: =Y22 | Z23: =Z22 | AA23: =AA22 | AB23: =AB22 | ... AD23: =AD22
A24: ='TABELA I'!$K$2 -> 0 | B24: ='TABELA I'!$K$1 -> 2022 | C24: ='TABELA IIa'!C33 | D24: ='TABELA IIa'!D33 -> 0 | E24: ='TABELA IIa'!E33 | F24: ='TABELA IIa'!F33 -> Nije ocijenjen | G24: ='TABELA IIa'!G33 -> KT, KTK, KTT i KTM | H24: ='TABELA IIa'!H33 -> 0 | I24: ='TABELA IIa'!I33 -> 0 | J24: ='TABELA IIa'!J33 -> 0 | ... AD24: ='TABELA IIa'!AD33
A25: ='TABELA I'!$K$2 -> 0 | B25: ='TABELA I'!$K$1 -> 2022 | C25: =C24 | D25: =D24 -> 0 | E25: =E24 | F25: =F24 -> Nije ocijenjen | G25: ='TABELA IIa'!G34 -> KTRZ, KTPO, KTO | H25: ='TABELA IIa'!H34 -> 0 | I25: ='TABELA IIa'!I34 -> 0 | J25: ='TABELA IIa'!J34 -> 0 | K25: ='TABELA IIa'!K34 -> 0 | L25: ='TABELA IIa'!L34 -> 0 | M25: ='TABELA IIa'!M34 -> 0 | N25: ='TABELA IIa'!N34 -> 0 | ... T25: ='TABELA IIa'!T34 | U25: =U24 | V25: =V24 -> 0 | W25: =W24 -> 0 | X25: =X24 -> 0 | Y25: =Y24 | Z25: =Z24 | AA25: =AA24 | AB25: =AB24 | ... AD25: =AD24
A26: ='TABELA I'!$K$2 -> 0 | B26: ='TABELA I'!$K$1 -> 2022 | C26: ='TABELA IIa'!C35 | D26: ='TABELA IIa'!D35 -> 0 | E26: ='TABELA IIa'!E35 | F26: ='TABELA IIa'!F35 -> Nije ocijenjen | G26: ='TABELA IIa'!G35 -> KT, KTK, KTT i KTM | H26: ='TABELA IIa'!H35 -> 0 | I26: ='TABELA IIa'!I35 -> 0 | J26: ='TABELA IIa'!J35 -> 0 | ... AD26: ='TABELA IIa'!AD35
A27: ='TABELA I'!$K$2 -> 0 | B27: ='TABELA I'!$K$1 -> 2022 | C27: =C26 | D27: =D26 -> 0 | E27: =E26 | F27: =F26 -> Nije ocijenjen | G27: ='TABELA IIa'!G36 -> KTRZ, KTPO, KTO | H27: ='TABELA IIa'!H36 -> 0 | I27: ='TABELA IIa'!I36 -> 0 | J27: ='TABELA IIa'!J36 -> 0 | K27: ='TABELA IIa'!K36 -> 0 | L27: ='TABELA IIa'!L36 -> 0 | M27: ='TABELA IIa'!M36 -> 0 | N27: ='TABELA IIa'!N36 -> 0 | ... T27: ='TABELA IIa'!T36 | U27: =U26 | V27: =V26 -> 0 | W27: =W26 -> 0 | X27: =X26 -> 0 | Y27: =Y26 | Z27: =Z26 | AA27: =AA26 | AB27: =AB26 | ... AD27: =AD26
A28: ='TABELA I'!$K$2 -> 0 | B28: ='TABELA I'!$K$1 -> 2022 | C28: ='TABELA IIa'!C37 | D28: ='TABELA IIa'!D37 -> 0 | E28: ='TABELA IIa'!E37 | F28: ='TABELA IIa'!F37 -> Nije ocijenjen | G28: ='TABELA IIa'!G37 -> KT, KTK, KTT i KTM | H28: ='TABELA IIa'!H37 -> 0 | I28: ='TABELA IIa'!I37 -> 0 | J28: ='TABELA IIa'!J37 -> 0 | ... AD28: ='TABELA IIa'!AD37
A29: ='TABELA I'!$K$2 -> 0 | B29: ='TABELA I'!$K$1 -> 2022 | C29: =C28 | D29: =D28 -> 0 | E29: =E28 | F29: =F28 -> Nije ocijenjen | G29: ='TABELA IIa'!G38 -> KTRZ, KTPO, KTO | H29: ='TABELA IIa'!H38 -> 0 | I29: ='TABELA IIa'!I38 -> 0 | J29: ='TABELA IIa'!J38 -> 0 | K29: ='TABELA IIa'!K38 -> 0 | L29: ='TABELA IIa'!L38 -> 0 | M29: ='TABELA IIa'!M38 -> 0 | N29: ='TABELA IIa'!N38 -> 0 | ... T29: ='TABELA IIa'!T38 | U29: =U28 | V29: =V28 -> 0 | W29: =W28 -> 0 | X29: =X28 -> 0 | Y29: =Y28 | Z29: =Z28 | AA29: =AA28 | AB29: =AB28 | ... AD29: =AD28
A30: ='TABELA I'!$K$2 -> 0 | B30: ='TABELA I'!$K$1 -> 2022 | C30: ='TABELA IIa'!C39 | D30: ='TABELA IIa'!D39 -> 0 | E30: ='TABELA IIa'!E39 | F30: ='TABELA IIa'!F39 -> Nije ocijenjen | G30: ='TABELA IIa'!G39 -> KT, KTK, KTT i KTM | H30: ='TABELA IIa'!H39 -> 0 | I30: ='TABELA IIa'!I39 -> 0 | J30: ='TABELA IIa'!J39 -> 0 | ... AD30: ='TABELA IIa'!AD39
A31: ='TABELA I'!$K$2 -> 0 | B31: ='TABELA I'!$K$1 -> 2022 | C31: =C30 | D31: =D30 -> 0 | E31: =E30 | F31: =F30 -> Nije ocijenjen | G31: ='TABELA IIa'!G40 -> KTRZ, KTPO, KTO | H31: ='TABELA IIa'!H40 -> 0 | I31: ='TABELA IIa'!I40 -> 0 | J31: ='TABELA IIa'!J40 -> 0 | K31: ='TABELA IIa'!K40 -> 0 | L31: ='TABELA IIa'!L40 -> 0 | M31: ='TABELA IIa'!M40 -> 0 | N31: ='TABELA IIa'!N40 -> 0 | ... T31: ='TABELA IIa'!T40 | U31: =U30 | V31: =V30 -> 0 | W31: =W30 -> 0 | X31: =X30 -> 0 | Y31: =Y30 | Z31: =Z30 | AA31: =AA30 | AB31: =AB30 | ... AD31: =AD30
A32: ='TABELA I'!$K$2 -> 0 | B32: ='TABELA I'!$K$1 -> 2022 | C32: ='TABELA IIa'!C41 | D32: ='TABELA IIa'!D41 -> 0 | E32: ='TABELA IIa'!E41 | F32: ='TABELA IIa'!F41 -> Nije ocijenjen | G32: ='TABELA IIa'!G41 -> KT, KTK, KTT i KTM | H32: ='TABELA IIa'!H41 -> 0 | I32: ='TABELA IIa'!I41 -> 0 | J32: ='TABELA IIa'!J41 -> 0 | ... AD32: ='TABELA IIa'!AD41
A33: ='TABELA I'!$K$2 -> 0 | B33: ='TABELA I'!$K$1 -> 2022 | C33: =C32 | D33: =D32 -> 0 | E33: =E32 | F33: =F32 -> Nije ocijenjen | G33: ='TABELA IIa'!G42 -> KTRZ, KTPO, KTO | H33: ='TABELA IIa'!H42 -> 0 | I33: ='TABELA IIa'!I42 -> 0 | J33: ='TABELA IIa'!J42 -> 0 | K33: ='TABELA IIa'!K42 -> 0 | L33: ='TABELA IIa'!L42 -> 0 | M33: ='TABELA IIa'!M42 -> 0 | N33: ='TABELA IIa'!N42 -> 0 | ... T33: ='TABELA IIa'!T42 | U33: =U32 | V33: =V32 -> 0 | W33: =W32 -> 0 | X33: =X32 -> 0 | Y33: =Y32 | Z33: =Z32 | AA33: =AA32 | AB33: =AB32 | ... AD33: =AD32
A34: ='TABELA I'!$K$2 -> 0 | B34: ='TABELA I'!$K$1 -> 2022 | C34: ='TABELA IIa'!C43 | D34: ='TABELA IIa'!D43 -> 0 | E34: ='TABELA IIa'!E43 | F34: ='TABELA IIa'!F43 -> Nije ocijenjen | G34: ='TABELA IIa'!G43 -> KT, KTK, KTT i KTM | H34: ='TABELA IIa'!H43 -> 0 | I34: ='TABELA IIa'!I43 -> 0 | J34: ='TABELA IIa'!J43 -> 0 | ... AD34: ='TABELA IIa'!AD43
A35: ='TABELA I'!$K$2 -> 0 | B35: ='TABELA I'!$K$1 -> 2022 | C35: =C34 | D35: =D34 -> 0 | E35: =E34 | F35: =F34 -> Nije ocijenjen | G35: ='TABELA IIa'!G44 -> KTRZ, KTPO, KTO | H35: ='TABELA IIa'!H44 -> 0 | I35: ='TABELA IIa'!I44 -> 0 | J35: ='TABELA IIa'!J44 -> 0 | K35: ='TABELA IIa'!K44 -> 0 | L35: ='TABELA IIa'!L44 -> 0 | M35: ='TABELA IIa'!M44 -> 0 | N35: ='TABELA IIa'!N44 -> 0 | ... T35: ='TABELA IIa'!T44 | U35: =U34 | V35: =V34 -> 0 | W35: =W34 -> 0 | X35: =X34 -> 0 | Y35: =Y34 | Z35: =Z34 | AA35: =AA34 | AB35: =AB34 | ... AD35: =AD34
A36: ='TABELA I'!$K$2 -> 0 | B36: ='TABELA I'!$K$1 -> 2022 | C36: ='TABELA IIa'!C45 | D36: ='TABELA IIa'!D45 -> 0 | E36: ='TABELA IIa'!E45 | F36: ='TABELA IIa'!F45 -> Nije ocijenjen | G36: ='TABELA IIa'!G45 -> KT, KTK, KTT i KTM | H36: ='TABELA IIa'!H45 -> 0 | I36: ='TABELA IIa'!I45 -> 0 | J36: ='TABELA IIa'!J45 -> 0 | ... AD36: ='TABELA IIa'!AD45
A37: ='TABELA I'!$K$2 -> 0 | B37: ='TABELA I'!$K$1 -> 2022 | C37: =C36 | D37: =D36 -> 0 | E37: =E36 | F37: =F36 -> Nije ocijenjen | G37: ='TABELA IIa'!G46 -> KTRZ, KTPO, KTO | H37: ='TABELA IIa'!H46 -> 0 | I37: ='TABELA IIa'!I46 -> 0 | J37: ='TABELA IIa'!J46 -> 0 | K37: ='TABELA IIa'!K46 -> 0 | L37: ='TABELA IIa'!L46 -> 0 | M37: ='TABELA IIa'!M46 -> 0 | N37: ='TABELA IIa'!N46 -> 0 | ... T37: ='TABELA IIa'!T46 | U37: =U36 | V37: =V36 -> 0 | W37: =W36 -> 0 | X37: =X36 -> 0 | Y37: =Y36 | Z37: =Z36 | AA37: =AA36 | AB37: =AB36 | ... AD37: =AD36
A38: ='TABELA I'!$K$2 -> 0 | B38: ='TABELA I'!$K$1 -> 2022 | C38: ='TABELA IIa'!C47 | D38: ='TABELA IIa'!D47 -> 0 | E38: ='TABELA IIa'!E47 | F38: ='TABELA IIa'!F47 -> Nije ocijenjen | G38: ='TABELA IIa'!G47 -> KT, KTK, KTT i KTM | H38: ='TABELA IIa'!H47 -> 0 | I38: ='TABELA IIa'!I47 -> 0 | J38: ='TABELA IIa'!J47 -> 0 | ... AD38: ='TABELA IIa'!AD47
A39: ='TABELA I'!$K$2 -> 0 | B39: ='TABELA I'!$K$1 -> 2022 | C39: =C38 | D39: =D38 -> 0 | E39: =E38 | F39: =F38 -> Nije ocijenjen | G39: ='TABELA IIa'!G48 -> KTRZ, KTPO, KTO | H39: ='TABELA IIa'!H48 -> 0 | I39: ='TABELA IIa'!I48 -> 0 | J39: ='TABELA IIa'!J48 -> 0 | K39: ='TABELA IIa'!K48 -> 0 | L39: ='TABELA IIa'!L48 -> 0 | M39: ='TABELA IIa'!M48 -> 0 | N39: ='TABELA IIa'!N48 -> 0 | ... T39: ='TABELA IIa'!T48 | U39: =U38 | V39: =V38 -> 0 | W39: =W38 -> 0 | X39: =X38 -> 0 | Y39: =Y38 | Z39: =Z38 | AA39: =AA38 | AB39: =AB38 | ... AD39: =AD38
A40: ='TABELA I'!$K$2 -> 0 | B40: ='TABELA I'!$K$1 -> 2022 | C40: ='TABELA IIa'!C49 | D40: ='TABELA IIa'!D49 -> 0 | E40: ='TABELA IIa'!E49 | F40: ='TABELA IIa'!F49 -> Nije ocijenjen | G40: ='TABELA IIa'!G49 -> KT, KTK, KTT i KTM | H40: ='TABELA IIa'!H49 -> 0 | I40: ='TABELA IIa'!I49 -> 0 | J40: ='TABELA IIa'!J49 -> 0 | ... AD40: ='TABELA IIa'!AD49
A41: ='TABELA I'!$K$2 -> 0 | B41: ='TABELA I'!$K$1 -> 2022 | C41: =C40 | D41: =D40 -> 0 | E41: =E40 | F41: =F40 -> Nije ocijenjen | G41: ='TABELA IIa'!G50 -> KTRZ, KTPO, KTO | H41: ='TABELA IIa'!H50 -> 0 | I41: ='TABELA IIa'!I50 -> 0 | J41: ='TABELA IIa'!J50 -> 0 | K41: ='TABELA IIa'!K50 -> 0 | L41: ='TABELA IIa'!L50 -> 0 | M41: ='TABELA IIa'!M50 -> 0 | N41: ='TABELA IIa'!N50 -> 0 | ... T41: ='TABELA IIa'!T50 | U41: =U40 | V41: =V40 -> 0 | W41: =W40 -> 0 | X41: =X40 -> 0 | Y41: =Y40 | Z41: =Z40 | AA41: =AA40 | AB41: =AB40 | ... AD41: =AD40
A42: ='TABELA I'!$K$2 -> 0 | B42: ='TABELA I'!$K$1 -> 2022 | C42: ='TABELA IIa'!C51 | D42: ='TABELA IIa'!D51 -> 0 | E42: ='TABELA IIa'!E51 | F42: ='TABELA IIa'!F51 -> Nije ocijenjen | G42: ='TABELA IIa'!G51 -> KT, KTK, KTT i KTM | H42: ='TABELA IIa'!H51 -> 0 | I42: ='TABELA IIa'!I51 -> 0 | J42: ='TABELA IIa'!J51 -> 0 | ... AD42: ='TABELA IIa'!AD51
A43: ='TABELA I'!$K$2 -> 0 | B43: ='TABELA I'!$K$1 -> 2022 | C43: =C42 | D43: =D42 -> 0 | E43: =E42 | F43: =F42 -> Nije ocijenjen | G43: ='TABELA IIa'!G52 -> KTRZ, KTPO, KTO | H43: ='TABELA IIa'!H52 -> 0 | I43: ='TABELA IIa'!I52 -> 0 | J43: ='TABELA IIa'!J52 -> 0 | K43: ='TABELA IIa'!K52 -> 0 | L43: ='TABELA IIa'!L52 -> 0 | M43: ='TABELA IIa'!M52 -> 0 | N43: ='TABELA IIa'!N52 -> 0 | ... T43: ='TABELA IIa'!T52 | U43: =U42 | V43: =V42 -> 0 | W43: =W42 -> 0 | X43: =X42 -> 0 | Y43: =Y42 | Z43: =Z42 | AA43: =AA42 | AB43: =AB42 | ... AD43: =AD42
A44: ='TABELA I'!$K$2 -> 0 | B44: ='TABELA I'!$K$1 -> 2022 | C44: ='TABELA IIa'!C53 | D44: ='TABELA IIa'!D53 -> 0 | E44: ='TABELA IIa'!E53 | F44: ='TABELA IIa'!F53 -> Nije ocijenjen | G44: ='TABELA IIa'!G53 -> KT, KTK, KTT i KTM | H44: ='TABELA IIa'!H53 -> 0 | I44: ='TABELA IIa'!I53 -> 0 | J44: ='TABELA IIa'!J53 -> 0 | ... AD44: ='TABELA IIa'!AD53
A45: ='TABELA I'!$K$2 -> 0 | B45: ='TABELA I'!$K$1 -> 2022 | C45: =C44 | D45: =D44 -> 0 | E45: =E44 | F45: =F44 -> Nije ocijenjen | G45: ='TABELA IIa'!G54 -> KTRZ, KTPO, KTO | H45: ='TABELA IIa'!H54 -> 0 | I45: ='TABELA IIa'!I54 -> 0 | J45: ='TABELA IIa'!J54 -> 0 | K45: ='TABELA IIa'!K54 -> 0 | L45: ='TABELA IIa'!L54 -> 0 | M45: ='TABELA IIa'!M54 -> 0 | N45: ='TABELA IIa'!N54 -> 0 | ... T45: ='TABELA IIa'!T54 | U45: =U44 | V45: =V44 -> 0 | W45: =W44 -> 0 | X45: =X44 -> 0 | Y45: =Y44 | Z45: =Z44 | AA45: =AA44 | AB45: =AB44 | ... AD45: =AD44
A46: ='TABELA I'!$K$2 -> 0 | B46: ='TABELA I'!$K$1 -> 2022 | C46: ='TABELA IIa'!C55 | D46: ='TABELA IIa'!D55 -> 0 | E46: ='TABELA IIa'!E55 | F46: ='TABELA IIa'!F55 -> Nije ocijenjen | G46: ='TABELA IIa'!G55 -> KT, KTK, KTT i KTM | H46: ='TABELA IIa'!H55 -> 0 | I46: ='TABELA IIa'!I55 -> 0 | J46: ='TABELA IIa'!J55 -> 0 | ... AD46: ='TABELA IIa'!AD55
A47: ='TABELA I'!$K$2 -> 0 | B47: ='TABELA I'!$K$1 -> 2022 | C47: =C46 | D47: =D46 -> 0 | E47: =E46 | F47: =F46 -> Nije ocijenjen | G47: ='TABELA IIa'!G56 -> KTRZ, KTPO, KTO | H47: ='TABELA IIa'!H56 -> 0 | I47: ='TABELA IIa'!I56 -> 0 | J47: ='TABELA IIa'!J56 -> 0 | K47: ='TABELA IIa'!K56 -> 0 | L47: ='TABELA IIa'!L56 -> 0 | M47: ='TABELA IIa'!M56 -> 0 | N47: ='TABELA IIa'!N56 -> 0 | ... T47: ='TABELA IIa'!T56 | U47: =U46 | V47: =V46 -> 0 | W47: =W46 -> 0 | X47: =X46 -> 0 | Y47: =Y46 | Z47: =Z46 | AA47: =AA46 | AB47: =AB46 | ... AD47: =AD46
A48: ='TABELA I'!$K$2 -> 0 | B48: ='TABELA I'!$K$1 -> 2022 | C48: ='TABELA IIa'!C57 | D48: ='TABELA IIa'!D57 -> 0 | E48: ='TABELA IIa'!E57 | F48: ='TABELA IIa'!F57 -> Nije ocijenjen | G48: ='TABELA IIa'!G57 -> KT, KTK, KTT i KTM | H48: ='TABELA IIa'!H57 -> 0 | I48: ='TABELA IIa'!I57 -> 0 | J48: ='TABELA IIa'!J57 -> 0 | ... AD48: ='TABELA IIa'!AD57
A49: ='TABELA I'!$K$2 -> 0 | B49: ='TABELA I'!$K$1 -> 2022 | C49: =C48 | D49: =D48 -> 0 | E49: =E48 | F49: =F48 -> Nije ocijenjen | G49: ='TABELA IIa'!G58 -> KTRZ, KTPO, KTO | H49: ='TABELA IIa'!H58 -> 0 | I49: ='TABELA IIa'!I58 -> 0 | J49: ='TABELA IIa'!J58 -> 0 | K49: ='TABELA IIa'!K58 -> 0 | L49: ='TABELA IIa'!L58 -> 0 | M49: ='TABELA IIa'!M58 -> 0 | N49: ='TABELA IIa'!N58 -> 0 | ... T49: ='TABELA IIa'!T58 | U49: =U48 | V49: =V48 -> 0 | W49: =W48 -> 0 | X49: =X48 -> 0 | Y49: =Y48 | Z49: =Z48 | AA49: =AA48 | AB49: =AB48 | ... AD49: =AD48
A50: ='TABELA I'!$K$2 -> 0 | B50: ='TABELA I'!$K$1 -> 2022 | C50: ='TABELA IIa'!C59 | D50: ='TABELA IIa'!D59 -> 0 | E50: ='TABELA IIa'!E59 | F50: ='TABELA IIa'!F59 -> Nije ocijenjen | G50: ='TABELA IIa'!G59 -> KT, KTK, KTT i KTM | H50: ='TABELA IIa'!H59 -> 0 | I50: ='TABELA IIa'!I59 -> 0 | J50: ='TABELA IIa'!J59 -> 0 | ... AD50: ='TABELA IIa'!AD59
A51: ='TABELA I'!$K$2 -> 0 | B51: ='TABELA I'!$K$1 -> 2022 | C51: =C50 | D51: =D50 -> 0 | E51: =E50 | F51: =F50 -> Nije ocijenjen | G51: ='TABELA IIa'!G60 -> KTRZ, KTPO, KTO | H51: ='TABELA IIa'!H60 -> 0 | I51: ='TABELA IIa'!I60 -> 0 | J51: ='TABELA IIa'!J60 -> 0 | K51: ='TABELA IIa'!K60 -> 0 | L51: ='TABELA IIa'!L60 -> 0 | M51: ='TABELA IIa'!M60 -> 0 | N51: ='TABELA IIa'!N60 -> 0 | ... T51: ='TABELA IIa'!T60 | U51: =U50 | V51: =V50 -> 0 | W51: =W50 -> 0 | X51: =X50 -> 0 | Y51: =Y50 | Z51: =Z50 | AA51: =AA50 | AB51: =AB50 | ... AD51: =AD50
A52: ='TABELA I'!$K$2 -> 0 | B52: ='TABELA I'!$K$1 -> 2022 | C52: ='TABELA IIa'!C61 | D52: ='TABELA IIa'!D61 -> 0 | E52: ='TABELA IIa'!E61 | F52: ='TABELA IIa'!F61 -> Nije ocijenjen | G52: ='TABELA IIa'!G61 -> KT, KTK, KTT i KTM | H52: ='TABELA IIa'!H61 -> 0 | I52: ='TABELA IIa'!I61 -> 0 | J52: ='TABELA IIa'!J61 -> 0 | ... AD52: ='TABELA IIa'!AD61
A53: ='TABELA I'!$K$2 -> 0 | B53: ='TABELA I'!$K$1 -> 2022 | C53: =C52 | D53: =D52 -> 0 | E53: =E52 | F53: =F52 -> Nije ocijenjen | G53: ='TABELA IIa'!G62 -> KTRZ, KTPO, KTO | H53: ='TABELA IIa'!H62 -> 0 | I53: ='TABELA IIa'!I62 -> 0 | J53: ='TABELA IIa'!J62 -> 0 | K53: ='TABELA IIa'!K62 -> 0 | L53: ='TABELA IIa'!L62 -> 0 | M53: ='TABELA IIa'!M62 -> 0 | N53: ='TABELA IIa'!N62 -> 0 | ... T53: ='TABELA IIa'!T62 | U53: =U52 | V53: =V52 -> 0 | W53: =W52 -> 0 | X53: =X52 -> 0 | Y53: =Y52 | Z53: =Z52 | AA53: =AA52 | AB53: =AB52 | ... AD53: =AD52
A54: ='TABELA I'!$K$2 -> 0 | B54: ='TABELA I'!$K$1 -> 2022 | C54: ='TABELA IIa'!C63 | D54: ='TABELA IIa'!D63 -> 0 | E54: ='TABELA IIa'!E63 | F54: ='TABELA IIa'!F63 -> Nije ocijenjen | G54: ='TABELA IIa'!G63 -> KT, KTK, KTT i KTM | H54: ='TABELA IIa'!H63 -> 0 | I54: ='TABELA IIa'!I63 -> 0 | J54: ='TABELA IIa'!J63 -> 0 | ... AD54: ='TABELA IIa'!AD63
A55: ='TABELA I'!$K$2 -> 0 | B55: ='TABELA I'!$K$1 -> 2022 | C55: =C54 | D55: =D54 -> 0 | E55: =E54 | F55: =F54 -> Nije ocijenjen | G55: ='TABELA IIa'!G64 -> KTRZ, KTPO, KTO | H55: ='TABELA IIa'!H64 -> 0 | I55: ='TABELA IIa'!I64 -> 0 | J55: ='TABELA IIa'!J64 -> 0 | K55: ='TABELA IIa'!K64 -> 0 | L55: ='TABELA IIa'!L64 -> 0 | M55: ='TABELA IIa'!M64 -> 0 | N55: ='TABELA IIa'!N64 -> 0 | ... T55: ='TABELA IIa'!T64 | U55: =U54 | V55: =V54 -> 0 | W55: =W54 -> 0 | X55: =X54 -> 0 | Y55: =Y54 | Z55: =Z54 | AA55: =AA54 | AB55: =AB54 | ... AD55: =AD54
A56: ='TABELA I'!$K$2 -> 0 | B56: ='TABELA I'!$K$1 -> 2022 | C56: ='TABELA IIa'!C65 | D56: ='TABELA IIa'!D65 -> 0 | E56: ='TABELA IIa'!E65 | F56: ='TABELA IIa'!F65 -> Nije ocijenjen | G56: ='TABELA IIa'!G65 -> KT, KTK, KTT i KTM | H56: ='TABELA IIa'!H65 -> 0 | I56: ='TABELA IIa'!I65 -> 0 | J56: ='TABELA IIa'!J65 -> 0 | ... AD56: ='TABELA IIa'!AD65
A57: ='TABELA I'!$K$2 -> 0 | B57: ='TABELA I'!$K$1 -> 2022 | C57: =C56 | D57: =D56 -> 0 | E57: =E56 | F57: =F56 -> Nije ocijenjen | G57: ='TABELA IIa'!G66 -> KTRZ, KTPO, KTO | H57: ='TABELA IIa'!H66 -> 0 | I57: ='TABELA IIa'!I66 -> 0 | J57: ='TABELA IIa'!J66 -> 0 | K57: ='TABELA IIa'!K66 -> 0 | L57: ='TABELA IIa'!L66 -> 0 | M57: ='TABELA IIa'!M66 -> 0 | N57: ='TABELA IIa'!N66 -> 0 | ... T57: ='TABELA IIa'!T66 | U57: =U56 | V57: =V56 -> 0 | W57: =W56 -> 0 | X57: =X56 -> 0 | Y57: =Y56 | Z57: =Z56 | AA57: =AA56 | AB57: =AB56 | ... AD57: =AD56
A58: ='TABELA I'!$K$2 -> 0 | B58: ='TABELA I'!$K$1 -> 2022 | C58: ='TABELA IIa'!C67 | D58: ='TABELA IIa'!D67 -> 0 | E58: ='TABELA IIa'!E67 | F58: ='TABELA IIa'!F67 -> Nije ocijenjen | G58: ='TABELA IIa'!G67 -> KT, KTK, KTT i KTM | H58: ='TABELA IIa'!H67 -> 0 | I58: ='TABELA IIa'!I67 -> 0 | J58: ='TABELA IIa'!J67 -> 0 | ... AD58: ='TABELA IIa'!AD67
A59: ='TABELA I'!$K$2 -> 0 | B59: ='TABELA I'!$K$1 -> 2022 | C59: =C58 | D59: =D58 -> 0 | E59: =E58 | F59: =F58 -> Nije ocijenjen | G59: ='TABELA IIa'!G68 -> KTRZ, KTPO, KTO | H59: ='TABELA IIa'!H68 -> 0 | I59: ='TABELA IIa'!I68 -> 0 | J59: ='TABELA IIa'!J68 -> 0 | K59: ='TABELA IIa'!K68 -> 0 | L59: ='TABELA IIa'!L68 -> 0 | M59: ='TABELA IIa'!M68 -> 0 | N59: ='TABELA IIa'!N68 -> 0 | ... T59: ='TABELA IIa'!T68 | U59: =U58 | V59: =V58 -> 0 | W59: =W58 -> 0 | X59: =X58 -> 0 | Y59: =Y58 | Z59: =Z58 | AA59: =AA58 | AB59: =AB58 | ... AD59: =AD58
A60: ='TABELA I'!$K$2 -> 0 | B60: ='TABELA I'!$K$1 -> 2022 | C60: ='TABELA IIa'!C69 | D60: ='TABELA IIa'!D69 -> 0 | E60: ='TABELA IIa'!E69 | F60: ='TABELA IIa'!F69 -> Nije ocijenjen | G60: ='TABELA IIa'!G69 -> KT, KTK, KTT i KTM | H60: ='TABELA IIa'!H69 -> 0 | I60: ='TABELA IIa'!I69 -> 0 | J60: ='TABELA IIa'!J69 -> 0 | ... AD60: ='TABELA IIa'!AD69
